Workbook

Sheet Saisie
B2: Il s'git d'un petit planning avec des dates, des heures, des taches et des personnes éffectuants ces taches
B3: Dans l'onglet récap, une synthèse des personnes pour avoir les heures passées au global
B4: Jusque là, pas de problème. Le calcul des nombre n'est pas compliqué.
B5: Là ou ça se complique, c'est que le 16 mai, Yves est en RTT
B6: Et ce que je voudrais, c'est que dans l'onglet Récap, la valeur RTT apparaisse le 16 mai pour Yves.
D8: 41771 | E8: 41772 | F8: 41773 | G8: 41774 | H8: 41775
B9: Tache A | C9: Yves | D9: 8
C10: Didier | D10: 8
C11: Pierre
C12: Paul
B13: Tache B | C13: Yves
C14: Didier
C15: Pierre | D15: 8
C16: Paul | D16: 8
B17: Tache C | C17: Yves | E17: 8
C18: Didier | E18: 8
C19: Pierre | E19: 8
C20: Paul | E20: 8
B21: Tache D | C21: Yves | F21: 8
C22: Didier | F22: 8
C23: Pierre
C24: Paul
B25: Tache E | C25: Yves | G25: 8
C26: Didier | H26: 8
C27: Pierre | F27: 8 | G27: 8 | H27: 8
C28: Paul | F28: 8 | G28: 8 | H28: 8
B29: DIVERS | C29: Yves | H29: RTT
C30: Didier | G30: CP
C31: Pierre
C32: Paul

Sheet Récap
C2: 41771 | D2: 41772 | E2: 41773 | F2: 41774 | G2: 41775
A3: RECAP | B3: Yves | C3: =IF(SUMIF(Saisie!$C$9:$C$32,$B$3,Saisie!D9:D32)>0,SUMIF(Saisie!$C$9:$C$32,$B$3,Saisie!D9:D32),INDEX(Saisie!$B:$H,MATCH("Divers",Saisie!$B:$B,0)+MATCH($B$3,OFFSET(Saisie!$B$1,MATCH("Divers",Saisie!$B:$B,0)-1,1,99,),0)-1,COLUMN())) -> 8 | D3: =IF(SUMIF(Saisie!$C$9:$C$32,$B$3,Saisie!E9:E32)>0,SUMIF(Saisie!$C$9:$C$32,$B$3,Saisie!E9:E32),INDEX(Saisie!$B:$H,MATCH("Divers",Saisie!$B:$B,0)+MATCH($B3,OFFSET(Saisie!$B$1,MATCH("Divers",Saisie!$B:$B,0)-1,1,99,),0)-1,COLUMN())) -> 8 | E3: =IF(SUMIF(Saisie!$C$9:$C$32,$B$3,Saisie!F9:F32)>0,SUMIF(Saisie!$C$9:$C$32,$B$3,Saisie!F9:F32),INDEX(Saisie!$B:$H,MATCH("Divers",Saisie!$B:$B,0)+MATCH($B3,OFFSET(Saisie!$B$1,MATCH("Divers",Saisie!$B:$B,0)-1,1,99,),0)-1,COLUMN())) -> 8 | F3: =IF(SUMIF(Saisie!$C$9:$C$32,$B$3,Saisie!G9:G32)>0,SUMIF(Saisie!$C$9:$C$32,$B$3,Saisie!G9:G32),INDEX(Saisie!$B:$H,MATCH("Divers",Saisie!$B:$B,0)+MATCH($B3,OFFSET(Saisie!$B$1,MATCH("Divers",Saisie!$B:$B,0)-1,1,99,),0)-1,COLUMN())) -> 8 | G3: =IF(SUMIF(Saisie!$C$9:$C$32,$B$3,Saisie!H9:H32)>0,SUMIF(Saisie!$C$9:$C$32,$B$3,Saisie!H9:H32),INDEX(Saisie!$B:$H,MATCH("Divers",Saisie!$B:$B,0)+MATCH($B3,OFFSET(Saisie!$B$1,MATCH("Divers",Saisie!$B:$B,0)-1,1,99,),0)-1,COLUMN())) -> RTT | I3: =SUM(C3:G3) -> 32
B4: Didier | C4: =IF(SUMIF(Saisie!$C$9:$C$32,$B$4,Saisie!D9:D32)>0,SUMIF(Saisie!$C$9:$C$32,$B$4,Saisie!D9:D32),INDEX(Saisie!$B:$H,MATCH("Divers",Saisie!$B:$B,0)+MATCH($B$4,OFFSET(Saisie!$B$1,MATCH("Divers",Saisie!$B:$B,0)-1,1,99,),0)-1,COLUMN())) -> 8 | D4: =IF(SUMIF(Saisie!$C$9:$C$32,$B$4,Saisie!E9:E32)>0,SUMIF(Saisie!$C$9:$C$32,$B$4,Saisie!E9:E32),INDEX(Saisie!$B:$H,MATCH("Divers",Saisie!$B:$B,0)+MATCH($B$4,OFFSET(Saisie!$B$1,MATCH("Divers",Saisie!$B:$B,0)-1,1,99,),0)-1,COLUMN())) -> 8 | E4: =IF(SUMIF(Saisie!$C$9:$C$32,$B$4,Saisie!F9:F32)>0,SUMIF(Saisie!$C$9:$C$32,$B$4,Saisie!F9:F32),INDEX(Saisie!$B:$H,MATCH("Divers",Saisie!$B:$B,0)+MATCH($B$4,OFFSET(Saisie!$B$1,MATCH("Divers",Saisie!$B:$B,0)-1,1,99,),0)-1,COLUMN())) -> 8 | F4: =IF(SUMIF(Saisie!$C$9:$C$32,$B$4,Saisie!G9:G32)>0,SUMIF(Saisie!$C$9:$C$32,$B$4,Saisie!G9:G32),INDEX(Saisie!$B:$H,MATCH("Divers",Saisie!$B:$B,0)+MATCH($B$4,OFFSET(Saisie!$B$1,MATCH("Divers",Saisie!$B:$B,0)-1,1,99,),0)-1,COLUMN())) -> CP | G4: =IF(SUMIF(Saisie!$C$9:$C$32,$B$4,Saisie!H9:H32)>0,SUMIF(Saisie!$C$9:$C$32,$B$4,Saisie!H9:H32),INDEX(Saisie!$B:$H,MATCH("Divers",Saisie!$B:$B,0)+MATCH($B$4,OFFSET(Saisie!$B$1,MATCH("Divers",Saisie!$B:$B,0)-1,1,99,),0)-1,COLUMN())) -> 8 | I4: =SUM(C4:G4) -> 32
B5: Pierre | C5: =IF(SUMIF(Saisie!$C$9:$C$32,$B$5,Saisie!D9:D32)>0,SUMIF(Saisie!$C$9:$C$32,$B$5,Saisie!D9:D32),INDEX(Saisie!$B:$H,MATCH("Divers",Saisie!$B:$B,0)+MATCH($B$5,OFFSET(Saisie!$B$1,MATCH("Divers",Saisie!$B:$B,0)-1,1,99,),0)-1,COLUMN())) -> 8 | D5: =IF(SUMIF(Saisie!$C$9:$C$32,$B$5,Saisie!E9:E32)>0,SUMIF(Saisie!$C$9:$C$32,$B$5,Saisie!E9:E32),INDEX(Saisie!$B:$H,MATCH("Divers",Saisie!$B:$B,0)+MATCH($B$5,OFFSET(Saisie!$B$1,MATCH("Divers",Saisie!$B:$B,0)-1,1,99,),0)-1,COLUMN())) -> 8 | E5: =IF(SUMIF(Saisie!$C$9:$C$32,$B$5,Saisie!F9:F32)>0,SUMIF(Saisie!$C$9:$C$32,$B$5,Saisie!F9:F32),INDEX(Saisie!$B:$H,MATCH("Divers",Saisie!$B:$B,0)+MATCH($B$5,OFFSET(Saisie!$B$1,MATCH("Divers",Saisie!$B:$B,0)-1,1,99,),0)-1,COLUMN())) -> 8 | F5: =IF(SUMIF(Saisie!$C$9:$C$32,$B$5,Saisie!G9:G32)>0,SUMIF(Saisie!$C$9:$C$32,$B$5,Saisie!G9:G32),INDEX(Saisie!$B:$H,MATCH("Divers",Saisie!$B:$B,0)+MATCH($B$5,OFFSET(Saisie!$B$1,MATCH("Divers",Saisie!$B:$B,0)-1,1,99,),0)-1,COLUMN())) -> 8 | G5: =IF(SUMIF(Saisie!$C$9:$C$32,$B$5,Saisie!H9:H32)>0,SUMIF(Saisie!$C$9:$C$32,$B$5,Saisie!H9:H32),INDEX(Saisie!$B:$H,MATCH("Divers",Saisie!$B:$B,0)+MATCH($B$5,OFFSET(Saisie!$B$1,MATCH("Divers",Saisie!$B:$B,0)-1,1,99,),0)-1,COLUMN())) -> 8 | I5: =SUM(C5:G5) -> 40
B6: Paul | C6: =IF(SUMIF(Saisie!$C$9:$C$32,$B$6,Saisie!D9:D32)>0,SUMIF(Saisie!$C$9:$C$32,$B$6,Saisie!D9:D32),INDEX(Saisie!$B:$H,MATCH("Divers",Saisie!$B:$B,0)+MATCH($B$6,OFFSET(Saisie!$B$1,MATCH("Divers",Saisie!$B:$B,0)-1,1,99,),0)-1,COLUMN())) -> 8 | D6: =IF(SUMIF(Saisie!$C$9:$C$32,$B$6,Saisie!E9:E32)>0,SUMIF(Saisie!$C$9:$C$32,$B$6,Saisie!E9:E32),INDEX(Saisie!$B:$H,MATCH("Divers",Saisie!$B:$B,0)+MATCH($B$6,OFFSET(Saisie!$B$1,MATCH("Divers",Saisie!$B:$B,0)-1,1,99,),0)-1,COLUMN())) -> 8 | E6: =IF(SUMIF(Saisie!$C$9:$C$32,$B$6,Saisie!F9:F32)>0,SUMIF(Saisie!$C$9:$C$32,$B$6,Saisie!F9:F32),INDEX(Saisie!$B:$H,MATCH("Divers",Saisie!$B:$B,0)+MATCH($B$6,OFFSET(Saisie!$B$1,MATCH("Divers",Saisie!$B:$B,0)-1,1,99,),0)-1,COLUMN())) -> 8 | F6: =IF(SUMIF(Saisie!$C$9:$C$32,$B$6,Saisie!G9:G32)>0,SUMIF(Saisie!$C$9:$C$32,$B$6,Saisie!G9:G32),INDEX(Saisie!$B:$H,MATCH("Divers",Saisie!$B:$B,0)+MATCH($B$6,OFFSET(Saisie!$B$1,MATCH("Divers",Saisie!$B:$B,0)-1,1,99,),0)-1,COLUMN())) -> 8 | G6: =IF(SUMIF(Saisie!$C$9:$C$32,$B$6,Saisie!H9:H32)>0,SUMIF(Saisie!$C$9:$C$32,$B$6,Saisie!H9:H32),INDEX(Saisie!$B:$H,MATCH("Divers",Saisie!$B:$B,0)+MATCH($B$6,OFFSET(Saisie!$B$1,MATCH("Divers",Saisie!$B:$B,0)-1,1,99,),0)-1,COLUMN())) -> 8 | I6: =SUM(C6:G6) -> 40
C8: =SUM(C3:C6) -> 32 | D8: =SUM(D3:D6) -> 32 | E8: =SUM(E3:E6) -> 32 | F8: =SUM(F3:F6) -> 24 | G8: =SUM(G3:G6) -> 24

Sheet Récap (2)
D2: 41771 | E2: 41772 | F2: 41773 | G2: 41774 | H2: 41775
B3: RECAP | C3: Yves | D3: =IF(SUMIF(Saisie!$C$9:$C$32,$C$3,Saisie!D9:D32)>0,SUMIF(Saisie!$C$9:$C$32,$C$3,Saisie!D9:D32),INDEX(Saisie!$B:$H,MATCH("Divers",Saisie!$B:$B,0)+MATCH($C$3,OFFSET(Saisie!$B$1,MATCH("Divers",Saisie!$B:$B,0)-1,1,99,),0)-1,COLUMN())) -> 8 | E3: =IF(SUMIF(Saisie!$C$9:$C$32,$C$3,Saisie!E9:E32)>0,SUMIF(Saisie!$C$9:$C$32,$C$3,Saisie!E9:E32),INDEX(Saisie!$B:$H,MATCH("Divers",Saisie!$B:$B,0)+MATCH($C3,OFFSET(Saisie!$B$1,MATCH("Divers",Saisie!$B:$B,0)-1,1,99,),0)-1,COLUMN())) -> 8 | F3: =IF(SUMIF(Saisie!$C$9:$C$32,$C$3,Saisie!F9:F32)>0,SUMIF(Saisie!$C$9:$C$32,$C$3,Saisie!F9:F32),INDEX(Saisie!$B:$H,MATCH("Divers",Saisie!$B:$B,0)+MATCH($C3,OFFSET(Saisie!$B$1,MATCH("Divers",Saisie!$B:$B,0)-1,1,99,),0)-1,COLUMN())) -> 8 | G3: =IF(SUMIF(Saisie!$C$9:$C$32,$C$3,Saisie!G9:G32)>0,SUMIF(Saisie!$C$9:$C$32,$C$3,Saisie!G9:G32),INDEX(Saisie!$B:$H,MATCH("Divers",Saisie!$B:$B,0)+MATCH($C3,OFFSET(Saisie!$B$1,MATCH("Divers",Saisie!$B:$B,0)-1,1,99,),0)-1,COLUMN())) -> 8 | H3: =IF(SUMIF(Saisie!$C$9:$C$32,$C$3,Saisie!H9:H32)>0,SUMIF(Saisie!$C$9:$C$32,$C$3,Saisie!H9:H32),INDEX(Saisie!$B:$H,MATCH("Divers",Saisie!$B:$B,0)+MATCH($C3,OFFSET(Saisie!$B$1,MATCH("Divers",Saisie!$B:$B,0)-1,1,99,),0)-1,COLUMN())) -> #REF! | J3: =SUM(D3:H3) -> #REF!
C4: Didier | D4: =IF(SUMIF(Saisie!$C$9:$C$32,$C$4,Saisie!D9:D32)>0,SUMIF(Saisie!$C$9:$C$32,$C$4,Saisie!D9:D32),INDEX(Saisie!$B:$H,MATCH("Divers",Saisie!$B:$B,0)+MATCH($C$4,OFFSET(Saisie!$B$1,MATCH("Divers",Saisie!$B:$B,0)-1,1,99,),0)-1,COLUMN())) -> 8 | E4: =IF(SUMIF(Saisie!$C$9:$C$32,$C$4,Saisie!E9:E32)>0,SUMIF(Saisie!$C$9:$C$32,$C$4,Saisie!E9:E32),INDEX(Saisie!$B:$H,MATCH("Divers",Saisie!$B:$B,0)+MATCH($C$4,OFFSET(Saisie!$B$1,MATCH("Divers",Saisie!$B:$B,0)-1,1,99,),0)-1,COLUMN())) -> 8 | F4: =IF(SUMIF(Saisie!$C$9:$C$32,$C$4,Saisie!F9:F32)>0,SUMIF(Saisie!$C$9:$C$32,$C$4,Saisie!F9:F32),INDEX(Saisie!$B:$H,MATCH("Divers",Saisie!$B:$B,0)+MATCH($C$4,OFFSET(Saisie!$B$1,MATCH("Divers",Saisie!$B:$B,0)-1,1,99,),0)-1,COLUMN())) -> 8 | G4: =IF(SUMIF(Saisie!$C$9:$C$32,$C$4,Saisie!G9:G32)>0,SUMIF(Saisie!$C$9:$C$32,$C$4,Saisie!G9:G32),INDEX(Saisie!$B:$H,MATCH("Divers",Saisie!$B:$B,0)+MATCH($C$4,OFFSET(Saisie!$B$1,MATCH("Divers",Saisie!$B:$B,0)-1,1,99,),0)-1,COLUMN())) -> 0 | H4: =IF(SUMIF(Saisie!$C$9:$C$32,$C$4,Saisie!H9:H32)>0,SUMIF(Saisie!$C$9:$C$32,$C$4,Saisie!H9:H32),INDEX(Saisie!$B:$H,MATCH("Divers",Saisie!$B:$B,0)+MATCH($C$4,OFFSET(Saisie!$B$1,MATCH("Divers",Saisie!$B:$B,0)-1,1,99,),0)-1,COLUMN())) -> 8 | J4: =SUM(D4:H4) -> 32
C5: Pierre | D5: =IF(SUMIF(Saisie!$C$9:$C$32,$C$5,Saisie!D9:D32)>0,SUMIF(Saisie!$C$9:$C$32,$C$5,Saisie!D9:D32),INDEX(Saisie!$B:$H,MATCH("Divers",Saisie!$B:$B,0)+MATCH($C$5,OFFSET(Saisie!$B$1,MATCH("Divers",Saisie!$B:$B,0)-1,1,99,),0)-1,COLUMN())) -> 8 | E5: =IF(SUMIF(Saisie!$C$9:$C$32,$C$5,Saisie!E9:E32)>0,SUMIF(Saisie!$C$9:$C$32,$C$5,Saisie!E9:E32),INDEX(Saisie!$B:$H,MATCH("Divers",Saisie!$B:$B,0)+MATCH($C$5,OFFSET(Saisie!$B$1,MATCH("Divers",Saisie!$B:$B,0)-1,1,99,),0)-1,COLUMN())) -> 8 | F5: =IF(SUMIF(Saisie!$C$9:$C$32,$C$5,Saisie!F9:F32)>0,SUMIF(Saisie!$C$9:$C$32,$C$5,Saisie!F9:F32),INDEX(Saisie!$B:$H,MATCH("Divers",Saisie!$B:$B,0)+MATCH($C$5,OFFSET(Saisie!$B$1,MATCH("Divers",Saisie!$B:$B,0)-1,1,99,),0)-1,COLUMN())) -> 8 | G5: =IF(SUMIF(Saisie!$C$9:$C$32,$C$5,Saisie!G9:G32)>0,SUMIF(Saisie!$C$9:$C$32,$C$5,Saisie!G9:G32),INDEX(Saisie!$B:$H,MATCH("Divers",Saisie!$B:$B,0)+MATCH($C$5,OFFSET(Saisie!$B$1,MATCH("Divers",Saisie!$B:$B,0)-1,1,99,),0)-1,COLUMN())) -> 8 | H5: =IF(SUMIF(Saisie!$C$9:$C$32,$C$5,Saisie!H9:H32)>0,SUMIF(Saisie!$C$9:$C$32,$C$5,Saisie!H9:H32),INDEX(Saisie!$B:$H,MATCH("Divers",Saisie!$B:$B,0)+MATCH($C$5,OFFSET(Saisie!$B$1,MATCH("Divers",Saisie!$B:$B,0)-1,1,99,),0)-1,COLUMN())) -> 8 | J5: =SUM(D5:H5) -> 40
C6: Paul | D6: =IF(SUMIF(Saisie!$C$9:$C$32,$C$6,Saisie!D9:D32)>0,SUMIF(Saisie!$C$9:$C$32,$C$6,Saisie!D9:D32),INDEX(Saisie!$B:$H,MATCH("Divers",Saisie!$B:$B,0)+MATCH($C$6,OFFSET(Saisie!$B$1,MATCH("Divers",Saisie!$B:$B,0)-1,1,99,),0)-1,COLUMN())) -> 8 | E6: =IF(SUMIF(Saisie!$C$9:$C$32,$C$6,Saisie!E9:E32)>0,SUMIF(Saisie!$C$9:$C$32,$C$6,Saisie!E9:E32),INDEX(Saisie!$B:$H,MATCH("Divers",Saisie!$B:$B,0)+MATCH($C$6,OFFSET(Saisie!$B$1,MATCH("Divers",Saisie!$B:$B,0)-1,1,99,),0)-1,COLUMN())) -> 8 | F6: =IF(SUMIF(Saisie!$C$9:$C$32,$C$6,Saisie!F9:F32)>0,SUMIF(Saisie!$C$9:$C$32,$C$6,Saisie!F9:F32),INDEX(Saisie!$B:$H,MATCH("Divers",Saisie!$B:$B,0)+MATCH($C$6,OFFSET(Saisie!$B$1,MATCH("Divers",Saisie!$B:$B,0)-1,1,99,),0)-1,COLUMN())) -> 8 | G6: =IF(SUMIF(Saisie!$C$9:$C$32,$C$6,Saisie!G9:G32)>0,SUMIF(Saisie!$C$9:$C$32,$C$6,Saisie!G9:G32),INDEX(Saisie!$B:$H,MATCH("Divers",Saisie!$B:$B,0)+MATCH($C$6,OFFSET(Saisie!$B$1,MATCH("Divers",Saisie!$B:$B,0)-1,1,99,),0)-1,COLUMN())) -> 8 | H6: =IF(SUMIF(Saisie!$C$9:$C$32,$C$6,Saisie!H9:H32)>0,SUMIF(Saisie!$C$9:$C$32,$C$6,Saisie!H9:H32),INDEX(Saisie!$B:$H,MATCH("Divers",Saisie!$B:$B,0)+MATCH($C$6,OFFSET(Saisie!$B$1,MATCH("Divers",Saisie!$B:$B,0)-1,1,99,),0)-1,COLUMN())) -> 8 | J6: =SUM(D6:H6) -> 40
D8: =SUM(D3:D6) -> 32 | E8: =SUM(E3:E6) -> 32 | F8: =SUM(F3:F6) -> 32 | G8: =SUM(G3:G6) -> 24 | H8: =SUM(H3:H6) -> #REF!

Sheet Récap (3)
E2: 41771 | F2: 41772 | G2: 41773 | H2: 41774 | I2: 41775
C3: RECAP | D3: Yves | E3: =IF(SUMIF(Saisie!$C$9:$C$32,$D$3,Saisie!D9:D32)>0,SUMIF(Saisie!$C$9:$C$32,$D$3,Saisie!D9:D32),INDEX(Saisie!$B:$H,MATCH("Divers",Saisie!$B:$B,0)+MATCH($D$3,OFFSET(Saisie!$B$1,MATCH("Divers",Saisie!$B:$B,0)-1,1,99,),0)-1,COLUMN())) -> 8 | F3: =IF(SUMIF(Saisie!$C$9:$C$32,$D$3,Saisie!E9:E32)>0,SUMIF(Saisie!$C$9:$C$32,$D$3,Saisie!E9:E32),INDEX(Saisie!$B:$H,MATCH("Divers",Saisie!$B:$B,0)+MATCH($D3,OFFSET(Saisie!$B$1,MATCH("Divers",Saisie!$B:$B,0)-1,1,99,),0)-1,COLUMN())) -> 8 | G3: =IF(SUMIF(Saisie!$C$9:$C$32,$D$3,Saisie!F9:F32)>0,SUMIF(Saisie!$C$9:$C$32,$D$3,Saisie!F9:F32),INDEX(Saisie!$B:$H,MATCH("Divers",Saisie!$B:$B,0)+MATCH($D3,OFFSET(Saisie!$B$1,MATCH("Divers",Saisie!$B:$B,0)-1,1,99,),0)-1,COLUMN())) -> 8 | H3: =IF(SUMIF(Saisie!$C$9:$C$32,$D$3,Saisie!G9:G32)>0,SUMIF(Saisie!$C$9:$C$32,$D$3,Saisie!G9:G32),INDEX(Saisie!$B:$H,MATCH("Divers",Saisie!$B:$B,0)+MATCH($D3,OFFSET(Saisie!$B$1,MATCH("Divers",Saisie!$B:$B,0)-1,1,99,),0)-1,COLUMN())) -> 8 | I3: =IF(SUMIF(Saisie!$C$9:$C$32,$D$3,Saisie!H9:H32)>0,SUMIF(Saisie!$C$9:$C$32,$D$3,Saisie!H9:H32),INDEX(Saisie!$B:$H,MATCH("Divers",Saisie!$B:$B,0)+MATCH($D3,OFFSET(Saisie!$B$1,MATCH("Divers",Saisie!$B:$B,0)-1,1,99,),0)-1,COLUMN())) -> #REF! | K3: =SUM(E3:I3) -> #REF!
D4: Didier | E4: =IF(SUMIF(Saisie!$C$9:$C$32,$D$4,Saisie!D9:D32)>0,SUMIF(Saisie!$C$9:$C$32,$D$4,Saisie!D9:D32),INDEX(Saisie!$B:$H,MATCH("Divers",Saisie!$B:$B,0)+MATCH($D$4,OFFSET(Saisie!$B$1,MATCH("Divers",Saisie!$B:$B,0)-1,1,99,),0)-1,COLUMN())) -> 8 | F4: =IF(SUMIF(Saisie!$C$9:$C$32,$D$4,Saisie!E9:E32)>0,SUMIF(Saisie!$C$9:$C$32,$D$4,Saisie!E9:E32),INDEX(Saisie!$B:$H,MATCH("Divers",Saisie!$B:$B,0)+MATCH($D$4,OFFSET(Saisie!$B$1,MATCH("Divers",Saisie!$B:$B,0)-1,1,99,),0)-1,COLUMN())) -> 8 | G4: =IF(SUMIF(Saisie!$C$9:$C$32,$D$4,Saisie!F9:F32)>0,SUMIF(Saisie!$C$9:$C$32,$D$4,Saisie!F9:F32),INDEX(Saisie!$B:$H,MATCH("Divers",Saisie!$B:$B,0)+MATCH($D$4,OFFSET(Saisie!$B$1,MATCH("Divers",Saisie!$B:$B,0)-1,1,99,),0)-1,COLUMN())) -> 8 | H4: =IF(SUMIF(Saisie!$C$9:$C$32,$D$4,Saisie!G9:G32)>0,SUMIF(Saisie!$C$9:$C$32,$D$4,Saisie!G9:G32),INDEX(Saisie!$B:$H,MATCH("Divers",Saisie!$B:$B,0)+MATCH($D$4,OFFSET(Saisie!$B$1,MATCH("Divers",Saisie!$B:$B,0)-1,1,99,),0)-1,COLUMN())) -> #REF! | I4: =IF(SUMIF(Saisie!$C$9:$C$32,$D$4,Saisie!H9:H32)>0,SUMIF(Saisie!$C$9:$C$32,$D$4,Saisie!H9:H32),INDEX(Saisie!$B:$H,MATCH("Divers",Saisie!$B:$B,0)+MATCH($D$4,OFFSET(Saisie!$B$1,MATCH("Divers",Saisie!$B:$B,0)-1,1,99,),0)-1,COLUMN())) -> 8 | K4: =SUM(E4:I4) -> #REF!
D5: Pierre | E5: =IF(SUMIF(Saisie!$C$9:$C$32,$D$5,Saisie!D9:D32)>0,SUMIF(Saisie!$C$9:$C$32,$D$5,Saisie!D9:D32),INDEX(Saisie!$B:$H,MATCH("Divers",Saisie!$B:$B,0)+MATCH($D$5,OFFSET(Saisie!$B$1,MATCH("Divers",Saisie!$B:$B,0)-1,1,99,),0)-1,COLUMN())) -> 8 | F5: =IF(SUMIF(Saisie!$C$9:$C$32,$D$5,Saisie!E9:E32)>0,SUMIF(Saisie!$C$9:$C$32,$D$5,Saisie!E9:E32),INDEX(Saisie!$B:$H,MATCH("Divers",Saisie!$B:$B,0)+MATCH($D$5,OFFSET(Saisie!$B$1,MATCH("Divers",Saisie!$B:$B,0)-1,1,99,),0)-1,COLUMN())) -> 8 | G5: =IF(SUMIF(Saisie!$C$9:$C$32,$D$5,Saisie!F9:F32)>0,SUMIF(Saisie!$C$9:$C$32,$D$5,Saisie!F9:F32),INDEX(Saisie!$B:$H,MATCH("Divers",Saisie!$B:$B,0)+MATCH($D$5,OFFSET(Saisie!$B$1,MATCH("Divers",Saisie!$B:$B,0)-1,1,99,),0)-1,COLUMN())) -> 8 | H5: =IF(SUMIF(Saisie!$C$9:$C$32,$D$5,Saisie!G9:G32)>0,SUMIF(Saisie!$C$9:$C$32,$D$5,Saisie!G9:G32),INDEX(Saisie!$B:$H,MATCH("Divers",Saisie!$B:$B,0)+MATCH($D$5,OFFSET(Saisie!$B$1,MATCH("Divers",Saisie!$B:$B,0)-1,1,99,),0)-1,COLUMN())) -> 8 | I5: =IF(SUMIF(Saisie!$C$9:$C$32,$D$5,Saisie!H9:H32)>0,SUMIF(Saisie!$C$9:$C$32,$D$5,Saisie!H9:H32),INDEX(Saisie!$B:$H,MATCH("Divers",Saisie!$B:$B,0)+MATCH($D$5,OFFSET(Saisie!$B$1,MATCH("Divers",Saisie!$B:$B,0)-1,1,99,),0)-1,COLUMN())) -> 8 | K5: =SUM(E5:I5) -> 40
D6: Paul | E6: =IF(SUMIF(Saisie!$C$9:$C$32,$D$6,Saisie!D9:D32)>0,SUMIF(Saisie!$C$9:$C$32,$D$6,Saisie!D9:D32),INDEX(Saisie!$B:$H,MATCH("Divers",Saisie!$B:$B,0)+MATCH($D$6,OFFSET(Saisie!$B$1,MATCH("Divers",Saisie!$B:$B,0)-1,1,99,),0)-1,COLUMN())) -> 8 | F6: =IF(SUMIF(Saisie!$C$9:$C$32,$D$6,Saisie!E9:E32)>0,SUMIF(Saisie!$C$9:$C$32,$D$6,Saisie!E9:E32),INDEX(Saisie!$B:$H,MATCH("Divers",Saisie!$B:$B,0)+MATCH($D$6,OFFSET(Saisie!$B$1,MATCH("Divers",Saisie!$B:$B,0)-1,1,99,),0)-1,COLUMN())) -> 8 | G6: =IF(SUMIF(Saisie!$C$9:$C$32,$D$6,Saisie!F9:F32)>0,SUMIF(Saisie!$C$9:$C$32,$D$6,Saisie!F9:F32),INDEX(Saisie!$B:$H,MATCH("Divers",Saisie!$B:$B,0)+MATCH($D$6,OFFSET(Saisie!$B$1,MATCH("Divers",Saisie!$B:$B,0)-1,1,99,),0)-1,COLUMN())) -> 8 | H6: =IF(SUMIF(Saisie!$C$9:$C$32,$D$6,Saisie!G9:G32)>0,SUMIF(Saisie!$C$9:$C$32,$D$6,Saisie!G9:G32),INDEX(Saisie!$B:$H,MATCH("Divers",Saisie!$B:$B,0)+MATCH($D$6,OFFSET(Saisie!$B$1,MATCH("Divers",Saisie!$B:$B,0)-1,1,99,),0)-1,COLUMN())) -> 8 | I6: =IF(SUMIF(Saisie!$C$9:$C$32,$D$6,Saisie!H9:H32)>0,SUMIF(Saisie!$C$9:$C$32,$D$6,Saisie!H9:H32),INDEX(Saisie!$B:$H,MATCH("Divers",Saisie!$B:$B,0)+MATCH($D$6,OFFSET(Saisie!$B$1,MATCH("Divers",Saisie!$B:$B,0)-1,1,99,),0)-1,COLUMN())) -> 8 | K6: =SUM(E6:I6) -> 40
E8: =SUM(E3:E6) -> 32 | F8: =SUM(F3:F6) -> 32 | G8: =SUM(G3:G6) -> 32 | H8: =SUM(H3:H6) -> #REF! | I8: =SUM(I3:I6) -> #REF!

Sheet Feuil2

Sheet Feuil3
