Workbook

Sheet Stock
A1: ref | B1: designation | C1: fournisseur | D1: quantitees initiale | E1: entrer | F1: sorti | G1: stock final
A2: 1 | B2: =VLOOKUP(A2,BASE!A4:B334,2) -> BLOC DATE A GAUCHE | C2: =VLOOKUP(A2,BASE!A4:F334,6) -> 0 | D2: 10 | G2: =((D2+E2)-F2) -> 10
A3: 2 | B3: =VLOOKUP(A3,BASE!A5:B335,2) -> SUPPORT DE BLOC | C3: =VLOOKUP(A3,BASE!A5:F335,6) -> 0 | D3: 10 | G3: =((D3+E3)-F3) -> 10
A4: 3 | B4: =VLOOKUP(A4,BASE!A6:B336,2) -> CALENDRIER | C4: =VLOOKUP(A4,BASE!A6:F336,6) -> 0 | D4: 10 | G4: =((D4+E4)-F4) -> 10
A5: 4 | B5: =VLOOKUP(A5,BASE!A7:B337,2) -> CALENDRIER 13 MOIS 1 FACE | C5: =VLOOKUP(A5,BASE!A7:F337,6) -> 0 | D5: 10 | G5: =((D5+E5)-F5) -> 10
A6: 5 | B6: =VLOOKUP(A6,BASE!A8:B338,2) -> AGENDA SEPT/SEPT 21X27 | C6: =VLOOKUP(A6,BASE!A8:F338,6) -> 0 | D6: 10 | G6: =((D6+E6)-F6) -> 10
A7: 6 | B7: =VLOOKUP(A7,BASE!A9:B339,2) -> AGENDA SEPT/SEPT 21x29,7 EU09 | C7: =VLOOKUP(A7,BASE!A9:F339,6) -> 0 | D7: 10 | G7: =((D7+E7)-F7) -> 10
A8: 7 | B8: =VLOOKUP(A8,BASE!A10:B340,2) -> AGENDA SEPT/SEPT 16X24 | C8: =VLOOKUP(A8,BASE!A10:F340,6) -> 0 | D8: 10 | G8: =((D8+E8)-F8) -> 10
A9: 8 | B9: =VLOOKUP(A9,BASE!A11:B341,2) -> AGENDA SEPT/SEPT 10X15 | C9: =VLOOKUP(A9,BASE!A11:F341,6) -> 0 | D9: 10 | G9: =((D9+E9)-F9) -> 10
A10: 209 | B10: =VLOOKUP(A10,BASE!A12:B342,2) -> EPONGE A RECURER | C10: =VLOOKUP(A10,BASE!A12:F342,6) -> DEVLAEMYNCK | D10: 10 | G10: =((D10+E10)-F10) -> 10
A11: 216 | B11: =VLOOKUP(A11,BASE!A13:B343,2) -> LAVETTE SYNTHETIQUE ROSE | C11: =VLOOKUP(A11,BASE!A13:F343,6) -> DEVLAEMYNCK | D11: 10 | G11: =((D11+E11)-F11) -> 10
A12: 217 | B12: =VLOOKUP(A12,BASE!A14:B344,2) -> LAVETTE SYNTHETIQUE VERTE | C12: =VLOOKUP(A12,BASE!A14:F344,6) -> DEVLAEMYNCK | D12: 10 | G12: =((D12+E12)-F12) -> 10
A13: 252 | B13: =VLOOKUP(A13,BASE!A15:B345,2) -> LAVETTE MICROFIBRE BLEUE | C13: =VLOOKUP(A13,BASE!A15:F345,6) -> 0 | D13: 10 | G13: =((D13+E13)-F13) -> 10
... A323: 1302105 | B323: =VLOOKUP(A323,BASE!A325:B655,2) -> A+B BLOC CUBE 76x76 NEON ASS. 320FLES | C323: =VLOOKUP(A323,BASE!A325:F655,6) -> ALTER BURO | D323: 10 | G323: =((D323+E323)-F323) -> 10
A324: B11.720 | B324: =VLOOKUP(A324,BASE!A326:B656,2) -> ENV A DIPLÔME | C324: =VLOOKUP(A324,BASE!A326:F656,6) -> SEPIETER | D324: 10 | G324: =((D324+E324)-F324) -> 10
A325: C10.925 | B325: =VLOOKUP(A325,BASE!A327:B657,2) -> EPONGE SPONTEX | C325: =VLOOKUP(A325,BASE!A327:F657,6) -> DEVLAEMYNCK | D325: 10 | G325: =((D325+E325)-F325) -> 10
A326: C12.826 | B326: =VLOOKUP(A326,BASE!A328:B658,2) -> MIR | C326: =VLOOKUP(A326,BASE!A328:F658,6) -> 0 | D326: 10 | G326: =((D326+E326)-F326) -> 10
A327: C18.020 | B327: =VLOOKUP(A327,BASE!A329:B659,2) -> PLUMEAU | C327: =VLOOKUP(A327,BASE!A329:F659,6) -> BERNARD | D327: 10 | G327: =((D327+E327)-F327) -> 10
A328: C42.050 | B328: =VLOOKUP(A328,BASE!A330:B660,2) -> SAC POUBELLES 50L | C328: =VLOOKUP(A328,BASE!A330:F660,6) -> BERNARD | D328: 10 | G328: =((D328+E328)-F328) -> 10
A329: C42.142 | B329: =VLOOKUP(A329,BASE!A331:B661,2) -> SAC POUBELLES 110L | C329: =VLOOKUP(A329,BASE!A331:F661,6) -> BERNARD | D329: 10 | G329: =((D329+E329)-F329) -> 10
A330: C42.510 | B330: =VLOOKUP(A330,BASE!A332:B662,2) -> SAC POUBELLES 10L | C330: =VLOOKUP(A330,BASE!A332:F662,6) -> BERNARD | D330: 10 | G330: =((D330+E330)-F330) -> 10
A331: C42.522 | B331: =VLOOKUP(A331,BASE!A333:B663,2) -> SAC POUBELLES 30L | C331: =VLOOKUP(A331,BASE!A333:F663,6) -> BERNARD | D331: 10 | G331: =((D331+E331)-F331) -> 10
B332: =VLOOKUP(A332,BASE!A334:B664,2) -> #N/A | C332: =VLOOKUP(A332,BASE!A334:F664,6) -> #N/A | D332: 10 | G332: =((D332+E332)-F332) -> 10
B333: =VLOOKUP(A333,BASE!A335:B665,2) -> #N/A | C333: =VLOOKUP(A333,BASE!A335:F665,6) -> #N/A | D333: 10 | G333: =((D333+E333)-F333) -> 10
B334: =VLOOKUP(A334,BASE!A336:B666,2) -> #N/A | C334: =VLOOKUP(A334,BASE!A336:F666,6) -> #N/A | D334: 10 | G334: =((D334+E334)-F334) -> 10
B335: =VLOOKUP(A335,BASE!A337:B667,2) -> #N/A | C335: =VLOOKUP(A335,BASE!A337:F667,6) -> #N/A | D335: 10 | G335: =((D335+E335)-F335) -> 10
B336: =VLOOKUP(A336,BASE!A338:B668,2) -> #N/A | C336: =VLOOKUP(A336,BASE!A338:F668,6) -> #N/A | D336: 10 | G336: =((D336+E336)-F336) -> 10
B337: =VLOOKUP(A337,BASE!A339:B669,2) -> #N/A | C337: =VLOOKUP(A337,BASE!A339:F669,6) -> #N/A | D337: 10 | G337: =((D337+E337)-F337) -> 10
B338: =VLOOKUP(A338,BASE!A340:B670,2) -> #N/A | C338: =VLOOKUP(A338,BASE!A340:F670,6) -> #N/A | D338: 10 | G338: =((D338+E338)-F338) -> 10
B339: =VLOOKUP(A339,BASE!A341:B671,2) -> #N/A | C339: =VLOOKUP(A339,BASE!A341:F671,6) -> #N/A | D339: 10 | G339: =((D339+E339)-F339) -> 10
B340: =VLOOKUP(A340,BASE!A342:B672,2) -> #N/A | C340: =VLOOKUP(A340,BASE!A342:F672,6) -> #N/A | D340: 10 | G340: =((D340+E340)-F340) -> 10
B341: =VLOOKUP(A341,BASE!A343:B673,2) -> #N/A | C341: =VLOOKUP(A341,BASE!A343:F673,6) -> #N/A | D341: 10 | G341: =((D341+E341)-F341) -> 10
B342: =VLOOKUP(A342,BASE!A344:B674,2) -> #N/A | C342: =VLOOKUP(A342,BASE!A344:F674,6) -> #N/A | D342: 10 | G342: =((D342+E342)-F342) -> 10
B343: =VLOOKUP(A343,BASE!A345:B675,2) -> #N/A | C343: =VLOOKUP(A343,BASE!A345:F675,6) -> #N/A | D343: 10 | G343: =((D343+E343)-F343) -> 10
... B550: =VLOOKUP(A550,BASE!A552:B882,2) -> #N/A | C550: =VLOOKUP(A550,BASE!A552:F882,6) -> #N/A | D550: 10 | G550: =((D550+E550)-F550) -> 10

Sheet ENTREE
A1: REFERENCE | B1: DESIGNATION | C1: ENTREE | D1: PU | E1: DATE | F1: IDENTIFIANT NOM | G1: NOM
A2: 9 | B2: =VLOOKUP(A2,BASE!$A$4:$B$334,2) -> AGENDA SEPT/SEPT 10X15 | C2: 5 | D2: =VLOOKUP(A2,BASE!$A$4:$D$334,4) -> 1.08 | E2: 41765 | F2: ALT | G2: =VLOOKUP(F2,'identifiants entrees'!A:B,2) -> alter buro
A3: 101120 | B3: =VLOOKUP(A3,BASE!$A$4:$B$334,2) -> PINCE AGRAFEUSE RAPID | C3: 5 | D3: =VLOOKUP(A3,BASE!$A$4:$D$334,4) -> 10.75 | E3: 41765 | F3: BER | G3: =VLOOKUP(F3,'identifiants entrees'!A:B,2) -> bernard
A4: 100363 | B4: =VLOOKUP(A4,BASE!$A$4:$B$334,2) -> CARTON MOUSSE | C4: 5 | D4: =VLOOKUP(A4,BASE!$A$4:$D$334,4) -> 169 | E4: 41765 | F4: bis | G4: =VLOOKUP(F4,'identifiants entrees'!A:B,2) -> bisman
B5: =VLOOKUP(A5,BASE!$A$4:$B$334,2) -> #N/A | D5: =VLOOKUP(A5,BASE!$A$4:$D$334,4) -> #N/A | G5: =VLOOKUP(F5,'identifiants entrees'!A:B,2) -> #N/A
B6: =VLOOKUP(A6,BASE!$A$4:$B$334,2) -> #N/A | D6: =VLOOKUP(A6,BASE!$A$4:$D$334,4) -> #N/A | G6: =VLOOKUP(F6,'identifiants entrees'!A:B,2) -> #N/A
B7: =VLOOKUP(A7,BASE!$A$4:$B$334,2) -> #N/A | D7: =VLOOKUP(A7,BASE!$A$4:$D$334,4) -> #N/A | G7: =VLOOKUP(F7,'identifiants entrees'!A:B,2) -> #N/A
B8: =VLOOKUP(A8,BASE!$A$4:$B$334,2) -> #N/A | D8: =VLOOKUP(A8,BASE!$A$4:$D$334,4) -> #N/A | G8: =VLOOKUP(F8,'identifiants entrees'!A:B,2) -> #N/A
B9: =VLOOKUP(A9,BASE!$A$4:$B$334,2) -> #N/A | D9: =VLOOKUP(A9,BASE!$A$4:$D$334,4) -> #N/A | G9: =VLOOKUP(F9,'identifiants entrees'!A:B,2) -> #N/A
B10: =VLOOKUP(A10,BASE!$A$4:$B$334,2) -> #N/A | D10: =VLOOKUP(A10,BASE!$A$4:$D$334,4) -> #N/A | G10: =VLOOKUP(F10,'identifiants entrees'!A:B,2) -> #N/A
B11: =VLOOKUP(A11,BASE!$A$4:$B$334,2) -> #N/A | D11: =VLOOKUP(A11,BASE!$A$4:$D$334,4) -> #N/A | G11: =VLOOKUP(F11,'identifiants entrees'!A:B,2) -> #N/A
B12: =VLOOKUP(A12,BASE!$A$4:$B$334,2) -> #N/A | D12: =VLOOKUP(A12,BASE!$A$4:$D$334,4) -> #N/A | G12: =VLOOKUP(F12,'identifiants entrees'!A:B,2) -> #N/A
B13: =VLOOKUP(A13,BASE!$A$4:$B$334,2) -> #N/A | D13: =VLOOKUP(A13,BASE!$A$4:$D$334,4) -> #N/A | G13: =VLOOKUP(F13,'identifiants entrees'!A:B,2) -> #N/A
B14: =VLOOKUP(A14,BASE!$A$4:$B$334,2) -> #N/A | D14: =VLOOKUP(A14,BASE!$A$4:$D$334,4) -> #N/A | G14: =VLOOKUP(F14,'identifiants entrees'!A:B,2) -> #N/A
B15: =VLOOKUP(A15,BASE!$A$4:$B$334,2) -> #N/A | D15: =VLOOKUP(A15,BASE!$A$4:$D$334,4) -> #N/A | G15: =VLOOKUP(F15,'identifiants entrees'!A:B,2) -> #N/A
B16: =VLOOKUP(A16,BASE!$A$4:$B$334,2) -> #N/A | D16: =VLOOKUP(A16,BASE!$A$4:$D$334,4) -> #N/A | G16: =VLOOKUP(F16,'identifiants entrees'!A:B,2) -> #N/A
... B529: =VLOOKUP(A529,BASE!$A$4:$B$334,2) -> #N/A | D529: =VLOOKUP(A529,BASE!$A$4:$D$334,4) -> #N/A | G529: =VLOOKUP(F529,'identifiants entrees'!A:B,2) -> #N/A

Sheet identifiants entrees
A1: nom | B1: fournisseur
A2: ALT | B2: alter buro
A3: BER | B3: bernard
A4: BIS | B4: bisman
A5: DEV | B5: devlaemynck
A6: LEG | B6: le goff
A7: MIN | B7: minot apura
A8: PHS | B8: phs nes
A9: SEP | B9: sepieter

Sheet SORTIE
A1: REFERENCE | B1: DESIGNATION | C1: SORTIE QUANTITEES | D1: PU | E1: SORTIE | F1: DATE | G1: IDENTIFIANT NOM | H1: NOM | I1: CODE | J1: AXE | K1: DETAILS
A2: 505080 | B2: =IF(A2<>"",INDEX(BASE!$A$2:$C$1538,MATCH(A2,BASE!$A$2:$A$1538,0),2),"") -> SAVON 800ML | C2: 12 | D2: =VLOOKUP(A2,BASE!$A$4:$F$538,4,FALSE) -> 3.058 | E2: =IF(C2="","",C2*D2) -> 36.696 | F2: 41645 | G2: APA | H2: =VLOOKUP(G2,'identifiants sorties'!$A$2:$E$158,2,FALSE) -> Apajh | I2: =VLOOKUP(G2,'identifiants sorties'!$A$2:$E$158,3,FALSE) -> Servgene | J2: =VLOOKUP(G2,'identifiants sorties'!$A$2:$E$158,4,FALSE) -> Entretien | K2: =VLOOKUP(G2,'identifiants sorties'!$A$2:$E$158,5,FALSE) -> Société nettoyage
A3: 505080 | B3: =IF(A3<>"",INDEX(BASE!$A$2:$C$1538,MATCH(A3,BASE!$A$2:$A$1538,0),2),"") -> SAVON 800ML | C3: 4 | D3: =VLOOKUP(A3,BASE!$A$4:$F$538,4,FALSE) -> 3.058 | E3: =IF(C3="","",C3*D3) -> 12.232 | F3: 41645 | G3: APA | H3: =VLOOKUP(G3,'identifiants sorties'!$A$2:$E$158,2,FALSE) -> Apajh | I3: =VLOOKUP(G3,'identifiants sorties'!$A$2:$E$158,3,FALSE) -> Servgene | J3: =VLOOKUP(G3,'identifiants sorties'!$A$2:$E$158,4,FALSE) -> Entretien | K3: =VLOOKUP(G3,'identifiants sorties'!$A$2:$E$158,5,FALSE) -> Société nettoyage
A4: 211103 | B4: =IF(A4<>"",INDEX(BASE!$A$2:$C$1538,MATCH(A4,BASE!$A$2:$A$1538,0),2),"") -> PT.100 CHEM.ROCK S CITRON 220G | C4: 20 | D4: =VLOOKUP(A4,BASE!$A$4:$F$538,4,FALSE) -> 0.089 | E4: =IF(C4="","",C4*D4) -> 1.78 | F4: 41645 | G4: BST | H4: =VLOOKUP(G4,'identifiants sorties'!$A$2:$E$158,2,FALSE) -> Stievenard | I4: =VLOOKUP(G4,'identifiants sorties'!$A$2:$E$158,3,FALSE) -> Servgene | J4: =VLOOKUP(G4,'identifiants sorties'!$A$2:$E$158,4,FALSE) -> FCD | K4: =VLOOKUP(G4,'identifiants sorties'!$A$2:$E$158,5,FALSE) -> 0
A5: 211104 | B5: =IF(A5<>"",INDEX(BASE!$A$2:$C$1538,MATCH(A5,BASE!$A$2:$A$1538,0),2),"") -> PT.100 CHEM ROCK S ROUGE TURC 220GR | C5: 20 | D5: =VLOOKUP(A5,BASE!$A$4:$F$538,4,FALSE) -> 0.089 | E5: =IF(C5="","",C5*D5) -> 1.78 | F5: 41645 | G5: BST | H5: =VLOOKUP(G5,'identifiants sorties'!$A$2:$E$158,2,FALSE) -> Stievenard | I5: =VLOOKUP(G5,'identifiants sorties'!$A$2:$E$158,3,FALSE) -> Servgene | J5: =VLOOKUP(G5,'identifiants sorties'!$A$2:$E$158,4,FALSE) -> FCD | K5: =VLOOKUP(G5,'identifiants sorties'!$A$2:$E$158,5,FALSE) -> 0
A6: 107505 | B6: =IF(A6<>"",INDEX(BASE!$A$2:$C$1538,MATCH(A6,BASE!$A$2:$A$1538,0),2),"") -> MINI POCKET MOUSE TIPP-EX 6mm | C6: 1 | D6: =VLOOKUP(A6,BASE!$A$4:$F$538,4,FALSE) -> 1.16 | E6: =IF(C6="","",C6*D6) -> 1.16 | F6: 41645 | G6: BST | H6: =VLOOKUP(G6,'identifiants sorties'!$A$2:$E$158,2,FALSE) -> Stievenard | I6: =VLOOKUP(G6,'identifiants sorties'!$A$2:$E$158,3,FALSE) -> Servgene | J6: =VLOOKUP(G6,'identifiants sorties'!$A$2:$E$158,4,FALSE) -> FCD | K6: =VLOOKUP(G6,'identifiants sorties'!$A$2:$E$158,5,FALSE) -> 0
A7: 203101 | B7: =IF(A7<>"",INDEX(BASE!$A$2:$C$1538,MATCH(A7,BASE!$A$2:$A$1538,0),2),"") -> CHEMISE A SANGLE MARINE DOS TOILE | C7: 2 | D7: =VLOOKUP(A7,BASE!$A$4:$F$538,4,FALSE) -> 0.95 | E7: =IF(C7="","",C7*D7) -> 1.9 | F7: 41645 | G7: BST | H7: =VLOOKUP(G7,'identifiants sorties'!$A$2:$E$158,2,FALSE) -> Stievenard | I7: =VLOOKUP(G7,'identifiants sorties'!$A$2:$E$158,3,FALSE) -> Servgene | J7: =VLOOKUP(G7,'identifiants sorties'!$A$2:$E$158,4,FALSE) -> FCD | K7: =VLOOKUP(G7,'identifiants sorties'!$A$2:$E$158,5,FALSE) -> 0
A8: 117291 | B8: =IF(A8<>"",INDEX(BASE!$A$2:$C$1538,MATCH(A8,BASE!$A$2:$A$1538,0),2),"") -> STYLO FEUTRE V SIGNPEN NOIR SW-VSP | C8: 1 | D8: =VLOOKUP(A8,BASE!$A$4:$F$538,4,FALSE) -> 1.2 | E8: =IF(C8="","",C8*D8) -> 1.2 | F8: 41645 | G8: BST | H8: =VLOOKUP(G8,'identifiants sorties'!$A$2:$E$158,2,FALSE) -> Stievenard | I8: =VLOOKUP(G8,'identifiants sorties'!$A$2:$E$158,3,FALSE) -> Servgene | J8: =VLOOKUP(G8,'identifiants sorties'!$A$2:$E$158,4,FALSE) -> FCD | K8: =VLOOKUP(G8,'identifiants sorties'!$A$2:$E$158,5,FALSE) -> 0
A9: 117292 | B9: =IF(A9<>"",INDEX(BASE!$A$2:$C$1538,MATCH(A9,BASE!$A$2:$A$1538,0),2),"") -> STYLO FEUTRE V SIGNPEN BLEU SW-VSP | C9: 1 | D9: =VLOOKUP(A9,BASE!$A$4:$F$538,4,FALSE) -> 1.28 | E9: =IF(C9="","",C9*D9) -> 1.28 | F9: 41645 | G9: BST | H9: =VLOOKUP(G9,'identifiants sorties'!$A$2:$E$158,2,FALSE) -> Stievenard | I9: =VLOOKUP(G9,'identifiants sorties'!$A$2:$E$158,3,FALSE) -> Servgene | J9: =VLOOKUP(G9,'identifiants sorties'!$A$2:$E$158,4,FALSE) -> FCD | K9: =VLOOKUP(G9,'identifiants sorties'!$A$2:$E$158,5,FALSE) -> 0
A10: 119177 | B10: =IF(A10<>"",INDEX(BASE!$A$2:$C$1538,MATCH(A10,BASE!$A$2:$A$1538,0),2),"") -> UNI BALL VISION ELITE 0,6 MM NOIR | C10: 1 | D10: =VLOOKUP(A10,BASE!$A$4:$F$538,4,FALSE) -> 3.01 | E10: =IF(C10="","",C10*D10) -> 3.01 | F10: 41645 | G10: BST | H10: =VLOOKUP(G10,'identifiants sorties'!$A$2:$E$158,2,FALSE) -> Stievenard | I10: =VLOOKUP(G10,'identifiants sorties'!$A$2:$E$158,3,FALSE) -> Servgene | J10: =VLOOKUP(G10,'identifiants sorties'!$A$2:$E$158,4,FALSE) -> FCD | K10: =VLOOKUP(G10,'identifiants sorties'!$A$2:$E$158,5,FALSE) -> 0
A11: 119176 | B11: =IF(A11<>"",INDEX(BASE!$A$2:$C$1538,MATCH(A11,BASE!$A$2:$A$1538,0),2),"") -> UNI BALL VISION ELITE 0,6 MM BLEU | C11: 1 | D11: =VLOOKUP(A11,BASE!$A$4:$F$538,4,FALSE) -> 3.01 | E11: =IF(C11="","",C11*D11) -> 3.01 | F11: 41645 | G11: BST | H11: =VLOOKUP(G11,'identifiants sorties'!$A$2:$E$158,2,FALSE) -> Stievenard | I11: =VLOOKUP(G11,'identifiants sorties'!$A$2:$E$158,3,FALSE) -> Servgene | J11: =VLOOKUP(G11,'identifiants sorties'!$A$2:$E$158,4,FALSE) -> FCD | K11: =VLOOKUP(G11,'identifiants sorties'!$A$2:$E$158,5,FALSE) -> 0
A12: 120521 | B12: =IF(A12<>"",INDEX(BASE!$A$2:$C$1538,MATCH(A12,BASE!$A$2:$A$1538,0),2),"") -> SURLIGNEUR STABILO BOSS BLEU | C12: 1 | D12: =VLOOKUP(A12,BASE!$A$4:$F$538,4,FALSE) -> 0.55 | E12: =IF(C12="","",C12*D12) -> 0.55 | F12: 41645 | G12: BST | H12: =VLOOKUP(G12,'identifiants sorties'!$A$2:$E$158,2,FALSE) -> Stievenard | I12: =VLOOKUP(G12,'identifiants sorties'!$A$2:$E$158,3,FALSE) -> Servgene | J12: =VLOOKUP(G12,'identifiants sorties'!$A$2:$E$158,4,FALSE) -> FCD | K12: =VLOOKUP(G12,'identifiants sorties'!$A$2:$E$158,5,FALSE) -> 0
A13: 120524 | B13: =IF(A13<>"",INDEX(BASE!$A$2:$C$1538,MATCH(A13,BASE!$A$2:$A$1538,0),2),"") -> SURLIGNEUR STABILO BOSS VERT | C13: 1 | D13: =VLOOKUP(A13,BASE!$A$4:$F$538,4,FALSE) -> 0.55 | E13: =IF(C13="","",C13*D13) -> 0.55 | F13: 41645 | G13: BST | H13: =VLOOKUP(G13,'identifiants sorties'!$A$2:$E$158,2,FALSE) -> Stievenard | I13: =VLOOKUP(G13,'identifiants sorties'!$A$2:$E$158,3,FALSE) -> Servgene | J13: =VLOOKUP(G13,'identifiants sorties'!$A$2:$E$158,4,FALSE) -> FCD | K13: =VLOOKUP(G13,'identifiants sorties'!$A$2:$E$158,5,FALSE) -> 0
... A188: 42500 | B188: =IF(A188<>"",INDEX(BASE!$A$2:$C$1538,MATCH(A188,BASE!$A$2:$A$1538,0),2),"") -> ROULEAU ECO | C188: 2 | D188: =VLOOKUP(A188,BASE!$A$4:$F$538,4,FALSE) -> 3 | E188: =IF(C188="","",C188*D188) -> 6 | F188: 41667 | G188: MGI | H188: =VLOOKUP(G188,'identifiants sorties'!$A$2:$E$158,2,FALSE) -> Girard | I188: =VLOOKUP(G188,'identifiants sorties'!$A$2:$E$158,3,FALSE) -> Servgene | J188: =VLOOKUP(G188,'identifiants sorties'!$A$2:$E$158,4,FALSE) -> Entretien | K188: =VLOOKUP(G188,'identifiants sorties'!$A$2:$E$158,5,FALSE) -> Rez de chaussée + 3 éme bat C
A189: C42.142 | B189: =IF(A189<>"",INDEX(BASE!$A$2:$C$1538,MATCH(A189,BASE!$A$2:$A$1538,0),2),"") -> SAC POUBELLES 110L | C189: 1 | D189: =VLOOKUP(A189,BASE!$A$4:$F$538,4,FALSE) -> 4.99 | E189: =IF(C189="","",C189*D189) -> 4.99 | F189: 41667 | G189: MGI | H189: =VLOOKUP(G189,'identifiants sorties'!$A$2:$E$158,2,FALSE) -> Girard | I189: =VLOOKUP(G189,'identifiants sorties'!$A$2:$E$158,3,FALSE) -> Servgene | J189: =VLOOKUP(G189,'identifiants sorties'!$A$2:$E$158,4,FALSE) -> Entretien | K189: =VLOOKUP(G189,'identifiants sorties'!$A$2:$E$158,5,FALSE) -> Rez de chaussée + 3 éme bat C
A190: C42.050 | B190: =IF(A190<>"",INDEX(BASE!$A$2:$C$1538,MATCH(A190,BASE!$A$2:$A$1538,0),2),"") -> SAC POUBELLES 50L | C190: 2 | D190: =VLOOKUP(A190,BASE!$A$4:$F$538,4,FALSE) -> 2.79 | E190: =IF(C190="","",C190*D190) -> 5.58 | F190: 41667 | G190: MGI | H190: =VLOOKUP(G190,'identifiants sorties'!$A$2:$E$158,2,FALSE) -> Girard | I190: =VLOOKUP(G190,'identifiants sorties'!$A$2:$E$158,3,FALSE) -> Servgene | J190: =VLOOKUP(G190,'identifiants sorties'!$A$2:$E$158,4,FALSE) -> Entretien | K190: =VLOOKUP(G190,'identifiants sorties'!$A$2:$E$158,5,FALSE) -> Rez de chaussée + 3 éme bat C
A191: C42.522 | B191: =IF(A191<>"",INDEX(BASE!$A$2:$C$1538,MATCH(A191,BASE!$A$2:$A$1538,0),2),"") -> SAC POUBELLES 30L | C191: 3 | D191: =VLOOKUP(A191,BASE!$A$4:$F$538,4,FALSE) -> 2.49 | E191: =IF(C191="","",C191*D191) -> 7.47 | F191: 41667 | G191: MGI | H191: =VLOOKUP(G191,'identifiants sorties'!$A$2:$E$158,2,FALSE) -> Girard | I191: =VLOOKUP(G191,'identifiants sorties'!$A$2:$E$158,3,FALSE) -> Servgene | J191: =VLOOKUP(G191,'identifiants sorties'!$A$2:$E$158,4,FALSE) -> Entretien | K191: =VLOOKUP(G191,'identifiants sorties'!$A$2:$E$158,5,FALSE) -> Rez de chaussée + 3 éme bat C
A192: C42.510 | B192: =IF(A192<>"",INDEX(BASE!$A$2:$C$1538,MATCH(A192,BASE!$A$2:$A$1538,0),2),"") -> SAC POUBELLES 10L | C192: 2 | D192: =VLOOKUP(A192,BASE!$A$4:$F$538,4,FALSE) -> 2.69 | E192: =IF(C192="","",C192*D192) -> 5.38 | F192: 41667 | G192: MGI | H192: =VLOOKUP(G192,'identifiants sorties'!$A$2:$E$158,2,FALSE) -> Girard | I192: =VLOOKUP(G192,'identifiants sorties'!$A$2:$E$158,3,FALSE) -> Servgene | J192: =VLOOKUP(G192,'identifiants sorties'!$A$2:$E$158,4,FALSE) -> Entretien | K192: =VLOOKUP(G192,'identifiants sorties'!$A$2:$E$158,5,FALSE) -> Rez de chaussée + 3 éme bat C
A193: 3820 | B193: =IF(A193<>"",INDEX(BASE!$A$2:$C$1538,MATCH(A193,BASE!$A$2:$A$1538,0),2),"") -> DOSETTES | C193: 5 | D193: =VLOOKUP(A193,BASE!$A$4:$F$538,4,FALSE) -> 0.07 | E193: =IF(C193="","",C193*D193) -> 0.35 | F193: 41667 | G193: CDE | H193: =VLOOKUP(G193,'identifiants sorties'!$A$2:$E$158,2,FALSE) -> Devogelaere | I193: =VLOOKUP(G193,'identifiants sorties'!$A$2:$E$158,3,FALSE) -> Servgene | J193: =VLOOKUP(G193,'identifiants sorties'!$A$2:$E$158,4,FALSE) -> Entretien | K193: =VLOOKUP(G193,'identifiants sorties'!$A$2:$E$158,5,FALSE) -> 0
A194: 975 | B194: =IF(A194<>"",INDEX(BASE!$A$2:$C$1538,MATCH(A194,BASE!$A$2:$A$1538,0),2),"") -> AJAX VITRES | C194: 1 | D194: =VLOOKUP(A194,BASE!$A$4:$F$538,4,FALSE) -> 1.84 | E194: =IF(C194="","",C194*D194) -> 1.84 | F194: 41667 | G194: CDE | H194: =VLOOKUP(G194,'identifiants sorties'!$A$2:$E$158,2,FALSE) -> Devogelaere | I194: =VLOOKUP(G194,'identifiants sorties'!$A$2:$E$158,3,FALSE) -> Servgene | J194: =VLOOKUP(G194,'identifiants sorties'!$A$2:$E$158,4,FALSE) -> Entretien | K194: =VLOOKUP(G194,'identifiants sorties'!$A$2:$E$158,5,FALSE) -> 0
A195: 3902 | B195: =IF(A195<>"",INDEX(BASE!$A$2:$C$1538,MATCH(A195,BASE!$A$2:$A$1538,0),2),"") -> ULTRA NEUF | C195: 1 | D195: =VLOOKUP(A195,BASE!$A$4:$F$538,4,FALSE) -> 2.79 | E195: =IF(C195="","",C195*D195) -> 2.79 | F195: 41667 | G195: CDE | H195: =VLOOKUP(G195,'identifiants sorties'!$A$2:$E$158,2,FALSE) -> Devogelaere | I195: =VLOOKUP(G195,'identifiants sorties'!$A$2:$E$158,3,FALSE) -> Servgene | J195: =VLOOKUP(G195,'identifiants sorties'!$A$2:$E$158,4,FALSE) -> Entretien | K195: =VLOOKUP(G195,'identifiants sorties'!$A$2:$E$158,5,FALSE) -> 0
A196: 4091 | B196: =IF(A196<>"",INDEX(BASE!$A$2:$C$1538,MATCH(A196,BASE!$A$2:$A$1538,0),2),"") -> ULTRA BAC | C196: 2 | D196: =VLOOKUP(A196,BASE!$A$4:$F$538,4,FALSE) -> 3.71 | E196: =IF(C196="","",C196*D196) -> 7.42 | F196: 41667 | G196: CDE | H196: =VLOOKUP(G196,'identifiants sorties'!$A$2:$E$158,2,FALSE) -> Devogelaere | I196: =VLOOKUP(G196,'identifiants sorties'!$A$2:$E$158,3,FALSE) -> Servgene | J196: =VLOOKUP(G196,'identifiants sorties'!$A$2:$E$158,4,FALSE) -> Entretien | K196: =VLOOKUP(G196,'identifiants sorties'!$A$2:$E$158,5,FALSE) -> 0
A197: 35038 | B197: =IF(A197<>"",INDEX(BASE!$A$2:$C$1538,MATCH(A197,BASE!$A$2:$A$1538,0),2),"") -> GAZES IMPREGNEES | C197: 1 | D197: =VLOOKUP(A197,BASE!$A$4:$F$538,4,FALSE) -> 68.66 | E197: =IF(C197="","",C197*D197) -> 68.66 | F197: 41667 | G197: CDE | H197: =VLOOKUP(G197,'identifiants sorties'!$A$2:$E$158,2,FALSE) -> Devogelaere | I197: =VLOOKUP(G197,'identifiants sorties'!$A$2:$E$158,3,FALSE) -> Servgene | J197: =VLOOKUP(G197,'identifiants sorties'!$A$2:$E$158,4,FALSE) -> Entretien | K197: =VLOOKUP(G197,'identifiants sorties'!$A$2:$E$158,5,FALSE) -> 0
A198: 42500 | B198: =IF(A198<>"",INDEX(BASE!$A$2:$C$1538,MATCH(A198,BASE!$A$2:$A$1538,0),2),"") -> ROULEAU ECO | C198: 4 | D198: =VLOOKUP(A198,BASE!$A$4:$F$538,4,FALSE) -> 3 | E198: =IF(C198="","",C198*D198) -> 12 | F198: 41667 | G198: CDE | H198: =VLOOKUP(G198,'identifiants sorties'!$A$2:$E$158,2,FALSE) -> Devogelaere | I198: =VLOOKUP(G198,'identifiants sorties'!$A$2:$E$158,3,FALSE) -> Servgene | J198: =VLOOKUP(G198,'identifiants sorties'!$A$2:$E$158,4,FALSE) -> Entretien | K198: =VLOOKUP(G198,'identifiants sorties'!$A$2:$E$158,5,FALSE) -> 0
A199: C42.142 | B199: =IF(A199<>"",INDEX(BASE!$A$2:$C$1538,MATCH(A199,BASE!$A$2:$A$1538,0),2),"") -> SAC POUBELLES 110L | C199: 1 | D199: =VLOOKUP(A199,BASE!$A$4:$F$538,4,FALSE) -> 4.99 | E199: =IF(C199="","",C199*D199) -> 4.99 | F199: 41667 | G199: CDE | H199: =VLOOKUP(G199,'identifiants sorties'!$A$2:$E$158,2,FALSE) -> Devogelaere | I199: =VLOOKUP(G199,'identifiants sorties'!$A$2:$E$158,3,FALSE) -> Servgene | J199: =VLOOKUP(G199,'identifiants sorties'!$A$2:$E$158,4,FALSE) -> Entretien | K199: =VLOOKUP(G199,'identifiants sorties'!$A$2:$E$158,5,FALSE) -> 0
A200: C42.050 | B200: =IF(A200<>"",INDEX(BASE!$A$2:$C$1538,MATCH(A200,BASE!$A$2:$A$1538,0),2),"") -> SAC POUBELLES 50L | C200: 5 | D200: =VLOOKUP(A200,BASE!$A$4:$F$538,4,FALSE) -> 2.79 | E200: =IF(C200="","",C200*D200) -> 13.95 | F200: 41667 | G200: CDE | H200: =VLOOKUP(G200,'identifiants sorties'!$A$2:$E$158,2,FALSE) -> Devogelaere | I200: =VLOOKUP(G200,'identifiants sorties'!$A$2:$E$158,3,FALSE) -> Servgene | J200: =VLOOKUP(G200,'identifiants sorties'!$A$2:$E$158,4,FALSE) -> Entretien | K200: =VLOOKUP(G200,'identifiants sorties'!$A$2:$E$158,5,FALSE) -> 0
A201: C42.522 | B201: =IF(A201<>"",INDEX(BASE!$A$2:$C$1538,MATCH(A201,BASE!$A$2:$A$1538,0),2),"") -> SAC POUBELLES 30L | C201: 2 | D201: =VLOOKUP(A201,BASE!$A$4:$F$538,4,FALSE) -> 2.49 | E201: =IF(C201="","",C201*D201) -> 4.98 | F201: 41667 | G201: CDE | H201: =VLOOKUP(G201,'identifiants sorties'!$A$2:$E$158,2,FALSE) -> Devogelaere | I201: =VLOOKUP(G201,'identifiants sorties'!$A$2:$E$158,3,FALSE) -> Servgene | J201: =VLOOKUP(G201,'identifiants sorties'!$A$2:$E$158,4,FALSE) -> Entretien | K201: =VLOOKUP(G201,'identifiants sorties'!$A$2:$E$158,5,FALSE) -> 0
A202: C42.510 | B202: =IF(A202<>"",INDEX(BASE!$A$2:$C$1538,MATCH(A202,BASE!$A$2:$A$1538,0),2),"") -> SAC POUBELLES 10L | C202: 1 | D202: =VLOOKUP(A202,BASE!$A$4:$F$538,4,FALSE) -> 2.69 | E202: =IF(C202="","",C202*D202) -> 2.69 | F202: 41667 | G202: CDE | H202: =VLOOKUP(G202,'identifiants sorties'!$A$2:$E$158,2,FALSE) -> Devogelaere | I202: =VLOOKUP(G202,'identifiants sorties'!$A$2:$E$158,3,FALSE) -> Servgene | J202: =VLOOKUP(G202,'identifiants sorties'!$A$2:$E$158,4,FALSE) -> Entretien | K202: =VLOOKUP(G202,'identifiants sorties'!$A$2:$E$158,5,FALSE) -> 0
A203: 4091 | B203: =IF(A203<>"",INDEX(BASE!$A$2:$C$1538,MATCH(A203,BASE!$A$2:$A$1538,0),2),"") -> ULTRA BAC | C203: 2 | D203: =VLOOKUP(A203,BASE!$A$4:$F$538,4,FALSE) -> 3.71 | E203: =IF(C203="","",C203*D203) -> 7.42 | F203: 41667 | G203: LPA | H203: =VLOOKUP(G203,'identifiants sorties'!$A$2:$E$158,2,FALSE) -> Paindavoine | I203: =VLOOKUP(G203,'identifiants sorties'!$A$2:$E$158,3,FALSE) -> Servgene | J203: =VLOOKUP(G203,'identifiants sorties'!$A$2:$E$158,4,FALSE) -> Entretien | K203: =VLOOKUP(G203,'identifiants sorties'!$A$2:$E$158,5,FALSE) -> 2,3,4 Bat E
A204: 505080 | B204: =IF(A204<>"",INDEX(BASE!$A$2:$C$1538,MATCH(A204,BASE!$A$2:$A$1538,0),2),"") -> SAVON 800ML | C204: 1 | D204: =VLOOKUP(A204,BASE!$A$4:$F$538,4,FALSE) -> 3.058 | E204: =IF(C204="","",C204*D204) -> 3.058 | F204: 41667 | G204: LPA | H204: =VLOOKUP(G204,'identifiants sorties'!$A$2:$E$158,2,FALSE) -> Paindavoine | I204: =VLOOKUP(G204,'identifiants sorties'!$A$2:$E$158,3,FALSE) -> Servgene | J204: =VLOOKUP(G204,'identifiants sorties'!$A$2:$E$158,4,FALSE) -> Entretien | K204: =VLOOKUP(G204,'identifiants sorties'!$A$2:$E$158,5,FALSE) -> 2,3,4 Bat E
A205: 35038 | B205: =IF(A205<>"",INDEX(BASE!$A$2:$C$1538,MATCH(A205,BASE!$A$2:$A$1538,0),2),"") -> GAZES IMPREGNEES | C205: 1 | D205: =VLOOKUP(A205,BASE!$A$4:$F$538,4,FALSE) -> 68.66 | E205: =IF(C205="","",C205*D205) -> 68.66 | F205: 41667 | G205: LPA | H205: =VLOOKUP(G205,'identifiants sorties'!$A$2:$E$158,2,FALSE) -> Paindavoine | I205: =VLOOKUP(G205,'identifiants sorties'!$A$2:$E$158,3,FALSE) -> Servgene | J205: =VLOOKUP(G205,'identifiants sorties'!$A$2:$E$158,4,FALSE) -> Entretien | K205: =VLOOKUP(G205,'identifiants sorties'!$A$2:$E$158,5,FALSE) -> 2,3,4 Bat E
A206: C42.050 | B206: =IF(A206<>"",INDEX(BASE!$A$2:$C$1538,MATCH(A206,BASE!$A$2:$A$1538,0),2),"") -> SAC POUBELLES 50L | C206: 2 | D206: =VLOOKUP(A206,BASE!$A$4:$F$538,4,FALSE) -> 2.79 | E206: =IF(C206="","",C206*D206) -> 5.58 | F206: 41667 | G206: LPA | H206: =VLOOKUP(G206,'identifiants sorties'!$A$2:$E$158,2,FALSE) -> Paindavoine | I206: =VLOOKUP(G206,'identifiants sorties'!$A$2:$E$158,3,FALSE) -> Servgene | J206: =VLOOKUP(G206,'identifiants sorties'!$A$2:$E$158,4,FALSE) -> Entretien | K206: =VLOOKUP(G206,'identifiants sorties'!$A$2:$E$158,5,FALSE) -> 2,3,4 Bat E
A207: C42.522 | B207: =IF(A207<>"",INDEX(BASE!$A$2:$C$1538,MATCH(A207,BASE!$A$2:$A$1538,0),2),"") -> SAC POUBELLES 30L | C207: 1 | D207: =VLOOKUP(A207,BASE!$A$4:$F$538,4,FALSE) -> 2.49 | E207: =IF(C207="","",C207*D207) -> 2.49 | F207: 41667 | G207: LPA | H207: =VLOOKUP(G207,'identifiants sorties'!$A$2:$E$158,2,FALSE) -> Paindavoine | I207: =VLOOKUP(G207,'identifiants sorties'!$A$2:$E$158,3,FALSE) -> Servgene | J207: =VLOOKUP(G207,'identifiants sorties'!$A$2:$E$158,4,FALSE) -> Entretien | K207: =VLOOKUP(G207,'identifiants sorties'!$A$2:$E$158,5,FALSE) -> 2,3,4 Bat E
A208: 257 | B208: =IF(A208<>"",INDEX(BASE!$A$2:$C$1538,MATCH(A208,BASE!$A$2:$A$1538,0),2),"") -> INTO | C208: 1 | D208: =VLOOKUP(A208,BASE!$A$4:$F$538,4,FALSE) -> 3.05 | E208: =IF(C208="","",C208*D208) -> 3.05 | F208: 41667 | G208: HCA | H208: =VLOOKUP(G208,'identifiants sorties'!$A$2:$E$158,2,FALSE) -> Carlier | I208: =VLOOKUP(G208,'identifiants sorties'!$A$2:$E$158,3,FALSE) -> Servgene | J208: =VLOOKUP(G208,'identifiants sorties'!$A$2:$E$158,4,FALSE) -> Entretien | K208: =VLOOKUP(G208,'identifiants sorties'!$A$2:$E$158,5,FALSE) -> Admin
A209: 130500 | B209: =IF(A209<>"",INDEX(BASE!$A$2:$C$1538,MATCH(A209,BASE!$A$2:$A$1538,0),2),"") -> PRODUITS VAISSELLE | C209: 2 | D209: =VLOOKUP(A209,BASE!$A$4:$F$538,4,FALSE) -> 2.63 | E209: =IF(C209="","",C209*D209) -> 5.26 | F209: 41667 | G209: HCA | H209: =VLOOKUP(G209,'identifiants sorties'!$A$2:$E$158,2,FALSE) -> Carlier | I209: =VLOOKUP(G209,'identifiants sorties'!$A$2:$E$158,3,FALSE) -> Servgene | J209: =VLOOKUP(G209,'identifiants sorties'!$A$2:$E$158,4,FALSE) -> Entretien | K209: =VLOOKUP(G209,'identifiants sorties'!$A$2:$E$158,5,FALSE) -> Admin
A210: 209 | B210: =IF(A210<>"",INDEX(BASE!$A$2:$C$1538,MATCH(A210,BASE!$A$2:$A$1538,0),2),"") -> EPONGE A RECURER | C210: 2 | D210: =VLOOKUP(A210,BASE!$A$4:$F$538,4,FALSE) -> 1.025 | E210: =IF(C210="","",C210*D210) -> 2.05 | F210: 41667 | G210: HCA | H210: =VLOOKUP(G210,'identifiants sorties'!$A$2:$E$158,2,FALSE) -> Carlier | I210: =VLOOKUP(G210,'identifiants sorties'!$A$2:$E$158,3,FALSE) -> Servgene | J210: =VLOOKUP(G210,'identifiants sorties'!$A$2:$E$158,4,FALSE) -> Entretien | K210: =VLOOKUP(G210,'identifiants sorties'!$A$2:$E$158,5,FALSE) -> Admin
A211: 4091 | B211: =IF(A211<>"",INDEX(BASE!$A$2:$C$1538,MATCH(A211,BASE!$A$2:$A$1538,0),2),"") -> ULTRA BAC | C211: 1 | D211: =VLOOKUP(A211,BASE!$A$4:$F$538,4,FALSE) -> 3.71 | E211: =IF(C211="","",C211*D211) -> 3.71 | F211: 41667 | G211: HCA | H211: =VLOOKUP(G211,'identifiants sorties'!$A$2:$E$158,2,FALSE) -> Carlier | I211: =VLOOKUP(G211,'identifiants sorties'!$A$2:$E$158,3,FALSE) -> Servgene | J211: =VLOOKUP(G211,'identifiants sorties'!$A$2:$E$158,4,FALSE) -> Entretien | K211: =VLOOKUP(G211,'identifiants sorties'!$A$2:$E$158,5,FALSE) -> Admin
A212: 42500 | B212: =IF(A212<>"",INDEX(BASE!$A$2:$C$1538,MATCH(A212,BASE!$A$2:$A$1538,0),2),"") -> ROULEAU ECO | C212: 5 | D212: =VLOOKUP(A212,BASE!$A$4:$F$538,4,FALSE) -> 3 | E212: =IF(C212="","",C212*D212) -> 15 | F212: 41667 | G212: HCA | H212: =VLOOKUP(G212,'identifiants sorties'!$A$2:$E$158,2,FALSE) -> Carlier | I212: =VLOOKUP(G212,'identifiants sorties'!$A$2:$E$158,3,FALSE) -> Servgene | J212: =VLOOKUP(G212,'identifiants sorties'!$A$2:$E$158,4,FALSE) -> Entretien | K212: =VLOOKUP(G212,'identifiants sorties'!$A$2:$E$158,5,FALSE) -> Admin
A213: 3902 | B213: =IF(A213<>"",INDEX(BASE!$A$2:$C$1538,MATCH(A213,BASE!$A$2:$A$1538,0),2),"") -> ULTRA NEUF | C213: 1 | D213: =VLOOKUP(A213,BASE!$A$4:$F$538,4,FALSE) -> 2.79 | E213: =IF(C213="","",C213*D213) -> 2.79 | F213: 41667 | G213: CCH | H213: =VLOOKUP(G213,'identifiants sorties'!$A$2:$E$158,2,FALSE) -> Chrétien | I213: =VLOOKUP(G213,'identifiants sorties'!$A$2:$E$158,3,FALSE) -> Servgene | J213: =VLOOKUP(G213,'identifiants sorties'!$A$2:$E$158,4,FALSE) -> Entretien | K213: =VLOOKUP(G213,'identifiants sorties'!$A$2:$E$158,5,FALSE) -> 0
A214: 4091 | B214: =IF(A214<>"",INDEX(BASE!$A$2:$C$1538,MATCH(A214,BASE!$A$2:$A$1538,0),2),"") -> ULTRA BAC | C214: 2 | D214: =VLOOKUP(A214,BASE!$A$4:$F$538,4,FALSE) -> 3.71 | E214: =IF(C214="","",C214*D214) -> 7.42 | F214: 41667 | G214: CCH | H214: =VLOOKUP(G214,'identifiants sorties'!$A$2:$E$158,2,FALSE) -> Chrétien | I214: =VLOOKUP(G214,'identifiants sorties'!$A$2:$E$158,3,FALSE) -> Servgene | J214: =VLOOKUP(G214,'identifiants sorties'!$A$2:$E$158,4,FALSE) -> Entretien | K214: =VLOOKUP(G214,'identifiants sorties'!$A$2:$E$158,5,FALSE) -> 0
...

Sheet identifiants sorties
A1: Nom | B1: Prénom | C1: Axe | D1: Code | E1: Détails
A2: ACH | B2: Charuau | C2: Servgene | D2: Servfin
A3: ACR | B3: Cristol | C3: Deptecl | D3: Sc/Matiére | E3: Matériaux
A4: ADE | B4: Dekimpe | C4: Servgene | D4: Servfin
A5: ADEP | B5: Deparcy | C5: Deptecl | D5: Méca | E5: Fab-Mec
A6: ADES | B6: Desbuquoy | C6: Servgene | D6: Entretien | E6: 1 et 2 BAT E
A7: AEH | B7: EHRHARDT | C7: Servgene | D7: Eléves | E7: Centrale Lille Projet
A8: AGA | B8: Gatelier | C8: Servgene | D8: Eléves | E8: JE
A9: AHA | B9: Haddid | C9: Etudes-DF | D9: Fonctetudes
A10: AHU | B10: Husson | C10: IG2I | D10: Dépenses
A11: ALE | B11: Lemeitour | C11: Servgene | D11: Eléves | E11: JE
A12: AMA | B12: Marcotte | C12: Servgene | D12: RH
A13: AME | B13: Mejerevil | C13: Deptecl | D13: Sc/Matiére | E13: Fonderie
A14: AMO | B14: Mouze | C14: Deptecl | D14: Lagis
A15: APA | B15: Apajh | C15: Servgene | D15: Entretien | E15: Société nettoyage
A16: BFO | B16: Foncez | C16: Deptecl | D16: Math/Info
A17: BFON | B17: Foncez | C17: Deptecl | D17: Sc/Matiére | E17: Chimie
A18: BME | B18: Menu | C18: RI-DF | D18: Fonct
A19: BQU | B19: Quenon | C19: Systinfo-DF | D19: Fonctinfo
A20: BST | B20: Stievenard | C20: Servgene | D20: FCD
A21: BSZ | B21: Szukala | C21: Deptecl | D21: EEA
A22: BVA | B22: Vanicatte | C22: Etudes-DF | D22: Fonctetudes
A23: BWA | B23: Warocquier | C23: Servgene | D23: Rh | E23: Accueil
A24: CBO | B24: Bourdrel | C24: Etudes-DF | D24: Fonctetudes
A25: CBOT | B25: Botteau | C25: Deptecl | D25: Sc/Matiére | E25: Fonderie
A26: CCH | B26: Chrétien | C26: Servgene | D26: Entretien
A27: CDE | B27: Devogelaere | C27: Servgene | D27: Entretien
A28: CDH | B28: Dhenry | C28: Systinfo-DF | D28: Fonctinfo
A29: CGA | B29: Gaussot | C29: Servgene | D29: Rh
A30: CGAU | B30: Gauthiez | C30: Deptecl | D30: AGR
A31: CHE | B31: Herchuelz | C31: Dirgen | D31: Fonct
A32: CLE | B32: Ledrue | C32: Rech-DF | D32: Valorisation
A33: CNI | B33: Niclaeys | C33: Deptecl | D33: Méca | E33: MSO
A34: CPR | B34: Prevost | C34: RI-DF | D34: Fonct
A35: CPRE | B35: Prevost | C35: Iteem | D35: Logistique
A36: CRY | B36: Rymeck | C36: Deptecl | D36: EEA
A37: CST | B37: Stievenard | C37: Systinfo-DF | D37: Fonctinfo
A38: CSTI | B38: Stievenard | C38: Servgene | D38: Servfin | E38: inventaire
A39: CVA | B39: Van dewoestyne | C39: Deptecl | D39: Entr/société
A40: CVI | B40: Vion | C40: Deptecl | D40: AGR
...

Sheet BASE
B2: LISTE FOURNITURES ALTERBURO
A4: Code | B4: Désignation | C4: Prix | D4: Prix Magasin | E4: Page | F4: Fournisseur
A5: 1 | B5: BLOC DATE A GAUCHE | C5: 1.57 | D5: 1.57
A6: 2 | B6: SUPPORT DE BLOC | C6: 0.97 | D6: 0.97
A7: 3 | B7: CALENDRIER | C7: 0.81 | D7: 0.81
A8: 4 | B8: CALENDRIER 13 MOIS 1 FACE | C8: 1.56 | D8: 1.56
A9: 5 | B9: AGENDA SEPT/SEPT 21X27 | C9: 2.99 | D9: 2.99
A10: 6 | B10: AGENDA SEPT/SEPT 21x29,7 EU09 | C10: 15.9 | D10: 15.9
A11: 7 | B11: AGENDA SEPT/SEPT 16X24 | C11: 1.92 | D11: 1.92
A12: 8 | B12: AGENDA SEPT/SEPT 10X15 | C12: 1.08 | D12: 1.08
A13: 209 | B13: EPONGE A RECURER | C13: 10.25 | D13: 1.025 | F13: DEVLAEMYNCK
A14: 216 | B14: LAVETTE SYNTHETIQUE ROSE | C14: 3.65 | D14: 0.37 | F14: DEVLAEMYNCK
A15: 217 | B15: LAVETTE SYNTHETIQUE VERTE | C15: 3.65 | D15: 0.37 | F15: DEVLAEMYNCK
A16: 252 | B16: LAVETTE MICROFIBRE BLEUE | C16: 5.1 | D16: 0.51
A17: 255 | B17: LAVETTE MICROFIBRE ROSE | C17: 5.1 | D17: 0.51
A18: 257 | B18: INTO | C18: 3.05 | D18: 3.05 | F18: DEVLAEMYNCK
A19: 270 | B19: GANTS VINYLE 6 1/2 | C19: 2.96 | D19: 0.35 | F19: DEVLAEMYNCK
A20: 271 | B20: GANTS VINYLE 7 1/2 | C20: 2.96 | D20: 0.35 | F20: DEVLAEMYNCK
A21: 272 | B21: GANTS VINYLE 8 1/2 | C21: 2.96 | D21: 0.0296 | F21: DEVLAEMYNCK
A22: 949 | B22: GANTS MAPA ROSE 6 1/2 | C22: 0.34 | D22: 0.34 | F22: DEVLAEMYNCK
A23: 950 | B23: GANTS MAPA ROSE 7 1/2 | C23: 0.34 | D23: 0.34 | F23: DEVLAEMYNCK
A24: 951 | B24: GANST MAPA ROSE 8 1/2 | C24: 0.34 | D24: 0.34 | F24: DEVLAEMYNCK
A25: 975 | B25: AJAX VITRES | C25: 1.84 | D25: 1.84 | F25: DEVLAEMYNCK
A26: 3820 | B26: DOSETTES | C26: 17.61 | D26: 0.07 | F26: DEVLAEMYNCK
A27: 3902 | B27: ULTRA NEUF | C27: 2.79 | D27: 2.79 | F27: DEVLAEMYNCK
A28: 4091 | B28: ULTRA BAC | C28: 3.71 | D28: 3.71 | F28: ALTER BURO
A29: 5203 | B29: TAMPONS TRODAT | C29: 44.02 | D29: 44.02 | F29: BISMAN
... A39: 44210 | B39: ENVELOPPES DEMI FORMAT | C39: 0.07 | D39: 0.07 | F39: SEPIETER
A40: 50076 | B40: RALLONGE | C40: 11.07 | D40: 11.07
A41: 50508 | B41: SAVON AMPHOTENE | C41: 4.61 | D41: 4.61 | F41: MINOT APURA
A42: 51210 | B42: ENV GRAND FORMAT SANS FENETRE | C42: 0.08 | D42: 0.08 | F42: SEPIETER
A43: 62106 | B43: ENV DEMI FORMAT 162 X229 | C43: 0.07 | D43: 0.07 | F43: SEPIETER
A44: 78211 | B44: ENV A SOUFFLET | C44: 0.47 | D44: 0.47 | F44: SEPIETER
A45: 100026 | B45: AGRAFES SP19 1/4 5000 BOSTITCH | C45: 1.48 | D45: 1.48 | E45: 385 | F45: ALTER BURO
A46: 100363 | B46: CARTON MOUSSE | C46: 169 | D46: 169
A47: 100611 | B47: GOMME MARS PLASTIC COMBI STAEDTLER | C47: 0.95 | D47: 0.95 | E47: 285 | F47: ALTER BURO
A48: 101111 | B48: PINCE AGRAFEUSE BB | C48: 11.21 | D48: 11.21 | E48: 308 | F48: ALTER BURO
A49: 101120 | B49: PINCE AGRAFEUSE RAPID | C49: 10.75 | D49: 10.75 | F49: ALTER BURO
A50: 101621 | B50: OTE AGRAFES | C50: 0.35 | D50: 0.35 | E50: 293 | F50: ALTER BURO
A51: 101712 | B51: AGRAFES BB | C51: 1.08 | D51: 1.08 | E51: 308 | F51: ALTER BURO
...
