Workbook

Sheet Stock
A1: ref | B1: designation | C1: fournisseur | D1: quantitees initiale | E1: entrer | F1: sorti | G1: stock final
A2: 1 | B2: =VLOOKUP(A2,BASE!A4:B334,2) -> BLOC DATE A GAUCHE | C2: =VLOOKUP(A2,BASE!A4:F334,6) -> 0 | D2: 10 | G2: =((D2+E2)-F2) -> 10
A3: 2 | B3: =VLOOKUP(A3,BASE!A5:B335,2) -> SUPPORT DE BLOC | C3: =VLOOKUP(A3,BASE!A5:F335,6) -> 0 | D3: 10 | G3: =((D3+E3)-F3) -> 10
A4: 3 | B4: =VLOOKUP(A4,BASE!A6:B336,2) -> CALENDRIER | C4: =VLOOKUP(A4,BASE!A6:F336,6) -> 0 | D4: 10 | G4: =((D4+E4)-F4) -> 10
A5: 4 | B5: =VLOOKUP(A5,BASE!A7:B337,2) -> CALENDRIER 13 MOIS 1 FACE | C5: =VLOOKUP(A5,BASE!A7:F337,6) -> 0 | D5: 10 | G5: =((D5+E5)-F5) -> 10
A6: 5 | B6: =VLOOKUP(A6,BASE!A8:B338,2) -> AGENDA SEPT/SEPT 21X27 | C6: =VLOOKUP(A6,BASE!A8:F338,6) -> 0 | D6: 10 | G6: =((D6+E6)-F6) -> 10
A7: 6 | B7: =VLOOKUP(A7,BASE!A9:B339,2) -> AGENDA SEPT/SEPT 21x29,7 EU09 | C7: =VLOOKUP(A7,BASE!A9:F339,6) -> 0 | D7: 10 | G7: =((D7+E7)-F7) -> 10
A8: 7 | B8: =VLOOKUP(A8,BASE!A10:B340,2) -> AGENDA SEPT/SEPT 16X24 | C8: =VLOOKUP(A8,BASE!A10:F340,6) -> 0 | D8: 10 | G8: =((D8+E8)-F8) -> 10
A9: 8 | B9: =VLOOKUP(A9,BASE!A11:B341,2) -> AGENDA SEPT/SEPT 10X15 | C9: =VLOOKUP(A9,BASE!A11:F341,6) -> 0 | D9: 10 | G9: =((D9+E9)-F9) -> 10
A10: 209 | B10: =VLOOKUP(A10,BASE!A12:B342,2) -> EPONGE A RECURER | C10: =VLOOKUP(A10,BASE!A12:F342,6) -> DEVLAEMYNCK | D10: 10 | G10: =((D10+E10)-F10) -> 10
A11: 216 | B11: =VLOOKUP(A11,BASE!A13:B343,2) -> LAVETTE SYNTHETIQUE ROSE | C11: =VLOOKUP(A11,BASE!A13:F343,6) -> DEVLAEMYNCK | D11: 10 | G11: =((D11+E11)-F11) -> 10
A12: 217 | B12: =VLOOKUP(A12,BASE!A14:B344,2) -> LAVETTE SYNTHETIQUE VERTE | C12: =VLOOKUP(A12,BASE!A14:F344,6) -> DEVLAEMYNCK | D12: 10 | G12: =((D12+E12)-F12) -> 10
A13: 252 | B13: =VLOOKUP(A13,BASE!A15:B345,2) -> LAVETTE MICROFIBRE BLEUE | C13: =VLOOKUP(A13,BASE!A15:F345,6) -> 0 | D13: 10 | G13: =((D13+E13)-F13) -> 10
... A323: 1302105 | B323: =VLOOKUP(A323,BASE!A325:B655,2) -> A+B BLOC CUBE 76x76 NEON ASS. 320FLES | C323: =VLOOKUP(A323,BASE!A325:F655,6) -> ALTER BURO | D323: 10 | G323: =((D323+E323)-F323) -> 10
A324: B11.720 | B324: =VLOOKUP(A324,BASE!A326:B656,2) -> ENV A DIPLÔME | C324: =VLOOKUP(A324,BASE!A326:F656,6) -> SEPIETER | D324: 10 | G324: =((D324+E324)-F324) -> 10
A325: C10.925 | B325: =VLOOKUP(A325,BASE!A327:B657,2) -> EPONGE SPONTEX | C325: =VLOOKUP(A325,BASE!A327:F657,6) -> DEVLAEMYNCK | D325: 10 | G325: =((D325+E325)-F325) -> 10
A326: C12.826 | B326: =VLOOKUP(A326,BASE!A328:B658,2) -> MIR | C326: =VLOOKUP(A326,BASE!A328:F658,6) -> 0 | D326: 10 | G326: =((D326+E326)-F326) -> 10
A327: C18.020 | B327: =VLOOKUP(A327,BASE!A329:B659,2) -> PLUMEAU | C327: =VLOOKUP(A327,BASE!A329:F659,6) -> BERNARD | D327: 10 | G327: =((D327+E327)-F327) -> 10
A328: C42.050 | B328: =VLOOKUP(A328,BASE!A330:B660,2) -> SAC POUBELLES 50L | C328: =VLOOKUP(A328,BASE!A330:F660,6) -> BERNARD | D328: 10 | G328: =((D328+E328)-F328) -> 10
A329: C42.142 | B329: =VLOOKUP(A329,BASE!A331:B661,2) -> SAC POUBELLES 110L | C329: =VLOOKUP(A329,BASE!A331:F661,6) -> BERNARD | D329: 10 | G329: =((D329+E329)-F329) -> 10
A330: C42.510 | B330: =VLOOKUP(A330,BASE!A332:B662,2) -> SAC POUBELLES 10L | C330: =VLOOKUP(A330,BASE!A332:F662,6) -> BERNARD | D330: 10 | G330: =((D330+E330)-F330) -> 10
A331: C42.522 | B331: =VLOOKUP(A331,BASE!A333:B663,2) -> SAC POUBELLES 30L | C331: =VLOOKUP(A331,BASE!A333:F663,6) -> BERNARD | D331: 10 | G331: =((D331+E331)-F331) -> 10
B332: =VLOOKUP(A332,BASE!A334:B664,2) -> #N/A | C332: =VLOOKUP(A332,BASE!A334:F664,6) -> #N/A | D332: 10 | G332: =((D332+E332)-F332) -> 10
B333: =VLOOKUP(A333,BASE!A335:B665,2) -> #N/A | C333: =VLOOKUP(A333,BASE!A335:F665,6) -> #N/A | D333: 10 | G333: =((D333+E333)-F333) -> 10
B334: =VLOOKUP(A334,BASE!A336:B666,2) -> #N/A | C334: =VLOOKUP(A334,BASE!A336:F666,6) -> #N/A | D334: 10 | G334: =((D334+E334)-F334) -> 10
B335: =VLOOKUP(A335,BASE!A337:B667,2) -> #N/A | C335: =VLOOKUP(A335,BASE!A337:F667,6) -> #N/A | D335: 10 | G335: =((D335+E335)-F335) -> 10
B336: =VLOOKUP(A336,BASE!A338:B668,2) -> #N/A | C336: =VLOOKUP(A336,BASE!A338:F668,6) -> #N/A | D336: 10 | G336: =((D336+E336)-F336) -> 10
B337: =VLOOKUP(A337,BASE!A339:B669,2) -> #N/A | C337: =VLOOKUP(A337,BASE!A339:F669,6) -> #N/A | D337: 10 | G337: =((D337+E337)-F337) -> 10
B338: =VLOOKUP(A338,BASE!A340:B670,2) -> #N/A | C338: =VLOOKUP(A338,BASE!A340:F670,6) -> #N/A | D338: 10 | G338: =((D338+E338)-F338) -> 10
B339: =VLOOKUP(A339,BASE!A341:B671,2) -> #N/A | C339: =VLOOKUP(A339,BASE!A341:F671,6) -> #N/A | D339: 10 | G339: =((D339+E339)-F339) -> 10
B340: =VLOOKUP(A340,BASE!A342:B672,2) -> #N/A | C340: =VLOOKUP(A340,BASE!A342:F672,6) -> #N/A | D340: 10 | G340: =((D340+E340)-F340) -> 10
B341: =VLOOKUP(A341,BASE!A343:B673,2) -> #N/A | C341: =VLOOKUP(A341,BASE!A343:F673,6) -> #N/A | D341: 10 | G341: =((D341+E341)-F341) -> 10
B342: =VLOOKUP(A342,BASE!A344:B674,2) -> #N/A | C342: =VLOOKUP(A342,BASE!A344:F674,6) -> #N/A | D342: 10 | G342: =((D342+E342)-F342) -> 10
B343: =VLOOKUP(A343,BASE!A345:B675,2) -> #N/A | C343: =VLOOKUP(A343,BASE!A345:F675,6) -> #N/A | D343: 10 | G343: =((D343+E343)-F343) -> 10
... B550: =VLOOKUP(A550,BASE!A552:B882,2) -> #N/A | C550: =VLOOKUP(A550,BASE!A552:F882,6) -> #N/A | D550: 10 | G550: =((D550+E550)-F550) -> 10

Sheet ENTREE
A1: REFERENCE | B1: DESIGNATION | C1: ENTREE | D1: PU | E1: DATE | F1: IDENTIFIANT NOM | G1: NOM
A2: 9 | B2: =VLOOKUP(A2,BASE!$A$4:$B$334,2) -> AGENDA SEPT/SEPT 10X15 | C2: 5 | D2: =VLOOKUP(A2,BASE!$A$4:$D$334,4) -> 1.08 | E2: 41765 | F2: ALT | G2: =VLOOKUP(F2,'identifiants entrees'!A:B,2) -> alter buro
A3: 101120 | B3: =VLOOKUP(A3,BASE!$A$4:$B$334,2) -> PINCE AGRAFEUSE RAPID | C3: 5 | D3: =VLOOKUP(A3,BASE!$A$4:$D$334,4) -> 10.75 | E3: 41765 | F3: BER | G3: =VLOOKUP(F3,'identifiants entrees'!A:B,2) -> bernard
A4: 100363 | B4: =VLOOKUP(A4,BASE!$A$4:$B$334,2) -> CARTON MOUSSE | C4: 5 | D4: =VLOOKUP(A4,BASE!$A$4:$D$334,4) -> 169 | E4: 41765 | F4: bis | G4: =VLOOKUP(F4,'identifiants entrees'!A:B,2) -> bisman
B5: =VLOOKUP(A5,BASE!$A$4:$B$334,2) -> #N/A | D5: =VLOOKUP(A5,BASE!$A$4:$D$334,4) -> #N/A | G5: =VLOOKUP(F5,'identifiants entrees'!A:B,2) -> #N/A
B6: =VLOOKUP(A6,BASE!$A$4:$B$334,2) -> #N/A | D6: =VLOOKUP(A6,BASE!$A$4:$D$334,4) -> #N/A | G6: =VLOOKUP(F6,'identifiants entrees'!A:B,2) -> #N/A
B7: =VLOOKUP(A7,BASE!$A$4:$B$334,2) -> #N/A | D7: =VLOOKUP(A7,BASE!$A$4:$D$334,4) -> #N/A | G7: =VLOOKUP(F7,'identifiants entrees'!A:B,2) -> #N/A
B8: =VLOOKUP(A8,BASE!$A$4:$B$334,2) -> #N/A | D8: =VLOOKUP(A8,BASE!$A$4:$D$334,4) -> #N/A | G8: =VLOOKUP(F8,'identifiants entrees'!A:B,2) -> #N/A
B9: =VLOOKUP(A9,BASE!$A$4:$B$334,2) -> #N/A | D9: =VLOOKUP(A9,BASE!$A$4:$D$334,4) -> #N/A | G9: =VLOOKUP(F9,'identifiants entrees'!A:B,2) -> #N/A
B10: =VLOOKUP(A10,BASE!$A$4:$B$334,2) -> #N/A | D10: =VLOOKUP(A10,BASE!$A$4:$D$334,4) -> #N/A | G10: =VLOOKUP(F10,'identifiants entrees'!A:B,2) -> #N/A
B11: =VLOOKUP(A11,BASE!$A$4:$B$334,2) -> #N/A | D11: =VLOOKUP(A11,BASE!$A$4:$D$334,4) -> #N/A | G11: =VLOOKUP(F11,'identifiants entrees'!A:B,2) -> #N/A
B12: =VLOOKUP(A12,BASE!$A$4:$B$334,2) -> #N/A | D12: =VLOOKUP(A12,BASE!$A$4:$D$334,4) -> #N/A | G12: =VLOOKUP(F12,'identifiants entrees'!A:B,2) -> #N/A
B13: =VLOOKUP(A13,BASE!$A$4:$B$334,2) -> #N/A | D13: =VLOOKUP(A13,BASE!$A$4:$D$334,4) -> #N/A | G13: =VLOOKUP(F13,'identifiants entrees'!A:B,2) -> #N/A
B14: =VLOOKUP(A14,BASE!$A$4:$B$334,2) -> #N/A | D14: =VLOOKUP(A14,BASE!$A$4:$D$334,4) -> #N/A | G14: =VLOOKUP(F14,'identifiants entrees'!A:B,2) -> #N/A
B15: =VLOOKUP(A15,BASE!$A$4:$B$334,2) -> #N/A | D15: =VLOOKUP(A15,BASE!$A$4:$D$334,4) -> #N/A | G15: =VLOOKUP(F15,'identifiants entrees'!A:B,2) -> #N/A
B16: =VLOOKUP(A16,BASE!$A$4:$B$334,2) -> #N/A | D16: =VLOOKUP(A16,BASE!$A$4:$D$334,4) -> #N/A | G16: =VLOOKUP(F16,'identifiants entrees'!A:B,2) -> #N/A
... B529: =VLOOKUP(A529,BASE!$A$4:$B$334,2) -> #N/A | D529: =VLOOKUP(A529,BASE!$A$4:$D$334,4) -> #N/A | G529: =VLOOKUP(F529,'identifiants entrees'!A:B,2) -> #N/A

Sheet identifiants entrees
A1: nom | B1: fournisseur
A2: ALT | B2: alter buro
A3: BER | B3: bernard
A4: BIS | B4: bisman
A5: DEV | B5: devlaemynck
A6: LEG | B6: le goff
A7: MIN | B7: minot apura
A8: PHS | B8: phs nes
A9: SEP | B9: sepieter

Sheet SORTIE
A1: REFERENCE | B1: DESIGNATION | C1: SORTIE QUANTITEES | D1: PU | E1: SORTIE | F1: DATE | G1: IDENTIFIANT NOM | H1: NOM | I1: CODE | J1: AXE | K1: DETAILS
A2: 505080 | B2: =IF(A2<>"",INDEX(BASE!$A$2:$C$1538,MATCH(A2,BASE!$A$2:$A$1538,0),2),"") -> SAVON 800ML | C2: 12 | D2: =VLOOKUP(A2,BASE!$A$4:$F$538,4,FALSE) -> 3.058 | E2: =IF(C2="","",C2*D2) -> 36.696 | F2: 41645 | G2: APA | H2: =VLOOKUP(G2,'identifiants sorties'!$A$2:$E$158,2,FALSE) -> Apajh | I2: =VLOOKUP(G2,'identifiants sorties'!$A$2:$E$158,3,FALSE) -> Servgene | J2: =VLOOKUP(G2,'identifiants sorties'!$A$2:$E$158,4,FALSE) -> Entretien | K2: =VLOOKUP(G2,'identifiants sorties'!$A$2:$E$158,5,FALSE) -> Société nettoyage
A3: 505080 | B3: =IF(A3<>"",INDEX(BASE!$A$2:$C$1538,MATCH(A3,BASE!$A$2:$A$1538,0),2),"") -> SAVON 800ML | C3: 4 | D3: =VLOOKUP(A3,BASE!$A$4:$F$538,4,FALSE) -> 3.058 | E3: =IF(C3="","",C3*D3) -> 12.232 | F3: 41645 | G3: APA | H3: =VLOOKUP(G3,'identifiants sorties'!$A$2:$E$158,2,FALSE) -> Apajh | I3: =VLOOKUP(G3,'identifiants sorties'!$A$2:$E$158,3,FALSE) -> Servgene | J3: =VLOOKUP(G3,'identifiants sorties'!$A$2:$E$158,4,FALSE) -> Entretien | K3: =VLOOKUP(G3,'identifiants sorties'!$A$2:$E$158,5,FALSE) -> Société nettoyage
A4: 211103 | B4: =IF(A4<>"",INDEX(BASE!$A$2:$C$1538,MATCH(A4,BASE!$A$2:$A$1538,0),2),"") -> PT.100 CHEM.ROCK S CITRON 220G | C4: 20 | D4: =VLOOKUP(A4,BASE!$A$4:$F$538,4,FALSE) -> 0.089 | E4: =IF(C4="","",C4*D4) -> 1.78 | F4: 41645 | G4: BST | H4: =VLOOKUP(G4,'identifiants sorties'!$A$2:$E$158,2,FALSE) -> Stievenard | I4: =VLOOKUP(G4,'identifiants sorties'!$A$2:$E$158,3,FALSE) -> Servgene | J4: =VLOOKUP(G4,'identifiants sorties'!$A$2:$E$158,4,FALSE) -> FCD | K4: =VLOOKUP(G4,'identifiants sorties'!$A$2:$E$158,5,FALSE) -> 0
A5: 211104 | B5: =IF(A5<>"",INDEX(BASE!$A$2:$C$1538,MATCH(A5,BASE!$A$2:$A$1538,0),2),"") -> PT.100 CHEM ROCK S ROUGE TURC 220GR | C5: 20 | D5: =VLOOKUP(A5,BASE!$A$4:$F$538,4,FALSE) -> 0.089 | E5: =IF(C5="","",C5*D5) -> 1.78 | F5: 41645 | G5: BST | H5: =VLOOKUP(G5,'identifiants sorties'!$A$2:$E$158,2,FALSE) -> Stievenard | I5: =VLOOKUP(G5,'identifiants sorties'!$A$2:$E$158,3,FALSE) -> Servgene | J5: =VLOOKUP(G5,'identifiants sorties'!$A$2:$E$158,4,FALSE) -> FCD | K5: =VLOOKUP(G5,'identifiants sorties'!$A$2:$E$158,5,FALSE) -> 0
A6: 107505 | B6: =IF(A6<>"",INDEX(BASE!$A$2:$C$1538,MATCH(A6,BASE!$A$2:$A$1538,0),2),"") -> MINI POCKET MOUSE TIPP-EX 6mm | C6: 1 | D6: =VLOOKUP(A6,BASE!$A$4:$F$538,4,FALSE) -> 1.16 | E6: =IF(C6="","",C6*D6) -> 1.16 | F6: 41645 | G6: BST | H6: =VLOOKUP(G6,'identifiants sorties'!$A$2:$E$158,2,FALSE) -> Stievenard | I6: =VLOOKUP(G6,'identifiants sorties'!$A$2:$E$158,3,FALSE) -> Servgene | J6: =VLOOKUP(G6,'identifiants sorties'!$A$2:$E$158,4,FALSE) -> FCD | K6: =VLOOKUP(G6,'identifiants sorties'!$A$2:$E$158,5,FALSE) -> 0
A7: 203101 | B7: =IF(A7<>"",INDEX(BASE!$A$2:$C$1538,MATCH(A7,BASE!$A$2:$A$1538,0),2),"") -> CHEMISE A SANGLE MARINE DOS TOILE | C7: 2 | D7: =VLOOKUP(A7,BASE!$A$4:$F$538,4,FALSE) -> 0.95 | E7: =IF(C7="","",C7*D7) -> 1.9 | F7: 41645 | G7: BST | H7: =VLOOKUP(G7,'identifiants sorties'!$A$2:$E$158,2,FALSE) -> Stievenard | I7: =VLOOKUP(G7,'identifiants sorties'!$A$2:$E$158,3,FALSE) -> Servgene | J7: =VLOOKUP(G7,'identifiants sorties'!$A$2:$E$158,4,FALSE) -> FCD | K7: =VLOOKUP(G7,'identifiants sorties'!$A$2:$E$158,5,FALSE) -> 0
A8: 117291 | B8: =IF(A8<>"",INDEX(BASE!$A$2:$C$1538,MATCH(A8,BASE!$A$2:$A$1538,0),2),"") -> STYLO FEUTRE V SIGNPEN NOIR SW-VSP | C8: 1 | D8: =VLOOKUP(A8,BASE!$A$4:$F$538,4,FALSE) -> 1.2 | E8: =IF(C8="","",C8*D8) -> 1.2 | F8: 41645 | G8: BST | H8: =VLOOKUP(G8,'identifiants sorties'!$A$2:$E$158,2,FALSE) -> Stievenard | I8: =VLOOKUP(G8,'identifiants sorties'!$A$2:$E$158,3,FALSE) -> Servgene | J8: =VLOOKUP(G8,'identifiants sorties'!$A$2:$E$158,4,FALSE) -> FCD | K8: =VLOOKUP(G8,'identifiants sorties'!$A$2:$E$158,5,FALSE) -> 0
A9: 117292 | B9: =IF(A9<>"",INDEX(BASE!$A$2:$C$1538,MATCH(A9,BASE!$A$2:$A$1538,0),2),"") -> STYLO FEUTRE V SIGNPEN BLEU SW-VSP | C9: 1 | D9: =VLOOKUP(A9,BASE!$A$4:$F$538,4,FALSE) -> 1.28 | E9: =IF(C9="","",C9*D9) -> 1.28 | F9: 41645 | G9: BST | H9: =VLOOKUP(G9,'identifiants sorties'!$A$2:$E$158,2,FALSE) -> Stievenard | I9: =VLOOKUP(G9,'identifiants sorties'!$A$2:$E$158,3,FALSE) -> Servgene | J9: =VLOOKUP(G9,'identifiants sorties'!$A$2:$E$158,4,FALSE) -> FCD | K9: =VLOOKUP(G9,'identifiants sorties'!$A$2:$E$158,5,FALSE) -> 0
A10: 119177 | B10: =IF(A10<>"",INDEX(BASE!$A$2:$C$1538,MATCH(A10,BASE!$A$2:$A$1538,0),2),"") -> UNI BALL VISION ELITE 0,6 MM NOIR | C10: 1 | D10: =VLOOKUP(A10,BASE!$A$4:$F$538,4,FALSE) -> 3.01 | E10: =IF(C10="","",C10*D10) -> 3.01 | F10: 41645 | G10: BST | H10: =VLOOKUP(G10,'identifiants sorties'!$A$2:$E$158,2,FALSE) -> Stievenard | I10: =VLOOKUP(G10,'identifiants sorties'!$A$2:$E$158,3,FALSE) -> Servgene | J10: =VLOOKUP(G10,'identifiants sorties'!$A$2:$E$158,4,FALSE) -> FCD | K10: =VLOOKUP(G10,'identifiants sorties'!$A$2:$E$158,5,FALSE) -> 0
A11: 119176 | B11: =IF(A11<>"",INDEX(BASE!$A$2:$C$1538,MATCH(A11,BASE!$A$2:$A$1538,0),2),"") -> UNI BALL VISION ELITE 0,6 MM BLEU | C11: 1 | D11: =VLOOKUP(A11,BASE!$A$4:$F$538,4,FALSE) -> 3.01 | E11: =IF(C11="","",C11*D11) -> 3.01 | F11: 41645 | G11: BST | H11: =VLOOKUP(G11,'identifiants sorties'!$A$2:$E$158,2,FALSE) -> Stievenard | I11: =VLOOKUP(G11,'identifiants sorties'!$A$2:$E$158,3,FALSE) -> Servgene | J11: =VLOOKUP(G11,'identifiants sorties'!$A$2:$E$158,4,FALSE) -> FCD | K11: =VLOOKUP(G11,'identifiants sorties'!$A$2:$E$158,5,FALSE) -> 0
A12: 120521 | B12: =IF(A12<>"",INDEX(BASE!$A$2:$C$1538,MATCH(A12,BASE!$A$2:$A$1538,0),2),"") -> SURLIGNEUR STABILO BOSS BLEU | C12: 1 | D12: =VLOOKUP(A12,BASE!$A$4:$F$538,4,FALSE) -> 0.55 | E12: =IF(C12="","",C12*D12) -> 0.55 | F12: 41645 | G12: BST | H12: =VLOOKUP(G12,'identifiants sorties'!$A$2:$E$158,2,FALSE) -> Stievenard | I12: =VLOOKUP(G12,'identifiants sorties'!$A$2:$E$158,3,FALSE) -> Servgene | J12: =VLOOKUP(G12,'identifiants sorties'!$A$2:$E$158,4,FALSE) -> FCD | K12: =VLOOKUP(G12,'identifiants sorties'!$A$2:$E$158,5,FALSE) -> 0
A13: 120524 | B13: =IF(A13<>"",INDEX(BASE!$A$2:$C$1538,MATCH(A13,BASE!$A$2:$A$1538,0),2),"") -> SURLIGNEUR STABILO BOSS VERT | C13: 1 | D13: =VLOOKUP(A13,BASE!$A$4:$F$538,4,FALSE) -> 0.55 | E13: =IF(C13="","",C13*D13) -> 0.55 | F13: 41645 | G13: BST | H13: =VLOOKUP(G13,'identifiants sorties'!$A$2:$E$158,2,FALSE) -> Stievenard | I13: =VLOOKUP(G13,'identifiants sorties'!$A$2:$E$158,3,FALSE) -> Servgene | J13: =VLOOKUP(G13,'identifiants sorties'!$A$2:$E$158,4,FALSE) -> FCD | K13: =VLOOKUP(G13,'identifiants sorties'!$A$2:$E$158,5,FALSE) -> 0
... A188: 42500 | B188: =IF(A188<>"",INDEX(BASE!$A$2:$C$1538,MATCH(A188,BASE!$A$2:$A$1538,0),2),"") -> ROULEAU ECO | C188: 2 | D188: =VLOOKUP(A188,BASE!$A$4:$F$538,4,FALSE) -> 3 | E188: =IF(C188="","",C188*D188) -> 6 | F188: 41667 | G188: MGI | H188: =VLOOKUP(G188,'identifiants sorties'!$A$2:$E$158,2,FALSE) -> Girard | I188: =VLOOKUP(G188,'identifiants sorties'!$A$2:$E$158,3,FALSE) -> Servgene | J188: =VLOOKUP(G188,'identifiants sorties'!$A$2:$E$158,4,FALSE) -> Entretien | K188: =VLOOKUP(G188,'identifiants sorties'!$A$2:$E$158,5,FALSE) -> Rez de chaussée + 3 éme bat C
A189: C42.142 | B189: =IF(A189<>"",INDEX(BASE!$A$2:$C$1538,MATCH(A189,BASE!$A$2:$A$1538,0),2),"") -> SAC POUBELLES 110L | C189: 1 | D189: =VLOOKUP(A189,BASE!$A$4:$F$538,4,FALSE) -> 4.99 | E189: =IF(C189="","",C189*D189) -> 4.99 | F189: 41667 | G189: MGI | H189: =VLOOKUP(G189,'identifiants sorties'!$A$2:$E$158,2,FALSE) -> Girard | I189: =VLOOKUP(G189,'identifiants sorties'!$A$2:$E$158,3,FALSE) -> Servgene | J189: =VLOOKUP(G189,'identifiants sorties'!$A$2:$E$158,4,FALSE) -> Entretien | K189: =VLOOKUP(G189,'identifiants sorties'!$A$2:$E$158,5,FALSE) -> Rez de chaussée + 3 éme bat C
A190: C42.050 | B190: =IF(A190<>"",INDEX(BASE!$A$2:$C$1538,MATCH(A190,BASE!$A$2:$A$1538,0),2),"") -> SAC POUBELLES 50L | C190: 2 | D190: =VLOOKUP(A190,BASE!$A$4:$F$538,4,FALSE) -> 2.79 | E190: =IF(C190="","",C190*D190) -> 5.58 | F190: 41667 | G190: MGI | H190: =VLOOKUP(G190,'identifiants sorties'!$A$2:$E$158,2,FALSE) -> Girard | I190: =VLOOKUP(G190,'identifiants sorties'!$A$2:$E$158,3,FALSE) -> Servgene | J190: =VLOOKUP(G190,'identifiants sorties'!$A$2:$E$158,4,FALSE) -> Entretien | K190: =VLOOKUP(G190,'identifiants sorties'!$A$2:$E$158,5,FALSE) -> Rez de chaussée + 3 éme bat C
A191: C42.522 | B191: =IF(A191<>"",INDEX(BASE!$A$2:$C$1538,MATCH(A191,BASE!$A$2:$A$1538,0),2),"") -> SAC POUBELLES 30L | C191: 3 | D191: =VLOOKUP(A191,BASE!$A$4:$F$538,4,FALSE) -> 2.49 | E191: =IF(C191="","",C191*D191) -> 7.47 | F191: 41667 | G191: MGI | H191: =VLOOKUP(G191,'identifiants sorties'!$A$2:$E$158,2,FALSE) -> Girard | I191: =VLOOKUP(G191,'identifiants sorties'!$A$2:$E$158,3,FALSE) -> Servgene | J191: =VLOOKUP(G191,'identifiants sorties'!$A$2:$E$158,4,FALSE) -> Entretien | K191: =VLOOKUP(G191,'identifiants sorties'!$A$2:$E$158,5,FALSE) -> Rez de chaussée + 3 éme bat C
A192: C42.510 | B192: =IF(A192<>"",INDEX(BASE!$A$2:$C$1538,MATCH(A192,BASE!$A$2:$A$1538,0),2),"") -> SAC POUBELLES 10L | C192: 2 | D192: =VLOOKUP(A192,BASE!$A$4:$F$538,4,FALSE) -> 2.69 | E192: =IF(C192="","",C192*D192) -> 5.38 | F192: 41667 | G192: MGI | H192: =VLOOKUP(G192,'identifiants sorties'!$A$2:$E$158,2,FALSE) -> Girard | I192: =VLOOKUP(G192,'identifiants sorties'!$A$2:$E$158,3,FALSE) -> Servgene | J192: =VLOOKUP(G192,'identifiants sorties'!$A$2:$E$158,4,FALSE) -> Entretien | K192: =VLOOKUP(G192,'identifiants sorties'!$A$2:$E$158,5,FALSE) -> Rez de chaussée + 3 éme bat C
A193: 3820 | B193: =IF(A193<>"",INDEX(BASE!$A$2:$C$1538,MATCH(A193,BASE!$A$2:$A$1538,0),2),"") -> DOSETTES | C193: 5 | D193: =VLOOKUP(A193,BASE!$A$4:$F$538,4,FALSE) -> 0.07 | E193: =IF(C193="","",C193*D193) -> 0.35 | F193: 41667 | G193: CDE | H193: =VLOOKUP(G193,'identifiants sorties'!$A$2:$E$158,2,FALSE) -> Devogelaere | I193: =VLOOKUP(G193,'identifiants sorties'!$A$2:$E$158,3,FALSE) -> Servgene | J193: =VLOOKUP(G193,'identifiants sorties'!$A$2:$E$158,4,FALSE) -> Entretien | K193: =VLOOKUP(G193,'identifiants sorties'!$A$2:$E$158,5,FALSE) -> 0
A194: 975 | B194: =IF(A194<>"",INDEX(BASE!$A$2:$C$1538,MATCH(A194,BASE!$A$2:$A$1538,0),2),"") -> AJAX VITRES | C194: 1 | D194: =VLOOKUP(A194,BASE!$A$4:$F$538,4,FALSE) -> 1.84 | E194: =IF(C194="","",C194*D194) -> 1.84 | F194: 41667 | G194: CDE | H194: =VLOOKUP(G194,'identifiants sorties'!$A$2:$E$158,2,FALSE) -> Devogelaere | I194: =VLOOKUP(G194,'identifiants sorties'!$A$2:$E$158,3,FALSE) -> Servgene | J194: =VLOOKUP(G194,'identifiants sorties'!$A$2:$E$158,4,FALSE) -> Entretien | K194: =VLOOKUP(G194,'identifiants sorties'!$A$2:$E$158,5,FALSE) -> 0
A195: 3902 | B195: =IF(A195<>"",INDEX(BASE!$A$2:$C$1538,MATCH(A195,BASE!$A$2:$A$1538,0),2),"") -> ULTRA NEUF | C195: 1 | D195: =VLOOKUP(A195,BASE!$A$4:$F$538,4,FALSE) -> 2.79 | E195: =IF(C195="","",C195*D195) -> 2.79 | F195: 41667 | G195: CDE | H195: =VLOOKUP(G195,'identifiants sorties'!$A$2:$E$158,2,FALSE) -> Devogelaere | I195: =VLOOKUP(G195,'identifiants sorties'!$A$2:$E$158,3,FALSE) -> Servgene | J195: =VLOOKUP(G195,'identifiants sorties'!$A$2:$E$158,4,FALSE) -> Entretien | K195: =VLOOKUP(G195,'identifiants sorties'!$A$2:$E$158,5,FALSE) -> 0
A196: 4091 | B196: =IF(A196<>"",INDEX(BASE!$A$2:$C$1538,MATCH(A196,BASE!$A$2:$A$1538,0),2),"") -> ULTRA BAC | C196: 2 | D196: =VLOOKUP(A196,BASE!$A$4:$F$538,4,FALSE) -> 3.71 | E196: =IF(C196="","",C196*D196) -> 7.42 | F196: 41667 | G196: CDE | H196: =VLOOKUP(G196,'identifiants sorties'!$A$2:$E$158,2,FALSE) -> Devogelaere | I196: =VLOOKUP(G196,'identifiants sorties'!$A$2:$E$158,3,FALSE) -> Servgene | J196: =VLOOKUP(G196,'identifiants sorties'!$A$2:$E$158,4,FALSE) -> Entretien | K196: =VLOOKUP(G196,'identifiants sorties'!$A$2:$E$158,5,FALSE) -> 0
A197: 35038 | B197: =IF(A197<>"",INDEX(BASE!$A$2:$C$1538,MATCH(A197,BASE!$A$2:$A$1538,0),2),"") -> GAZES IMPREGNEES | C197: 1 | D197: =VLOOKUP(A197,BASE!$A$4:$F$538,4,FALSE) -> 68.66 | E197: =IF(C197="","",C197*D197) -> 68.66 | F197: 41667 | G197: CDE | H197: =VLOOKUP(G197,'identifiants sorties'!$A$2:$E$158,2,FALSE) -> Devogelaere | I197: =VLOOKUP(G197,'identifiants sorties'!$A$2:$E$158,3,FALSE) -> Servgene | J197: =VLOOKUP(G197,'identifiants sorties'!$A$2:$E$158,4,FALSE) -> Entretien | K197: =VLOOKUP(G197,'identifiants sorties'!$A$2:$E$158,5,FALSE) -> 0
A198: 42500 | B198: =IF(A198<>"",INDEX(BASE!$A$2:$C$1538,MATCH(A198,BASE!$A$2:$A$1538,0),2),"") -> ROULEAU ECO | C198: 4 | D198: =VLOOKUP(A198,BASE!$A$4:$F$538,4,FALSE) -> 3 | E198: =IF(C198="","",C198*D198) -> 12 | F198: 41667 | G198: CDE | H198: =VLOOKUP(G198,'identifiants sorties'!$A$2:$E$158,2,FALSE) -> Devogelaere | I198: =VLOOKUP(G198,'identifiants sorties'!$A$2:$E$158,3,FALSE) -> Servgene | J198: =VLOOKUP(G198,'identifiants sorties'!$A$2:$E$158,4,FALSE) -> Entretien | K198: =VLOOKUP(G198,'identifiants sorties'!$A$2:$E$158,5,FALSE) -> 0
A199: C42.142 | B199: =IF(A199<>"",INDEX(BASE!$A$2:$C$1538,MATCH(A199,BASE!$A$2:$A$1538,0),2),"") -> SAC POUBELLES 110L | C199: 1 | D199: =VLOOKUP(A199,BASE!$A$4:$F$538,4,FALSE) -> 4.99 | E199: =IF(C199="","",C199*D199) -> 4.99 | F199: 41667 | G199: CDE | H199: =VLOOKUP(G199,'identifiants sorties'!$A$2:$E$158,2,FALSE) -> Devogelaere | I199: =VLOOKUP(G199,'identifiants sorties'!$A$2:$E$158,3,FALSE) -> Servgene | J199: =VLOOKUP(G199,'identifiants sorties'!$A$2:$E$158,4,FALSE) -> Entretien | K199: =VLOOKUP(G199,'identifiants sorties'!$A$2:$E$158,5,FALSE) -> 0
A200: C42.050 | B200: =IF(A200<>"",INDEX(BASE!$A$2:$C$1538,MATCH(A200,BASE!$A$2:$A$1538,0),2),"") -> SAC POUBELLES 50L | C200: 5 | D200: =VLOOKUP(A200,BASE!$A$4:$F$538,4,FALSE) -> 2.79 | E200: =IF(C200="","",C200*D200) -> 13.95 | F200: 41667 | G200: CDE | H200: =VLOOKUP(G200,'identifiants sorties'!$A$2:$E$158,2,FALSE) -> Devogelaere | I200: =VLOOKUP(G200,'identifiants sorties'!$A$2:$E$158,3,FALSE) -> Servgene | J200: =VLOOKUP(G200,'identifiants sorties'!$A$2:$E$158,4,FALSE) -> Entretien | K200: =VLOOKUP(G200,'identifiants sorties'!$A$2:$E$158,5,FALSE) -> 0
A201: C42.522 | B201: =IF(A201<>"",INDEX(BASE!$A$2:$C$1538,MATCH(A201,BASE!$A$2:$A$1538,0),2),"") -> SAC POUBELLES 30L | C201: 2 | D201: =VLOOKUP(A201,BASE!$A$4:$F$538,4,FALSE) -> 2.49 | E201: =IF(C201="","",C201*D201) -> 4.98 | F201: 41667 | G201: CDE | H201: =VLOOKUP(G201,'identifiants sorties'!$A$2:$E$158,2,FALSE) -> Devogelaere | I201: =VLOOKUP(G201,'identifiants sorties'!$A$2:$E$158,3,FALSE) -> Servgene | J201: =VLOOKUP(G201,'identifiants sorties'!$A$2:$E$158,4,FALSE) -> Entretien | K201: =VLOOKUP(G201,'identifiants sorties'!$A$2:$E$158,5,FALSE) -> 0
A202: C42.510 | B202: =IF(A202<>"",INDEX(BASE!$A$2:$C$1538,MATCH(A202,BASE!$A$2:$A$1538,0),2),"") -> SAC POUBELLES 10L | C202: 1 | D202: =VLOOKUP(A202,BASE!$A$4:$F$538,4,FALSE) -> 2.69 | E202: =IF(C202="","",C202*D202) -> 2.69 | F202: 41667 | G202: CDE | H202: =VLOOKUP(G202,'identifiants sorties'!$A$2:$E$158,2,FALSE) -> Devogelaere | I202: =VLOOKUP(G202,'identifiants sorties'!$A$2:$E$158,3,FALSE) -> Servgene | J202: =VLOOKUP(G202,'identifiants sorties'!$A$2:$E$158,4,FALSE) -> Entretien | K202: =VLOOKUP(G202,'identifiants sorties'!$A$2:$E$158,5,FALSE) -> 0
A203: 4091 | B203: =IF(A203<>"",INDEX(BASE!$A$2:$C$1538,MATCH(A203,BASE!$A$2:$A$1538,0),2),"") -> ULTRA BAC | C203: 2 | D203: =VLOOKUP(A203,BASE!$A$4:$F$538,4,FALSE) -> 3.71 | E203: =IF(C203="","",C203*D203) -> 7.42 | F203: 41667 | G203: LPA | H203: =VLOOKUP(G203,'identifiants sorties'!$A$2:$E$158,2,FALSE) -> Paindavoine | I203: =VLOOKUP(G203,'identifiants sorties'!$A$2:$E$158,3,FALSE) -> Servgene | J203: =VLOOKUP(G203,'identifiants sorties'!$A$2:$E$158,4,FALSE) -> Entretien | K203: =VLOOKUP(G203,'identifiants sorties'!$A$2:$E$158,5,FALSE) -> 2,3,4 Bat E
A204: 505080 | B204: =IF(A204<>"",INDEX(BASE!$A$2:$C$1538,MATCH(A204,BASE!$A$2:$A$1538,0),2),"") -> SAVON 800ML | C204: 1 | D204: =VLOOKUP(A204,BASE!$A$4:$F$538,4,FALSE) -> 3.058 | E204: =IF(C204="","",C204*D204) -> 3.058 | F204: 41667 | G204: LPA | H204: =VLOOKUP(G204,'identifiants sorties'!$A$2:$E$158,2,FALSE) -> Paindavoine | I204: =VLOOKUP(G204,'identifiants sorties'!$A$2:$E$158,3,FALSE) -> Servgene | J204: =VLOOKUP(G204,'identifiants sorties'!$A$2:$E$158,4,FALSE) -> Entretien | K204: =VLOOKUP(G204,'identifiants sorties'!$A$2:$E$158,5,FALSE) -> 2,3,4 Bat E
A205: 35038 | B205: =IF(A205<>"",INDEX(BASE!$A$2:$C$1538,MATCH(A205,BASE!$A$2:$A$1538,0),2),"") -> GAZES IMPREGNEES | C205: 1 | D205: =VLOOKUP(A205,BASE!$A$4:$F$538,4,FALSE) -> 68.66 | E205: =IF(C205="","",C205*D205) -> 68.66 | F205: 41667 | G205: LPA | H205: =VLOOKUP(G205,'identifiants sorties'!$A$2:$E$158,2,FALSE) -> Paindavoine | I205: =VLOOKUP(G205,'identifiants sorties'!$A$2:$E$158,3,FALSE) -> Servgene | J205: =VLOOKUP(G205,'identifiants sorties'!$A$2:$E$158,4,FALSE) -> Entretien | K205: =VLOOKUP(G205,'identifiants sorties'!$A$2:$E$158,5,FALSE) -> 2,3,4 Bat E
A206: C42.050 | B206: =IF(A206<>"",INDEX(BASE!$A$2:$C$1538,MATCH(A206,BASE!$A$2:$A$1538,0),2),"") -> SAC POUBELLES 50L | C206: 2 | D206: =VLOOKUP(A206,BASE!$A$4:$F$538,4,FALSE) -> 2.79 | E206: =IF(C206="","",C206*D206) -> 5.58 | F206: 41667 | G206: LPA | H206: =VLOOKUP(G206,'identifiants sorties'!$A$2:$E$158,2,FALSE) -> Paindavoine | I206: =VLOOKUP(G206,'identifiants sorties'!$A$2:$E$158,3,FALSE) -> Servgene | J206: =VLOOKUP(G206,'identifiants sorties'!$A$2:$E$158,4,FALSE) -> Entretien | K206: =VLOOKUP(G206,'identifiants sorties'!$A$2:$E$158,5,FALSE) -> 2,3,4 Bat E
A207: C42.522 | B207: =IF(A207<>"",INDEX(BASE!$A$2:$C$1538,MATCH(A207,BASE!$A$2:$A$1538,0),2),"") -> SAC POUBELLES 30L | C207: 1 | D207: =VLOOKUP(A207,BASE!$A$4:$F$538,4,FALSE) -> 2.49 | E207: =IF(C207="","",C207*D207) -> 2.49 | F207: 41667 | G207: LPA | H207: =VLOOKUP(G207,'identifiants sorties'!$A$2:$E$158,2,FALSE) -> Paindavoine | I207: =VLOOKUP(G207,'identifiants sorties'!$A$2:$E$158,3,FALSE) -> Servgene | J207: =VLOOKUP(G207,'identifiants sorties'!$A$2:$E$158,4,FALSE) -> Entretien | K207: =VLOOKUP(G207,'identifiants sorties'!$A$2:$E$158,5,FALSE) -> 2,3,4 Bat E
A208: 257 | B208: =IF(A208<>"",INDEX(BASE!$A$2:$C$1538,MATCH(A208,BASE!$A$2:$A$1538,0),2),"") -> INTO | C208: 1 | D208: =VLOOKUP(A208,BASE!$A$4:$F$538,4,FALSE) -> 3.05 | E208: =IF(C208="","",C208*D208) -> 3.05 | F208: 41667 | G208: HCA | H208: =VLOOKUP(G208,'identifiants sorties'!$A$2:$E$158,2,FALSE) -> Carlier | I208: =VLOOKUP(G208,'identifiants sorties'!$A$2:$E$158,3,FALSE) -> Servgene | J208: =VLOOKUP(G208,'identifiants sorties'!$A$2:$E$158,4,FALSE) -> Entretien | K208: =VLOOKUP(G208,'identifiants sorties'!$A$2:$E$158,5,FALSE) -> Admin
A209: 130500 | B209: =IF(A209<>"",INDEX(BASE!$A$2:$C$1538,MATCH(A209,BASE!$A$2:$A$1538,0),2),"") -> PRODUITS VAISSELLE | C209: 2 | D209: =VLOOKUP(A209,BASE!$A$4:$F$538,4,FALSE) -> 2.63 | E209: =IF(C209="","",C209*D209) -> 5.26 | F209: 41667 | G209: HCA | H209: =VLOOKUP(G209,'identifiants sorties'!$A$2:$E$158,2,FALSE) -> Carlier | I209: =VLOOKUP(G209,'identifiants sorties'!$A$2:$E$158,3,FALSE) -> Servgene | J209: =VLOOKUP(G209,'identifiants sorties'!$A$2:$E$158,4,FALSE) -> Entretien | K209: =VLOOKUP(G209,'identifiants sorties'!$A$2:$E$158,5,FALSE) -> Admin
A210: 209 | B210: =IF(A210<>"",INDEX(BASE!$A$2:$C$1538,MATCH(A210,BASE!$A$2:$A$1538,0),2),"") -> EPONGE A RECURER | C210: 2 | D210: =VLOOKUP(A210,BASE!$A$4:$F$538,4,FALSE) -> 1.025 | E210: =IF(C210="","",C210*D210) -> 2.05 | F210: 41667 | G210: HCA | H210: =VLOOKUP(G210,'identifiants sorties'!$A$2:$E$158,2,FALSE) -> Carlier | I210: =VLOOKUP(G210,'identifiants sorties'!$A$2:$E$158,3,FALSE) -> Servgene | J210: =VLOOKUP(G210,'identifiants sorties'!$A$2:$E$158,4,FALSE) -> Entretien | K210: =VLOOKUP(G210,'identifiants sorties'!$A$2:$E$158,5,FALSE) -> Admin
A211: 4091 | B211: =IF(A211<>"",INDEX(BASE!$A$2:$C$1538,MATCH(A211,BASE!$A$2:$A$1538,0),2),"") -> ULTRA BAC | C211: 1 | D211: =VLOOKUP(A211,BASE!$A$4:$F$538,4,FALSE) -> 3.71 | E211: =IF(C211="","",C211*D211) -> 3.71 | F211: 41667 | G211: HCA | H211: =VLOOKUP(G211,'identifiants sorties'!$A$2:$E$158,2,FALSE) -> Carlier | I211: =VLOOKUP(G211,'identifiants sorties'!$A$2:$E$158,3,FALSE) -> Servgene | J211: =VLOOKUP(G211,'identifiants sorties'!$A$2:$E$158,4,FALSE) -> Entretien | K211: =VLOOKUP(G211,'identifiants sorties'!$A$2:$E$158,5,FALSE) -> Admin
A212: 42500 | B212: =IF(A212<>"",INDEX(BASE!$A$2:$C$1538,MATCH(A212,BASE!$A$2:$A$1538,0),2),"") -> ROULEAU ECO | C212: 5 | D212: =VLOOKUP(A212,BASE!$A$4:$F$538,4,FALSE) -> 3 | E212: =IF(C212="","",C212*D212) -> 15 | F212: 41667 | G212: HCA | H212: =VLOOKUP(G212,'identifiants sorties'!$A$2:$E$158,2,FALSE) -> Carlier | I212: =VLOOKUP(G212,'identifiants sorties'!$A$2:$E$158,3,FALSE) -> Servgene | J212: =VLOOKUP(G212,'identifiants sorties'!$A$2:$E$158,4,FALSE) -> Entretien | K212: =VLOOKUP(G212,'identifiants sorties'!$A$2:$E$158,5,FALSE) -> Admin
A213: 3902 | B213: =IF(A213<>"",INDEX(BASE!$A$2:$C$1538,MATCH(A213,BASE!$A$2:$A$1538,0),2),"") -> ULTRA NEUF | C213: 1 | D213: =VLOOKUP(A213,BASE!$A$4:$F$538,4,FALSE) -> 2.79 | E213: =IF(C213="","",C213*D213) -> 2.79 | F213: 41667 | G213: CCH | H213: =VLOOKUP(G213,'identifiants sorties'!$A$2:$E$158,2,FALSE) -> Chrétien | I213: =VLOOKUP(G213,'identifiants sorties'!$A$2:$E$158,3,FALSE) -> Servgene | J213: =VLOOKUP(G213,'identifiants sorties'!$A$2:$E$158,4,FALSE) -> Entretien | K213: =VLOOKUP(G213,'identifiants sorties'!$A$2:$E$158,5,FALSE) -> 0
A214: 4091 | B214: =IF(A214<>"",INDEX(BASE!$A$2:$C$1538,MATCH(A214,BASE!$A$2:$A$1538,0),2),"") -> ULTRA BAC | C214: 2 | D214: =VLOOKUP(A214,BASE!$A$4:$F$538,4,FALSE) -> 3.71 | E214: =IF(C214="","",C214*D214) -> 7.42 | F214: 41667 | G214: CCH | H214: =VLOOKUP(G214,'identifiants sorties'!$A$2:$E$158,2,FALSE) -> Chrétien | I214: =VLOOKUP(G214,'identifiants sorties'!$A$2:$E$158,3,FALSE) -> Servgene | J214: =VLOOKUP(G214,'identifiants sorties'!$A$2:$E$158,4,FALSE) -> Entretien | K214: =VLOOKUP(G214,'identifiants sorties'!$A$2:$E$158,5,FALSE) -> 0
A215: 50508 | B215: =IF(A215<>"",INDEX(BASE!$A$2:$C$1538,MATCH(A215,BASE!$A$2:$A$1538,0),2),"") -> SAVON AMPHOTENE | C215: 2 | D215: =VLOOKUP(A215,BASE!$A$4:$F$538,4,FALSE) -> 4.61 | E215: =IF(C215="","",C215*D215) -> 9.22 | F215: 41667 | G215: CCH | H215: =VLOOKUP(G215,'identifiants sorties'!$A$2:$E$158,2,FALSE) -> Chrétien | I215: =VLOOKUP(G215,'identifiants sorties'!$A$2:$E$158,3,FALSE) -> Servgene | J215: =VLOOKUP(G215,'identifiants sorties'!$A$2:$E$158,4,FALSE) -> Entretien | K215: =VLOOKUP(G215,'identifiants sorties'!$A$2:$E$158,5,FALSE) -> 0
A216: 42500 | B216: =IF(A216<>"",INDEX(BASE!$A$2:$C$1538,MATCH(A216,BASE!$A$2:$A$1538,0),2),"") -> ROULEAU ECO | C216: 6 | D216: =VLOOKUP(A216,BASE!$A$4:$F$538,4,FALSE) -> 3 | E216: =IF(C216="","",C216*D216) -> 18 | F216: 41667 | G216: CCH | H216: =VLOOKUP(G216,'identifiants sorties'!$A$2:$E$158,2,FALSE) -> Chrétien | I216: =VLOOKUP(G216,'identifiants sorties'!$A$2:$E$158,3,FALSE) -> Servgene | J216: =VLOOKUP(G216,'identifiants sorties'!$A$2:$E$158,4,FALSE) -> Entretien | K216: =VLOOKUP(G216,'identifiants sorties'!$A$2:$E$158,5,FALSE) -> 0
A217: C42.050 | B217: =IF(A217<>"",INDEX(BASE!$A$2:$C$1538,MATCH(A217,BASE!$A$2:$A$1538,0),2),"") -> SAC POUBELLES 50L | C217: 4 | D217: =VLOOKUP(A217,BASE!$A$4:$F$538,4,FALSE) -> 2.79 | E217: =IF(C217="","",C217*D217) -> 11.16 | F217: 41667 | G217: CCH | H217: =VLOOKUP(G217,'identifiants sorties'!$A$2:$E$158,2,FALSE) -> Chrétien | I217: =VLOOKUP(G217,'identifiants sorties'!$A$2:$E$158,3,FALSE) -> Servgene | J217: =VLOOKUP(G217,'identifiants sorties'!$A$2:$E$158,4,FALSE) -> Entretien | K217: =VLOOKUP(G217,'identifiants sorties'!$A$2:$E$158,5,FALSE) -> 0
A218: C42.510 | B218: =IF(A218<>"",INDEX(BASE!$A$2:$C$1538,MATCH(A218,BASE!$A$2:$A$1538,0),2),"") -> SAC POUBELLES 10L | C218: 1 | D218: =VLOOKUP(A218,BASE!$A$4:$F$538,4,FALSE) -> 2.69 | E218: =IF(C218="","",C218*D218) -> 2.69 | F218: 41667 | G218: CCH | H218: =VLOOKUP(G218,'identifiants sorties'!$A$2:$E$158,2,FALSE) -> Chrétien | I218: =VLOOKUP(G218,'identifiants sorties'!$A$2:$E$158,3,FALSE) -> Servgene | J218: =VLOOKUP(G218,'identifiants sorties'!$A$2:$E$158,4,FALSE) -> Entretien | K218: =VLOOKUP(G218,'identifiants sorties'!$A$2:$E$158,5,FALSE) -> 0
A219: 10000 | B219: =IF(A219<>"",INDEX(BASE!$A$2:$C$1538,MATCH(A219,BASE!$A$2:$A$1538,0),2),"") -> PAPIER TOILETTE | C219: 112 | D219: =VLOOKUP(A219,BASE!$A$4:$F$538,4,FALSE) -> 0.2039 | E219: =IF(C219="","",C219*D219) -> 22.8368 | F219: 41667 | G219: DBR | H219: =VLOOKUP(G219,'identifiants sorties'!$A$2:$E$158,2,FALSE) -> Brégovic | I219: =VLOOKUP(G219,'identifiants sorties'!$A$2:$E$158,3,FALSE) -> Deptecl | J219: =VLOOKUP(G219,'identifiants sorties'!$A$2:$E$158,4,FALSE) -> AGR | K219: =VLOOKUP(G219,'identifiants sorties'!$A$2:$E$158,5,FALSE) -> Résidence
A220: 202233 | B220: =IF(A220<>"",INDEX(BASE!$A$2:$C$1538,MATCH(A220,BASE!$A$2:$A$1538,0),2),"") -> CHEM.3RAB.+ELAST.+ETIQ. MAUVE C.L. 5/10 | C220: 2 | D220: =VLOOKUP(A220,BASE!$A$4:$F$538,4,FALSE) -> 0.88 | E220: =IF(C220="","",C220*D220) -> 1.76 | F220: 41667 | G220: DBR | H220: =VLOOKUP(G220,'identifiants sorties'!$A$2:$E$158,2,FALSE) -> Brégovic | I220: =VLOOKUP(G220,'identifiants sorties'!$A$2:$E$158,3,FALSE) -> Deptecl | J220: =VLOOKUP(G220,'identifiants sorties'!$A$2:$E$158,4,FALSE) -> AGR | K220: =VLOOKUP(G220,'identifiants sorties'!$A$2:$E$158,5,FALSE) -> Résidence
A221: 202235 | B221: =IF(A221<>"",INDEX(BASE!$A$2:$C$1538,MATCH(A221,BASE!$A$2:$A$1538,0),2),"") -> CHEM.3 RAB.+ELAST.+ETIQ. ROUGE C.L. 5/10 | C221: 2 | D221: =VLOOKUP(A221,BASE!$A$4:$F$538,4,FALSE) -> 0.88 | E221: =IF(C221="","",C221*D221) -> 1.76 | F221: 41667 | G221: DBR | H221: =VLOOKUP(G221,'identifiants sorties'!$A$2:$E$158,2,FALSE) -> Brégovic | I221: =VLOOKUP(G221,'identifiants sorties'!$A$2:$E$158,3,FALSE) -> Deptecl | J221: =VLOOKUP(G221,'identifiants sorties'!$A$2:$E$158,4,FALSE) -> AGR | K221: =VLOOKUP(G221,'identifiants sorties'!$A$2:$E$158,5,FALSE) -> Résidence
A222: 202248 | B222: =IF(A222<>"",INDEX(BASE!$A$2:$C$1538,MATCH(A222,BASE!$A$2:$A$1538,0),2),"") -> CHEM.3 RAB.+ELAST.+ETIQ.ORANGE C.L. 5/10 | C222: 2 | D222: =VLOOKUP(A222,BASE!$A$4:$F$538,4,FALSE) -> 0.88 | E222: =IF(C222="","",C222*D222) -> 1.76 | F222: 41667 | G222: DBR | H222: =VLOOKUP(G222,'identifiants sorties'!$A$2:$E$158,2,FALSE) -> Brégovic | I222: =VLOOKUP(G222,'identifiants sorties'!$A$2:$E$158,3,FALSE) -> Deptecl | J222: =VLOOKUP(G222,'identifiants sorties'!$A$2:$E$158,4,FALSE) -> AGR | K222: =VLOOKUP(G222,'identifiants sorties'!$A$2:$E$158,5,FALSE) -> Résidence
A223: 202230 | B223: =IF(A223<>"",INDEX(BASE!$A$2:$C$1538,MATCH(A223,BASE!$A$2:$A$1538,0),2),"") -> CHEM.3 RABATS ELAST.EUROFOLIO BLEU A4 C.L. | C223: 2 | D223: =VLOOKUP(A223,BASE!$A$4:$F$538,4,FALSE) -> 0.88 | E223: =IF(C223="","",C223*D223) -> 1.76 | F223: 41667 | G223: DBR | H223: =VLOOKUP(G223,'identifiants sorties'!$A$2:$E$158,2,FALSE) -> Brégovic | I223: =VLOOKUP(G223,'identifiants sorties'!$A$2:$E$158,3,FALSE) -> Deptecl | J223: =VLOOKUP(G223,'identifiants sorties'!$A$2:$E$158,4,FALSE) -> AGR | K223: =VLOOKUP(G223,'identifiants sorties'!$A$2:$E$158,5,FALSE) -> Résidence
A224: 202231 | B224: =IF(A224<>"",INDEX(BASE!$A$2:$C$1538,MATCH(A224,BASE!$A$2:$A$1538,0),2),"") -> CHEM.3 RAB.+ELAST.+ETIQ.VERT C.L. 5/10 | C224: 2 | D224: =VLOOKUP(A224,BASE!$A$4:$F$538,4,FALSE) -> 0.88 | E224: =IF(C224="","",C224*D224) -> 1.76 | F224: 41667 | G224: DBR | H224: =VLOOKUP(G224,'identifiants sorties'!$A$2:$E$158,2,FALSE) -> Brégovic | I224: =VLOOKUP(G224,'identifiants sorties'!$A$2:$E$158,3,FALSE) -> Deptecl | J224: =VLOOKUP(G224,'identifiants sorties'!$A$2:$E$158,4,FALSE) -> AGR | K224: =VLOOKUP(G224,'identifiants sorties'!$A$2:$E$158,5,FALSE) -> Résidence
A225: 202232 | B225: =IF(A225<>"",INDEX(BASE!$A$2:$C$1538,MATCH(A225,BASE!$A$2:$A$1538,0),2),"") -> CHEM.RAB.+ELAST.+ETIQ JAUNE | C225: 2 | D225: =VLOOKUP(A225,BASE!$A$4:$F$538,4,FALSE) -> 0.88 | E225: =IF(C225="","",C225*D225) -> 1.76 | F225: 41667 | G225: DBR | H225: =VLOOKUP(G225,'identifiants sorties'!$A$2:$E$158,2,FALSE) -> Brégovic | I225: =VLOOKUP(G225,'identifiants sorties'!$A$2:$E$158,3,FALSE) -> Deptecl | J225: =VLOOKUP(G225,'identifiants sorties'!$A$2:$E$158,4,FALSE) -> AGR | K225: =VLOOKUP(G225,'identifiants sorties'!$A$2:$E$158,5,FALSE) -> Résidence
A226: 309175 | B226: =IF(A226<>"",INDEX(BASE!$A$2:$C$1538,MATCH(A226,BASE!$A$2:$A$1538,0),2),"") -> A+B LOT 12 BLOCS REPOSIT.76x76 JAUNE | C226: 12 | D226: =VLOOKUP(A226,BASE!$A$4:$F$538,4,FALSE) -> 0.16 | E226: =IF(C226="","",C226*D226) -> 1.92 | F226: 41667 | G226: DBR | H226: =VLOOKUP(G226,'identifiants sorties'!$A$2:$E$158,2,FALSE) -> Brégovic | I226: =VLOOKUP(G226,'identifiants sorties'!$A$2:$E$158,3,FALSE) -> Deptecl | J226: =VLOOKUP(G226,'identifiants sorties'!$A$2:$E$158,4,FALSE) -> AGR | K226: =VLOOKUP(G226,'identifiants sorties'!$A$2:$E$158,5,FALSE) -> Résidence
A227: 309174 | B227: =IF(A227<>"",INDEX(BASE!$A$2:$C$1538,MATCH(A227,BASE!$A$2:$A$1538,0),2),"") -> A+B LOT 12 BLOCS REPOSIT.38x51 JAUNE | C227: 12 | D227: =VLOOKUP(A227,BASE!$A$4:$F$538,4,FALSE) -> 0.076 | E227: =IF(C227="","",C227*D227) -> 0.912 | F227: 41667 | G227: DBR | H227: =VLOOKUP(G227,'identifiants sorties'!$A$2:$E$158,2,FALSE) -> Brégovic | I227: =VLOOKUP(G227,'identifiants sorties'!$A$2:$E$158,3,FALSE) -> Deptecl | J227: =VLOOKUP(G227,'identifiants sorties'!$A$2:$E$158,4,FALSE) -> AGR | K227: =VLOOKUP(G227,'identifiants sorties'!$A$2:$E$158,5,FALSE) -> Résidence
A228: 309177 | B228: =IF(A228<>"",INDEX(BASE!$A$2:$C$1538,MATCH(A228,BASE!$A$2:$A$1538,0),2),"") -> A+B LOT 12 BLOCS REPOSI.76x127 JAUNE | C228: 6 | D228: =VLOOKUP(A228,BASE!$A$4:$F$538,4,FALSE) -> 0.254 | E228: =IF(C228="","",C228*D228) -> 1.524 | F228: 41667 | G228: DBR | H228: =VLOOKUP(G228,'identifiants sorties'!$A$2:$E$158,2,FALSE) -> Brégovic | I228: =VLOOKUP(G228,'identifiants sorties'!$A$2:$E$158,3,FALSE) -> Deptecl | J228: =VLOOKUP(G228,'identifiants sorties'!$A$2:$E$158,4,FALSE) -> AGR | K228: =VLOOKUP(G228,'identifiants sorties'!$A$2:$E$158,5,FALSE) -> Résidence
A229: 101120 | B229: =IF(A229<>"",INDEX(BASE!$A$2:$C$1538,MATCH(A229,BASE!$A$2:$A$1538,0),2),"") -> PINCE AGRAFEUSE RAPID | C229: 1 | D229: =VLOOKUP(A229,BASE!$A$4:$F$538,4,FALSE) -> 10.75 | E229: =IF(C229="","",C229*D229) -> 10.75 | F229: 41667 | G229: DBR | H229: =VLOOKUP(G229,'identifiants sorties'!$A$2:$E$158,2,FALSE) -> Brégovic | I229: =VLOOKUP(G229,'identifiants sorties'!$A$2:$E$158,3,FALSE) -> Deptecl | J229: =VLOOKUP(G229,'identifiants sorties'!$A$2:$E$158,4,FALSE) -> AGR | K229: =VLOOKUP(G229,'identifiants sorties'!$A$2:$E$158,5,FALSE) -> Résidence
A230: 100026 | B230: =IF(A230<>"",INDEX(BASE!$A$2:$C$1538,MATCH(A230,BASE!$A$2:$A$1538,0),2),"") -> AGRAFES SP19 1/4 5000 BOSTITCH | C230: 1 | D230: =VLOOKUP(A230,BASE!$A$4:$F$538,4,FALSE) -> 1.48 | E230: =IF(C230="","",C230*D230) -> 1.48 | F230: 41667 | G230: DBR | H230: =VLOOKUP(G230,'identifiants sorties'!$A$2:$E$158,2,FALSE) -> Brégovic | I230: =VLOOKUP(G230,'identifiants sorties'!$A$2:$E$158,3,FALSE) -> Deptecl | J230: =VLOOKUP(G230,'identifiants sorties'!$A$2:$E$158,4,FALSE) -> AGR | K230: =VLOOKUP(G230,'identifiants sorties'!$A$2:$E$158,5,FALSE) -> Résidence
... A339: 120525 | B339: =IF(A339<>"",INDEX(BASE!$A$2:$C$1538,MATCH(A339,BASE!$A$2:$A$1538,0),2),"") -> SURLIGNEUR STABILO BOSS JAUNE | C339: 1 | D339: =VLOOKUP(A339,BASE!$A$4:$F$538,4,FALSE) -> 0.55 | E339: =IF(C339="","",C339*D339) -> 0.55 | F339: 41680 | G339: NDE | H339: =VLOOKUP(G339,'identifiants sorties'!$A$2:$E$158,2,FALSE) -> Desseyn | I339: =VLOOKUP(G339,'identifiants sorties'!$A$2:$E$158,3,FALSE) -> Deptecl | J339: =VLOOKUP(G339,'identifiants sorties'!$A$2:$E$158,4,FALSE) -> Méca | K339: =VLOOKUP(G339,'identifiants sorties'!$A$2:$E$158,5,FALSE) -> Génie-Civil
A340: 120481 | B340: =IF(A340<>"",INDEX(BASE!$A$2:$C$1538,MATCH(A340,BASE!$A$2:$A$1538,0),2),"") -> FEUTRE VELLEDA 1741 BLEU PTE OGIVE MOYENNE | C340: 2 | D340: =VLOOKUP(A340,BASE!$A$4:$F$538,4,FALSE) -> 0.85 | E340: =IF(C340="","",C340*D340) -> 1.7 | F340: 41681 | G340: OTA | H340: =VLOOKUP(G340,'identifiants sorties'!$A$2:$E$158,2,FALSE) -> Tatem | I340: =VLOOKUP(G340,'identifiants sorties'!$A$2:$E$158,3,FALSE) -> Servgene | J340: =VLOOKUP(G340,'identifiants sorties'!$A$2:$E$158,4,FALSE) -> Rh
A341: 120482 | B341: =IF(A341<>"",INDEX(BASE!$A$2:$C$1538,MATCH(A341,BASE!$A$2:$A$1538,0),2),"") -> FEUTRE VELLEDA 1741 NOIR PTE OGIVE MOYENNE | C341: 2 | D341: =VLOOKUP(A341,BASE!$A$4:$F$538,4,FALSE) -> 0.85 | E341: =IF(C341="","",C341*D341) -> 1.7 | F341: 41681 | G341: OTA | H341: =VLOOKUP(G341,'identifiants sorties'!$A$2:$E$158,2,FALSE) -> Tatem | I341: =VLOOKUP(G341,'identifiants sorties'!$A$2:$E$158,3,FALSE) -> Servgene | J341: =VLOOKUP(G341,'identifiants sorties'!$A$2:$E$158,4,FALSE) -> Rh
A342: 120483 | B342: =IF(A342<>"",INDEX(BASE!$A$2:$C$1538,MATCH(A342,BASE!$A$2:$A$1538,0),2),"") -> FEUTRE VELLEDA 1741 ROUGE PTE OGIVE MOYENNE | C342: 2 | D342: =VLOOKUP(A342,BASE!$A$4:$F$538,4,FALSE) -> 0.85 | E342: =IF(C342="","",C342*D342) -> 1.7 | F342: 41681 | G342: OTA | H342: =VLOOKUP(G342,'identifiants sorties'!$A$2:$E$158,2,FALSE) -> Tatem | I342: =VLOOKUP(G342,'identifiants sorties'!$A$2:$E$158,3,FALSE) -> Servgene | J342: =VLOOKUP(G342,'identifiants sorties'!$A$2:$E$158,4,FALSE) -> Rh
A343: 120484 | B343: =IF(A343<>"",INDEX(BASE!$A$2:$C$1538,MATCH(A343,BASE!$A$2:$A$1538,0),2),"") -> FEUTRE VELLEDA 1741 VERT PTE OGIVE MOYENNE | C343: 2 | D343: =VLOOKUP(A343,BASE!$A$4:$F$538,4,FALSE) -> 0.85 | E343: =IF(C343="","",C343*D343) -> 1.7 | F343: 41681 | G343: OTA | H343: =VLOOKUP(G343,'identifiants sorties'!$A$2:$E$158,2,FALSE) -> Tatem | I343: =VLOOKUP(G343,'identifiants sorties'!$A$2:$E$158,3,FALSE) -> Servgene | J343: =VLOOKUP(G343,'identifiants sorties'!$A$2:$E$158,4,FALSE) -> Rh
A344: 102114 | B344: =IF(A344<>"",INDEX(BASE!$A$2:$C$1538,MATCH(A344,BASE!$A$2:$A$1538,0),2),"") -> BTE 1000TROMBONES CHEVRON 25mm | C344: 2 | D344: =VLOOKUP(A344,BASE!$A$4:$F$538,4,FALSE) -> 0.79 | E344: =IF(C344="","",C344*D344) -> 1.58 | F344: 41681 | G344: OTA | H344: =VLOOKUP(G344,'identifiants sorties'!$A$2:$E$158,2,FALSE) -> Tatem | I344: =VLOOKUP(G344,'identifiants sorties'!$A$2:$E$158,3,FALSE) -> Servgene | J344: =VLOOKUP(G344,'identifiants sorties'!$A$2:$E$158,4,FALSE) -> Rh
A345: 102116 | B345: =IF(A345<>"",INDEX(BASE!$A$2:$C$1538,MATCH(A345,BASE!$A$2:$A$1538,0),2),"") -> BTE 1000TROMBONES CHEVRON 32mm | C345: 2 | D345: =VLOOKUP(A345,BASE!$A$4:$F$538,4,FALSE) -> 1.05 | E345: =IF(C345="","",C345*D345) -> 2.1 | F345: 41681 | G345: OTA | H345: =VLOOKUP(G345,'identifiants sorties'!$A$2:$E$158,2,FALSE) -> Tatem | I345: =VLOOKUP(G345,'identifiants sorties'!$A$2:$E$158,3,FALSE) -> Servgene | J345: =VLOOKUP(G345,'identifiants sorties'!$A$2:$E$158,4,FALSE) -> Rh
A346: 311221 | B346: =IF(A346<>"",INDEX(BASE!$A$2:$C$1538,MATCH(A346,BASE!$A$2:$A$1538,0),2),"") -> CAHIER PIQURE 170x220 96P 5x5 R.14.104 | C346: 1 | D346: =VLOOKUP(A346,BASE!$A$4:$F$538,4,FALSE) -> 0.27 | E346: =IF(C346="","",C346*D346) -> 0.27 | F346: 41681 | G346: OTA | H346: =VLOOKUP(G346,'identifiants sorties'!$A$2:$E$158,2,FALSE) -> Tatem | I346: =VLOOKUP(G346,'identifiants sorties'!$A$2:$E$158,3,FALSE) -> Servgene | J346: =VLOOKUP(G346,'identifiants sorties'!$A$2:$E$158,4,FALSE) -> Rh
A347: 122601 | B347: =IF(A347<>"",INDEX(BASE!$A$2:$C$1538,MATCH(A347,BASE!$A$2:$A$1538,0),2),"") -> DEVIDOIR ESCARGOT PREMIUM | C347: 3 | D347: =VLOOKUP(A347,BASE!$A$4:$F$538,4,FALSE) -> 0.35 | E347: =IF(C347="","",C347*D347) -> 1.05 | F347: 41681 | G347: OTA | H347: =VLOOKUP(G347,'identifiants sorties'!$A$2:$E$158,2,FALSE) -> Tatem | I347: =VLOOKUP(G347,'identifiants sorties'!$A$2:$E$158,3,FALSE) -> Servgene | J347: =VLOOKUP(G347,'identifiants sorties'!$A$2:$E$158,4,FALSE) -> Rh
A348: 121401 | B348: =IF(A348<>"",INDEX(BASE!$A$2:$C$1538,MATCH(A348,BASE!$A$2:$A$1538,0),2),"") -> RUBAN SCOTCH TRANSP.550 19x33 | C348: 3 | D348: =VLOOKUP(A348,BASE!$A$4:$F$538,4,FALSE) -> 0.82 | E348: =IF(C348="","",C348*D348) -> 2.46 | F348: 41681 | G348: OTA | H348: =VLOOKUP(G348,'identifiants sorties'!$A$2:$E$158,2,FALSE) -> Tatem | I348: =VLOOKUP(G348,'identifiants sorties'!$A$2:$E$158,3,FALSE) -> Servgene | J348: =VLOOKUP(G348,'identifiants sorties'!$A$2:$E$158,4,FALSE) -> Rh
A349: 105211 | B349: =IF(A349<>"",INDEX(BASE!$A$2:$C$1538,MATCH(A349,BASE!$A$2:$A$1538,0),2),"") -> CUTTER PLASTIQUE 9mm (0139) | C349: 1 | D349: =VLOOKUP(A349,BASE!$A$4:$F$538,4,FALSE) -> 0.7 | E349: =IF(C349="","",C349*D349) -> 0.7 | F349: 41681 | G349: OTA | H349: =VLOOKUP(G349,'identifiants sorties'!$A$2:$E$158,2,FALSE) -> Tatem | I349: =VLOOKUP(G349,'identifiants sorties'!$A$2:$E$158,3,FALSE) -> Servgene | J349: =VLOOKUP(G349,'identifiants sorties'!$A$2:$E$158,4,FALSE) -> Rh
A350: 107204 | B350: =IF(A350<>"",INDEX(BASE!$A$2:$C$1538,MATCH(A350,BASE!$A$2:$A$1538,0),2),"") -> FLACON CORRECTEUR RAPID TIPPEX APPLICATEUR MOUSSE 20ml | C350: 1 | D350: =VLOOKUP(A350,BASE!$A$4:$F$538,4,FALSE) -> 1.16 | E350: =IF(C350="","",C350*D350) -> 1.16 | F350: 41681 | G350: OTA | H350: =VLOOKUP(G350,'identifiants sorties'!$A$2:$E$158,2,FALSE) -> Tatem | I350: =VLOOKUP(G350,'identifiants sorties'!$A$2:$E$158,3,FALSE) -> Servgene | J350: =VLOOKUP(G350,'identifiants sorties'!$A$2:$E$158,4,FALSE) -> Rh
A351: 107505 | B351: =IF(A351<>"",INDEX(BASE!$A$2:$C$1538,MATCH(A351,BASE!$A$2:$A$1538,0),2),"") -> MINI POCKET MOUSE TIPP-EX 6mm | C351: 3 | D351: =VLOOKUP(A351,BASE!$A$4:$F$538,4,FALSE) -> 1.16 | E351: =IF(C351="","",C351*D351) -> 3.48 | F351: 41681 | G351: OTA | H351: =VLOOKUP(G351,'identifiants sorties'!$A$2:$E$158,2,FALSE) -> Tatem | I351: =VLOOKUP(G351,'identifiants sorties'!$A$2:$E$158,3,FALSE) -> Servgene | J351: =VLOOKUP(G351,'identifiants sorties'!$A$2:$E$158,4,FALSE) -> Rh
... A504: 42500 | B504: =IF(A504<>"",INDEX(BASE!$A$2:$C$1538,MATCH(A504,BASE!$A$2:$A$1538,0),2),"") -> ROULEAU ECO | C504: 5 | D504: =VLOOKUP(A504,BASE!$A$4:$F$538,4,FALSE) -> 3 | E504: =IF(C504="","",C504*D504) -> 15 | F504: 41688 | G504: MHU | H504: =VLOOKUP(G504,'identifiants sorties'!$A$2:$E$158,2,FALSE) -> Hurel | I504: =VLOOKUP(G504,'identifiants sorties'!$A$2:$E$158,3,FALSE) -> Servgene | J504: =VLOOKUP(G504,'identifiants sorties'!$A$2:$E$158,4,FALSE) -> Entretien
A505: C42.142 | B505: =IF(A505<>"",INDEX(BASE!$A$2:$C$1538,MATCH(A505,BASE!$A$2:$A$1538,0),2),"") -> SAC POUBELLES 110L | C505: 1 | D505: =VLOOKUP(A505,BASE!$A$4:$F$538,4,FALSE) -> 4.99 | E505: =IF(C505="","",C505*D505) -> 4.99 | F505: 41688 | G505: MHU | H505: =VLOOKUP(G505,'identifiants sorties'!$A$2:$E$158,2,FALSE) -> Hurel | I505: =VLOOKUP(G505,'identifiants sorties'!$A$2:$E$158,3,FALSE) -> Servgene | J505: =VLOOKUP(G505,'identifiants sorties'!$A$2:$E$158,4,FALSE) -> Entretien
A506: C42.050 | B506: =IF(A506<>"",INDEX(BASE!$A$2:$C$1538,MATCH(A506,BASE!$A$2:$A$1538,0),2),"") -> SAC POUBELLES 50L | C506: 1 | D506: =VLOOKUP(A506,BASE!$A$4:$F$538,4,FALSE) -> 2.79 | E506: =IF(C506="","",C506*D506) -> 2.79 | F506: 41688 | G506: MHU | H506: =VLOOKUP(G506,'identifiants sorties'!$A$2:$E$158,2,FALSE) -> Hurel | I506: =VLOOKUP(G506,'identifiants sorties'!$A$2:$E$158,3,FALSE) -> Servgene | J506: =VLOOKUP(G506,'identifiants sorties'!$A$2:$E$158,4,FALSE) -> Entretien
A507: C42.522 | B507: =IF(A507<>"",INDEX(BASE!$A$2:$C$1538,MATCH(A507,BASE!$A$2:$A$1538,0),2),"") -> SAC POUBELLES 30L | C507: 1 | D507: =VLOOKUP(A507,BASE!$A$4:$F$538,4,FALSE) -> 2.49 | E507: =IF(C507="","",C507*D507) -> 2.49 | F507: 41688 | G507: MHU | H507: =VLOOKUP(G507,'identifiants sorties'!$A$2:$E$158,2,FALSE) -> Hurel | I507: =VLOOKUP(G507,'identifiants sorties'!$A$2:$E$158,3,FALSE) -> Servgene | J507: =VLOOKUP(G507,'identifiants sorties'!$A$2:$E$158,4,FALSE) -> Entretien
A508: 272 | B508: =IF(A508<>"",INDEX(BASE!$A$2:$C$1538,MATCH(A508,BASE!$A$2:$A$1538,0),2),"") -> GANTS VINYLE 8 1/2 | C508: 6 | D508: =VLOOKUP(A508,BASE!$A$4:$F$538,4,FALSE) -> 0.0296 | E508: =IF(C508="","",C508*D508) -> 0.1776 | F508: 41688 | G508: MHU | H508: =VLOOKUP(G508,'identifiants sorties'!$A$2:$E$158,2,FALSE) -> Hurel | I508: =VLOOKUP(G508,'identifiants sorties'!$A$2:$E$158,3,FALSE) -> Servgene | J508: =VLOOKUP(G508,'identifiants sorties'!$A$2:$E$158,4,FALSE) -> Entretien
A509: 257 | B509: =IF(A509<>"",INDEX(BASE!$A$2:$C$1538,MATCH(A509,BASE!$A$2:$A$1538,0),2),"") -> INTO | C509: 1 | D509: =VLOOKUP(A509,BASE!$A$4:$F$538,4,FALSE) -> 3.05 | E509: =IF(C509="","",C509*D509) -> 3.05 | F509: 41688 | G509: LED | H509: =VLOOKUP(G509,'identifiants sorties'!$A$2:$E$158,2,FALSE) -> Edelblut | I509: =VLOOKUP(G509,'identifiants sorties'!$A$2:$E$158,3,FALSE) -> Servgene | J509: =VLOOKUP(G509,'identifiants sorties'!$A$2:$E$158,4,FALSE) -> Entretien
A510: 217 | B510: =IF(A510<>"",INDEX(BASE!$A$2:$C$1538,MATCH(A510,BASE!$A$2:$A$1538,0),2),"") -> LAVETTE SYNTHETIQUE VERTE | C510: 1 | D510: =VLOOKUP(A510,BASE!$A$4:$F$538,4,FALSE) -> 0.37 | E510: =IF(C510="","",C510*D510) -> 0.37 | F510: 41688 | G510: LED | H510: =VLOOKUP(G510,'identifiants sorties'!$A$2:$E$158,2,FALSE) -> Edelblut | I510: =VLOOKUP(G510,'identifiants sorties'!$A$2:$E$158,3,FALSE) -> Servgene | J510: =VLOOKUP(G510,'identifiants sorties'!$A$2:$E$158,4,FALSE) -> Entretien
A511: 252 | B511: =IF(A511<>"",INDEX(BASE!$A$2:$C$1538,MATCH(A511,BASE!$A$2:$A$1538,0),2),"") -> LAVETTE MICROFIBRE BLEUE | C511: 2 | D511: =VLOOKUP(A511,BASE!$A$4:$F$538,4,FALSE) -> 0.51 | E511: =IF(C511="","",C511*D511) -> 1.02 | F511: 41688 | G511: LED | H511: =VLOOKUP(G511,'identifiants sorties'!$A$2:$E$158,2,FALSE) -> Edelblut | I511: =VLOOKUP(G511,'identifiants sorties'!$A$2:$E$158,3,FALSE) -> Servgene | J511: =VLOOKUP(G511,'identifiants sorties'!$A$2:$E$158,4,FALSE) -> Entretien
A512: 255 | B512: =IF(A512<>"",INDEX(BASE!$A$2:$C$1538,MATCH(A512,BASE!$A$2:$A$1538,0),2),"") -> LAVETTE MICROFIBRE ROSE | C512: 2 | D512: =VLOOKUP(A512,BASE!$A$4:$F$538,4,FALSE) -> 0.51 | E512: =IF(C512="","",C512*D512) -> 1.02 | F512: 41688 | G512: LED | H512: =VLOOKUP(G512,'identifiants sorties'!$A$2:$E$158,2,FALSE) -> Edelblut | I512: =VLOOKUP(G512,'identifiants sorties'!$A$2:$E$158,3,FALSE) -> Servgene | J512: =VLOOKUP(G512,'identifiants sorties'!$A$2:$E$158,4,FALSE) -> Entretien
A513: 209 | B513: =IF(A513<>"",INDEX(BASE!$A$2:$C$1538,MATCH(A513,BASE!$A$2:$A$1538,0),2),"") -> EPONGE A RECURER | C513: 1 | D513: =VLOOKUP(A513,BASE!$A$4:$F$538,4,FALSE) -> 1.025 | E513: =IF(C513="","",C513*D513) -> 1.025 | F513: 41688 | G513: LED | H513: =VLOOKUP(G513,'identifiants sorties'!$A$2:$E$158,2,FALSE) -> Edelblut | I513: =VLOOKUP(G513,'identifiants sorties'!$A$2:$E$158,3,FALSE) -> Servgene | J513: =VLOOKUP(G513,'identifiants sorties'!$A$2:$E$158,4,FALSE) -> Entretien
A514: 975 | B514: =IF(A514<>"",INDEX(BASE!$A$2:$C$1538,MATCH(A514,BASE!$A$2:$A$1538,0),2),"") -> AJAX VITRES | C514: 1 | D514: =VLOOKUP(A514,BASE!$A$4:$F$538,4,FALSE) -> 1.84 | E514: =IF(C514="","",C514*D514) -> 1.84 | F514: 41688 | G514: LED | H514: =VLOOKUP(G514,'identifiants sorties'!$A$2:$E$158,2,FALSE) -> Edelblut | I514: =VLOOKUP(G514,'identifiants sorties'!$A$2:$E$158,3,FALSE) -> Servgene | J514: =VLOOKUP(G514,'identifiants sorties'!$A$2:$E$158,4,FALSE) -> Entretien
A515: 3902 | B515: =IF(A515<>"",INDEX(BASE!$A$2:$C$1538,MATCH(A515,BASE!$A$2:$A$1538,0),2),"") -> ULTRA NEUF | C515: 1 | D515: =VLOOKUP(A515,BASE!$A$4:$F$538,4,FALSE) -> 2.79 | E515: =IF(C515="","",C515*D515) -> 2.79 | F515: 41688 | G515: LED | H515: =VLOOKUP(G515,'identifiants sorties'!$A$2:$E$158,2,FALSE) -> Edelblut | I515: =VLOOKUP(G515,'identifiants sorties'!$A$2:$E$158,3,FALSE) -> Servgene | J515: =VLOOKUP(G515,'identifiants sorties'!$A$2:$E$158,4,FALSE) -> Entretien
A516: 4091 | B516: =IF(A516<>"",INDEX(BASE!$A$2:$C$1538,MATCH(A516,BASE!$A$2:$A$1538,0),2),"") -> ULTRA BAC | C516: 1 | D516: =VLOOKUP(A516,BASE!$A$4:$F$538,4,FALSE) -> 3.71 | E516: =IF(C516="","",C516*D516) -> 3.71 | F516: 41688 | G516: LED | H516: =VLOOKUP(G516,'identifiants sorties'!$A$2:$E$158,2,FALSE) -> Edelblut | I516: =VLOOKUP(G516,'identifiants sorties'!$A$2:$E$158,3,FALSE) -> Servgene | J516: =VLOOKUP(G516,'identifiants sorties'!$A$2:$E$158,4,FALSE) -> Entretien
A517: 505080 | B517: =IF(A517<>"",INDEX(BASE!$A$2:$C$1538,MATCH(A517,BASE!$A$2:$A$1538,0),2),"") -> SAVON 800ML | C517: 2 | D517: =VLOOKUP(A517,BASE!$A$4:$F$538,4,FALSE) -> 3.058 | E517: =IF(C517="","",C517*D517) -> 6.116 | F517: 41688 | G517: LED | H517: =VLOOKUP(G517,'identifiants sorties'!$A$2:$E$158,2,FALSE) -> Edelblut | I517: =VLOOKUP(G517,'identifiants sorties'!$A$2:$E$158,3,FALSE) -> Servgene | J517: =VLOOKUP(G517,'identifiants sorties'!$A$2:$E$158,4,FALSE) -> Entretien
A518: 35038 | B518: =IF(A518<>"",INDEX(BASE!$A$2:$C$1538,MATCH(A518,BASE!$A$2:$A$1538,0),2),"") -> GAZES IMPREGNEES | C518: 1 | D518: =VLOOKUP(A518,BASE!$A$4:$F$538,4,FALSE) -> 68.66 | E518: =IF(C518="","",C518*D518) -> 68.66 | F518: 41688 | G518: LED | H518: =VLOOKUP(G518,'identifiants sorties'!$A$2:$E$158,2,FALSE) -> Edelblut | I518: =VLOOKUP(G518,'identifiants sorties'!$A$2:$E$158,3,FALSE) -> Servgene | J518: =VLOOKUP(G518,'identifiants sorties'!$A$2:$E$158,4,FALSE) -> Entretien
A519: C42.142 | B519: =IF(A519<>"",INDEX(BASE!$A$2:$C$1538,MATCH(A519,BASE!$A$2:$A$1538,0),2),"") -> SAC POUBELLES 110L | C519: 1 | D519: =VLOOKUP(A519,BASE!$A$4:$F$538,4,FALSE) -> 4.99 | E519: =IF(C519="","",C519*D519) -> 4.99 | F519: 41688 | G519: LED | H519: =VLOOKUP(G519,'identifiants sorties'!$A$2:$E$158,2,FALSE) -> Edelblut | I519: =VLOOKUP(G519,'identifiants sorties'!$A$2:$E$158,3,FALSE) -> Servgene | J519: =VLOOKUP(G519,'identifiants sorties'!$A$2:$E$158,4,FALSE) -> Entretien
A520: C42.050 | B520: =IF(A520<>"",INDEX(BASE!$A$2:$C$1538,MATCH(A520,BASE!$A$2:$A$1538,0),2),"") -> SAC POUBELLES 50L | C520: 1 | D520: =VLOOKUP(A520,BASE!$A$4:$F$538,4,FALSE) -> 2.79 | E520: =IF(C520="","",C520*D520) -> 2.79 | F520: 41688 | G520: LED | H520: =VLOOKUP(G520,'identifiants sorties'!$A$2:$E$158,2,FALSE) -> Edelblut | I520: =VLOOKUP(G520,'identifiants sorties'!$A$2:$E$158,3,FALSE) -> Servgene | J520: =VLOOKUP(G520,'identifiants sorties'!$A$2:$E$158,4,FALSE) -> Entretien
A521: C42.522 | B521: =IF(A521<>"",INDEX(BASE!$A$2:$C$1538,MATCH(A521,BASE!$A$2:$A$1538,0),2),"") -> SAC POUBELLES 30L | C521: 1 | D521: =VLOOKUP(A521,BASE!$A$4:$F$538,4,FALSE) -> 2.49 | E521: =IF(C521="","",C521*D521) -> 2.49 | F521: 41688 | G521: LED | H521: =VLOOKUP(G521,'identifiants sorties'!$A$2:$E$158,2,FALSE) -> Edelblut | I521: =VLOOKUP(G521,'identifiants sorties'!$A$2:$E$158,3,FALSE) -> Servgene | J521: =VLOOKUP(G521,'identifiants sorties'!$A$2:$E$158,4,FALSE) -> Entretien
A522: C42.510 | B522: =IF(A522<>"",INDEX(BASE!$A$2:$C$1538,MATCH(A522,BASE!$A$2:$A$1538,0),2),"") -> SAC POUBELLES 10L | C522: 1 | D522: =VLOOKUP(A522,BASE!$A$4:$F$538,4,FALSE) -> 2.69 | E522: =IF(C522="","",C522*D522) -> 2.69 | F522: 41688 | G522: LED | H522: =VLOOKUP(G522,'identifiants sorties'!$A$2:$E$158,2,FALSE) -> Edelblut | I522: =VLOOKUP(G522,'identifiants sorties'!$A$2:$E$158,3,FALSE) -> Servgene | J522: =VLOOKUP(G522,'identifiants sorties'!$A$2:$E$158,4,FALSE) -> Entretien
A523: 271 | B523: =IF(A523<>"",INDEX(BASE!$A$2:$C$1538,MATCH(A523,BASE!$A$2:$A$1538,0),2),"") -> GANTS VINYLE 7 1/2 | C523: 1 | D523: =VLOOKUP(A523,BASE!$A$4:$F$538,4,FALSE) -> 0.35 | E523: =IF(C523="","",C523*D523) -> 0.35 | F523: 41688 | G523: LED | H523: =VLOOKUP(G523,'identifiants sorties'!$A$2:$E$158,2,FALSE) -> Edelblut | I523: =VLOOKUP(G523,'identifiants sorties'!$A$2:$E$158,3,FALSE) -> Servgene | J523: =VLOOKUP(G523,'identifiants sorties'!$A$2:$E$158,4,FALSE) -> Entretien
A524: 950 | B524: =IF(A524<>"",INDEX(BASE!$A$2:$C$1538,MATCH(A524,BASE!$A$2:$A$1538,0),2),"") -> GANTS MAPA ROSE 7 1/2 | C524: 1 | D524: =VLOOKUP(A524,BASE!$A$4:$F$538,4,FALSE) -> 0.34 | E524: =IF(C524="","",C524*D524) -> 0.34 | F524: 41688 | G524: LED | H524: =VLOOKUP(G524,'identifiants sorties'!$A$2:$E$158,2,FALSE) -> Edelblut | I524: =VLOOKUP(G524,'identifiants sorties'!$A$2:$E$158,3,FALSE) -> Servgene | J524: =VLOOKUP(G524,'identifiants sorties'!$A$2:$E$158,4,FALSE) -> Entretien
A525: 10925 | B525: =IF(A525<>"",INDEX(BASE!$A$2:$C$1538,MATCH(A525,BASE!$A$2:$A$1538,0),2),"") -> FRANGE MICROFIBRE | C525: 1 | D525: =VLOOKUP(A525,BASE!$A$4:$F$538,4,FALSE) -> 9.9 | E525: =IF(C525="","",C525*D525) -> 9.9 | F525: 41688 | G525: LED | H525: =VLOOKUP(G525,'identifiants sorties'!$A$2:$E$158,2,FALSE) -> Edelblut | I525: =VLOOKUP(G525,'identifiants sorties'!$A$2:$E$158,3,FALSE) -> Servgene | J525: =VLOOKUP(G525,'identifiants sorties'!$A$2:$E$158,4,FALSE) -> Entretien
A526: 42500 | B526: =IF(A526<>"",INDEX(BASE!$A$2:$C$1538,MATCH(A526,BASE!$A$2:$A$1538,0),2),"") -> ROULEAU ECO | C526: 12 | D526: =VLOOKUP(A526,BASE!$A$4:$F$538,4,FALSE) -> 3 | E526: =IF(C526="","",C526*D526) -> 36 | F526: 41688 | G526: APA | H526: =VLOOKUP(G526,'identifiants sorties'!$A$2:$E$158,2,FALSE) -> Apajh | I526: =VLOOKUP(G526,'identifiants sorties'!$A$2:$E$158,3,FALSE) -> Servgene | J526: =VLOOKUP(G526,'identifiants sorties'!$A$2:$E$158,4,FALSE) -> Entretien
A527: 505080 | B527: =IF(A527<>"",INDEX(BASE!$A$2:$C$1538,MATCH(A527,BASE!$A$2:$A$1538,0),2),"") -> SAVON 800ML | C527: 5 | D527: =VLOOKUP(A527,BASE!$A$4:$F$538,4,FALSE) -> 3.058 | E527: =IF(C527="","",C527*D527) -> 15.29 | F527: 41688 | G527: APA | H527: =VLOOKUP(G527,'identifiants sorties'!$A$2:$E$158,2,FALSE) -> Apajh | I527: =VLOOKUP(G527,'identifiants sorties'!$A$2:$E$158,3,FALSE) -> Servgene | J527: =VLOOKUP(G527,'identifiants sorties'!$A$2:$E$158,4,FALSE) -> Entretien
A528: 206403 | B528: =IF(A528<>"",INDEX(BASE!$A$2:$C$1538,MATCH(A528,BASE!$A$2:$A$1538,0),2),"") -> A+B CLASSEUR LEVIER 8cm ROUGE | C528: 2 | D528: =VLOOKUP(A528,BASE!$A$4:$F$538,4,FALSE) -> 1.09 | E528: =IF(C528="","",C528*D528) -> 2.18 | F528: 41688 | G528: CBO | H528: =VLOOKUP(G528,'identifiants sorties'!$A$2:$E$158,2,FALSE) -> Bourdrel | I528: =VLOOKUP(G528,'identifiants sorties'!$A$2:$E$158,3,FALSE) -> Etudes-DF | J528: =VLOOKUP(G528,'identifiants sorties'!$A$2:$E$158,4,FALSE) -> Fonctetudes
A529: 206418 | B529: =IF(A529<>"",INDEX(BASE!$A$2:$C$1538,MATCH(A529,BASE!$A$2:$A$1538,0),2),"") -> A+B CLASSEUR LEVIER 8cm NOIR | C529: 2 | D529: =VLOOKUP(A529,BASE!$A$4:$F$538,4,FALSE) -> 1.09 | E529: =IF(C529="","",C529*D529) -> 2.18 | F529: 41688 | G529: CBO | H529: =VLOOKUP(G529,'identifiants sorties'!$A$2:$E$158,2,FALSE) -> Bourdrel | I529: =VLOOKUP(G529,'identifiants sorties'!$A$2:$E$158,3,FALSE) -> Etudes-DF | J529: =VLOOKUP(G529,'identifiants sorties'!$A$2:$E$158,4,FALSE) -> Fonctetudes
A530: 203108 | B530: =IF(A530<>"",INDEX(BASE!$A$2:$C$1538,MATCH(A530,BASE!$A$2:$A$1538,0),2),"") -> CHEMISE A SANGLE GRIS DOS TOILE | C530: 2 | D530: =VLOOKUP(A530,BASE!$A$4:$F$538,4,FALSE) -> 0.95 | E530: =IF(C530="","",C530*D530) -> 1.9 | F530: 41688 | G530: CBO | H530: =VLOOKUP(G530,'identifiants sorties'!$A$2:$E$158,2,FALSE) -> Bourdrel | I530: =VLOOKUP(G530,'identifiants sorties'!$A$2:$E$158,3,FALSE) -> Etudes-DF | J530: =VLOOKUP(G530,'identifiants sorties'!$A$2:$E$158,4,FALSE) -> Fonctetudes
A531: 119177 | B531: =IF(A531<>"",INDEX(BASE!$A$2:$C$1538,MATCH(A531,BASE!$A$2:$A$1538,0),2),"") -> UNI BALL VISION ELITE 0,6 MM NOIR | C531: 2 | D531: =VLOOKUP(A531,BASE!$A$4:$F$538,4,FALSE) -> 3.01 | E531: =IF(C531="","",C531*D531) -> 6.02 | F531: 41688 | G531: CBO | H531: =VLOOKUP(G531,'identifiants sorties'!$A$2:$E$158,2,FALSE) -> Bourdrel | I531: =VLOOKUP(G531,'identifiants sorties'!$A$2:$E$158,3,FALSE) -> Etudes-DF | J531: =VLOOKUP(G531,'identifiants sorties'!$A$2:$E$158,4,FALSE) -> Fonctetudes
A532: 3820 | B532: =IF(A532<>"",INDEX(BASE!$A$2:$C$1538,MATCH(A532,BASE!$A$2:$A$1538,0),2),"") -> DOSETTES | C532: 5 | D532: =VLOOKUP(A532,BASE!$A$4:$F$538,4,FALSE) -> 0.07 | E532: =IF(C532="","",C532*D532) -> 0.35 | F532: 41690 | G532: CDE | H532: =VLOOKUP(G532,'identifiants sorties'!$A$2:$E$158,2,FALSE) -> Devogelaere | I532: =VLOOKUP(G532,'identifiants sorties'!$A$2:$E$158,3,FALSE) -> Servgene | J532: =VLOOKUP(G532,'identifiants sorties'!$A$2:$E$158,4,FALSE) -> Entretien
A533: 3820 | B533: =IF(A533<>"",INDEX(BASE!$A$2:$C$1538,MATCH(A533,BASE!$A$2:$A$1538,0),2),"") -> DOSETTES | C533: 5 | D533: =VLOOKUP(A533,BASE!$A$4:$F$538,4,FALSE) -> 0.07 | E533: =IF(C533="","",C533*D533) -> 0.35 | F533: 41690 | G533: CCH | H533: =VLOOKUP(G533,'identifiants sorties'!$A$2:$E$158,2,FALSE) -> Chrétien | I533: =VLOOKUP(G533,'identifiants sorties'!$A$2:$E$158,3,FALSE) -> Servgene | J533: =VLOOKUP(G533,'identifiants sorties'!$A$2:$E$158,4,FALSE) -> Entretien
A534: 3820 | B534: =IF(A534<>"",INDEX(BASE!$A$2:$C$1538,MATCH(A534,BASE!$A$2:$A$1538,0),2),"") -> DOSETTES | C534: 5 | D534: =VLOOKUP(A534,BASE!$A$4:$F$538,4,FALSE) -> 0.07 | E534: =IF(C534="","",C534*D534) -> 0.35 | F534: 41690 | G534: MGI | H534: =VLOOKUP(G534,'identifiants sorties'!$A$2:$E$158,2,FALSE) -> Girard | I534: =VLOOKUP(G534,'identifiants sorties'!$A$2:$E$158,3,FALSE) -> Servgene | J534: =VLOOKUP(G534,'identifiants sorties'!$A$2:$E$158,4,FALSE) -> Entretien
...

Sheet identifiants sorties
A1: Nom | B1: Prénom | C1: Axe | D1: Code | E1: Détails
A2: ACH | B2: Charuau | C2: Servgene | D2: Servfin
A3: ACR | B3: Cristol | C3: Deptecl | D3: Sc/Matiére | E3: Matériaux
A4: ADE | B4: Dekimpe | C4: Servgene | D4: Servfin
A5: ADEP | B5: Deparcy | C5: Deptecl | D5: Méca | E5: Fab-Mec
A6: ADES | B6: Desbuquoy | C6: Servgene | D6: Entretien | E6: 1 et 2 BAT E
A7: AEH | B7: EHRHARDT | C7: Servgene | D7: Eléves | E7: Centrale Lille Projet
A8: AGA | B8: Gatelier | C8: Servgene | D8: Eléves | E8: JE
A9: AHA | B9: Haddid | C9: Etudes-DF | D9: Fonctetudes
A10: AHU | B10: Husson | C10: IG2I | D10: Dépenses
A11: ALE | B11: Lemeitour | C11: Servgene | D11: Eléves | E11: JE
A12: AMA | B12: Marcotte | C12: Servgene | D12: RH
A13: AME | B13: Mejerevil | C13: Deptecl | D13: Sc/Matiére | E13: Fonderie
A14: AMO | B14: Mouze | C14: Deptecl | D14: Lagis
A15: APA | B15: Apajh | C15: Servgene | D15: Entretien | E15: Société nettoyage
A16: BFO | B16: Foncez | C16: Deptecl | D16: Math/Info
A17: BFON | B17: Foncez | C17: Deptecl | D17: Sc/Matiére | E17: Chimie
A18: BME | B18: Menu | C18: RI-DF | D18: Fonct
A19: BQU | B19: Quenon | C19: Systinfo-DF | D19: Fonctinfo
A20: BST | B20: Stievenard | C20: Servgene | D20: FCD
A21: BSZ | B21: Szukala | C21: Deptecl | D21: EEA
A22: BVA | B22: Vanicatte | C22: Etudes-DF | D22: Fonctetudes
A23: BWA | B23: Warocquier | C23: Servgene | D23: Rh | E23: Accueil
A24: CBO | B24: Bourdrel | C24: Etudes-DF | D24: Fonctetudes
A25: CBOT | B25: Botteau | C25: Deptecl | D25: Sc/Matiére | E25: Fonderie
A26: CCH | B26: Chrétien | C26: Servgene | D26: Entretien
A27: CDE | B27: Devogelaere | C27: Servgene | D27: Entretien
A28: CDH | B28: Dhenry | C28: Systinfo-DF | D28: Fonctinfo
A29: CGA | B29: Gaussot | C29: Servgene | D29: Rh
A30: CGAU | B30: Gauthiez | C30: Deptecl | D30: AGR
A31: CHE | B31: Herchuelz | C31: Dirgen | D31: Fonct
A32: CLE | B32: Ledrue | C32: Rech-DF | D32: Valorisation
A33: CNI | B33: Niclaeys | C33: Deptecl | D33: Méca | E33: MSO
A34: CPR | B34: Prevost | C34: RI-DF | D34: Fonct
A35: CPRE | B35: Prevost | C35: Iteem | D35: Logistique
A36: CRY | B36: Rymeck | C36: Deptecl | D36: EEA
A37: CST | B37: Stievenard | C37: Systinfo-DF | D37: Fonctinfo
A38: CSTI | B38: Stievenard | C38: Servgene | D38: Servfin | E38: inventaire
A39: CVA | B39: Van dewoestyne | C39: Deptecl | D39: Entr/société
A40: CVI | B40: Vion | C40: Deptecl | D40: AGR
A41: CYV | B41: Yvoz | C41: Deptecl | D41: Lagis
A42: CYVO | B42: Yvoz | C42: Deptecl | D42: Lagis | E42: Ecole
A43: DAA | B43: Aabar | C43: Servgene | D43: Servfin
A44: DBA | B44: Baranowski | C44: Deptecl | D44: Méca | E44: Fab-Mec
A45: DBAL | B45: Balloy | C45: Deptecl | D45: Sc/Matiére
A46: DBR | B46: Brégovic | C46: Deptecl | D46: AGR | E46: Résidence
A47: DCO | B47: Corbeel | C47: Deptecl | D47: Math/Info
A48: DKA | B48: Kouane | C48: Etudes-DF | D48: Fonctetudes
A49: DLE | B49: Lepicart | C49: Deptecl | D49: Sc/Matiére | E49: Méca
A50: DNA | B50: Najjar | C50: Deptecl | D50: Sc/Matiére | E50: Fonderie
A51: DRI | B51: Riviére | C51: Deptecl | D51: AGR
A52: DRIV | B52: Riviére | C52: Servgene | D52: Servfin
A53: DTE | B53: Terly | C53: Servgene | D53: Entretien | E53: 3 éme Bat C
A54: EBO | B54: Bourgery | C54: Servgene | D54: Servfin
A55: EBOURD | B55: Bourdrel | C55: Servgene | D55: Magasin
A56: ECO | B56: Costantini | C56: Servgene | D56: Entretien | E56: Atelier
A57: EDO | B57: Dolhen | C57: Etudes-DF | D57: Fonctetudes
A58: EWA | B58: Eliard | C58: Servgene | D58: Rh
A59: FDA | B59: Dabin | C59: Iteem | D59: Logistique
A60: FDE | B60: Delepaut | C60: Deptecl | D60: Méca | E60: Cons-Mec
A61: FDU | B61: Dutilleul | C61: Servgene | D61: Servfin
A62: FED | B62: Eddoumi | C62: Deptecl | D62: Méca | E62: Cons-Mec
A63: FLE | B63: Lesaffre | C63: Deptecl | D63: Sc/Matiére | E63: Fonderie
A64: FLEG | B64: Léger | C64: Deptecl | D64: Entr/sociéte
A65: FPE | B65: Peeters | C65: Servgene | D65: Rh
A66: GCL | B66: Clèmens | C66: Servgene | D66: Com
A67: HCA | B67: Carlier | C67: Servgene | D67: Entretien | E67: Admin
A68: HRO | B68: Rossi | C68: Deptecl | D68: EEA
A69: IDE | B69: Delattre | C69: Entr-DF | D69: Fonctentr
A70: JAN | B70: André | C70: Rech-DF | D70: Valorisation
A71: JBO | B71: Bout | C71: Servgene | D71: Entretien | E71: Atelier
A72: JCH | B72: Chatriot | C72: Systinfo-DF | D72: Fonctinfo
A73: JDE | B73: Deltourbe | C73: Deptecl | D73: Méca | E73: Cons-Mec
A74: JDEL | B74: Delsalle | C74: Servgene | D74: Entretien
A75: JFA | B75: Fargue | C75: Deptecl | D75: Ingiénerie
A76: JFO | B76: Foucaut | C76: Deptecl | D76: Sc/Matiére
A77: JGI | B77: Gilibert | C77: Deptecl | D77: Méca
A78: JJE | B78: Jezequel | C78: Deptecl | D78: Sc/Matiére | E78: Chimie
A79: JLA | B79: Lasue | C79: Deptecl | D79: EEA
A80: JVE | B80: Verin | C80: Deptecl | D80: Méca | E80: Fab-Mec
A81: KBO | B81: Bounvilay | C81: Deptecl | D81: EEA
A82: KCO | B82: Coquant | C82: Servgene | D82: Entretien | E82: Remplacement
A83: KDU | B83: Duret | C83: Deptecl | D83: Sc/Matiére | E83: Chimie
A84: KGH | B84: Ghesquier | C84: Entr-DF | D84: Fonctentr
A85: LED | B85: Edelblut | C85: Servgene | D85: Entretien
A86: LHO | B86: Houttemane | C86: Systinfo-DF | D86: Fonctinfo
A87: LLE | B87: Lecomte | C87: Systinfo-DF | D87: Fonctinfo
A88: LME | B88: Menez | C88: Servgene | D88: Magasin
A89: LPA | B89: Paindavoine | C89: Servgene | D89: Entretien | E89: 2,3,4 Bat E
A90: LPAI | B90: Paindavoine | C90: Servgene | D90: Entretien | E90: Remplacement
A91: LPR | B91: Prouvost | C91: Dirgen | D91: Com
A92: LRU | B92: Ruther | C92: Servgene | D92: Entretien | E92: Atelier
A93: LST | B93: Lacroix | C93: Servgene | D93: RH
A94: LWE | B94: Wei | C94: Deptecl | D94: Entr/sociéte
A95: MBO | B95: Boulogne | C95: Servgene | D95: RH | E95: Accueil
A96: MBO | B96: Bourey | C96: Systinfo-DF | D96: Fonctinfo
A97: MBU | B97: Bukowski | C97: RI-DF | D97: Fonct
A98: MDA | B98: Daubercies | C98: Systinfo-DF | D98: Fonctinfo
A99: MDE | B99: Delooz | C99: Servgene | D99: Magasin
A100: MDU | B100: Ducron | C100: Servgene | D100: Servfin
...

Sheet BASE
B2: LISTE FOURNITURES ALTERBURO
A4: Code | B4: Désignation | C4: Prix | D4: Prix Magasin | E4: Page | F4: Fournisseur
A5: 1 | B5: BLOC DATE A GAUCHE | C5: 1.57 | D5: 1.57
A6: 2 | B6: SUPPORT DE BLOC | C6: 0.97 | D6: 0.97
A7: 3 | B7: CALENDRIER | C7: 0.81 | D7: 0.81
A8: 4 | B8: CALENDRIER 13 MOIS 1 FACE | C8: 1.56 | D8: 1.56
A9: 5 | B9: AGENDA SEPT/SEPT 21X27 | C9: 2.99 | D9: 2.99
A10: 6 | B10: AGENDA SEPT/SEPT 21x29,7 EU09 | C10: 15.9 | D10: 15.9
A11: 7 | B11: AGENDA SEPT/SEPT 16X24 | C11: 1.92 | D11: 1.92
A12: 8 | B12: AGENDA SEPT/SEPT 10X15 | C12: 1.08 | D12: 1.08
A13: 209 | B13: EPONGE A RECURER | C13: 10.25 | D13: 1.025 | F13: DEVLAEMYNCK
A14: 216 | B14: LAVETTE SYNTHETIQUE ROSE | C14: 3.65 | D14: 0.37 | F14: DEVLAEMYNCK
A15: 217 | B15: LAVETTE SYNTHETIQUE VERTE | C15: 3.65 | D15: 0.37 | F15: DEVLAEMYNCK
A16: 252 | B16: LAVETTE MICROFIBRE BLEUE | C16: 5.1 | D16: 0.51
A17: 255 | B17: LAVETTE MICROFIBRE ROSE | C17: 5.1 | D17: 0.51
A18: 257 | B18: INTO | C18: 3.05 | D18: 3.05 | F18: DEVLAEMYNCK
A19: 270 | B19: GANTS VINYLE 6 1/2 | C19: 2.96 | D19: 0.35 | F19: DEVLAEMYNCK
A20: 271 | B20: GANTS VINYLE 7 1/2 | C20: 2.96 | D20: 0.35 | F20: DEVLAEMYNCK
A21: 272 | B21: GANTS VINYLE 8 1/2 | C21: 2.96 | D21: 0.0296 | F21: DEVLAEMYNCK
A22: 949 | B22: GANTS MAPA ROSE 6 1/2 | C22: 0.34 | D22: 0.34 | F22: DEVLAEMYNCK
A23: 950 | B23: GANTS MAPA ROSE 7 1/2 | C23: 0.34 | D23: 0.34 | F23: DEVLAEMYNCK
A24: 951 | B24: GANST MAPA ROSE 8 1/2 | C24: 0.34 | D24: 0.34 | F24: DEVLAEMYNCK
A25: 975 | B25: AJAX VITRES | C25: 1.84 | D25: 1.84 | F25: DEVLAEMYNCK
A26: 3820 | B26: DOSETTES | C26: 17.61 | D26: 0.07 | F26: DEVLAEMYNCK
A27: 3902 | B27: ULTRA NEUF | C27: 2.79 | D27: 2.79 | F27: DEVLAEMYNCK
A28: 4091 | B28: ULTRA BAC | C28: 3.71 | D28: 3.71 | F28: ALTER BURO
A29: 5203 | B29: TAMPONS TRODAT | C29: 44.02 | D29: 44.02 | F29: BISMAN
... A39: 44210 | B39: ENVELOPPES DEMI FORMAT | C39: 0.07 | D39: 0.07 | F39: SEPIETER
A40: 50076 | B40: RALLONGE | C40: 11.07 | D40: 11.07
A41: 50508 | B41: SAVON AMPHOTENE | C41: 4.61 | D41: 4.61 | F41: MINOT APURA
A42: 51210 | B42: ENV GRAND FORMAT SANS FENETRE | C42: 0.08 | D42: 0.08 | F42: SEPIETER
A43: 62106 | B43: ENV DEMI FORMAT 162 X229 | C43: 0.07 | D43: 0.07 | F43: SEPIETER
A44: 78211 | B44: ENV A SOUFFLET | C44: 0.47 | D44: 0.47 | F44: SEPIETER
A45: 100026 | B45: AGRAFES SP19 1/4 5000 BOSTITCH | C45: 1.48 | D45: 1.48 | E45: 385 | F45: ALTER BURO
A46: 100363 | B46: CARTON MOUSSE | C46: 169 | D46: 169
A47: 100611 | B47: GOMME MARS PLASTIC COMBI STAEDTLER | C47: 0.95 | D47: 0.95 | E47: 285 | F47: ALTER BURO
A48: 101111 | B48: PINCE AGRAFEUSE BB | C48: 11.21 | D48: 11.21 | E48: 308 | F48: ALTER BURO
A49: 101120 | B49: PINCE AGRAFEUSE RAPID | C49: 10.75 | D49: 10.75 | F49: ALTER BURO
A50: 101621 | B50: OTE AGRAFES | C50: 0.35 | D50: 0.35 | E50: 293 | F50: ALTER BURO
A51: 101712 | B51: AGRAFES BB | C51: 1.08 | D51: 1.08 | E51: 308 | F51: ALTER BURO
A52: 101712 | B52: BOITE D'AGRAFES POUR AGRAFEUSE A+B | C52: 0.95 | D52: 0.95 | E52: 337 | F52: ALTER BURO
A53: 101729 | B53: AGRAFES TOT | C53: 0.59 | D53: 0.59
A54: 102114 | B54: BTE 1000TROMBONES CHEVRON 25mm | C54: 0.79 | D54: 0.79 | E54: 337 | F54: ALTER BURO
A55: 102116 | B55: BTE 1000TROMBONES CHEVRON 32mm | C55: 1.05 | D55: 1.05 | E55: 273 | F55: ALTER BURO
A56: 102121 | B56: BTE 100 ATTACHES GEANTES 32x40 | C56: 1.6 | D56: 1.6 | E56: 273 | F56: ALTER BURO
A57: 102122 | B57: BTE 100 ATTACHES GEANTES 47x53 | C57: 2.8 | D57: 2.8 | E57: 273 | F57: ALTER BURO
A58: 102131 | B58: BTE 100 TROMBONES ONDULES 50mm | C58: 0.85 | D58: 0.85 | E58: 273 | F58: ALTER BURO
A59: 102132 | B59: BTE 100 TROMBONES ONDULES 77mm | C59: 2.45 | D59: 2.45 | E59: 258 | F59: ALTER BURO
A60: 102221 | B60: BTE 500 EPING.TETE TRIANG.30mm | C60: 2.1 | D60: 2.1 | E60: 258 | F60: ALTER BURO
A61: 102411 | B61: BOITE 100 PUNAISES 3 POINTES | C61: 1 | D61: 1 | E61: 258 | F61: ALTER BURO
A62: 102421 | B62: BTE 100 PUNAISES ORDIN. N. 2 | C62: 0.48 | D62: 0.48 | E62: 254 | F62: ALTER BURO
A63: 102516 | B63: DOUZ. PINCE DOUBLE CLIP 19mm | C63: 0.45 | D63: 0.45 | E63: 254 | F63: ALTER BURO
A64: 102517 | B64: DOUZ. PINCE DOUBLE CLIP 24mm | C64: 0.55 | D64: 0.55 | E64: 254 | F64: ALTER BURO
A65: 102518 | B65: DOUZ. PINCE DOUBLE CLIP 32mm | C65: 0.82 | D65: 0.82 | E65: 254 | F65: ALTER BURO
... A90: 111104 | B90: BIC CRISTAL P.M. VERT | C90: 0.15 | D90: 0.15 | E90: 261 | F90: ALTER BURO
A91: 111180 | B91: PAPERMATE BLEU | C91: 1.07 | D91: 1.07 | F91: ALTER BURO
A92: 111181 | B92: PAPERMATE NOIR | C92: 1.07 | D92: 1.07 | F92: ALTER BURO
A93: 111201 | B93: BIC ORANGE P.F. BLEU | C93: 0.17 | D93: 0.17 | E93: 112 | F93: ALTER BURO
A94: 111202 | B94: BIC ORANGE P.F. NOIR | C94: 0.17 | D94: 0.17 | E94: 411 | F94: ALTER BURO
A95: 111501 | B95: BIC M10 RETRACTABLE P.M. BLEU | C95: 0.41 | D95: 0.41 | E95: 229 | F95: ALTER BURO
A96: 111502 | B96: BIC M10 RETRACTABLE P.M. NOIR | C96: 0.41 | D96: 0.41 | E96: 229 | F96: ALTER BURO
A97: 111503 | B97: BIC M10 RETRACTABLE P.M. ROUGE | C97: 0.41 | D97: 0.41 | E97: 229 | F97: ALTER BURO
A98: 111504 | B98: BIC M10 RETRACTABLE P.M. VERT | C98: 0.41 | D98: 0.41 | E98: 225 | F98: ALTER BURO
A99: 112712 | B99: STYLO BILLE S/SOCLE R.982 NOIR AVEC CHAINETTE | C99: 7 | D99: 7 | E99: 225 | F99: ALTER BURO
A100: 113232 | B100: RECH.BILLE INTERNATIONAL NOIR METAL P.M. | C100: 0.3 | D100: 0.3 | E100: 221 | F100: ALTER BURO
A101: 117291 | B101: STYLO FEUTRE V SIGNPEN NOIR SW-VSP | C101: 1.28 | D101: 1.2 | E101: 216 | F101: ALTER BURO
A102: 117292 | B102: STYLO FEUTRE V SIGNPEN BLEU SW-VSP | C102: 1.28 | D102: 1.28 | E102: 213 | F102: ALTER BURO
A103: 117300 | B103: ROLLER VISION ELITE UB205 NOIR ECRITURE FINE 0,3MM | C103: 1.38 | D103: 1.38 | F103: ALTER BURO
A104: 117302 | B104: ROLLER VISION ELITE UB205 BLEU ECRITURE FINE 0,3MM | C104: 1.38 | D104: 1.38 | E104: 221 | F104: ALTER BURO
A105: 118121 | B105: STYLO FEUTRE TEMPO NYLON BLEU | C105: 0.83 | D105: 0.83 | E105: 221 | F105: ALTER BURO
A106: 118122 | B106: STYLO FEUTRE TEMPO NYLON NOIR | C106: 0.83 | D106: 0.83 | E106: 221 | F106: ALTER BURO
A107: 118240 | B107: FEUTRE STYLIST 188 P.M BLEU | C107: 0.65 | D107: 0.65 | E107: 221 | F107: ALTER BURO
A108: 118241 | B108: FEUTRE STYLIST 188 P.M NOIR | C108: 0.65 | D108: 0.65 | E108: 221 | F108: ALTER BURO
A109: 118242 | B109: FEUTRE STYLIST 188 P.M ROUGE | C109: 0.65 | D109: 0.65 | E109: 216 | F109: ALTER BURO
A110: 118243 | B110: FEUTRE STYLIST 188 P.M VERT | C110: 0.65 | D110: 0.65 | E110: 216 | F110: ALTER BURO
A111: 119176 | B111: UNI BALL VISION ELITE 0,6 MM BLEU | C111: 3.01 | D111: 3.01
A112: 119177 | B112: UNI BALL VISION ELITE 0,6 MM NOIR | C112: 3.01 | D112: 3.01
A113: 119191 | B113: ROLLER V-BALL 07 BLEU(TRAIT 05 BL-VB7 | C113: 1.39 | D113: 1.34 | E113: 216 | F113: ALTER BURO
A114: 119192 | B114: ROLLER V-BALL 07 NOIR(TRAIT 05 BL-VB7 | C114: 1.39 | D114: 1.39 | E114: 219 | F114: ALTER BURO
A115: 119193 | B115: ROLLER V-BALL 07 ROUGE(TRAIT05 BL-VB7 | C115: 1.39 | D115: 1.39 | E115: 219 | F115: ALTER BURO
A116: 120204 | B116: A+B MARQU. PERMANENT PTE OGIVE VERT | C116: 0.64 | D116: 0.64 | E116: 219 | F116: ALTER BURO
A117: 120225 | B117: MARQUEUR PERMANENT POCKET 2000 BLEU PTE OGIVE | C117: 0.64 | D117: 0.64 | E117: 219 | F117: ALTER BURO
A118: 120226 | B118: MARQUEUR PERMANENT POCKET 2000 NOIR PTE OGIVE | C118: 0.64 | D118: 0.64 | E118: 219 | F118: ALTER BURO
A119: 120227 | B119: MARQUEUR PERMANENT POCHET 2000 ROUGE PTE OGIVE | C119: 0.64 | D119: 0.64 | E119: 223 | F119: ALTER BURO
A120: 120481 | B120: FEUTRE VELLEDA 1741 BLEU PTE OGIVE MOYENNE | C120: 0.85 | D120: 0.85 | E120: 223 | F120: ALTER BURO
A121: 120482 | B121: FEUTRE VELLEDA 1741 NOIR PTE OGIVE MOYENNE | C121: 0.85 | D121: 0.85 | E121: 223 | F121: ALTER BURO
A122: 120483 | B122: FEUTRE VELLEDA 1741 ROUGE PTE OGIVE MOYENNE | C122: 0.85 | D122: 0.85 | E122: 190 | F122: ALTER BURO
A123: 120484 | B123: FEUTRE VELLEDA 1741 VERT PTE OGIVE MOYENNE | C123: 0.85 | D123: 0.85 | E123: 190 | F123: ALTER BURO
A124: 120521 | B124: SURLIGNEUR STABILO BOSS BLEU | C124: 0.55 | D124: 0.55 | E124: 190 | F124: ALTER BURO
... A136: 123042 | B136: TUBE DE COLLE SCOTCH NET 30ml 3045D | C136: 0.95 | D136: 0.95 | E136: 235 | F136: ALTER BURO
A137: 124844 | B137: SAC ASPIRATEUR HEPAFLO | C137: 11.92 | D137: 1.192 | F137: LE GOFF
A138: 125611 | B138: A+B BTE 100FLES ETIQ.63.5x38.1 MULTI-USAGES | C138: 3.78 | D138: 3.78 | E138: 235 | F138: ALTER BURO
A139: 125703 | B139: ETIQUETTE ADRESSE | C139: 49.66 | D139: 49.66 | E139: 235 | F139: ALTER BURO
A140: 126403 | B140: REGLE PLAST. 1 BISEAU 30cm GRADUEE | C140: 0.32 | D140: 0.32 | E140: 201 | F140: ALTER BURO
A141: 126404 | B141: REGLE PLAST. 1 BISEAU 40cm GRADUEE | C141: 0.24 | D141: 0.24 | E141: 237 | F141: ALTER BURO
A142: 127101 | B142: TAILLE-CRAYONS ALU 1 USAGE | C142: 0.25 | D142: 0.25 | E142: 237 | F142: ALTER BURO
A143: 127102 | B143: TAILLE-CRAYONS ALU 2 USAGES | C143: 0.35 | D143: 0.35 | E143: 237 | F143: ALTER BURO
A144: 127212 | B144: TAILLE CRAYONS 2 USAGES A RESERVOIR | C144: 0.75 | D144: 0.75 | F144: ALTER BURO
A145: 130500 | B145: PRODUITS VAISSELLE | C145: 2.63 | D145: 2.63 | F145: DEVLAEMYNCK
A146: 132451 | B146: A+B PERFORATEUR 4 TROUS (20FLES) | C146: 9.5 | D146: 9.5 | E146: 203 | F146: ALTER BURO
...
