Workbook
Name DatLivCal: OFFSET(caleche!$A$2,0,0,COUNTA(caleche!A2:$A$370),1)
Name Datlivceint: OFFSET(ceinture!$A$2,0,0,COUNTA(ceinture!$A$2:$A$370),1)
Name DatLivDiam: OFFSET('sac-diamant'!$A$2,0,0,COUNTA('sac-diamant'!$A$2:$A$370),1)
Name DatLivEq: OFFSET(equitation!$A$2,0,0,COUNTA(equitation!$A$2:$A$370),1)
Name DatLivF: OFFSET(fourbi!$A$2,0,0,COUNTA(fourbi!A2:$A$257),1)

Sheet Feuil1
A3: Principe
B5: des noms d'entete sans espace
B6: des premières colonnes nommées avec leur entete
B7: les colonnes d'intitulés fonctionnent jusqu'à la colonne M
B9: pour rajouter ou insérer des colonnes dans total
C10: le faire au sein des zones de couleur et recopier formule
C11: a la fin d'une zone de couleur, recopier formule vers le bas puis le format,
C12: mettre le même libellé de préfarence sans espace que dans la zone source
B14: la formule: avec la fonction DECALER ( cela aurait pu etre une fonction recherche ou index…)
B16: Decaler( cellule depart, nb de lignes , nb de colonnes)…
B18: cellule depart; 1ère cellule en haut à gauche du tableau
B19: nb de lignes : obtenue par la fonction Equiv qui donne le rang d'une donnée dans une liste, le 1er janvier donnant le rang 1, le 10 le rang 10
C20: a1 ligne 1 décalée de 1 (A2) ou de 10 (A11) pour obtenir la ligne avec la bonne date
B22: Nb de colonnes:
C23: on cherche le rang de l'intitulé de l'article cherché dans la zone b1:m1 ( zone qui peut etre étendue autant qu'il le faut)
C24: on décale la 1ere colonne d'autant vers la droite pour obtenir la valeur au croisement de la date et du libellé
B26: Si tu décomposes chaque partie de la formule tu obtiendras les valeurs intermédiaires, ou utilise Evaluation des formules de l'onglet formule
B28: Toutes les formules sont construites de la même manière :
C30: cellule départ | D30: nomonglet!$a$1
C31: equiv date de la colonne A dans DatLiv+spec onglet pour obtenir la ligne
C32: equiv libellé produit de la ligne B de l'onglet total, dans la zone $b$1:$m$1 de l'onglet respectif pour obtenir la colonne

Sheet fourbi
A1: DatLivF | B1: Fourbi_20_TC | C1: Fourbi_25_TC | D1: Fourbi_20_Soie | E1: Fourbi_25_Soie
A2: 41640
A3: 41653 | B3: 144 | C3: 264
A4: 41655 | B4: 72 | C4: 132
A5: 41656 | D5: 4 | E5: 4
A6: 41657 | D6: 5 | E6: 6
A7: 41659 | B7: 72 | C7: 132
A8: 41667 | B8: =72+72 -> 144 | C8: =132+117 -> 249
A9: Total Janvier | B9: =SUM(B2:B8) -> 432 | C9: =SUM(C2:C8) -> 777 | D9: =SUM(D2:D8) -> 9 | E9: =SUM(E2:E8) -> 10
A10: 41683 | B10: 72 | C10: 132
A11: 41688 | B11: 72 | C11: 132
A12: 41690 | B12: 72 | C12: 132
A13: 41695 | B13: 144 | C13: 66
A14: 41697 | D14: 1 | E14: 3
A15: 41698 | B15: 288
A16: total février | B16: =SUM(B10:B15) -> 648 | C16: =SUM(C10:C15) -> 462 | D16: =SUM(D10:D15) -> 1 | E16: =SUM(E10:E15) -> 3
A17: 41708 | D17: 1 | E17: 2
A18: 41722 | D18: 1 | E18: 2
A19: 41723 | B19: 72 | C19: 132 | D19: 2 | E19: 2
A20: 41724
A21: 41725 | B21: 144 | C21: 264
A22: 41729 | B22: 144 | C22: =132 -> 132
A23: MARS | B23: =SUM(B17:B22) -> 360 | C23: =SUM(C17:C22) -> 528 | D23: =SUM(D17:D22) -> 4 | E23: =SUM(E17:E22) -> 6
A24: 41730 | E24: 2
A25: 41737 | E25: 1
A26: 41739 | C26: 88 | D26: 72
A27: 41746 | C27: 44 | E27: 132
A28: 41747
A29: 41748
A30: 41749
A31: 41750
A32: 41751
A33: 41752
A34: 41753
A35: 41754
A36: 41755
A37: 41756
A38: 41757
A39: 41758 | D39: 144 | E39: 74
A40: 41759 | B40: 72 | D40: 190
A41: AVRIL | B41: =SUM(B24:B40) -> 72 | C41: =SUM(C24:C40) -> 132 | D41: =SUM(D24:D40) -> 406 | E41: =SUM(E24:E40) -> 209
C42: 10 | D42: 10
C43: 10
C44: 10
C45: 10
A46: 41779 | C46: 10
C47: 10
C48: 10
C49: 10
C50: 10
C51: 10 | D51: 10
C52: 10
A53: MAI | C53: 10
C54: 10 | D54: 10
C55: 10
C56: 10
C57: 10
A58: 41810 | C58: 10
C59: 10
C60: 10
C61: 10
C62: 10
C63: 10
A64: JUIN | C64: 10
A65: 41821 | C65: 10 | D65: 10
A66: 41822 | C66: 10
A67: 41823 | C67: 10
A68: 41824 | C68: 10
A69: 41825 | C69: 10
A70: 41826 | C70: 10
A71: 41827 | C71: 10
A72: 41828 | C72: 10
A73: 41829 | C73: 10
A74: 41830 | C74: 10
A75: 41831 | C75: 10
A76: 41832 | C76: 10
A77: 41833 | C77: 10
... A95: 41851 | C95: 10
A96: JUILLET
A97: 41852 | D97: 10
A98: 41853
A99: 41854
A100: 41855
A101: 41856
A102: 41857
A103: 41858
A104: 41859
A105: 41860
A106: 41861
A107: 41862
A108: 41863
A109: 41864
... A127: 41882
A128: AOUT
A129: 41883
A130: 41884
A131: 41885
A132: 41886
A133: 41887
A134: 41888
...

Sheet caleche
A1: DatLivCal | B1: Petite_Calèche | C1: Grande_ Calèche
A2: 41640
A3: 41641
A4: 41642
A5: 41643
A6: 41644
A7: 41645
A8: 41646
A9: 41647
A10: 41648
A11: 41649
A12: 41650
A13: 41651
... A28: 41666
A29: 41667 | B29: 48
A30: 41668
A31: 41669
A32: 41670
A33: Total Janvier | B33: =SUM(B2:B32) -> 48
A34: 41671
A35: 41672
A36: 41673
A37: 41674
A38: 41675
A39: 41676
A40: 41677
A41: 41678
A42: 41679
A43: 41680
A44: 41681
A45: 41682
... A61: 41698
A62: total février
A63: 41699
A64: 41700
A65: 41701
A66: 41702
A67: 41703
A68: 41704
A69: 41705
A70: 41706
A71: 41707
A72: 41708
A73: 41709
A74: 41710
... A93: 41729
A94: MARS
A95: 41730
A96: 41731
A97: 41732
A98: 41733
A99: 41734
A100: 41735
A101: 41736
A102: 41737
A103: 41738
A104: 41739
A105: 41740
A106: 41741
... A124: 41759
A125: AVRIL
A126: 41760
A127: 41761
A128: 41762
A129: 41763
A130: 41764
A131: 41765
A132: 41766
A133: 41767
A134: 41768
A135: 41769
A136: 41770
A137: 41771
... A156: 41790
A157: MAI
A158: 41791
A159: 41792
A160: 41793
A161: 41794
A162: 41795
A163: 41796
A164: 41797
A165: 41798
A166: 41799
A167: 41800
A168: 41801
A169: 41802
... A187: 41820
A188: JUIN
A189: 41821
A190: 41822
A191: 41823
A192: 41824
A193: 41825
A194: 41826
A195: 41827
A196: 41828
A197: 41829
A198: 41830
A199: 41831
...

Sheet equitation
A1: DatLivEq | B1: Sac_pansage | C1: Fourre_tout | D1: Sac _bottes
A2: 41640 | D2: 7
A3: 41641
A4: 41642
A5: 41643
A6: 41644
A7: 41645
A8: 41646
A9: 41647
A10: 41648
A11: 41649
A12: 41650
A13: 41651
A14: 41652
... A32: 41670
A33: Total Janvier | B33: =SUM(B2:B32) -> 0 | C33: =SUM(C2:C32) -> 0 | D33: =SUM(D2:D32) -> 7
A34: 41671
A35: 41672
A36: 41673
A37: 41674
A38: 41675
A39: 41676
A40: 41677
A41: 41678
A42: 41679
A43: 41680
A44: 41681
A45: 41682
... A61: 41698
A62: total février
A63: 41699
A64: 41700
A65: 41701
A66: 41702
A67: 41703 | D67: 13.5
A68: 41704
A69: 41705
A70: 41706
A71: 41707
A72: 41708
A73: 41709
A74: 41710
A75: 41711
A76: 41712
A77: 41713
A78: 41714
A79: 41715
... A93: 41729
A94: MARS | B94: =SUM(B63:B93) -> 0 | C94: =SUM(C63:C93) -> 0 | D94: =SUM(D63:D93) -> 13.5
A95: 41730
A96: 41731
A97: 41732
A98: 41733
A99: 41734
A100: 41735
A101: 41736
A102: 41737
A103: 41738
A104: 41739
A105: 41740
A106: 41741
... A124: 41759
A125: AVRIL | B125: =SUM(B95:B124) -> 0 | C125: =SUM(C95:C124) -> 0 | D125: =SUM(D95:D124) -> 0
A126: 41760
A127: 41761
A128: 41762
A129: 41763
A130: 41764
A131: 41765
A132: 41766
A133: 41767
A134: 41768
A135: 41769
A136: 41770
A137: 41771
... A156: 41790
A157: MAI
A158: 41791
A159: 41792
A160: 41793
A161: 41794
A162: 41795
A163: 41796
A164: 41797
A165: 41798
A166: 41799
A167: 41800
A168: 41801
A169: 41802
... A187: 41820
A188: JUIN
A189: 41821
A190: 41822
A191: 41823
A192: 41824
A193: 41825
A194: 41826
A195: 41827
A196: 41828
A197: 41829
...

Sheet ceinture
A1: Datlivceint | B1: Ceinture_Kit
A2: 41640
A3: 41641
A4: 41642
A5: 41643
A6: 41644
A7: 41645
A8: 41646
A9: 41647
A10: 41648
A11: 41649
A12: 41650
A13: 41651
... A32: 41670
A33: Total Janvier
A34: 41671
A35: 41672
A36: 41673
A37: 41674
A38: 41675
A39: 41676 | B39: 16
A40: 41677
A41: 41678
A42: 41679
A43: 41680
A44: 41681
A45: 41682
A46: 41683 | B46: 74
A47: 41684
A48: 41685
A49: 41686
A50: 41687
A51: 41688
A52: 41689
A53: 41690 | B53: 103
A54: 41691
A55: 41692
A56: 41693
A57: 41694
A58: 41695
A59: 41696
A60: 41697 | B60: 70
A61: 41698 | B61: 180
A62: total février | B62: =SUM(B34:B61) -> 443
A63: 41699
A64: 41700
A65: 41701
A66: 41702
A67: 41703
A68: 41704
A69: 41705
A70: 41706
A71: 41707
A72: 41708
A73: 41709
A74: 41710
A75: 41711 | B75: 135
A76: 41712
A77: 41713
A78: 41714
A79: 41715
A80: 41716 | B80: 248
A81: 41717
A82: 41718 | B82: 79
A83: 41719
A84: 41720
A85: 41721
A86: 41722
A87: 41723 | B87: 238
A88: 41724
A89: 41725 | B89: 79
A90: 41726 | B90: 388
A91: 41727
A92: 41728
A93: 41729
A94: MARS | B94: =SUM(B63:B93) -> 1167
A95: 41730
A96: 41731
A97: 41732
A98: 41733
A99: 41734
A100: 41735
A101: 41736
A102: 41737
A103: 41738
A104: 41739
A105: 41740
A106: 41741
... A124: 41759
A125: AVRIL | B125: =SUM(B95:B124) -> 0
A126: 41760
A127: 41761
A128: 41762
A129: 41763
A130: 41764
A131: 41765
A132: 41766
A133: 41767
A134: 41768
A135: 41769
...

Sheet sac-diamant
A1: DatLivDiam | B1: Sac_Diamant
A2: 41640 | B2: 9
A3: 41641
A4: 41642
A5: 41643
A6: 41644
A7: 41645
A8: 41646
A9: 41647
A10: 41648
A11: 41649
A12: 41650
A13: 41651
A14: 41652
... A32: 41670
A33: Total Janvier | B33: =SUM(B2:B32) -> 9
A34: 41671
A35: 41672
A36: 41673
A37: 41674
A38: 41675
A39: 41676
A40: 41677
A41: 41678
A42: 41679
A43: 41680
A44: 41681
A45: 41682
... A61: 41698
A62: total février | B62: =SUM(B34:B61) -> 0
A63: 41699
A64: 41700
A65: 41701
A66: 41702
A67: 41703
A68: 41704
A69: 41705
A70: 41706
A71: 41707
A72: 41708
A73: 41709
A74: 41710
... A81: 41717
A82: 41718 | B82: 6
A83: 41719
A84: 41720
A85: 41721
A86: 41722
A87: 41723
A88: 41724
A89: 41725
A90: 41726
A91: 41727
A92: 41728
A93: 41729
A94: MARS | B94: =SUM(B63:B93) -> 6
A95: 41730
A96: 41731
A97: 41732
A98: 41733
A99: 41734
A100: 41735
A101: 41736
A102: 41737
A103: 41738
A104: 41739
A105: 41740
A106: 41741
... A110: 41745
A111: 41746 | B111: 3
A112: 41747 | B112: 3
A113: 41748
A114: 41749
A115: 41750
A116: 41751
A117: 41752
A118: 41753
A119: 41754
A120: 41755
A121: 41756
A122: 41757
A123: 41758
A124: 41759
A125: AVRIL | B125: =SUM(B95:B124) -> 6
A126: 41760
A127: 41761
A128: 41762
A129: 41763
A130: 41764
A131: 41765
A132: 41766
A133: 41767
A134: 41768
A135: 41769
A136: 41770
A137: 41771
... A156: 41790
A157: MAI
A158: 41791
A159: 41792
...

Sheet total
A2: Livraison | B2: Fourbi_20_TC | C2: Fourbi_25_TC | D2: Fourbi_20_Soie | E2: Fourbi_25_Soie | F2: Petite_Calèche | G2: Grande_ Calèche | H2: Sac_pansage | I2: Fourre_tout | J2: Sac _bottes | K2: Ceinture_Kit | L2: Sac_Diamant
A3: 41640 | B3: =IFERROR(OFFSET(fourbi!$A$1,MATCH(total!$A3,DatLivF,0),MATCH(total!B$2,fourbi!$B$1:$M$1,0)),0) -> 0 | C3: =IFERROR(OFFSET(fourbi!$A$1,MATCH(total!$A3,DatLivF,0),MATCH(total!C$2,fourbi!$B$1:$M$1,0)),0) -> 0 | D3: =IFERROR(OFFSET(fourbi!$A$1,MATCH(total!$A3,DatLivF,0),MATCH(total!D$2,fourbi!$B$1:$M$1,0)),0) -> 0 | E3: =IFERROR(OFFSET(fourbi!$A$1,MATCH(total!$A3,DatLivF,0),MATCH(total!E$2,fourbi!$B$1:$M$1,0)),0) -> 0 | F3: =IFERROR(OFFSET(caleche!$A$1,MATCH(total!$A3,DatLivCal,0),MATCH(total!F$2,caleche!$B$1:$M$1,0)),0) -> 0 | G3: =IFERROR(OFFSET(caleche!$A$1,MATCH(total!$A3,DatLivCal,0),MATCH(total!G$2,caleche!$B$1:$M$1,0)),0) -> 0 | H3: =IFERROR(OFFSET(equitation!$A$1,MATCH(total!$A3,DatLivEq,0),MATCH(total!H$2,equitation!$B$1:$M$1,0)),0) -> 0 | I3: =IFERROR(OFFSET(equitation!$A$1,MATCH(total!$A3,DatLivEq,0),MATCH(total!I$2,equitation!$B$1:$M$1,0)),0) -> 0 | J3: =IFERROR(OFFSET(equitation!$A$1,MATCH(total!$A3,DatLivEq,0),MATCH(total!J$2,equitation!$B$1:$M$1,0)),0) -> 7 | K3: =IFERROR(OFFSET(ceinture!$A$1,MATCH(total!$A3,Datlivceint,0),MATCH(total!K$2,ceinture!$B$1:$L$1,0)),0) -> 0 | L3: =IFERROR(OFFSET('sac-diamant'!$A$1,MATCH(total!$A3,DatLivDiam,0),MATCH(total!L$2,'sac-diamant'!$B$1:$L$1,0)),0) -> 9
A4: 41641 | B4: =IFERROR(OFFSET(fourbi!$A$1,MATCH(total!$A4,DatLivF,0),MATCH(total!B$2,fourbi!$B$1:$M$1,0)),0) -> 0 | C4: =IFERROR(OFFSET(fourbi!$A$1,MATCH(total!$A4,DatLivF,0),MATCH(total!C$2,fourbi!$B$1:$M$1,0)),0) -> 0 | D4: =IFERROR(OFFSET(fourbi!$A$1,MATCH(total!$A4,DatLivF,0),MATCH(total!D$2,fourbi!$B$1:$M$1,0)),0) -> 0 | E4: =IFERROR(OFFSET(fourbi!$A$1,MATCH(total!$A4,DatLivF,0),MATCH(total!E$2,fourbi!$B$1:$M$1,0)),0) -> 0 | F4: =IFERROR(OFFSET(caleche!$A$1,MATCH(total!$A4,DatLivCal,0),MATCH(total!F$2,caleche!$B$1:$M$1,0)),0) -> 0 | G4: =IFERROR(OFFSET(caleche!$A$1,MATCH(total!$A4,DatLivCal,0),MATCH(total!G$2,caleche!$B$1:$M$1,0)),0) -> 0 | H4: =IFERROR(OFFSET(equitation!$A$1,MATCH(total!$A4,DatLivEq,0),MATCH(total!H$2,equitation!$B$1:$M$1,0)),0) -> 0 | I4: =IFERROR(OFFSET(equitation!$A$1,MATCH(total!$A4,DatLivEq,0),MATCH(total!I$2,equitation!$B$1:$M$1,0)),0) -> 0 | J4: =IFERROR(OFFSET(equitation!$A$1,MATCH(total!$A4,DatLivEq,0),MATCH(total!J$2,equitation!$B$1:$M$1,0)),0) -> 0 | K4: =IFERROR(OFFSET(ceinture!$A$1,MATCH(total!$A4,Datlivceint,0),MATCH(total!K$2,ceinture!$B$1:$L$1,0)),0) -> 0 | L4: =IFERROR(OFFSET('sac-diamant'!$A$1,MATCH(total!$A4,DatLivDiam,0),MATCH(total!L$2,'sac-diamant'!$B$1:$L$1,0)),0) -> 0
A5: 41642 | B5: =IFERROR(OFFSET(fourbi!$A$1,MATCH(total!$A5,DatLivF,0),MATCH(total!B$2,fourbi!$B$1:$M$1,0)),0) -> 0 | C5: =IFERROR(OFFSET(fourbi!$A$1,MATCH(total!$A5,DatLivF,0),MATCH(total!C$2,fourbi!$B$1:$M$1,0)),0) -> 0 | D5: =IFERROR(OFFSET(fourbi!$A$1,MATCH(total!$A5,DatLivF,0),MATCH(total!D$2,fourbi!$B$1:$M$1,0)),0) -> 0 | E5: =IFERROR(OFFSET(fourbi!$A$1,MATCH(total!$A5,DatLivF,0),MATCH(total!E$2,fourbi!$B$1:$M$1,0)),0) -> 0 | F5: =IFERROR(OFFSET(caleche!$A$1,MATCH(total!$A5,DatLivCal,0),MATCH(total!F$2,caleche!$B$1:$M$1,0)),0) -> 0 | G5: =IFERROR(OFFSET(caleche!$A$1,MATCH(total!$A5,DatLivCal,0),MATCH(total!G$2,caleche!$B$1:$M$1,0)),0) -> 0 | H5: =IFERROR(OFFSET(equitation!$A$1,MATCH(total!$A5,DatLivEq,0),MATCH(total!H$2,equitation!$B$1:$M$1,0)),0) -> 0 | I5: =IFERROR(OFFSET(equitation!$A$1,MATCH(total!$A5,DatLivEq,0),MATCH(total!I$2,equitation!$B$1:$M$1,0)),0) -> 0 | J5: =IFERROR(OFFSET(equitation!$A$1,MATCH(total!$A5,DatLivEq,0),MATCH(total!J$2,equitation!$B$1:$M$1,0)),0) -> 0 | K5: =IFERROR(OFFSET(ceinture!$A$1,MATCH(total!$A5,Datlivceint,0),MATCH(total!K$2,ceinture!$B$1:$L$1,0)),0) -> 0 | L5: =IFERROR(OFFSET('sac-diamant'!$A$1,MATCH(total!$A5,DatLivDiam,0),MATCH(total!L$2,'sac-diamant'!$B$1:$L$1,0)),0) -> 0
A6: 41643 | B6: =IFERROR(OFFSET(fourbi!$A$1,MATCH(total!$A6,DatLivF,0),MATCH(total!B$2,fourbi!$B$1:$M$1,0)),0) -> 0 | C6: =IFERROR(OFFSET(fourbi!$A$1,MATCH(total!$A6,DatLivF,0),MATCH(total!C$2,fourbi!$B$1:$M$1,0)),0) -> 0 | D6: =IFERROR(OFFSET(fourbi!$A$1,MATCH(total!$A6,DatLivF,0),MATCH(total!D$2,fourbi!$B$1:$M$1,0)),0) -> 0 | E6: =IFERROR(OFFSET(fourbi!$A$1,MATCH(total!$A6,DatLivF,0),MATCH(total!E$2,fourbi!$B$1:$M$1,0)),0) -> 0 | F6: =IFERROR(OFFSET(caleche!$A$1,MATCH(total!$A6,DatLivCal,0),MATCH(total!F$2,caleche!$B$1:$M$1,0)),0) -> 0 | G6: =IFERROR(OFFSET(caleche!$A$1,MATCH(total!$A6,DatLivCal,0),MATCH(total!G$2,caleche!$B$1:$M$1,0)),0) -> 0 | H6: =IFERROR(OFFSET(equitation!$A$1,MATCH(total!$A6,DatLivEq,0),MATCH(total!H$2,equitation!$B$1:$M$1,0)),0) -> 0 | I6: =IFERROR(OFFSET(equitation!$A$1,MATCH(total!$A6,DatLivEq,0),MATCH(total!I$2,equitation!$B$1:$M$1,0)),0) -> 0 | J6: =IFERROR(OFFSET(equitation!$A$1,MATCH(total!$A6,DatLivEq,0),MATCH(total!J$2,equitation!$B$1:$M$1,0)),0) -> 0 | K6: =IFERROR(OFFSET(ceinture!$A$1,MATCH(total!$A6,Datlivceint,0),MATCH(total!K$2,ceinture!$B$1:$L$1,0)),0) -> 0 | L6: =IFERROR(OFFSET('sac-diamant'!$A$1,MATCH(total!$A6,DatLivDiam,0),MATCH(total!L$2,'sac-diamant'!$B$1:$L$1,0)),0) -> 0
A7: 41644 | B7: =IFERROR(OFFSET(fourbi!$A$1,MATCH(total!$A7,DatLivF,0),MATCH(total!B$2,fourbi!$B$1:$M$1,0)),0) -> 0 | C7: =IFERROR(OFFSET(fourbi!$A$1,MATCH(total!$A7,DatLivF,0),MATCH(total!C$2,fourbi!$B$1:$M$1,0)),0) -> 0 | D7: =IFERROR(OFFSET(fourbi!$A$1,MATCH(total!$A7,DatLivF,0),MATCH(total!D$2,fourbi!$B$1:$M$1,0)),0) -> 0 | E7: =IFERROR(OFFSET(fourbi!$A$1,MATCH(total!$A7,DatLivF,0),MATCH(total!E$2,fourbi!$B$1:$M$1,0)),0) -> 0 | F7: =IFERROR(OFFSET(caleche!$A$1,MATCH(total!$A7,DatLivCal,0),MATCH(total!F$2,caleche!$B$1:$M$1,0)),0) -> 0 | G7: =IFERROR(OFFSET(caleche!$A$1,MATCH(total!$A7,DatLivCal,0),MATCH(total!G$2,caleche!$B$1:$M$1,0)),0) -> 0 | H7: =IFERROR(OFFSET(equitation!$A$1,MATCH(total!$A7,DatLivEq,0),MATCH(total!H$2,equitation!$B$1:$M$1,0)),0) -> 0 | I7: =IFERROR(OFFSET(equitation!$A$1,MATCH(total!$A7,DatLivEq,0),MATCH(total!I$2,equitation!$B$1:$M$1,0)),0) -> 0 | J7: =IFERROR(OFFSET(equitation!$A$1,MATCH(total!$A7,DatLivEq,0),MATCH(total!J$2,equitation!$B$1:$M$1,0)),0) -> 0 | K7: =IFERROR(OFFSET(ceinture!$A$1,MATCH(total!$A7,Datlivceint,0),MATCH(total!K$2,ceinture!$B$1:$L$1,0)),0) -> 0 | L7: =IFERROR(OFFSET('sac-diamant'!$A$1,MATCH(total!$A7,DatLivDiam,0),MATCH(total!L$2,'sac-diamant'!$B$1:$L$1,0)),0) -> 0
A8: 41645 | B8: =IFERROR(OFFSET(fourbi!$A$1,MATCH(total!$A8,DatLivF,0),MATCH(total!B$2,fourbi!$B$1:$M$1,0)),0) -> 0 | C8: =IFERROR(OFFSET(fourbi!$A$1,MATCH(total!$A8,DatLivF,0),MATCH(total!C$2,fourbi!$B$1:$M$1,0)),0) -> 0 | D8: =IFERROR(OFFSET(fourbi!$A$1,MATCH(total!$A8,DatLivF,0),MATCH(total!D$2,fourbi!$B$1:$M$1,0)),0) -> 0 | E8: =IFERROR(OFFSET(fourbi!$A$1,MATCH(total!$A8,DatLivF,0),MATCH(total!E$2,fourbi!$B$1:$M$1,0)),0) -> 0 | F8: =IFERROR(OFFSET(caleche!$A$1,MATCH(total!$A8,DatLivCal,0),MATCH(total!F$2,caleche!$B$1:$M$1,0)),0) -> 0 | G8: =IFERROR(OFFSET(caleche!$A$1,MATCH(total!$A8,DatLivCal,0),MATCH(total!G$2,caleche!$B$1:$M$1,0)),0) -> 0 | H8: =IFERROR(OFFSET(equitation!$A$1,MATCH(total!$A8,DatLivEq,0),MATCH(total!H$2,equitation!$B$1:$M$1,0)),0) -> 0 | I8: =IFERROR(OFFSET(equitation!$A$1,MATCH(total!$A8,DatLivEq,0),MATCH(total!I$2,equitation!$B$1:$M$1,0)),0) -> 0 | J8: =IFERROR(OFFSET(equitation!$A$1,MATCH(total!$A8,DatLivEq,0),MATCH(total!J$2,equitation!$B$1:$M$1,0)),0) -> 0 | K8: =IFERROR(OFFSET(ceinture!$A$1,MATCH(total!$A8,Datlivceint,0),MATCH(total!K$2,ceinture!$B$1:$L$1,0)),0) -> 0 | L8: =IFERROR(OFFSET('sac-diamant'!$A$1,MATCH(total!$A8,DatLivDiam,0),MATCH(total!L$2,'sac-diamant'!$B$1:$L$1,0)),0) -> 0
A9: 41646 | B9: =IFERROR(OFFSET(fourbi!$A$1,MATCH(total!$A9,DatLivF,0),MATCH(total!B$2,fourbi!$B$1:$M$1,0)),0) -> 0 | C9: =IFERROR(OFFSET(fourbi!$A$1,MATCH(total!$A9,DatLivF,0),MATCH(total!C$2,fourbi!$B$1:$M$1,0)),0) -> 0 | D9: =IFERROR(OFFSET(fourbi!$A$1,MATCH(total!$A9,DatLivF,0),MATCH(total!D$2,fourbi!$B$1:$M$1,0)),0) -> 0 | E9: =IFERROR(OFFSET(fourbi!$A$1,MATCH(total!$A9,DatLivF,0),MATCH(total!E$2,fourbi!$B$1:$M$1,0)),0) -> 0 | F9: =IFERROR(OFFSET(caleche!$A$1,MATCH(total!$A9,DatLivCal,0),MATCH(total!F$2,caleche!$B$1:$M$1,0)),0) -> 0 | G9: =IFERROR(OFFSET(caleche!$A$1,MATCH(total!$A9,DatLivCal,0),MATCH(total!G$2,caleche!$B$1:$M$1,0)),0) -> 0 | H9: =IFERROR(OFFSET(equitation!$A$1,MATCH(total!$A9,DatLivEq,0),MATCH(total!H$2,equitation!$B$1:$M$1,0)),0) -> 0 | I9: =IFERROR(OFFSET(equitation!$A$1,MATCH(total!$A9,DatLivEq,0),MATCH(total!I$2,equitation!$B$1:$M$1,0)),0) -> 0 | J9: =IFERROR(OFFSET(equitation!$A$1,MATCH(total!$A9,DatLivEq,0),MATCH(total!J$2,equitation!$B$1:$M$1,0)),0) -> 0 | K9: =IFERROR(OFFSET(ceinture!$A$1,MATCH(total!$A9,Datlivceint,0),MATCH(total!K$2,ceinture!$B$1:$L$1,0)),0) -> 0 | L9: =IFERROR(OFFSET('sac-diamant'!$A$1,MATCH(total!$A9,DatLivDiam,0),MATCH(total!L$2,'sac-diamant'!$B$1:$L$1,0)),0) -> 0
A10: 41647 | B10: =IFERROR(OFFSET(fourbi!$A$1,MATCH(total!$A10,DatLivF,0),MATCH(total!B$2,fourbi!$B$1:$M$1,0)),0) -> 0 | C10: =IFERROR(OFFSET(fourbi!$A$1,MATCH(total!$A10,DatLivF,0),MATCH(total!C$2,fourbi!$B$1:$M$1,0)),0) -> 0 | D10: =IFERROR(OFFSET(fourbi!$A$1,MATCH(total!$A10,DatLivF,0),MATCH(total!D$2,fourbi!$B$1:$M$1,0)),0) -> 0 | E10: =IFERROR(OFFSET(fourbi!$A$1,MATCH(total!$A10,DatLivF,0),MATCH(total!E$2,fourbi!$B$1:$M$1,0)),0) -> 0 | F10: =IFERROR(OFFSET(caleche!$A$1,MATCH(total!$A10,DatLivCal,0),MATCH(total!F$2,caleche!$B$1:$M$1,0)),0) -> 0 | G10: =IFERROR(OFFSET(caleche!$A$1,MATCH(total!$A10,DatLivCal,0),MATCH(total!G$2,caleche!$B$1:$M$1,0)),0) -> 0 | H10: =IFERROR(OFFSET(equitation!$A$1,MATCH(total!$A10,DatLivEq,0),MATCH(total!H$2,equitation!$B$1:$M$1,0)),0) -> 0 | I10: =IFERROR(OFFSET(equitation!$A$1,MATCH(total!$A10,DatLivEq,0),MATCH(total!I$2,equitation!$B$1:$M$1,0)),0) -> 0 | J10: =IFERROR(OFFSET(equitation!$A$1,MATCH(total!$A10,DatLivEq,0),MATCH(total!J$2,equitation!$B$1:$M$1,0)),0) -> 0 | K10: =IFERROR(OFFSET(ceinture!$A$1,MATCH(total!$A10,Datlivceint,0),MATCH(total!K$2,ceinture!$B$1:$L$1,0)),0) -> 0 | L10: =IFERROR(OFFSET('sac-diamant'!$A$1,MATCH(total!$A10,DatLivDiam,0),MATCH(total!L$2,'sac-diamant'!$B$1:$L$1,0)),0) -> 0
A11: 41648 | B11: =IFERROR(OFFSET(fourbi!$A$1,MATCH(total!$A11,DatLivF,0),MATCH(total!B$2,fourbi!$B$1:$M$1,0)),0) -> 0 | C11: =IFERROR(OFFSET(fourbi!$A$1,MATCH(total!$A11,DatLivF,0),MATCH(total!C$2,fourbi!$B$1:$M$1,0)),0) -> 0 | D11: =IFERROR(OFFSET(fourbi!$A$1,MATCH(total!$A11,DatLivF,0),MATCH(total!D$2,fourbi!$B$1:$M$1,0)),0) -> 0 | E11: =IFERROR(OFFSET(fourbi!$A$1,MATCH(total!$A11,DatLivF,0),MATCH(total!E$2,fourbi!$B$1:$M$1,0)),0) -> 0 | F11: =IFERROR(OFFSET(caleche!$A$1,MATCH(total!$A11,DatLivCal,0),MATCH(total!F$2,caleche!$B$1:$M$1,0)),0) -> 0 | G11: =IFERROR(OFFSET(caleche!$A$1,MATCH(total!$A11,DatLivCal,0),MATCH(total!G$2,caleche!$B$1:$M$1,0)),0) -> 0 | H11: =IFERROR(OFFSET(equitation!$A$1,MATCH(total!$A11,DatLivEq,0),MATCH(total!H$2,equitation!$B$1:$M$1,0)),0) -> 0 | I11: =IFERROR(OFFSET(equitation!$A$1,MATCH(total!$A11,DatLivEq,0),MATCH(total!I$2,equitation!$B$1:$M$1,0)),0) -> 0 | J11: =IFERROR(OFFSET(equitation!$A$1,MATCH(total!$A11,DatLivEq,0),MATCH(total!J$2,equitation!$B$1:$M$1,0)),0) -> 0 | K11: =IFERROR(OFFSET(ceinture!$A$1,MATCH(total!$A11,Datlivceint,0),MATCH(total!K$2,ceinture!$B$1:$L$1,0)),0) -> 0 | L11: =IFERROR(OFFSET('sac-diamant'!$A$1,MATCH(total!$A11,DatLivDiam,0),MATCH(total!L$2,'sac-diamant'!$B$1:$L$1,0)),0) -> 0
A12: 41649 | B12: =IFERROR(OFFSET(fourbi!$A$1,MATCH(total!$A12,DatLivF,0),MATCH(total!B$2,fourbi!$B$1:$M$1,0)),0) -> 0 | C12: =IFERROR(OFFSET(fourbi!$A$1,MATCH(total!$A12,DatLivF,0),MATCH(total!C$2,fourbi!$B$1:$M$1,0)),0) -> 0 | D12: =IFERROR(OFFSET(fourbi!$A$1,MATCH(total!$A12,DatLivF,0),MATCH(total!D$2,fourbi!$B$1:$M$1,0)),0) -> 0 | E12: =IFERROR(OFFSET(fourbi!$A$1,MATCH(total!$A12,DatLivF,0),MATCH(total!E$2,fourbi!$B$1:$M$1,0)),0) -> 0 | F12: =IFERROR(OFFSET(caleche!$A$1,MATCH(total!$A12,DatLivCal,0),MATCH(total!F$2,caleche!$B$1:$M$1,0)),0) -> 0 | G12: =IFERROR(OFFSET(caleche!$A$1,MATCH(total!$A12,DatLivCal,0),MATCH(total!G$2,caleche!$B$1:$M$1,0)),0) -> 0 | H12: =IFERROR(OFFSET(equitation!$A$1,MATCH(total!$A12,DatLivEq,0),MATCH(total!H$2,equitation!$B$1:$M$1,0)),0) -> 0 | I12: =IFERROR(OFFSET(equitation!$A$1,MATCH(total!$A12,DatLivEq,0),MATCH(total!I$2,equitation!$B$1:$M$1,0)),0) -> 0 | J12: =IFERROR(OFFSET(equitation!$A$1,MATCH(total!$A12,DatLivEq,0),MATCH(total!J$2,equitation!$B$1:$M$1,0)),0) -> 0 | K12: =IFERROR(OFFSET(ceinture!$A$1,MATCH(total!$A12,Datlivceint,0),MATCH(total!K$2,ceinture!$B$1:$L$1,0)),0) -> 0 | L12: =IFERROR(OFFSET('sac-diamant'!$A$1,MATCH(total!$A12,DatLivDiam,0),MATCH(total!L$2,'sac-diamant'!$B$1:$L$1,0)),0) -> 0
A13: 41650 | B13: =IFERROR(OFFSET(fourbi!$A$1,MATCH(total!$A13,DatLivF,0),MATCH(total!B$2,fourbi!$B$1:$M$1,0)),0) -> 0 | C13: =IFERROR(OFFSET(fourbi!$A$1,MATCH(total!$A13,DatLivF,0),MATCH(total!C$2,fourbi!$B$1:$M$1,0)),0) -> 0 | D13: =IFERROR(OFFSET(fourbi!$A$1,MATCH(total!$A13,DatLivF,0),MATCH(total!D$2,fourbi!$B$1:$M$1,0)),0) -> 0 | E13: =IFERROR(OFFSET(fourbi!$A$1,MATCH(total!$A13,DatLivF,0),MATCH(total!E$2,fourbi!$B$1:$M$1,0)),0) -> 0 | F13: =IFERROR(OFFSET(caleche!$A$1,MATCH(total!$A13,DatLivCal,0),MATCH(total!F$2,caleche!$B$1:$M$1,0)),0) -> 0 | G13: =IFERROR(OFFSET(caleche!$A$1,MATCH(total!$A13,DatLivCal,0),MATCH(total!G$2,caleche!$B$1:$M$1,0)),0) -> 0 | H13: =IFERROR(OFFSET(equitation!$A$1,MATCH(total!$A13,DatLivEq,0),MATCH(total!H$2,equitation!$B$1:$M$1,0)),0) -> 0 | I13: =IFERROR(OFFSET(equitation!$A$1,MATCH(total!$A13,DatLivEq,0),MATCH(total!I$2,equitation!$B$1:$M$1,0)),0) -> 0 | J13: =IFERROR(OFFSET(equitation!$A$1,MATCH(total!$A13,DatLivEq,0),MATCH(total!J$2,equitation!$B$1:$M$1,0)),0) -> 0 | K13: =IFERROR(OFFSET(ceinture!$A$1,MATCH(total!$A13,Datlivceint,0),MATCH(total!K$2,ceinture!$B$1:$L$1,0)),0) -> 0 | L13: =IFERROR(OFFSET('sac-diamant'!$A$1,MATCH(total!$A13,DatLivDiam,0),MATCH(total!L$2,'sac-diamant'!$B$1:$L$1,0)),0) -> 0
A14: 41651 | B14: =IFERROR(OFFSET(fourbi!$A$1,MATCH(total!$A14,DatLivF,0),MATCH(total!B$2,fourbi!$B$1:$M$1,0)),0) -> 0 | C14: =IFERROR(OFFSET(fourbi!$A$1,MATCH(total!$A14,DatLivF,0),MATCH(total!C$2,fourbi!$B$1:$M$1,0)),0) -> 0 | D14: =IFERROR(OFFSET(fourbi!$A$1,MATCH(total!$A14,DatLivF,0),MATCH(total!D$2,fourbi!$B$1:$M$1,0)),0) -> 0 | E14: =IFERROR(OFFSET(fourbi!$A$1,MATCH(total!$A14,DatLivF,0),MATCH(total!E$2,fourbi!$B$1:$M$1,0)),0) -> 0 | F14: =IFERROR(OFFSET(caleche!$A$1,MATCH(total!$A14,DatLivCal,0),MATCH(total!F$2,caleche!$B$1:$M$1,0)),0) -> 0 | G14: =IFERROR(OFFSET(caleche!$A$1,MATCH(total!$A14,DatLivCal,0),MATCH(total!G$2,caleche!$B$1:$M$1,0)),0) -> 0 | H14: =IFERROR(OFFSET(equitation!$A$1,MATCH(total!$A14,DatLivEq,0),MATCH(total!H$2,equitation!$B$1:$M$1,0)),0) -> 0 | I14: =IFERROR(OFFSET(equitation!$A$1,MATCH(total!$A14,DatLivEq,0),MATCH(total!I$2,equitation!$B$1:$M$1,0)),0) -> 0 | J14: =IFERROR(OFFSET(equitation!$A$1,MATCH(total!$A14,DatLivEq,0),MATCH(total!J$2,equitation!$B$1:$M$1,0)),0) -> 0 | K14: =IFERROR(OFFSET(ceinture!$A$1,MATCH(total!$A14,Datlivceint,0),MATCH(total!K$2,ceinture!$B$1:$L$1,0)),0) -> 0 | L14: =IFERROR(OFFSET('sac-diamant'!$A$1,MATCH(total!$A14,DatLivDiam,0),MATCH(total!L$2,'sac-diamant'!$B$1:$L$1,0)),0) -> 0
... A33: 41670 | B33: =IFERROR(OFFSET(fourbi!$A$1,MATCH(total!$A33,DatLivF,0),MATCH(total!B$2,fourbi!$B$1:$M$1,0)),0) -> 0 | C33: =IFERROR(OFFSET(fourbi!$A$1,MATCH(total!$A33,DatLivF,0),MATCH(total!C$2,fourbi!$B$1:$M$1,0)),0) -> 0 | D33: =IFERROR(OFFSET(fourbi!$A$1,MATCH(total!$A33,DatLivF,0),MATCH(total!D$2,fourbi!$B$1:$M$1,0)),0) -> 0 | E33: =IFERROR(OFFSET(fourbi!$A$1,MATCH(total!$A33,DatLivF,0),MATCH(total!E$2,fourbi!$B$1:$M$1,0)),0) -> 0 | F33: =IFERROR(OFFSET(caleche!$A$1,MATCH(total!$A33,DatLivCal,0),MATCH(total!F$2,caleche!$B$1:$M$1,0)),0) -> 0 | G33: =IFERROR(OFFSET(caleche!$A$1,MATCH(total!$A33,DatLivCal,0),MATCH(total!G$2,caleche!$B$1:$M$1,0)),0) -> 0 | H33: =IFERROR(OFFSET(equitation!$A$1,MATCH(total!$A33,DatLivEq,0),MATCH(total!H$2,equitation!$B$1:$M$1,0)),0) -> 0 | I33: =IFERROR(OFFSET(equitation!$A$1,MATCH(total!$A33,DatLivEq,0),MATCH(total!I$2,equitation!$B$1:$M$1,0)),0) -> 0 | J33: =IFERROR(OFFSET(equitation!$A$1,MATCH(total!$A33,DatLivEq,0),MATCH(total!J$2,equitation!$B$1:$M$1,0)),0) -> 0 | K33: =IFERROR(OFFSET(ceinture!$A$1,MATCH(total!$A33,Datlivceint,0),MATCH(total!K$2,ceinture!$B$1:$L$1,0)),0) -> 0 | L33: =IFERROR(OFFSET('sac-diamant'!$A$1,MATCH(total!$A33,DatLivDiam,0),MATCH(total!L$2,'sac-diamant'!$B$1:$L$1,0)),0) -> 0
A34: Total Janvier | B34: =+fourbi!B9 -> 432 | C34: =+fourbi!C9 -> 777 | D34: =+fourbi!D9 -> 9 | E34: =+fourbi!E9 -> 10 | F34: =+caleche!B33 -> 48 | G34: =+caleche!C33 -> 0 | H34: =+equitation!B33 -> 0 | I34: =+equitation!C33 -> 0 | J34: =+equitation!D33 -> 7 | L34: =+'sac-diamant'!B33 -> 9
A35: 41671 | B35: =IFERROR(OFFSET(fourbi!$A$1,MATCH(total!$A35,DatLivF,0),MATCH(total!B$2,fourbi!$B$1:$M$1,0)),0) -> 0 | C35: =IFERROR(OFFSET(fourbi!$A$1,MATCH(total!$A35,DatLivF,0),MATCH(total!C$2,fourbi!$B$1:$M$1,0)),0) -> 0 | D35: =IFERROR(OFFSET(fourbi!$A$1,MATCH(total!$A35,DatLivF,0),MATCH(total!D$2,fourbi!$B$1:$M$1,0)),0) -> 0 | E35: =IFERROR(OFFSET(fourbi!$A$1,MATCH(total!$A35,DatLivF,0),MATCH(total!E$2,fourbi!$B$1:$M$1,0)),0) -> 0 | F35: =IFERROR(OFFSET(caleche!$A$1,MATCH(total!$A35,DatLivCal,0),MATCH(total!F$2,caleche!$B$1:$M$1,0)),0) -> 0 | G35: =IFERROR(OFFSET(caleche!$A$1,MATCH(total!$A35,DatLivCal,0),MATCH(total!G$2,caleche!$B$1:$M$1,0)),0) -> 0 | H35: =IFERROR(OFFSET(equitation!$A$1,MATCH(total!$A35,DatLivEq,0),MATCH(total!H$2,equitation!$B$1:$M$1,0)),0) -> 0 | I35: =IFERROR(OFFSET(equitation!$A$1,MATCH(total!$A35,DatLivEq,0),MATCH(total!I$2,equitation!$B$1:$M$1,0)),0) -> 0 | J35: =IFERROR(OFFSET(equitation!$A$1,MATCH(total!$A35,DatLivEq,0),MATCH(total!J$2,equitation!$B$1:$M$1,0)),0) -> 0 | K35: =IFERROR(OFFSET(ceinture!$A$1,MATCH(total!$A35,Datlivceint,0),MATCH(total!K$2,ceinture!$B$1:$L$1,0)),0) -> 0 | L35: =IFERROR(OFFSET('sac-diamant'!$A$1,MATCH(total!$A35,DatLivDiam,0),MATCH(total!L$2,'sac-diamant'!$B$1:$L$1,0)),0) -> 0
A36: 41672 | B36: =IFERROR(OFFSET(fourbi!$A$1,MATCH(total!$A36,DatLivF,0),MATCH(total!B$2,fourbi!$B$1:$M$1,0)),0) -> 0 | C36: =IFERROR(OFFSET(fourbi!$A$1,MATCH(total!$A36,DatLivF,0),MATCH(total!C$2,fourbi!$B$1:$M$1,0)),0) -> 0 | D36: =IFERROR(OFFSET(fourbi!$A$1,MATCH(total!$A36,DatLivF,0),MATCH(total!D$2,fourbi!$B$1:$M$1,0)),0) -> 0 | E36: =IFERROR(OFFSET(fourbi!$A$1,MATCH(total!$A36,DatLivF,0),MATCH(total!E$2,fourbi!$B$1:$M$1,0)),0) -> 0 | F36: =IFERROR(OFFSET(caleche!$A$1,MATCH(total!$A36,DatLivCal,0),MATCH(total!F$2,caleche!$B$1:$M$1,0)),0) -> 0 | G36: =IFERROR(OFFSET(caleche!$A$1,MATCH(total!$A36,DatLivCal,0),MATCH(total!G$2,caleche!$B$1:$M$1,0)),0) -> 0 | H36: =IFERROR(OFFSET(equitation!$A$1,MATCH(total!$A36,DatLivEq,0),MATCH(total!H$2,equitation!$B$1:$M$1,0)),0) -> 0 | I36: =IFERROR(OFFSET(equitation!$A$1,MATCH(total!$A36,DatLivEq,0),MATCH(total!I$2,equitation!$B$1:$M$1,0)),0) -> 0 | J36: =IFERROR(OFFSET(equitation!$A$1,MATCH(total!$A36,DatLivEq,0),MATCH(total!J$2,equitation!$B$1:$M$1,0)),0) -> 0 | K36: =IFERROR(OFFSET(ceinture!$A$1,MATCH(total!$A36,Datlivceint,0),MATCH(total!K$2,ceinture!$B$1:$L$1,0)),0) -> 0 | L36: =IFERROR(OFFSET('sac-diamant'!$A$1,MATCH(total!$A36,DatLivDiam,0),MATCH(total!L$2,'sac-diamant'!$B$1:$L$1,0)),0) -> 0
A37: 41673 | B37: =IFERROR(OFFSET(fourbi!$A$1,MATCH(total!$A37,DatLivF,0),MATCH(total!B$2,fourbi!$B$1:$M$1,0)),0) -> 0 | C37: =IFERROR(OFFSET(fourbi!$A$1,MATCH(total!$A37,DatLivF,0),MATCH(total!C$2,fourbi!$B$1:$M$1,0)),0) -> 0 | D37: =IFERROR(OFFSET(fourbi!$A$1,MATCH(total!$A37,DatLivF,0),MATCH(total!D$2,fourbi!$B$1:$M$1,0)),0) -> 0 | E37: =IFERROR(OFFSET(fourbi!$A$1,MATCH(total!$A37,DatLivF,0),MATCH(total!E$2,fourbi!$B$1:$M$1,0)),0) -> 0 | F37: =IFERROR(OFFSET(caleche!$A$1,MATCH(total!$A37,DatLivCal,0),MATCH(total!F$2,caleche!$B$1:$M$1,0)),0) -> 0 | G37: =IFERROR(OFFSET(caleche!$A$1,MATCH(total!$A37,DatLivCal,0),MATCH(total!G$2,caleche!$B$1:$M$1,0)),0) -> 0 | H37: =IFERROR(OFFSET(equitation!$A$1,MATCH(total!$A37,DatLivEq,0),MATCH(total!H$2,equitation!$B$1:$M$1,0)),0) -> 0 | I37: =IFERROR(OFFSET(equitation!$A$1,MATCH(total!$A37,DatLivEq,0),MATCH(total!I$2,equitation!$B$1:$M$1,0)),0) -> 0 | J37: =IFERROR(OFFSET(equitation!$A$1,MATCH(total!$A37,DatLivEq,0),MATCH(total!J$2,equitation!$B$1:$M$1,0)),0) -> 0 | K37: =IFERROR(OFFSET(ceinture!$A$1,MATCH(total!$A37,Datlivceint,0),MATCH(total!K$2,ceinture!$B$1:$L$1,0)),0) -> 0 | L37: =IFERROR(OFFSET('sac-diamant'!$A$1,MATCH(total!$A37,DatLivDiam,0),MATCH(total!L$2,'sac-diamant'!$B$1:$L$1,0)),0) -> 0
A38: 41674 | B38: =IFERROR(OFFSET(fourbi!$A$1,MATCH(total!$A38,DatLivF,0),MATCH(total!B$2,fourbi!$B$1:$M$1,0)),0) -> 0 | C38: =IFERROR(OFFSET(fourbi!$A$1,MATCH(total!$A38,DatLivF,0),MATCH(total!C$2,fourbi!$B$1:$M$1,0)),0) -> 0 | D38: =IFERROR(OFFSET(fourbi!$A$1,MATCH(total!$A38,DatLivF,0),MATCH(total!D$2,fourbi!$B$1:$M$1,0)),0) -> 0 | E38: =IFERROR(OFFSET(fourbi!$A$1,MATCH(total!$A38,DatLivF,0),MATCH(total!E$2,fourbi!$B$1:$M$1,0)),0) -> 0 | F38: =IFERROR(OFFSET(caleche!$A$1,MATCH(total!$A38,DatLivCal,0),MATCH(total!F$2,caleche!$B$1:$M$1,0)),0) -> 0 | G38: =IFERROR(OFFSET(caleche!$A$1,MATCH(total!$A38,DatLivCal,0),MATCH(total!G$2,caleche!$B$1:$M$1,0)),0) -> 0 | H38: =IFERROR(OFFSET(equitation!$A$1,MATCH(total!$A38,DatLivEq,0),MATCH(total!H$2,equitation!$B$1:$M$1,0)),0) -> 0 | I38: =IFERROR(OFFSET(equitation!$A$1,MATCH(total!$A38,DatLivEq,0),MATCH(total!I$2,equitation!$B$1:$M$1,0)),0) -> 0 | J38: =IFERROR(OFFSET(equitation!$A$1,MATCH(total!$A38,DatLivEq,0),MATCH(total!J$2,equitation!$B$1:$M$1,0)),0) -> 0 | K38: =IFERROR(OFFSET(ceinture!$A$1,MATCH(total!$A38,Datlivceint,0),MATCH(total!K$2,ceinture!$B$1:$L$1,0)),0) -> 0 | L38: =IFERROR(OFFSET('sac-diamant'!$A$1,MATCH(total!$A38,DatLivDiam,0),MATCH(total!L$2,'sac-diamant'!$B$1:$L$1,0)),0) -> 0
A39: 41675 | B39: =IFERROR(OFFSET(fourbi!$A$1,MATCH(total!$A39,DatLivF,0),MATCH(total!B$2,fourbi!$B$1:$M$1,0)),0) -> 0 | C39: =IFERROR(OFFSET(fourbi!$A$1,MATCH(total!$A39,DatLivF,0),MATCH(total!C$2,fourbi!$B$1:$M$1,0)),0) -> 0 | D39: =IFERROR(OFFSET(fourbi!$A$1,MATCH(total!$A39,DatLivF,0),MATCH(total!D$2,fourbi!$B$1:$M$1,0)),0) -> 0 | E39: =IFERROR(OFFSET(fourbi!$A$1,MATCH(total!$A39,DatLivF,0),MATCH(total!E$2,fourbi!$B$1:$M$1,0)),0) -> 0 | F39: =IFERROR(OFFSET(caleche!$A$1,MATCH(total!$A39,DatLivCal,0),MATCH(total!F$2,caleche!$B$1:$M$1,0)),0) -> 0 | G39: =IFERROR(OFFSET(caleche!$A$1,MATCH(total!$A39,DatLivCal,0),MATCH(total!G$2,caleche!$B$1:$M$1,0)),0) -> 0 | H39: =IFERROR(OFFSET(equitation!$A$1,MATCH(total!$A39,DatLivEq,0),MATCH(total!H$2,equitation!$B$1:$M$1,0)),0) -> 0 | I39: =IFERROR(OFFSET(equitation!$A$1,MATCH(total!$A39,DatLivEq,0),MATCH(total!I$2,equitation!$B$1:$M$1,0)),0) -> 0 | J39: =IFERROR(OFFSET(equitation!$A$1,MATCH(total!$A39,DatLivEq,0),MATCH(total!J$2,equitation!$B$1:$M$1,0)),0) -> 0 | K39: =IFERROR(OFFSET(ceinture!$A$1,MATCH(total!$A39,Datlivceint,0),MATCH(total!K$2,ceinture!$B$1:$L$1,0)),0) -> 0 | L39: =IFERROR(OFFSET('sac-diamant'!$A$1,MATCH(total!$A39,DatLivDiam,0),MATCH(total!L$2,'sac-diamant'!$B$1:$L$1,0)),0) -> 0
A40: 41676 | B40: =IFERROR(OFFSET(fourbi!$A$1,MATCH(total!$A40,DatLivF,0),MATCH(total!B$2,fourbi!$B$1:$M$1,0)),0) -> 0 | C40: =IFERROR(OFFSET(fourbi!$A$1,MATCH(total!$A40,DatLivF,0),MATCH(total!C$2,fourbi!$B$1:$M$1,0)),0) -> 0 | D40: =IFERROR(OFFSET(fourbi!$A$1,MATCH(total!$A40,DatLivF,0),MATCH(total!D$2,fourbi!$B$1:$M$1,0)),0) -> 0 | E40: =IFERROR(OFFSET(fourbi!$A$1,MATCH(total!$A40,DatLivF,0),MATCH(total!E$2,fourbi!$B$1:$M$1,0)),0) -> 0 | F40: =IFERROR(OFFSET(caleche!$A$1,MATCH(total!$A40,DatLivCal,0),MATCH(total!F$2,caleche!$B$1:$M$1,0)),0) -> 0 | G40: =IFERROR(OFFSET(caleche!$A$1,MATCH(total!$A40,DatLivCal,0),MATCH(total!G$2,caleche!$B$1:$M$1,0)),0) -> 0 | H40: =IFERROR(OFFSET(equitation!$A$1,MATCH(total!$A40,DatLivEq,0),MATCH(total!H$2,equitation!$B$1:$M$1,0)),0) -> 0 | I40: =IFERROR(OFFSET(equitation!$A$1,MATCH(total!$A40,DatLivEq,0),MATCH(total!I$2,equitation!$B$1:$M$1,0)),0) -> 0 | J40: =IFERROR(OFFSET(equitation!$A$1,MATCH(total!$A40,DatLivEq,0),MATCH(total!J$2,equitation!$B$1:$M$1,0)),0) -> 0 | K40: =IFERROR(OFFSET(ceinture!$A$1,MATCH(total!$A40,Datlivceint,0),MATCH(total!K$2,ceinture!$B$1:$L$1,0)),0) -> 16 | L40: =IFERROR(OFFSET('sac-diamant'!$A$1,MATCH(total!$A40,DatLivDiam,0),MATCH(total!L$2,'sac-diamant'!$B$1:$L$1,0)),0) -> 0
A41: 41677 | B41: =IFERROR(OFFSET(fourbi!$A$1,MATCH(total!$A41,DatLivF,0),MATCH(total!B$2,fourbi!$B$1:$M$1,0)),0) -> 0 | C41: =IFERROR(OFFSET(fourbi!$A$1,MATCH(total!$A41,DatLivF,0),MATCH(total!C$2,fourbi!$B$1:$M$1,0)),0) -> 0 | D41: =IFERROR(OFFSET(fourbi!$A$1,MATCH(total!$A41,DatLivF,0),MATCH(total!D$2,fourbi!$B$1:$M$1,0)),0) -> 0 | E41: =IFERROR(OFFSET(fourbi!$A$1,MATCH(total!$A41,DatLivF,0),MATCH(total!E$2,fourbi!$B$1:$M$1,0)),0) -> 0 | F41: =IFERROR(OFFSET(caleche!$A$1,MATCH(total!$A41,DatLivCal,0),MATCH(total!F$2,caleche!$B$1:$M$1,0)),0) -> 0 | G41: =IFERROR(OFFSET(caleche!$A$1,MATCH(total!$A41,DatLivCal,0),MATCH(total!G$2,caleche!$B$1:$M$1,0)),0) -> 0 | H41: =IFERROR(OFFSET(equitation!$A$1,MATCH(total!$A41,DatLivEq,0),MATCH(total!H$2,equitation!$B$1:$M$1,0)),0) -> 0 | I41: =IFERROR(OFFSET(equitation!$A$1,MATCH(total!$A41,DatLivEq,0),MATCH(total!I$2,equitation!$B$1:$M$1,0)),0) -> 0 | J41: =IFERROR(OFFSET(equitation!$A$1,MATCH(total!$A41,DatLivEq,0),MATCH(total!J$2,equitation!$B$1:$M$1,0)),0) -> 0 | K41: =IFERROR(OFFSET(ceinture!$A$1,MATCH(total!$A41,Datlivceint,0),MATCH(total!K$2,ceinture!$B$1:$L$1,0)),0) -> 0 | L41: =IFERROR(OFFSET('sac-diamant'!$A$1,MATCH(total!$A41,DatLivDiam,0),MATCH(total!L$2,'sac-diamant'!$B$1:$L$1,0)),0) -> 0
A42: 41678 | B42: =IFERROR(OFFSET(fourbi!$A$1,MATCH(total!$A42,DatLivF,0),MATCH(total!B$2,fourbi!$B$1:$M$1,0)),0) -> 0 | C42: =IFERROR(OFFSET(fourbi!$A$1,MATCH(total!$A42,DatLivF,0),MATCH(total!C$2,fourbi!$B$1:$M$1,0)),0) -> 0 | D42: =IFERROR(OFFSET(fourbi!$A$1,MATCH(total!$A42,DatLivF,0),MATCH(total!D$2,fourbi!$B$1:$M$1,0)),0) -> 0 | E42: =IFERROR(OFFSET(fourbi!$A$1,MATCH(total!$A42,DatLivF,0),MATCH(total!E$2,fourbi!$B$1:$M$1,0)),0) -> 0 | F42: =IFERROR(OFFSET(caleche!$A$1,MATCH(total!$A42,DatLivCal,0),MATCH(total!F$2,caleche!$B$1:$M$1,0)),0) -> 0 | G42: =IFERROR(OFFSET(caleche!$A$1,MATCH(total!$A42,DatLivCal,0),MATCH(total!G$2,caleche!$B$1:$M$1,0)),0) -> 0 | H42: =IFERROR(OFFSET(equitation!$A$1,MATCH(total!$A42,DatLivEq,0),MATCH(total!H$2,equitation!$B$1:$M$1,0)),0) -> 0 | I42: =IFERROR(OFFSET(equitation!$A$1,MATCH(total!$A42,DatLivEq,0),MATCH(total!I$2,equitation!$B$1:$M$1,0)),0) -> 0 | J42: =IFERROR(OFFSET(equitation!$A$1,MATCH(total!$A42,DatLivEq,0),MATCH(total!J$2,equitation!$B$1:$M$1,0)),0) -> 0 | K42: =IFERROR(OFFSET(ceinture!$A$1,MATCH(total!$A42,Datlivceint,0),MATCH(total!K$2,ceinture!$B$1:$L$1,0)),0) -> 0 | L42: =IFERROR(OFFSET('sac-diamant'!$A$1,MATCH(total!$A42,DatLivDiam,0),MATCH(total!L$2,'sac-diamant'!$B$1:$L$1,0)),0) -> 0
A43: 41679 | B43: =IFERROR(OFFSET(fourbi!$A$1,MATCH(total!$A43,DatLivF,0),MATCH(total!B$2,fourbi!$B$1:$M$1,0)),0) -> 0 | C43: =IFERROR(OFFSET(fourbi!$A$1,MATCH(total!$A43,DatLivF,0),MATCH(total!C$2,fourbi!$B$1:$M$1,0)),0) -> 0 | D43: =IFERROR(OFFSET(fourbi!$A$1,MATCH(total!$A43,DatLivF,0),MATCH(total!D$2,fourbi!$B$1:$M$1,0)),0) -> 0 | E43: =IFERROR(OFFSET(fourbi!$A$1,MATCH(total!$A43,DatLivF,0),MATCH(total!E$2,fourbi!$B$1:$M$1,0)),0) -> 0 | F43: =IFERROR(OFFSET(caleche!$A$1,MATCH(total!$A43,DatLivCal,0),MATCH(total!F$2,caleche!$B$1:$M$1,0)),0) -> 0 | G43: =IFERROR(OFFSET(caleche!$A$1,MATCH(total!$A43,DatLivCal,0),MATCH(total!G$2,caleche!$B$1:$M$1,0)),0) -> 0 | H43: =IFERROR(OFFSET(equitation!$A$1,MATCH(total!$A43,DatLivEq,0),MATCH(total!H$2,equitation!$B$1:$M$1,0)),0) -> 0 | I43: =IFERROR(OFFSET(equitation!$A$1,MATCH(total!$A43,DatLivEq,0),MATCH(total!I$2,equitation!$B$1:$M$1,0)),0) -> 0 | J43: =IFERROR(OFFSET(equitation!$A$1,MATCH(total!$A43,DatLivEq,0),MATCH(total!J$2,equitation!$B$1:$M$1,0)),0) -> 0 | K43: =IFERROR(OFFSET(ceinture!$A$1,MATCH(total!$A43,Datlivceint,0),MATCH(total!K$2,ceinture!$B$1:$L$1,0)),0) -> 0 | L43: =IFERROR(OFFSET('sac-diamant'!$A$1,MATCH(total!$A43,DatLivDiam,0),MATCH(total!L$2,'sac-diamant'!$B$1:$L$1,0)),0) -> 0
A44: 41680 | B44: =IFERROR(OFFSET(fourbi!$A$1,MATCH(total!$A44,DatLivF,0),MATCH(total!B$2,fourbi!$B$1:$M$1,0)),0) -> 0 | C44: =IFERROR(OFFSET(fourbi!$A$1,MATCH(total!$A44,DatLivF,0),MATCH(total!C$2,fourbi!$B$1:$M$1,0)),0) -> 0 | D44: =IFERROR(OFFSET(fourbi!$A$1,MATCH(total!$A44,DatLivF,0),MATCH(total!D$2,fourbi!$B$1:$M$1,0)),0) -> 0 | E44: =IFERROR(OFFSET(fourbi!$A$1,MATCH(total!$A44,DatLivF,0),MATCH(total!E$2,fourbi!$B$1:$M$1,0)),0) -> 0 | F44: =IFERROR(OFFSET(caleche!$A$1,MATCH(total!$A44,DatLivCal,0),MATCH(total!F$2,caleche!$B$1:$M$1,0)),0) -> 0 | G44: =IFERROR(OFFSET(caleche!$A$1,MATCH(total!$A44,DatLivCal,0),MATCH(total!G$2,caleche!$B$1:$M$1,0)),0) -> 0 | H44: =IFERROR(OFFSET(equitation!$A$1,MATCH(total!$A44,DatLivEq,0),MATCH(total!H$2,equitation!$B$1:$M$1,0)),0) -> 0 | I44: =IFERROR(OFFSET(equitation!$A$1,MATCH(total!$A44,DatLivEq,0),MATCH(total!I$2,equitation!$B$1:$M$1,0)),0) -> 0 | J44: =IFERROR(OFFSET(equitation!$A$1,MATCH(total!$A44,DatLivEq,0),MATCH(total!J$2,equitation!$B$1:$M$1,0)),0) -> 0 | K44: =IFERROR(OFFSET(ceinture!$A$1,MATCH(total!$A44,Datlivceint,0),MATCH(total!K$2,ceinture!$B$1:$L$1,0)),0) -> 0 | L44: =IFERROR(OFFSET('sac-diamant'!$A$1,MATCH(total!$A44,DatLivDiam,0),MATCH(total!L$2,'sac-diamant'!$B$1:$L$1,0)),0) -> 0
A45: 41681 | B45: =IFERROR(OFFSET(fourbi!$A$1,MATCH(total!$A45,DatLivF,0),MATCH(total!B$2,fourbi!$B$1:$M$1,0)),0) -> 0 | C45: =IFERROR(OFFSET(fourbi!$A$1,MATCH(total!$A45,DatLivF,0),MATCH(total!C$2,fourbi!$B$1:$M$1,0)),0) -> 0 | D45: =IFERROR(OFFSET(fourbi!$A$1,MATCH(total!$A45,DatLivF,0),MATCH(total!D$2,fourbi!$B$1:$M$1,0)),0) -> 0 | E45: =IFERROR(OFFSET(fourbi!$A$1,MATCH(total!$A45,DatLivF,0),MATCH(total!E$2,fourbi!$B$1:$M$1,0)),0) -> 0 | F45: =IFERROR(OFFSET(caleche!$A$1,MATCH(total!$A45,DatLivCal,0),MATCH(total!F$2,caleche!$B$1:$M$1,0)),0) -> 0 | G45: =IFERROR(OFFSET(caleche!$A$1,MATCH(total!$A45,DatLivCal,0),MATCH(total!G$2,caleche!$B$1:$M$1,0)),0) -> 0 | H45: =IFERROR(OFFSET(equitation!$A$1,MATCH(total!$A45,DatLivEq,0),MATCH(total!H$2,equitation!$B$1:$M$1,0)),0) -> 0 | I45: =IFERROR(OFFSET(equitation!$A$1,MATCH(total!$A45,DatLivEq,0),MATCH(total!I$2,equitation!$B$1:$M$1,0)),0) -> 0 | J45: =IFERROR(OFFSET(equitation!$A$1,MATCH(total!$A45,DatLivEq,0),MATCH(total!J$2,equitation!$B$1:$M$1,0)),0) -> 0 | K45: =IFERROR(OFFSET(ceinture!$A$1,MATCH(total!$A45,Datlivceint,0),MATCH(total!K$2,ceinture!$B$1:$L$1,0)),0) -> 0 | L45: =IFERROR(OFFSET('sac-diamant'!$A$1,MATCH(total!$A45,DatLivDiam,0),MATCH(total!L$2,'sac-diamant'!$B$1:$L$1,0)),0) -> 0
A46: 41682 | B46: =IFERROR(OFFSET(fourbi!$A$1,MATCH(total!$A46,DatLivF,0),MATCH(total!B$2,fourbi!$B$1:$M$1,0)),0) -> 0 | C46: =IFERROR(OFFSET(fourbi!$A$1,MATCH(total!$A46,DatLivF,0),MATCH(total!C$2,fourbi!$B$1:$M$1,0)),0) -> 0 | D46: =IFERROR(OFFSET(fourbi!$A$1,MATCH(total!$A46,DatLivF,0),MATCH(total!D$2,fourbi!$B$1:$M$1,0)),0) -> 0 | E46: =IFERROR(OFFSET(fourbi!$A$1,MATCH(total!$A46,DatLivF,0),MATCH(total!E$2,fourbi!$B$1:$M$1,0)),0) -> 0 | F46: =IFERROR(OFFSET(caleche!$A$1,MATCH(total!$A46,DatLivCal,0),MATCH(total!F$2,caleche!$B$1:$M$1,0)),0) -> 0 | G46: =IFERROR(OFFSET(caleche!$A$1,MATCH(total!$A46,DatLivCal,0),MATCH(total!G$2,caleche!$B$1:$M$1,0)),0) -> 0 | H46: =IFERROR(OFFSET(equitation!$A$1,MATCH(total!$A46,DatLivEq,0),MATCH(total!H$2,equitation!$B$1:$M$1,0)),0) -> 0 | I46: =IFERROR(OFFSET(equitation!$A$1,MATCH(total!$A46,DatLivEq,0),MATCH(total!I$2,equitation!$B$1:$M$1,0)),0) -> 0 | J46: =IFERROR(OFFSET(equitation!$A$1,MATCH(total!$A46,DatLivEq,0),MATCH(total!J$2,equitation!$B$1:$M$1,0)),0) -> 0 | K46: =IFERROR(OFFSET(ceinture!$A$1,MATCH(total!$A46,Datlivceint,0),MATCH(total!K$2,ceinture!$B$1:$L$1,0)),0) -> 0 | L46: =IFERROR(OFFSET('sac-diamant'!$A$1,MATCH(total!$A46,DatLivDiam,0),MATCH(total!L$2,'sac-diamant'!$B$1:$L$1,0)),0) -> 0
... A62: 41698 | B62: =IFERROR(OFFSET(fourbi!$A$1,MATCH(total!$A62,DatLivF,0),MATCH(total!B$2,fourbi!$B$1:$M$1,0)),0) -> 288 | C62: =IFERROR(OFFSET(fourbi!$A$1,MATCH(total!$A62,DatLivF,0),MATCH(total!C$2,fourbi!$B$1:$M$1,0)),0) -> 0 | D62: =IFERROR(OFFSET(fourbi!$A$1,MATCH(total!$A62,DatLivF,0),MATCH(total!D$2,fourbi!$B$1:$M$1,0)),0) -> 0 | E62: =IFERROR(OFFSET(fourbi!$A$1,MATCH(total!$A62,DatLivF,0),MATCH(total!E$2,fourbi!$B$1:$M$1,0)),0) -> 0 | F62: =IFERROR(OFFSET(caleche!$A$1,MATCH(total!$A62,DatLivCal,0),MATCH(total!F$2,caleche!$B$1:$M$1,0)),0) -> 0 | G62: =IFERROR(OFFSET(caleche!$A$1,MATCH(total!$A62,DatLivCal,0),MATCH(total!G$2,caleche!$B$1:$M$1,0)),0) -> 0 | H62: =IFERROR(OFFSET(equitation!$A$1,MATCH(total!$A62,DatLivEq,0),MATCH(total!H$2,equitation!$B$1:$M$1,0)),0) -> 0 | I62: =IFERROR(OFFSET(equitation!$A$1,MATCH(total!$A62,DatLivEq,0),MATCH(total!I$2,equitation!$B$1:$M$1,0)),0) -> 0 | J62: =IFERROR(OFFSET(equitation!$A$1,MATCH(total!$A62,DatLivEq,0),MATCH(total!J$2,equitation!$B$1:$M$1,0)),0) -> 0 | K62: =IFERROR(OFFSET(ceinture!$A$1,MATCH(total!$A62,Datlivceint,0),MATCH(total!K$2,ceinture!$B$1:$L$1,0)),0) -> 180 | L62: =IFERROR(OFFSET('sac-diamant'!$A$1,MATCH(total!$A62,DatLivDiam,0),MATCH(total!L$2,'sac-diamant'!$B$1:$L$1,0)),0) -> 0
A63: total février | B63: =fourbi!B16 -> 648 | C63: =fourbi!C16 -> 462 | D63: =fourbi!D16 -> 1 | E63: =fourbi!E16 -> 3 | F63: =+caleche!B62 -> 0 | G63: =+caleche!C62 -> 0 | K63: =+ceinture!B62 -> 443 | L63: =+'sac-diamant'!B62 -> 0
A64: 41699 | B64: =IFERROR(OFFSET(fourbi!$A$1,MATCH(total!$A64,DatLivF,0),MATCH(total!B$2,fourbi!$B$1:$M$1,0)),0) -> 0 | C64: =IFERROR(OFFSET(fourbi!$A$1,MATCH(total!$A64,DatLivF,0),MATCH(total!C$2,fourbi!$B$1:$M$1,0)),0) -> 0 | D64: =IFERROR(OFFSET(fourbi!$A$1,MATCH(total!$A64,DatLivF,0),MATCH(total!D$2,fourbi!$B$1:$M$1,0)),0) -> 0 | E64: =IFERROR(OFFSET(fourbi!$A$1,MATCH(total!$A64,DatLivF,0),MATCH(total!E$2,fourbi!$B$1:$M$1,0)),0) -> 0 | F64: =IFERROR(OFFSET(caleche!$A$1,MATCH(total!$A64,DatLivCal,0),MATCH(total!F$2,caleche!$B$1:$M$1,0)),0) -> 0 | G64: =IFERROR(OFFSET(caleche!$A$1,MATCH(total!$A64,DatLivCal,0),MATCH(total!G$2,caleche!$B$1:$M$1,0)),0) -> 0 | H64: =IFERROR(OFFSET(equitation!$A$1,MATCH(total!$A64,DatLivEq,0),MATCH(total!H$2,equitation!$B$1:$M$1,0)),0) -> 0 | I64: =IFERROR(OFFSET(equitation!$A$1,MATCH(total!$A64,DatLivEq,0),MATCH(total!I$2,equitation!$B$1:$M$1,0)),0) -> 0 | J64: =IFERROR(OFFSET(equitation!$A$1,MATCH(total!$A64,DatLivEq,0),MATCH(total!J$2,equitation!$B$1:$M$1,0)),0) -> 0 | K64: =IFERROR(OFFSET(ceinture!$A$1,MATCH(total!$A64,Datlivceint,0),MATCH(total!K$2,ceinture!$B$1:$L$1,0)),0) -> 0 | L64: =IFERROR(OFFSET('sac-diamant'!$A$1,MATCH(total!$A64,DatLivDiam,0),MATCH(total!L$2,'sac-diamant'!$B$1:$L$1,0)),0) -> 0
A65: 41700 | B65: =IFERROR(OFFSET(fourbi!$A$1,MATCH(total!$A65,DatLivF,0),MATCH(total!B$2,fourbi!$B$1:$M$1,0)),0) -> 0 | C65: =IFERROR(OFFSET(fourbi!$A$1,MATCH(total!$A65,DatLivF,0),MATCH(total!C$2,fourbi!$B$1:$M$1,0)),0) -> 0 | D65: =IFERROR(OFFSET(fourbi!$A$1,MATCH(total!$A65,DatLivF,0),MATCH(total!D$2,fourbi!$B$1:$M$1,0)),0) -> 0 | E65: =IFERROR(OFFSET(fourbi!$A$1,MATCH(total!$A65,DatLivF,0),MATCH(total!E$2,fourbi!$B$1:$M$1,0)),0) -> 0 | F65: =IFERROR(OFFSET(caleche!$A$1,MATCH(total!$A65,DatLivCal,0),MATCH(total!F$2,caleche!$B$1:$M$1,0)),0) -> 0 | G65: =IFERROR(OFFSET(caleche!$A$1,MATCH(total!$A65,DatLivCal,0),MATCH(total!G$2,caleche!$B$1:$M$1,0)),0) -> 0 | H65: =IFERROR(OFFSET(equitation!$A$1,MATCH(total!$A65,DatLivEq,0),MATCH(total!H$2,equitation!$B$1:$M$1,0)),0) -> 0 | I65: =IFERROR(OFFSET(equitation!$A$1,MATCH(total!$A65,DatLivEq,0),MATCH(total!I$2,equitation!$B$1:$M$1,0)),0) -> 0 | J65: =IFERROR(OFFSET(equitation!$A$1,MATCH(total!$A65,DatLivEq,0),MATCH(total!J$2,equitation!$B$1:$M$1,0)),0) -> 0 | K65: =IFERROR(OFFSET(ceinture!$A$1,MATCH(total!$A65,Datlivceint,0),MATCH(total!K$2,ceinture!$B$1:$L$1,0)),0) -> 0 | L65: =IFERROR(OFFSET('sac-diamant'!$A$1,MATCH(total!$A65,DatLivDiam,0),MATCH(total!L$2,'sac-diamant'!$B$1:$L$1,0)),0) -> 0
A66: 41701 | B66: =IFERROR(OFFSET(fourbi!$A$1,MATCH(total!$A66,DatLivF,0),MATCH(total!B$2,fourbi!$B$1:$M$1,0)),0) -> 0 | C66: =IFERROR(OFFSET(fourbi!$A$1,MATCH(total!$A66,DatLivF,0),MATCH(total!C$2,fourbi!$B$1:$M$1,0)),0) -> 0 | D66: =IFERROR(OFFSET(fourbi!$A$1,MATCH(total!$A66,DatLivF,0),MATCH(total!D$2,fourbi!$B$1:$M$1,0)),0) -> 0 | E66: =IFERROR(OFFSET(fourbi!$A$1,MATCH(total!$A66,DatLivF,0),MATCH(total!E$2,fourbi!$B$1:$M$1,0)),0) -> 0 | F66: =IFERROR(OFFSET(caleche!$A$1,MATCH(total!$A66,DatLivCal,0),MATCH(total!F$2,caleche!$B$1:$M$1,0)),0) -> 0 | G66: =IFERROR(OFFSET(caleche!$A$1,MATCH(total!$A66,DatLivCal,0),MATCH(total!G$2,caleche!$B$1:$M$1,0)),0) -> 0 | H66: =IFERROR(OFFSET(equitation!$A$1,MATCH(total!$A66,DatLivEq,0),MATCH(total!H$2,equitation!$B$1:$M$1,0)),0) -> 0 | I66: =IFERROR(OFFSET(equitation!$A$1,MATCH(total!$A66,DatLivEq,0),MATCH(total!I$2,equitation!$B$1:$M$1,0)),0) -> 0 | J66: =IFERROR(OFFSET(equitation!$A$1,MATCH(total!$A66,DatLivEq,0),MATCH(total!J$2,equitation!$B$1:$M$1,0)),0) -> 0 | K66: =IFERROR(OFFSET(ceinture!$A$1,MATCH(total!$A66,Datlivceint,0),MATCH(total!K$2,ceinture!$B$1:$L$1,0)),0) -> 0 | L66: =IFERROR(OFFSET('sac-diamant'!$A$1,MATCH(total!$A66,DatLivDiam,0),MATCH(total!L$2,'sac-diamant'!$B$1:$L$1,0)),0) -> 0
A67: 41702 | B67: =IFERROR(OFFSET(fourbi!$A$1,MATCH(total!$A67,DatLivF,0),MATCH(total!B$2,fourbi!$B$1:$M$1,0)),0) -> 0 | C67: =IFERROR(OFFSET(fourbi!$A$1,MATCH(total!$A67,DatLivF,0),MATCH(total!C$2,fourbi!$B$1:$M$1,0)),0) -> 0 | D67: =IFERROR(OFFSET(fourbi!$A$1,MATCH(total!$A67,DatLivF,0),MATCH(total!D$2,fourbi!$B$1:$M$1,0)),0) -> 0 | E67: =IFERROR(OFFSET(fourbi!$A$1,MATCH(total!$A67,DatLivF,0),MATCH(total!E$2,fourbi!$B$1:$M$1,0)),0) -> 0 | F67: =IFERROR(OFFSET(caleche!$A$1,MATCH(total!$A67,DatLivCal,0),MATCH(total!F$2,caleche!$B$1:$M$1,0)),0) -> 0 | G67: =IFERROR(OFFSET(caleche!$A$1,MATCH(total!$A67,DatLivCal,0),MATCH(total!G$2,caleche!$B$1:$M$1,0)),0) -> 0 | H67: =IFERROR(OFFSET(equitation!$A$1,MATCH(total!$A67,DatLivEq,0),MATCH(total!H$2,equitation!$B$1:$M$1,0)),0) -> 0 | I67: =IFERROR(OFFSET(equitation!$A$1,MATCH(total!$A67,DatLivEq,0),MATCH(total!I$2,equitation!$B$1:$M$1,0)),0) -> 0 | J67: =IFERROR(OFFSET(equitation!$A$1,MATCH(total!$A67,DatLivEq,0),MATCH(total!J$2,equitation!$B$1:$M$1,0)),0) -> 0 | K67: =IFERROR(OFFSET(ceinture!$A$1,MATCH(total!$A67,Datlivceint,0),MATCH(total!K$2,ceinture!$B$1:$L$1,0)),0) -> 0 | L67: =IFERROR(OFFSET('sac-diamant'!$A$1,MATCH(total!$A67,DatLivDiam,0),MATCH(total!L$2,'sac-diamant'!$B$1:$L$1,0)),0) -> 0
A68: 41703 | B68: =IFERROR(OFFSET(fourbi!$A$1,MATCH(total!$A68,DatLivF,0),MATCH(total!B$2,fourbi!$B$1:$M$1,0)),0) -> 0 | C68: =IFERROR(OFFSET(fourbi!$A$1,MATCH(total!$A68,DatLivF,0),MATCH(total!C$2,fourbi!$B$1:$M$1,0)),0) -> 0 | D68: =IFERROR(OFFSET(fourbi!$A$1,MATCH(total!$A68,DatLivF,0),MATCH(total!D$2,fourbi!$B$1:$M$1,0)),0) -> 0 | E68: =IFERROR(OFFSET(fourbi!$A$1,MATCH(total!$A68,DatLivF,0),MATCH(total!E$2,fourbi!$B$1:$M$1,0)),0) -> 0 | F68: =IFERROR(OFFSET(caleche!$A$1,MATCH(total!$A68,DatLivCal,0),MATCH(total!F$2,caleche!$B$1:$M$1,0)),0) -> 0 | G68: =IFERROR(OFFSET(caleche!$A$1,MATCH(total!$A68,DatLivCal,0),MATCH(total!G$2,caleche!$B$1:$M$1,0)),0) -> 0 | H68: =IFERROR(OFFSET(equitation!$A$1,MATCH(total!$A68,DatLivEq,0),MATCH(total!H$2,equitation!$B$1:$M$1,0)),0) -> 0 | I68: =IFERROR(OFFSET(equitation!$A$1,MATCH(total!$A68,DatLivEq,0),MATCH(total!I$2,equitation!$B$1:$M$1,0)),0) -> 0 | J68: =IFERROR(OFFSET(equitation!$A$1,MATCH(total!$A68,DatLivEq,0),MATCH(total!J$2,equitation!$B$1:$M$1,0)),0) -> 13.5 | K68: =IFERROR(OFFSET(ceinture!$A$1,MATCH(total!$A68,Datlivceint,0),MATCH(total!K$2,ceinture!$B$1:$L$1,0)),0) -> 0 | L68: =IFERROR(OFFSET('sac-diamant'!$A$1,MATCH(total!$A68,DatLivDiam,0),MATCH(total!L$2,'sac-diamant'!$B$1:$L$1,0)),0) -> 0
A69: 41704 | B69: =IFERROR(OFFSET(fourbi!$A$1,MATCH(total!$A69,DatLivF,0),MATCH(total!B$2,fourbi!$B$1:$M$1,0)),0) -> 0 | C69: =IFERROR(OFFSET(fourbi!$A$1,MATCH(total!$A69,DatLivF,0),MATCH(total!C$2,fourbi!$B$1:$M$1,0)),0) -> 0 | D69: =IFERROR(OFFSET(fourbi!$A$1,MATCH(total!$A69,DatLivF,0),MATCH(total!D$2,fourbi!$B$1:$M$1,0)),0) -> 0 | E69: =IFERROR(OFFSET(fourbi!$A$1,MATCH(total!$A69,DatLivF,0),MATCH(total!E$2,fourbi!$B$1:$M$1,0)),0) -> 0 | F69: =IFERROR(OFFSET(caleche!$A$1,MATCH(total!$A69,DatLivCal,0),MATCH(total!F$2,caleche!$B$1:$M$1,0)),0) -> 0 | G69: =IFERROR(OFFSET(caleche!$A$1,MATCH(total!$A69,DatLivCal,0),MATCH(total!G$2,caleche!$B$1:$M$1,0)),0) -> 0 | H69: =IFERROR(OFFSET(equitation!$A$1,MATCH(total!$A69,DatLivEq,0),MATCH(total!H$2,equitation!$B$1:$M$1,0)),0) -> 0 | I69: =IFERROR(OFFSET(equitation!$A$1,MATCH(total!$A69,DatLivEq,0),MATCH(total!I$2,equitation!$B$1:$M$1,0)),0) -> 0 | J69: =IFERROR(OFFSET(equitation!$A$1,MATCH(total!$A69,DatLivEq,0),MATCH(total!J$2,equitation!$B$1:$M$1,0)),0) -> 0 | K69: =IFERROR(OFFSET(ceinture!$A$1,MATCH(total!$A69,Datlivceint,0),MATCH(total!K$2,ceinture!$B$1:$L$1,0)),0) -> 0 | L69: =IFERROR(OFFSET('sac-diamant'!$A$1,MATCH(total!$A69,DatLivDiam,0),MATCH(total!L$2,'sac-diamant'!$B$1:$L$1,0)),0) -> 0
A70: 41705 | B70: =IFERROR(OFFSET(fourbi!$A$1,MATCH(total!$A70,DatLivF,0),MATCH(total!B$2,fourbi!$B$1:$M$1,0)),0) -> 0 | C70: =IFERROR(OFFSET(fourbi!$A$1,MATCH(total!$A70,DatLivF,0),MATCH(total!C$2,fourbi!$B$1:$M$1,0)),0) -> 0 | D70: =IFERROR(OFFSET(fourbi!$A$1,MATCH(total!$A70,DatLivF,0),MATCH(total!D$2,fourbi!$B$1:$M$1,0)),0) -> 0 | E70: =IFERROR(OFFSET(fourbi!$A$1,MATCH(total!$A70,DatLivF,0),MATCH(total!E$2,fourbi!$B$1:$M$1,0)),0) -> 0 | F70: =IFERROR(OFFSET(caleche!$A$1,MATCH(total!$A70,DatLivCal,0),MATCH(total!F$2,caleche!$B$1:$M$1,0)),0) -> 0 | G70: =IFERROR(OFFSET(caleche!$A$1,MATCH(total!$A70,DatLivCal,0),MATCH(total!G$2,caleche!$B$1:$M$1,0)),0) -> 0 | H70: =IFERROR(OFFSET(equitation!$A$1,MATCH(total!$A70,DatLivEq,0),MATCH(total!H$2,equitation!$B$1:$M$1,0)),0) -> 0 | I70: =IFERROR(OFFSET(equitation!$A$1,MATCH(total!$A70,DatLivEq,0),MATCH(total!I$2,equitation!$B$1:$M$1,0)),0) -> 0 | J70: =IFERROR(OFFSET(equitation!$A$1,MATCH(total!$A70,DatLivEq,0),MATCH(total!J$2,equitation!$B$1:$M$1,0)),0) -> 0 | K70: =IFERROR(OFFSET(ceinture!$A$1,MATCH(total!$A70,Datlivceint,0),MATCH(total!K$2,ceinture!$B$1:$L$1,0)),0) -> 0 | L70: =IFERROR(OFFSET('sac-diamant'!$A$1,MATCH(total!$A70,DatLivDiam,0),MATCH(total!L$2,'sac-diamant'!$B$1:$L$1,0)),0) -> 0
A71: 41706 | B71: =IFERROR(OFFSET(fourbi!$A$1,MATCH(total!$A71,DatLivF,0),MATCH(total!B$2,fourbi!$B$1:$M$1,0)),0) -> 0 | C71: =IFERROR(OFFSET(fourbi!$A$1,MATCH(total!$A71,DatLivF,0),MATCH(total!C$2,fourbi!$B$1:$M$1,0)),0) -> 0 | D71: =IFERROR(OFFSET(fourbi!$A$1,MATCH(total!$A71,DatLivF,0),MATCH(total!D$2,fourbi!$B$1:$M$1,0)),0) -> 0 | E71: =IFERROR(OFFSET(fourbi!$A$1,MATCH(total!$A71,DatLivF,0),MATCH(total!E$2,fourbi!$B$1:$M$1,0)),0) -> 0 | F71: =IFERROR(OFFSET(caleche!$A$1,MATCH(total!$A71,DatLivCal,0),MATCH(total!F$2,caleche!$B$1:$M$1,0)),0) -> 0 | G71: =IFERROR(OFFSET(caleche!$A$1,MATCH(total!$A71,DatLivCal,0),MATCH(total!G$2,caleche!$B$1:$M$1,0)),0) -> 0 | H71: =IFERROR(OFFSET(equitation!$A$1,MATCH(total!$A71,DatLivEq,0),MATCH(total!H$2,equitation!$B$1:$M$1,0)),0) -> 0 | I71: =IFERROR(OFFSET(equitation!$A$1,MATCH(total!$A71,DatLivEq,0),MATCH(total!I$2,equitation!$B$1:$M$1,0)),0) -> 0 | J71: =IFERROR(OFFSET(equitation!$A$1,MATCH(total!$A71,DatLivEq,0),MATCH(total!J$2,equitation!$B$1:$M$1,0)),0) -> 0 | K71: =IFERROR(OFFSET(ceinture!$A$1,MATCH(total!$A71,Datlivceint,0),MATCH(total!K$2,ceinture!$B$1:$L$1,0)),0) -> 0 | L71: =IFERROR(OFFSET('sac-diamant'!$A$1,MATCH(total!$A71,DatLivDiam,0),MATCH(total!L$2,'sac-diamant'!$B$1:$L$1,0)),0) -> 0
A72: 41707 | B72: =IFERROR(OFFSET(fourbi!$A$1,MATCH(total!$A72,DatLivF,0),MATCH(total!B$2,fourbi!$B$1:$M$1,0)),0) -> 0 | C72: =IFERROR(OFFSET(fourbi!$A$1,MATCH(total!$A72,DatLivF,0),MATCH(total!C$2,fourbi!$B$1:$M$1,0)),0) -> 0 | D72: =IFERROR(OFFSET(fourbi!$A$1,MATCH(total!$A72,DatLivF,0),MATCH(total!D$2,fourbi!$B$1:$M$1,0)),0) -> 0 | E72: =IFERROR(OFFSET(fourbi!$A$1,MATCH(total!$A72,DatLivF,0),MATCH(total!E$2,fourbi!$B$1:$M$1,0)),0) -> 0 | F72: =IFERROR(OFFSET(caleche!$A$1,MATCH(total!$A72,DatLivCal,0),MATCH(total!F$2,caleche!$B$1:$M$1,0)),0) -> 0 | G72: =IFERROR(OFFSET(caleche!$A$1,MATCH(total!$A72,DatLivCal,0),MATCH(total!G$2,caleche!$B$1:$M$1,0)),0) -> 0 | H72: =IFERROR(OFFSET(equitation!$A$1,MATCH(total!$A72,DatLivEq,0),MATCH(total!H$2,equitation!$B$1:$M$1,0)),0) -> 0 | I72: =IFERROR(OFFSET(equitation!$A$1,MATCH(total!$A72,DatLivEq,0),MATCH(total!I$2,equitation!$B$1:$M$1,0)),0) -> 0 | J72: =IFERROR(OFFSET(equitation!$A$1,MATCH(total!$A72,DatLivEq,0),MATCH(total!J$2,equitation!$B$1:$M$1,0)),0) -> 0 | K72: =IFERROR(OFFSET(ceinture!$A$1,MATCH(total!$A72,Datlivceint,0),MATCH(total!K$2,ceinture!$B$1:$L$1,0)),0) -> 0 | L72: =IFERROR(OFFSET('sac-diamant'!$A$1,MATCH(total!$A72,DatLivDiam,0),MATCH(total!L$2,'sac-diamant'!$B$1:$L$1,0)),0) -> 0
A73: 41708 | B73: =IFERROR(OFFSET(fourbi!$A$1,MATCH(total!$A73,DatLivF,0),MATCH(total!B$2,fourbi!$B$1:$M$1,0)),0) -> 0 | C73: =IFERROR(OFFSET(fourbi!$A$1,MATCH(total!$A73,DatLivF,0),MATCH(total!C$2,fourbi!$B$1:$M$1,0)),0) -> 0 | D73: =IFERROR(OFFSET(fourbi!$A$1,MATCH(total!$A73,DatLivF,0),MATCH(total!D$2,fourbi!$B$1:$M$1,0)),0) -> 1 | E73: =IFERROR(OFFSET(fourbi!$A$1,MATCH(total!$A73,DatLivF,0),MATCH(total!E$2,fourbi!$B$1:$M$1,0)),0) -> 2 | F73: =IFERROR(OFFSET(caleche!$A$1,MATCH(total!$A73,DatLivCal,0),MATCH(total!F$2,caleche!$B$1:$M$1,0)),0) -> 0 | G73: =IFERROR(OFFSET(caleche!$A$1,MATCH(total!$A73,DatLivCal,0),MATCH(total!G$2,caleche!$B$1:$M$1,0)),0) -> 0 | H73: =IFERROR(OFFSET(equitation!$A$1,MATCH(total!$A73,DatLivEq,0),MATCH(total!H$2,equitation!$B$1:$M$1,0)),0) -> 0 | I73: =IFERROR(OFFSET(equitation!$A$1,MATCH(total!$A73,DatLivEq,0),MATCH(total!I$2,equitation!$B$1:$M$1,0)),0) -> 0 | J73: =IFERROR(OFFSET(equitation!$A$1,MATCH(total!$A73,DatLivEq,0),MATCH(total!J$2,equitation!$B$1:$M$1,0)),0) -> 0 | K73: =IFERROR(OFFSET(ceinture!$A$1,MATCH(total!$A73,Datlivceint,0),MATCH(total!K$2,ceinture!$B$1:$L$1,0)),0) -> 0 | L73: =IFERROR(OFFSET('sac-diamant'!$A$1,MATCH(total!$A73,DatLivDiam,0),MATCH(total!L$2,'sac-diamant'!$B$1:$L$1,0)),0) -> 0
A74: 41709 | B74: =IFERROR(OFFSET(fourbi!$A$1,MATCH(total!$A74,DatLivF,0),MATCH(total!B$2,fourbi!$B$1:$M$1,0)),0) -> 0 | C74: =IFERROR(OFFSET(fourbi!$A$1,MATCH(total!$A74,DatLivF,0),MATCH(total!C$2,fourbi!$B$1:$M$1,0)),0) -> 0 | D74: =IFERROR(OFFSET(fourbi!$A$1,MATCH(total!$A74,DatLivF,0),MATCH(total!D$2,fourbi!$B$1:$M$1,0)),0) -> 0 | E74: =IFERROR(OFFSET(fourbi!$A$1,MATCH(total!$A74,DatLivF,0),MATCH(total!E$2,fourbi!$B$1:$M$1,0)),0) -> 0 | F74: =IFERROR(OFFSET(caleche!$A$1,MATCH(total!$A74,DatLivCal,0),MATCH(total!F$2,caleche!$B$1:$M$1,0)),0) -> 0 | G74: =IFERROR(OFFSET(caleche!$A$1,MATCH(total!$A74,DatLivCal,0),MATCH(total!G$2,caleche!$B$1:$M$1,0)),0) -> 0 | H74: =IFERROR(OFFSET(equitation!$A$1,MATCH(total!$A74,DatLivEq,0),MATCH(total!H$2,equitation!$B$1:$M$1,0)),0) -> 0 | I74: =IFERROR(OFFSET(equitation!$A$1,MATCH(total!$A74,DatLivEq,0),MATCH(total!I$2,equitation!$B$1:$M$1,0)),0) -> 0 | J74: =IFERROR(OFFSET(equitation!$A$1,MATCH(total!$A74,DatLivEq,0),MATCH(total!J$2,equitation!$B$1:$M$1,0)),0) -> 0 | K74: =IFERROR(OFFSET(ceinture!$A$1,MATCH(total!$A74,Datlivceint,0),MATCH(total!K$2,ceinture!$B$1:$L$1,0)),0) -> 0 | L74: =IFERROR(OFFSET('sac-diamant'!$A$1,MATCH(total!$A74,DatLivDiam,0),MATCH(total!L$2,'sac-diamant'!$B$1:$L$1,0)),0) -> 0
A75: 41710 | B75: =IFERROR(OFFSET(fourbi!$A$1,MATCH(total!$A75,DatLivF,0),MATCH(total!B$2,fourbi!$B$1:$M$1,0)),0) -> 0 | C75: =IFERROR(OFFSET(fourbi!$A$1,MATCH(total!$A75,DatLivF,0),MATCH(total!C$2,fourbi!$B$1:$M$1,0)),0) -> 0 | D75: =IFERROR(OFFSET(fourbi!$A$1,MATCH(total!$A75,DatLivF,0),MATCH(total!D$2,fourbi!$B$1:$M$1,0)),0) -> 0 | E75: =IFERROR(OFFSET(fourbi!$A$1,MATCH(total!$A75,DatLivF,0),MATCH(total!E$2,fourbi!$B$1:$M$1,0)),0) -> 0 | F75: =IFERROR(OFFSET(caleche!$A$1,MATCH(total!$A75,DatLivCal,0),MATCH(total!F$2,caleche!$B$1:$M$1,0)),0) -> 0 | G75: =IFERROR(OFFSET(caleche!$A$1,MATCH(total!$A75,DatLivCal,0),MATCH(total!G$2,caleche!$B$1:$M$1,0)),0) -> 0 | H75: =IFERROR(OFFSET(equitation!$A$1,MATCH(total!$A75,DatLivEq,0),MATCH(total!H$2,equitation!$B$1:$M$1,0)),0) -> 0 | I75: =IFERROR(OFFSET(equitation!$A$1,MATCH(total!$A75,DatLivEq,0),MATCH(total!I$2,equitation!$B$1:$M$1,0)),0) -> 0 | J75: =IFERROR(OFFSET(equitation!$A$1,MATCH(total!$A75,DatLivEq,0),MATCH(total!J$2,equitation!$B$1:$M$1,0)),0) -> 0 | K75: =IFERROR(OFFSET(ceinture!$A$1,MATCH(total!$A75,Datlivceint,0),MATCH(total!K$2,ceinture!$B$1:$L$1,0)),0) -> 0 | L75: =IFERROR(OFFSET('sac-diamant'!$A$1,MATCH(total!$A75,DatLivDiam,0),MATCH(total!L$2,'sac-diamant'!$B$1:$L$1,0)),0) -> 0
... A94: 41729 | B94: =IFERROR(OFFSET(fourbi!$A$1,MATCH(total!$A94,DatLivF,0),MATCH(total!B$2,fourbi!$B$1:$M$1,0)),0) -> 144 | C94: =IFERROR(OFFSET(fourbi!$A$1,MATCH(total!$A94,DatLivF,0),MATCH(total!C$2,fourbi!$B$1:$M$1,0)),0) -> 132 | D94: =IFERROR(OFFSET(fourbi!$A$1,MATCH(total!$A94,DatLivF,0),MATCH(total!D$2,fourbi!$B$1:$M$1,0)),0) -> 0 | E94: =IFERROR(OFFSET(fourbi!$A$1,MATCH(total!$A94,DatLivF,0),MATCH(total!E$2,fourbi!$B$1:$M$1,0)),0) -> 0 | F94: =IFERROR(OFFSET(caleche!$A$1,MATCH(total!$A94,DatLivCal,0),MATCH(total!F$2,caleche!$B$1:$M$1,0)),0) -> 0 | G94: =IFERROR(OFFSET(caleche!$A$1,MATCH(total!$A94,DatLivCal,0),MATCH(total!G$2,caleche!$B$1:$M$1,0)),0) -> 0 | H94: =IFERROR(OFFSET(equitation!$A$1,MATCH(total!$A94,DatLivEq,0),MATCH(total!H$2,equitation!$B$1:$M$1,0)),0) -> 0 | I94: =IFERROR(OFFSET(equitation!$A$1,MATCH(total!$A94,DatLivEq,0),MATCH(total!I$2,equitation!$B$1:$M$1,0)),0) -> 0 | J94: =IFERROR(OFFSET(equitation!$A$1,MATCH(total!$A94,DatLivEq,0),MATCH(total!J$2,equitation!$B$1:$M$1,0)),0) -> 0 | K94: =IFERROR(OFFSET(ceinture!$A$1,MATCH(total!$A94,Datlivceint,0),MATCH(total!K$2,ceinture!$B$1:$L$1,0)),0) -> 0 | L94: =IFERROR(OFFSET('sac-diamant'!$A$1,MATCH(total!$A94,DatLivDiam,0),MATCH(total!L$2,'sac-diamant'!$B$1:$L$1,0)),0) -> 0
A95: MARS | B95: =fourbi!B23 -> 360 | C95: =fourbi!C23 -> 528 | D95: =fourbi!D23 -> 4 | E95: =fourbi!E23 -> 6 | F95: =caleche!B94 -> 0 | G95: =caleche!C94 -> 0 | H95: =equitation!B94 -> 0 | I95: =equitation!C94 -> 0 | J95: =equitation!D94 -> 13.5 | K95: =ceinture!B94 -> 1167 | L95: =+'sac-diamant'!B94 -> 6
A96: 41730 | B96: =IFERROR(OFFSET(fourbi!$A$1,MATCH(total!$A96,DatLivF,0),MATCH(total!B$2,fourbi!$B$1:$M$1,0)),0) -> 0 | C96: =IFERROR(OFFSET(fourbi!$A$1,MATCH(total!$A96,DatLivF,0),MATCH(total!C$2,fourbi!$B$1:$M$1,0)),0) -> 0 | D96: =IFERROR(OFFSET(fourbi!$A$1,MATCH(total!$A96,DatLivF,0),MATCH(total!D$2,fourbi!$B$1:$M$1,0)),0) -> 0 | E96: =IFERROR(OFFSET(fourbi!$A$1,MATCH(total!$A96,DatLivF,0),MATCH(total!E$2,fourbi!$B$1:$M$1,0)),0) -> 2 | F96: =IFERROR(OFFSET(caleche!$A$1,MATCH(total!$A96,DatLivCal,0),MATCH(total!F$2,caleche!$B$1:$M$1,0)),0) -> 0 | G96: =IFERROR(OFFSET(caleche!$A$1,MATCH(total!$A96,DatLivCal,0),MATCH(total!G$2,caleche!$B$1:$M$1,0)),0) -> 0 | H96: =IFERROR(OFFSET(equitation!$A$1,MATCH(total!$A96,DatLivEq,0),MATCH(total!H$2,equitation!$B$1:$M$1,0)),0) -> 0 | I96: =IFERROR(OFFSET(equitation!$A$1,MATCH(total!$A96,DatLivEq,0),MATCH(total!I$2,equitation!$B$1:$M$1,0)),0) -> 0 | J96: =IFERROR(OFFSET(equitation!$A$1,MATCH(total!$A96,DatLivEq,0),MATCH(total!J$2,equitation!$B$1:$M$1,0)),0) -> 0 | K96: =IFERROR(OFFSET(ceinture!$A$1,MATCH(total!$A96,Datlivceint,0),MATCH(total!K$2,ceinture!$B$1:$L$1,0)),0) -> 0 | L96: =IFERROR(OFFSET('sac-diamant'!$A$1,MATCH(total!$A96,DatLivDiam,0),MATCH(total!L$2,'sac-diamant'!$B$1:$L$1,0)),0) -> 0
A97: 41731 | B97: =IFERROR(OFFSET(fourbi!$A$1,MATCH(total!$A97,DatLivF,0),MATCH(total!B$2,fourbi!$B$1:$M$1,0)),0) -> 0 | C97: =IFERROR(OFFSET(fourbi!$A$1,MATCH(total!$A97,DatLivF,0),MATCH(total!C$2,fourbi!$B$1:$M$1,0)),0) -> 0 | D97: =IFERROR(OFFSET(fourbi!$A$1,MATCH(total!$A97,DatLivF,0),MATCH(total!D$2,fourbi!$B$1:$M$1,0)),0) -> 0 | E97: =IFERROR(OFFSET(fourbi!$A$1,MATCH(total!$A97,DatLivF,0),MATCH(total!E$2,fourbi!$B$1:$M$1,0)),0) -> 0 | F97: =IFERROR(OFFSET(caleche!$A$1,MATCH(total!$A97,DatLivCal,0),MATCH(total!F$2,caleche!$B$1:$M$1,0)),0) -> 0 | G97: =IFERROR(OFFSET(caleche!$A$1,MATCH(total!$A97,DatLivCal,0),MATCH(total!G$2,caleche!$B$1:$M$1,0)),0) -> 0 | H97: =IFERROR(OFFSET(equitation!$A$1,MATCH(total!$A97,DatLivEq,0),MATCH(total!H$2,equitation!$B$1:$M$1,0)),0) -> 0 | I97: =IFERROR(OFFSET(equitation!$A$1,MATCH(total!$A97,DatLivEq,0),MATCH(total!I$2,equitation!$B$1:$M$1,0)),0) -> 0 | J97: =IFERROR(OFFSET(equitation!$A$1,MATCH(total!$A97,DatLivEq,0),MATCH(total!J$2,equitation!$B$1:$M$1,0)),0) -> 0 | K97: =IFERROR(OFFSET(ceinture!$A$1,MATCH(total!$A97,Datlivceint,0),MATCH(total!K$2,ceinture!$B$1:$L$1,0)),0) -> 0 | L97: =IFERROR(OFFSET('sac-diamant'!$A$1,MATCH(total!$A97,DatLivDiam,0),MATCH(total!L$2,'sac-diamant'!$B$1:$L$1,0)),0) -> 0
A98: 41732 | B98: =IFERROR(OFFSET(fourbi!$A$1,MATCH(total!$A98,DatLivF,0),MATCH(total!B$2,fourbi!$B$1:$M$1,0)),0) -> 0 | C98: =IFERROR(OFFSET(fourbi!$A$1,MATCH(total!$A98,DatLivF,0),MATCH(total!C$2,fourbi!$B$1:$M$1,0)),0) -> 0 | D98: =IFERROR(OFFSET(fourbi!$A$1,MATCH(total!$A98,DatLivF,0),MATCH(total!D$2,fourbi!$B$1:$M$1,0)),0) -> 0 | E98: =IFERROR(OFFSET(fourbi!$A$1,MATCH(total!$A98,DatLivF,0),MATCH(total!E$2,fourbi!$B$1:$M$1,0)),0) -> 0 | F98: =IFERROR(OFFSET(caleche!$A$1,MATCH(total!$A98,DatLivCal,0),MATCH(total!F$2,caleche!$B$1:$M$1,0)),0) -> 0 | G98: =IFERROR(OFFSET(caleche!$A$1,MATCH(total!$A98,DatLivCal,0),MATCH(total!G$2,caleche!$B$1:$M$1,0)),0) -> 0 | H98: =IFERROR(OFFSET(equitation!$A$1,MATCH(total!$A98,DatLivEq,0),MATCH(total!H$2,equitation!$B$1:$M$1,0)),0) -> 0 | I98: =IFERROR(OFFSET(equitation!$A$1,MATCH(total!$A98,DatLivEq,0),MATCH(total!I$2,equitation!$B$1:$M$1,0)),0) -> 0 | J98: =IFERROR(OFFSET(equitation!$A$1,MATCH(total!$A98,DatLivEq,0),MATCH(total!J$2,equitation!$B$1:$M$1,0)),0) -> 0 | K98: =IFERROR(OFFSET(ceinture!$A$1,MATCH(total!$A98,Datlivceint,0),MATCH(total!K$2,ceinture!$B$1:$L$1,0)),0) -> 0 | L98: =IFERROR(OFFSET('sac-diamant'!$A$1,MATCH(total!$A98,DatLivDiam,0),MATCH(total!L$2,'sac-diamant'!$B$1:$L$1,0)),0) -> 0
A99: 41733 | B99: =IFERROR(OFFSET(fourbi!$A$1,MATCH(total!$A99,DatLivF,0),MATCH(total!B$2,fourbi!$B$1:$M$1,0)),0) -> 0 | C99: =IFERROR(OFFSET(fourbi!$A$1,MATCH(total!$A99,DatLivF,0),MATCH(total!C$2,fourbi!$B$1:$M$1,0)),0) -> 0 | D99: =IFERROR(OFFSET(fourbi!$A$1,MATCH(total!$A99,DatLivF,0),MATCH(total!D$2,fourbi!$B$1:$M$1,0)),0) -> 0 | E99: =IFERROR(OFFSET(fourbi!$A$1,MATCH(total!$A99,DatLivF,0),MATCH(total!E$2,fourbi!$B$1:$M$1,0)),0) -> 0 | F99: =IFERROR(OFFSET(caleche!$A$1,MATCH(total!$A99,DatLivCal,0),MATCH(total!F$2,caleche!$B$1:$M$1,0)),0) -> 0 | G99: =IFERROR(OFFSET(caleche!$A$1,MATCH(total!$A99,DatLivCal,0),MATCH(total!G$2,caleche!$B$1:$M$1,0)),0) -> 0 | H99: =IFERROR(OFFSET(equitation!$A$1,MATCH(total!$A99,DatLivEq,0),MATCH(total!H$2,equitation!$B$1:$M$1,0)),0) -> 0 | I99: =IFERROR(OFFSET(equitation!$A$1,MATCH(total!$A99,DatLivEq,0),MATCH(total!I$2,equitation!$B$1:$M$1,0)),0) -> 0 | J99: =IFERROR(OFFSET(equitation!$A$1,MATCH(total!$A99,DatLivEq,0),MATCH(total!J$2,equitation!$B$1:$M$1,0)),0) -> 0 | K99: =IFERROR(OFFSET(ceinture!$A$1,MATCH(total!$A99,Datlivceint,0),MATCH(total!K$2,ceinture!$B$1:$L$1,0)),0) -> 0 | L99: =IFERROR(OFFSET('sac-diamant'!$A$1,MATCH(total!$A99,DatLivDiam,0),MATCH(total!L$2,'sac-diamant'!$B$1:$L$1,0)),0) -> 0
A100: 41734 | B100: =IFERROR(OFFSET(fourbi!$A$1,MATCH(total!$A100,DatLivF,0),MATCH(total!B$2,fourbi!$B$1:$M$1,0)),0) -> 0 | C100: =IFERROR(OFFSET(fourbi!$A$1,MATCH(total!$A100,DatLivF,0),MATCH(total!C$2,fourbi!$B$1:$M$1,0)),0) -> 0 | D100: =IFERROR(OFFSET(fourbi!$A$1,MATCH(total!$A100,DatLivF,0),MATCH(total!D$2,fourbi!$B$1:$M$1,0)),0) -> 0 | E100: =IFERROR(OFFSET(fourbi!$A$1,MATCH(total!$A100,DatLivF,0),MATCH(total!E$2,fourbi!$B$1:$M$1,0)),0) -> 0 | F100: =IFERROR(OFFSET(caleche!$A$1,MATCH(total!$A100,DatLivCal,0),MATCH(total!F$2,caleche!$B$1:$M$1,0)),0) -> 0 | G100: =IFERROR(OFFSET(caleche!$A$1,MATCH(total!$A100,DatLivCal,0),MATCH(total!G$2,caleche!$B$1:$M$1,0)),0) -> 0 | H100: =IFERROR(OFFSET(equitation!$A$1,MATCH(total!$A100,DatLivEq,0),MATCH(total!H$2,equitation!$B$1:$M$1,0)),0) -> 0 | I100: =IFERROR(OFFSET(equitation!$A$1,MATCH(total!$A100,DatLivEq,0),MATCH(total!I$2,equitation!$B$1:$M$1,0)),0) -> 0 | J100: =IFERROR(OFFSET(equitation!$A$1,MATCH(total!$A100,DatLivEq,0),MATCH(total!J$2,equitation!$B$1:$M$1,0)),0) -> 0 | K100: =IFERROR(OFFSET(ceinture!$A$1,MATCH(total!$A100,Datlivceint,0),MATCH(total!K$2,ceinture!$B$1:$L$1,0)),0) -> 0 | L100: =IFERROR(OFFSET('sac-diamant'!$A$1,MATCH(total!$A100,DatLivDiam,0),MATCH(total!L$2,'sac-diamant'!$B$1:$L$1,0)),0) -> 0
A101: 41735 | B101: =IFERROR(OFFSET(fourbi!$A$1,MATCH(total!$A101,DatLivF,0),MATCH(total!B$2,fourbi!$B$1:$M$1,0)),0) -> 0 | C101: =IFERROR(OFFSET(fourbi!$A$1,MATCH(total!$A101,DatLivF,0),MATCH(total!C$2,fourbi!$B$1:$M$1,0)),0) -> 0 | D101: =IFERROR(OFFSET(fourbi!$A$1,MATCH(total!$A101,DatLivF,0),MATCH(total!D$2,fourbi!$B$1:$M$1,0)),0) -> 0 | E101: =IFERROR(OFFSET(fourbi!$A$1,MATCH(total!$A101,DatLivF,0),MATCH(total!E$2,fourbi!$B$1:$M$1,0)),0) -> 0 | F101: =IFERROR(OFFSET(caleche!$A$1,MATCH(total!$A101,DatLivCal,0),MATCH(total!F$2,caleche!$B$1:$M$1,0)),0) -> 0 | G101: =IFERROR(OFFSET(caleche!$A$1,MATCH(total!$A101,DatLivCal,0),MATCH(total!G$2,caleche!$B$1:$M$1,0)),0) -> 0 | H101: =IFERROR(OFFSET(equitation!$A$1,MATCH(total!$A101,DatLivEq,0),MATCH(total!H$2,equitation!$B$1:$M$1,0)),0) -> 0 | I101: =IFERROR(OFFSET(equitation!$A$1,MATCH(total!$A101,DatLivEq,0),MATCH(total!I$2,equitation!$B$1:$M$1,0)),0) -> 0 | J101: =IFERROR(OFFSET(equitation!$A$1,MATCH(total!$A101,DatLivEq,0),MATCH(total!J$2,equitation!$B$1:$M$1,0)),0) -> 0 | K101: =IFERROR(OFFSET(ceinture!$A$1,MATCH(total!$A101,Datlivceint,0),MATCH(total!K$2,ceinture!$B$1:$L$1,0)),0) -> 0 | L101: =IFERROR(OFFSET('sac-diamant'!$A$1,MATCH(total!$A101,DatLivDiam,0),MATCH(total!L$2,'sac-diamant'!$B$1:$L$1,0)),0) -> 0
A102: 41736 | B102: =IFERROR(OFFSET(fourbi!$A$1,MATCH(total!$A102,DatLivF,0),MATCH(total!B$2,fourbi!$B$1:$M$1,0)),0) -> 0 | C102: =IFERROR(OFFSET(fourbi!$A$1,MATCH(total!$A102,DatLivF,0),MATCH(total!C$2,fourbi!$B$1:$M$1,0)),0) -> 0 | D102: =IFERROR(OFFSET(fourbi!$A$1,MATCH(total!$A102,DatLivF,0),MATCH(total!D$2,fourbi!$B$1:$M$1,0)),0) -> 0 | E102: =IFERROR(OFFSET(fourbi!$A$1,MATCH(total!$A102,DatLivF,0),MATCH(total!E$2,fourbi!$B$1:$M$1,0)),0) -> 0 | F102: =IFERROR(OFFSET(caleche!$A$1,MATCH(total!$A102,DatLivCal,0),MATCH(total!F$2,caleche!$B$1:$M$1,0)),0) -> 0 | G102: =IFERROR(OFFSET(caleche!$A$1,MATCH(total!$A102,DatLivCal,0),MATCH(total!G$2,caleche!$B$1:$M$1,0)),0) -> 0 | H102: =IFERROR(OFFSET(equitation!$A$1,MATCH(total!$A102,DatLivEq,0),MATCH(total!H$2,equitation!$B$1:$M$1,0)),0) -> 0 | I102: =IFERROR(OFFSET(equitation!$A$1,MATCH(total!$A102,DatLivEq,0),MATCH(total!I$2,equitation!$B$1:$M$1,0)),0) -> 0 | J102: =IFERROR(OFFSET(equitation!$A$1,MATCH(total!$A102,DatLivEq,0),MATCH(total!J$2,equitation!$B$1:$M$1,0)),0) -> 0 | K102: =IFERROR(OFFSET(ceinture!$A$1,MATCH(total!$A102,Datlivceint,0),MATCH(total!K$2,ceinture!$B$1:$L$1,0)),0) -> 0 | L102: =IFERROR(OFFSET('sac-diamant'!$A$1,MATCH(total!$A102,DatLivDiam,0),MATCH(total!L$2,'sac-diamant'!$B$1:$L$1,0)),0) -> 0
A103: 41737 | B103: =IFERROR(OFFSET(fourbi!$A$1,MATCH(total!$A103,DatLivF,0),MATCH(total!B$2,fourbi!$B$1:$M$1,0)),0) -> 0 | C103: =IFERROR(OFFSET(fourbi!$A$1,MATCH(total!$A103,DatLivF,0),MATCH(total!C$2,fourbi!$B$1:$M$1,0)),0) -> 0 | D103: =IFERROR(OFFSET(fourbi!$A$1,MATCH(total!$A103,DatLivF,0),MATCH(total!D$2,fourbi!$B$1:$M$1,0)),0) -> 0 | E103: =IFERROR(OFFSET(fourbi!$A$1,MATCH(total!$A103,DatLivF,0),MATCH(total!E$2,fourbi!$B$1:$M$1,0)),0) -> 1 | F103: =IFERROR(OFFSET(caleche!$A$1,MATCH(total!$A103,DatLivCal,0),MATCH(total!F$2,caleche!$B$1:$M$1,0)),0) -> 0 | G103: =IFERROR(OFFSET(caleche!$A$1,MATCH(total!$A103,DatLivCal,0),MATCH(total!G$2,caleche!$B$1:$M$1,0)),0) -> 0 | H103: =IFERROR(OFFSET(equitation!$A$1,MATCH(total!$A103,DatLivEq,0),MATCH(total!H$2,equitation!$B$1:$M$1,0)),0) -> 0 | I103: =IFERROR(OFFSET(equitation!$A$1,MATCH(total!$A103,DatLivEq,0),MATCH(total!I$2,equitation!$B$1:$M$1,0)),0) -> 0 | J103: =IFERROR(OFFSET(equitation!$A$1,MATCH(total!$A103,DatLivEq,0),MATCH(total!J$2,equitation!$B$1:$M$1,0)),0) -> 0 | K103: =IFERROR(OFFSET(ceinture!$A$1,MATCH(total!$A103,Datlivceint,0),MATCH(total!K$2,ceinture!$B$1:$L$1,0)),0) -> 0 | L103: =IFERROR(OFFSET('sac-diamant'!$A$1,MATCH(total!$A103,DatLivDiam,0),MATCH(total!L$2,'sac-diamant'!$B$1:$L$1,0)),0) -> 0
A104: 41738 | B104: =IFERROR(OFFSET(fourbi!$A$1,MATCH(total!$A104,DatLivF,0),MATCH(total!B$2,fourbi!$B$1:$M$1,0)),0) -> 0 | C104: =IFERROR(OFFSET(fourbi!$A$1,MATCH(total!$A104,DatLivF,0),MATCH(total!C$2,fourbi!$B$1:$M$1,0)),0) -> 0 | D104: =IFERROR(OFFSET(fourbi!$A$1,MATCH(total!$A104,DatLivF,0),MATCH(total!D$2,fourbi!$B$1:$M$1,0)),0) -> 0 | E104: =IFERROR(OFFSET(fourbi!$A$1,MATCH(total!$A104,DatLivF,0),MATCH(total!E$2,fourbi!$B$1:$M$1,0)),0) -> 0 | F104: =IFERROR(OFFSET(caleche!$A$1,MATCH(total!$A104,DatLivCal,0),MATCH(total!F$2,caleche!$B$1:$M$1,0)),0) -> 0 | G104: =IFERROR(OFFSET(caleche!$A$1,MATCH(total!$A104,DatLivCal,0),MATCH(total!G$2,caleche!$B$1:$M$1,0)),0) -> 0 | H104: =IFERROR(OFFSET(equitation!$A$1,MATCH(total!$A104,DatLivEq,0),MATCH(total!H$2,equitation!$B$1:$M$1,0)),0) -> 0 | I104: =IFERROR(OFFSET(equitation!$A$1,MATCH(total!$A104,DatLivEq,0),MATCH(total!I$2,equitation!$B$1:$M$1,0)),0) -> 0 | J104: =IFERROR(OFFSET(equitation!$A$1,MATCH(total!$A104,DatLivEq,0),MATCH(total!J$2,equitation!$B$1:$M$1,0)),0) -> 0 | K104: =IFERROR(OFFSET(ceinture!$A$1,MATCH(total!$A104,Datlivceint,0),MATCH(total!K$2,ceinture!$B$1:$L$1,0)),0) -> 0 | L104: =IFERROR(OFFSET('sac-diamant'!$A$1,MATCH(total!$A104,DatLivDiam,0),MATCH(total!L$2,'sac-diamant'!$B$1:$L$1,0)),0) -> 0
A105: 41739 | B105: =IFERROR(OFFSET(fourbi!$A$1,MATCH(total!$A105,DatLivF,0),MATCH(total!B$2,fourbi!$B$1:$M$1,0)),0) -> 0 | C105: =IFERROR(OFFSET(fourbi!$A$1,MATCH(total!$A105,DatLivF,0),MATCH(total!C$2,fourbi!$B$1:$M$1,0)),0) -> 88 | D105: =IFERROR(OFFSET(fourbi!$A$1,MATCH(total!$A105,DatLivF,0),MATCH(total!D$2,fourbi!$B$1:$M$1,0)),0) -> 72 | E105: =IFERROR(OFFSET(fourbi!$A$1,MATCH(total!$A105,DatLivF,0),MATCH(total!E$2,fourbi!$B$1:$M$1,0)),0) -> 0 | F105: =IFERROR(OFFSET(caleche!$A$1,MATCH(total!$A105,DatLivCal,0),MATCH(total!F$2,caleche!$B$1:$M$1,0)),0) -> 0 | G105: =IFERROR(OFFSET(caleche!$A$1,MATCH(total!$A105,DatLivCal,0),MATCH(total!G$2,caleche!$B$1:$M$1,0)),0) -> 0 | H105: =IFERROR(OFFSET(equitation!$A$1,MATCH(total!$A105,DatLivEq,0),MATCH(total!H$2,equitation!$B$1:$M$1,0)),0) -> 0 | I105: =IFERROR(OFFSET(equitation!$A$1,MATCH(total!$A105,DatLivEq,0),MATCH(total!I$2,equitation!$B$1:$M$1,0)),0) -> 0 | J105: =IFERROR(OFFSET(equitation!$A$1,MATCH(total!$A105,DatLivEq,0),MATCH(total!J$2,equitation!$B$1:$M$1,0)),0) -> 0 | K105: =IFERROR(OFFSET(ceinture!$A$1,MATCH(total!$A105,Datlivceint,0),MATCH(total!K$2,ceinture!$B$1:$L$1,0)),0) -> 0 | L105: =IFERROR(OFFSET('sac-diamant'!$A$1,MATCH(total!$A105,DatLivDiam,0),MATCH(total!L$2,'sac-diamant'!$B$1:$L$1,0)),0) -> 0
A106: 41740 | B106: =IFERROR(OFFSET(fourbi!$A$1,MATCH(total!$A106,DatLivF,0),MATCH(total!B$2,fourbi!$B$1:$M$1,0)),0) -> 0 | C106: =IFERROR(OFFSET(fourbi!$A$1,MATCH(total!$A106,DatLivF,0),MATCH(total!C$2,fourbi!$B$1:$M$1,0)),0) -> 0 | D106: =IFERROR(OFFSET(fourbi!$A$1,MATCH(total!$A106,DatLivF,0),MATCH(total!D$2,fourbi!$B$1:$M$1,0)),0) -> 0 | E106: =IFERROR(OFFSET(fourbi!$A$1,MATCH(total!$A106,DatLivF,0),MATCH(total!E$2,fourbi!$B$1:$M$1,0)),0) -> 0 | F106: =IFERROR(OFFSET(caleche!$A$1,MATCH(total!$A106,DatLivCal,0),MATCH(total!F$2,caleche!$B$1:$M$1,0)),0) -> 0 | G106: =IFERROR(OFFSET(caleche!$A$1,MATCH(total!$A106,DatLivCal,0),MATCH(total!G$2,caleche!$B$1:$M$1,0)),0) -> 0 | H106: =IFERROR(OFFSET(equitation!$A$1,MATCH(total!$A106,DatLivEq,0),MATCH(total!H$2,equitation!$B$1:$M$1,0)),0) -> 0 | I106: =IFERROR(OFFSET(equitation!$A$1,MATCH(total!$A106,DatLivEq,0),MATCH(total!I$2,equitation!$B$1:$M$1,0)),0) -> 0 | J106: =IFERROR(OFFSET(equitation!$A$1,MATCH(total!$A106,DatLivEq,0),MATCH(total!J$2,equitation!$B$1:$M$1,0)),0) -> 0 | K106: =IFERROR(OFFSET(ceinture!$A$1,MATCH(total!$A106,Datlivceint,0),MATCH(total!K$2,ceinture!$B$1:$L$1,0)),0) -> 0 | L106: =IFERROR(OFFSET('sac-diamant'!$A$1,MATCH(total!$A106,DatLivDiam,0),MATCH(total!L$2,'sac-diamant'!$B$1:$L$1,0)),0) -> 0
A107: 41741 | B107: =IFERROR(OFFSET(fourbi!$A$1,MATCH(total!$A107,DatLivF,0),MATCH(total!B$2,fourbi!$B$1:$M$1,0)),0) -> 0 | C107: =IFERROR(OFFSET(fourbi!$A$1,MATCH(total!$A107,DatLivF,0),MATCH(total!C$2,fourbi!$B$1:$M$1,0)),0) -> 0 | D107: =IFERROR(OFFSET(fourbi!$A$1,MATCH(total!$A107,DatLivF,0),MATCH(total!D$2,fourbi!$B$1:$M$1,0)),0) -> 0 | E107: =IFERROR(OFFSET(fourbi!$A$1,MATCH(total!$A107,DatLivF,0),MATCH(total!E$2,fourbi!$B$1:$M$1,0)),0) -> 0 | F107: =IFERROR(OFFSET(caleche!$A$1,MATCH(total!$A107,DatLivCal,0),MATCH(total!F$2,caleche!$B$1:$M$1,0)),0) -> 0 | G107: =IFERROR(OFFSET(caleche!$A$1,MATCH(total!$A107,DatLivCal,0),MATCH(total!G$2,caleche!$B$1:$M$1,0)),0) -> 0 | H107: =IFERROR(OFFSET(equitation!$A$1,MATCH(total!$A107,DatLivEq,0),MATCH(total!H$2,equitation!$B$1:$M$1,0)),0) -> 0 | I107: =IFERROR(OFFSET(equitation!$A$1,MATCH(total!$A107,DatLivEq,0),MATCH(total!I$2,equitation!$B$1:$M$1,0)),0) -> 0 | J107: =IFERROR(OFFSET(equitation!$A$1,MATCH(total!$A107,DatLivEq,0),MATCH(total!J$2,equitation!$B$1:$M$1,0)),0) -> 0 | K107: =IFERROR(OFFSET(ceinture!$A$1,MATCH(total!$A107,Datlivceint,0),MATCH(total!K$2,ceinture!$B$1:$L$1,0)),0) -> 0 | L107: =IFERROR(OFFSET('sac-diamant'!$A$1,MATCH(total!$A107,DatLivDiam,0),MATCH(total!L$2,'sac-diamant'!$B$1:$L$1,0)),0) -> 0
... A125: 41759 | B125: =IFERROR(OFFSET(fourbi!$A$1,MATCH(total!$A125,DatLivF,0),MATCH(total!B$2,fourbi!$B$1:$M$1,0)),0) -> 72 | C125: =IFERROR(OFFSET(fourbi!$A$1,MATCH(total!$A125,DatLivF,0),MATCH(total!C$2,fourbi!$B$1:$M$1,0)),0) -> 0 | D125: =IFERROR(OFFSET(fourbi!$A$1,MATCH(total!$A125,DatLivF,0),MATCH(total!D$2,fourbi!$B$1:$M$1,0)),0) -> 190 | E125: =IFERROR(OFFSET(fourbi!$A$1,MATCH(total!$A125,DatLivF,0),MATCH(total!E$2,fourbi!$B$1:$M$1,0)),0) -> 0 | F125: =IFERROR(OFFSET(caleche!$A$1,MATCH(total!$A125,DatLivCal,0),MATCH(total!F$2,caleche!$B$1:$M$1,0)),0) -> 0 | G125: =IFERROR(OFFSET(caleche!$A$1,MATCH(total!$A125,DatLivCal,0),MATCH(total!G$2,caleche!$B$1:$M$1,0)),0) -> 0 | H125: =IFERROR(OFFSET(equitation!$A$1,MATCH(total!$A125,DatLivEq,0),MATCH(total!H$2,equitation!$B$1:$M$1,0)),0) -> 0 | I125: =IFERROR(OFFSET(equitation!$A$1,MATCH(total!$A125,DatLivEq,0),MATCH(total!I$2,equitation!$B$1:$M$1,0)),0) -> 0 | J125: =IFERROR(OFFSET(equitation!$A$1,MATCH(total!$A125,DatLivEq,0),MATCH(total!J$2,equitation!$B$1:$M$1,0)),0) -> 0 | K125: =IFERROR(OFFSET(ceinture!$A$1,MATCH(total!$A125,Datlivceint,0),MATCH(total!K$2,ceinture!$B$1:$L$1,0)),0) -> 0 | L125: =IFERROR(OFFSET('sac-diamant'!$A$1,MATCH(total!$A125,DatLivDiam,0),MATCH(total!L$2,'sac-diamant'!$B$1:$L$1,0)),0) -> 0
A126: AVRIL | B126: =fourbi!B41 -> 72 | C126: =fourbi!C41 -> 132 | D126: =fourbi!D41 -> 406 | E126: =fourbi!E41 -> 209 | F126: =caleche!B125 -> 0 | G126: =caleche!C125 -> 0 | H126: =equitation!B125 -> 0 | I126: =equitation!C125 -> 0 | J126: =equitation!D125 -> 0 | K126: =ceinture!B125 -> 0 | L126: =+'sac-diamant'!B125 -> 6
A127: 41760 | B127: =IFERROR(OFFSET(fourbi!$A$1,MATCH(total!$A127,DatLivF,0),MATCH(total!B$2,fourbi!$B$1:$M$1,0)),0) -> 0 | C127: =IFERROR(OFFSET(fourbi!$A$1,MATCH(total!$A127,DatLivF,0),MATCH(total!C$2,fourbi!$B$1:$M$1,0)),0) -> 0 | D127: =IFERROR(OFFSET(fourbi!$A$1,MATCH(total!$A127,DatLivF,0),MATCH(total!D$2,fourbi!$B$1:$M$1,0)),0) -> 0 | E127: =IFERROR(OFFSET(fourbi!$A$1,MATCH(total!$A127,DatLivF,0),MATCH(total!E$2,fourbi!$B$1:$M$1,0)),0) -> 0 | F127: =IFERROR(OFFSET(caleche!$A$1,MATCH(total!$A127,DatLivCal,0),MATCH(total!F$2,caleche!$B$1:$M$1,0)),0) -> 0 | G127: =IFERROR(OFFSET(caleche!$A$1,MATCH(total!$A127,DatLivCal,0),MATCH(total!G$2,caleche!$B$1:$M$1,0)),0) -> 0 | H127: =IFERROR(OFFSET(equitation!$A$1,MATCH(total!$A127,DatLivEq,0),MATCH(total!H$2,equitation!$B$1:$M$1,0)),0) -> 0 | I127: =IFERROR(OFFSET(equitation!$A$1,MATCH(total!$A127,DatLivEq,0),MATCH(total!I$2,equitation!$B$1:$M$1,0)),0) -> 0 | J127: =IFERROR(OFFSET(equitation!$A$1,MATCH(total!$A127,DatLivEq,0),MATCH(total!J$2,equitation!$B$1:$M$1,0)),0) -> 0 | K127: =IFERROR(OFFSET(ceinture!$A$1,MATCH(total!$A127,Datlivceint,0),MATCH(total!K$2,ceinture!$B$1:$L$1,0)),0) -> 0 | L127: =IFERROR(OFFSET('sac-diamant'!$A$1,MATCH(total!$A127,DatLivDiam,0),MATCH(total!L$2,'sac-diamant'!$B$1:$L$1,0)),0) -> 0
A128: 41761 | B128: =IFERROR(OFFSET(fourbi!$A$1,MATCH(total!$A128,DatLivF,0),MATCH(total!B$2,fourbi!$B$1:$M$1,0)),0) -> 0 | C128: =IFERROR(OFFSET(fourbi!$A$1,MATCH(total!$A128,DatLivF,0),MATCH(total!C$2,fourbi!$B$1:$M$1,0)),0) -> 0 | D128: =IFERROR(OFFSET(fourbi!$A$1,MATCH(total!$A128,DatLivF,0),MATCH(total!D$2,fourbi!$B$1:$M$1,0)),0) -> 0 | E128: =IFERROR(OFFSET(fourbi!$A$1,MATCH(total!$A128,DatLivF,0),MATCH(total!E$2,fourbi!$B$1:$M$1,0)),0) -> 0 | F128: =IFERROR(OFFSET(caleche!$A$1,MATCH(total!$A128,DatLivCal,0),MATCH(total!F$2,caleche!$B$1:$M$1,0)),0) -> 0 | G128: =IFERROR(OFFSET(caleche!$A$1,MATCH(total!$A128,DatLivCal,0),MATCH(total!G$2,caleche!$B$1:$M$1,0)),0) -> 0 | H128: =IFERROR(OFFSET(equitation!$A$1,MATCH(total!$A128,DatLivEq,0),MATCH(total!H$2,equitation!$B$1:$M$1,0)),0) -> 0 | I128: =IFERROR(OFFSET(equitation!$A$1,MATCH(total!$A128,DatLivEq,0),MATCH(total!I$2,equitation!$B$1:$M$1,0)),0) -> 0 | J128: =IFERROR(OFFSET(equitation!$A$1,MATCH(total!$A128,DatLivEq,0),MATCH(total!J$2,equitation!$B$1:$M$1,0)),0) -> 0 | K128: =IFERROR(OFFSET(ceinture!$A$1,MATCH(total!$A128,Datlivceint,0),MATCH(total!K$2,ceinture!$B$1:$L$1,0)),0) -> 0 | L128: =IFERROR(OFFSET('sac-diamant'!$A$1,MATCH(total!$A128,DatLivDiam,0),MATCH(total!L$2,'sac-diamant'!$B$1:$L$1,0)),0) -> 0
A129: 41762 | B129: =IFERROR(OFFSET(fourbi!$A$1,MATCH(total!$A129,DatLivF,0),MATCH(total!B$2,fourbi!$B$1:$M$1,0)),0) -> 0 | C129: =IFERROR(OFFSET(fourbi!$A$1,MATCH(total!$A129,DatLivF,0),MATCH(total!C$2,fourbi!$B$1:$M$1,0)),0) -> 0 | D129: =IFERROR(OFFSET(fourbi!$A$1,MATCH(total!$A129,DatLivF,0),MATCH(total!D$2,fourbi!$B$1:$M$1,0)),0) -> 0 | E129: =IFERROR(OFFSET(fourbi!$A$1,MATCH(total!$A129,DatLivF,0),MATCH(total!E$2,fourbi!$B$1:$M$1,0)),0) -> 0 | F129: =IFERROR(OFFSET(caleche!$A$1,MATCH(total!$A129,DatLivCal,0),MATCH(total!F$2,caleche!$B$1:$M$1,0)),0) -> 0 | G129: =IFERROR(OFFSET(caleche!$A$1,MATCH(total!$A129,DatLivCal,0),MATCH(total!G$2,caleche!$B$1:$M$1,0)),0) -> 0 | H129: =IFERROR(OFFSET(equitation!$A$1,MATCH(total!$A129,DatLivEq,0),MATCH(total!H$2,equitation!$B$1:$M$1,0)),0) -> 0 | I129: =IFERROR(OFFSET(equitation!$A$1,MATCH(total!$A129,DatLivEq,0),MATCH(total!I$2,equitation!$B$1:$M$1,0)),0) -> 0 | J129: =IFERROR(OFFSET(equitation!$A$1,MATCH(total!$A129,DatLivEq,0),MATCH(total!J$2,equitation!$B$1:$M$1,0)),0) -> 0 | K129: =IFERROR(OFFSET(ceinture!$A$1,MATCH(total!$A129,Datlivceint,0),MATCH(total!K$2,ceinture!$B$1:$L$1,0)),0) -> 0 | L129: =IFERROR(OFFSET('sac-diamant'!$A$1,MATCH(total!$A129,DatLivDiam,0),MATCH(total!L$2,'sac-diamant'!$B$1:$L$1,0)),0) -> 0
A130: 41763 | B130: =IFERROR(OFFSET(fourbi!$A$1,MATCH(total!$A130,DatLivF,0),MATCH(total!B$2,fourbi!$B$1:$M$1,0)),0) -> 0 | C130: =IFERROR(OFFSET(fourbi!$A$1,MATCH(total!$A130,DatLivF,0),MATCH(total!C$2,fourbi!$B$1:$M$1,0)),0) -> 0 | D130: =IFERROR(OFFSET(fourbi!$A$1,MATCH(total!$A130,DatLivF,0),MATCH(total!D$2,fourbi!$B$1:$M$1,0)),0) -> 0 | E130: =IFERROR(OFFSET(fourbi!$A$1,MATCH(total!$A130,DatLivF,0),MATCH(total!E$2,fourbi!$B$1:$M$1,0)),0) -> 0 | F130: =IFERROR(OFFSET(caleche!$A$1,MATCH(total!$A130,DatLivCal,0),MATCH(total!F$2,caleche!$B$1:$M$1,0)),0) -> 0 | G130: =IFERROR(OFFSET(caleche!$A$1,MATCH(total!$A130,DatLivCal,0),MATCH(total!G$2,caleche!$B$1:$M$1,0)),0) -> 0 | H130: =IFERROR(OFFSET(equitation!$A$1,MATCH(total!$A130,DatLivEq,0),MATCH(total!H$2,equitation!$B$1:$M$1,0)),0) -> 0 | I130: =IFERROR(OFFSET(equitation!$A$1,MATCH(total!$A130,DatLivEq,0),MATCH(total!I$2,equitation!$B$1:$M$1,0)),0) -> 0 | J130: =IFERROR(OFFSET(equitation!$A$1,MATCH(total!$A130,DatLivEq,0),MATCH(total!J$2,equitation!$B$1:$M$1,0)),0) -> 0 | K130: =IFERROR(OFFSET(ceinture!$A$1,MATCH(total!$A130,Datlivceint,0),MATCH(total!K$2,ceinture!$B$1:$L$1,0)),0) -> 0 | L130: =IFERROR(OFFSET('sac-diamant'!$A$1,MATCH(total!$A130,DatLivDiam,0),MATCH(total!L$2,'sac-diamant'!$B$1:$L$1,0)),0) -> 0
A131: 41764 | B131: =IFERROR(OFFSET(fourbi!$A$1,MATCH(total!$A131,DatLivF,0),MATCH(total!B$2,fourbi!$B$1:$M$1,0)),0) -> 0 | C131: =IFERROR(OFFSET(fourbi!$A$1,MATCH(total!$A131,DatLivF,0),MATCH(total!C$2,fourbi!$B$1:$M$1,0)),0) -> 0 | D131: =IFERROR(OFFSET(fourbi!$A$1,MATCH(total!$A131,DatLivF,0),MATCH(total!D$2,fourbi!$B$1:$M$1,0)),0) -> 0 | E131: =IFERROR(OFFSET(fourbi!$A$1,MATCH(total!$A131,DatLivF,0),MATCH(total!E$2,fourbi!$B$1:$M$1,0)),0) -> 0 | F131: =IFERROR(OFFSET(caleche!$A$1,MATCH(total!$A131,DatLivCal,0),MATCH(total!F$2,caleche!$B$1:$M$1,0)),0) -> 0 | G131: =IFERROR(OFFSET(caleche!$A$1,MATCH(total!$A131,DatLivCal,0),MATCH(total!G$2,caleche!$B$1:$M$1,0)),0) -> 0 | H131: =IFERROR(OFFSET(equitation!$A$1,MATCH(total!$A131,DatLivEq,0),MATCH(total!H$2,equitation!$B$1:$M$1,0)),0) -> 0 | I131: =IFERROR(OFFSET(equitation!$A$1,MATCH(total!$A131,DatLivEq,0),MATCH(total!I$2,equitation!$B$1:$M$1,0)),0) -> 0 | J131: =IFERROR(OFFSET(equitation!$A$1,MATCH(total!$A131,DatLivEq,0),MATCH(total!J$2,equitation!$B$1:$M$1,0)),0) -> 0 | K131: =IFERROR(OFFSET(ceinture!$A$1,MATCH(total!$A131,Datlivceint,0),MATCH(total!K$2,ceinture!$B$1:$L$1,0)),0) -> 0 | L131: =IFERROR(OFFSET('sac-diamant'!$A$1,MATCH(total!$A131,DatLivDiam,0),MATCH(total!L$2,'sac-diamant'!$B$1:$L$1,0)),0) -> 0
A132: 41765 | B132: =IFERROR(OFFSET(fourbi!$A$1,MATCH(total!$A132,DatLivF,0),MATCH(total!B$2,fourbi!$B$1:$M$1,0)),0) -> 0 | C132: =IFERROR(OFFSET(fourbi!$A$1,MATCH(total!$A132,DatLivF,0),MATCH(total!C$2,fourbi!$B$1:$M$1,0)),0) -> 0 | D132: =IFERROR(OFFSET(fourbi!$A$1,MATCH(total!$A132,DatLivF,0),MATCH(total!D$2,fourbi!$B$1:$M$1,0)),0) -> 0 | E132: =IFERROR(OFFSET(fourbi!$A$1,MATCH(total!$A132,DatLivF,0),MATCH(total!E$2,fourbi!$B$1:$M$1,0)),0) -> 0 | F132: =IFERROR(OFFSET(caleche!$A$1,MATCH(total!$A132,DatLivCal,0),MATCH(total!F$2,caleche!$B$1:$M$1,0)),0) -> 0 | G132: =IFERROR(OFFSET(caleche!$A$1,MATCH(total!$A132,DatLivCal,0),MATCH(total!G$2,caleche!$B$1:$M$1,0)),0) -> 0 | H132: =IFERROR(OFFSET(equitation!$A$1,MATCH(total!$A132,DatLivEq,0),MATCH(total!H$2,equitation!$B$1:$M$1,0)),0) -> 0 | I132: =IFERROR(OFFSET(equitation!$A$1,MATCH(total!$A132,DatLivEq,0),MATCH(total!I$2,equitation!$B$1:$M$1,0)),0) -> 0 | J132: =IFERROR(OFFSET(equitation!$A$1,MATCH(total!$A132,DatLivEq,0),MATCH(total!J$2,equitation!$B$1:$M$1,0)),0) -> 0 | K132: =IFERROR(OFFSET(ceinture!$A$1,MATCH(total!$A132,Datlivceint,0),MATCH(total!K$2,ceinture!$B$1:$L$1,0)),0) -> 0 | L132: =IFERROR(OFFSET('sac-diamant'!$A$1,MATCH(total!$A132,DatLivDiam,0),MATCH(total!L$2,'sac-diamant'!$B$1:$L$1,0)),0) -> 0
A133: 41766 | B133: =IFERROR(OFFSET(fourbi!$A$1,MATCH(total!$A133,DatLivF,0),MATCH(total!B$2,fourbi!$B$1:$M$1,0)),0) -> 0 | C133: =IFERROR(OFFSET(fourbi!$A$1,MATCH(total!$A133,DatLivF,0),MATCH(total!C$2,fourbi!$B$1:$M$1,0)),0) -> 0 | D133: =IFERROR(OFFSET(fourbi!$A$1,MATCH(total!$A133,DatLivF,0),MATCH(total!D$2,fourbi!$B$1:$M$1,0)),0) -> 0 | E133: =IFERROR(OFFSET(fourbi!$A$1,MATCH(total!$A133,DatLivF,0),MATCH(total!E$2,fourbi!$B$1:$M$1,0)),0) -> 0 | F133: =IFERROR(OFFSET(caleche!$A$1,MATCH(total!$A133,DatLivCal,0),MATCH(total!F$2,caleche!$B$1:$M$1,0)),0) -> 0 | G133: =IFERROR(OFFSET(caleche!$A$1,MATCH(total!$A133,DatLivCal,0),MATCH(total!G$2,caleche!$B$1:$M$1,0)),0) -> 0 | H133: =IFERROR(OFFSET(equitation!$A$1,MATCH(total!$A133,DatLivEq,0),MATCH(total!H$2,equitation!$B$1:$M$1,0)),0) -> 0 | I133: =IFERROR(OFFSET(equitation!$A$1,MATCH(total!$A133,DatLivEq,0),MATCH(total!I$2,equitation!$B$1:$M$1,0)),0) -> 0 | J133: =IFERROR(OFFSET(equitation!$A$1,MATCH(total!$A133,DatLivEq,0),MATCH(total!J$2,equitation!$B$1:$M$1,0)),0) -> 0 | K133: =IFERROR(OFFSET(ceinture!$A$1,MATCH(total!$A133,Datlivceint,0),MATCH(total!K$2,ceinture!$B$1:$L$1,0)),0) -> 0 | L133: =IFERROR(OFFSET('sac-diamant'!$A$1,MATCH(total!$A133,DatLivDiam,0),MATCH(total!L$2,'sac-diamant'!$B$1:$L$1,0)),0) -> 0
A134: 41767 | B134: =IFERROR(OFFSET(fourbi!$A$1,MATCH(total!$A134,DatLivF,0),MATCH(total!B$2,fourbi!$B$1:$M$1,0)),0) -> 0 | C134: =IFERROR(OFFSET(fourbi!$A$1,MATCH(total!$A134,DatLivF,0),MATCH(total!C$2,fourbi!$B$1:$M$1,0)),0) -> 0 | D134: =IFERROR(OFFSET(fourbi!$A$1,MATCH(total!$A134,DatLivF,0),MATCH(total!D$2,fourbi!$B$1:$M$1,0)),0) -> 0 | E134: =IFERROR(OFFSET(fourbi!$A$1,MATCH(total!$A134,DatLivF,0),MATCH(total!E$2,fourbi!$B$1:$M$1,0)),0) -> 0 | F134: =IFERROR(OFFSET(caleche!$A$1,MATCH(total!$A134,DatLivCal,0),MATCH(total!F$2,caleche!$B$1:$M$1,0)),0) -> 0 | G134: =IFERROR(OFFSET(caleche!$A$1,MATCH(total!$A134,DatLivCal,0),MATCH(total!G$2,caleche!$B$1:$M$1,0)),0) -> 0 | H134: =IFERROR(OFFSET(equitation!$A$1,MATCH(total!$A134,DatLivEq,0),MATCH(total!H$2,equitation!$B$1:$M$1,0)),0) -> 0 | I134: =IFERROR(OFFSET(equitation!$A$1,MATCH(total!$A134,DatLivEq,0),MATCH(total!I$2,equitation!$B$1:$M$1,0)),0) -> 0 | J134: =IFERROR(OFFSET(equitation!$A$1,MATCH(total!$A134,DatLivEq,0),MATCH(total!J$2,equitation!$B$1:$M$1,0)),0) -> 0 | K134: =IFERROR(OFFSET(ceinture!$A$1,MATCH(total!$A134,Datlivceint,0),MATCH(total!K$2,ceinture!$B$1:$L$1,0)),0) -> 0 | L134: =IFERROR(OFFSET('sac-diamant'!$A$1,MATCH(total!$A134,DatLivDiam,0),MATCH(total!L$2,'sac-diamant'!$B$1:$L$1,0)),0) -> 0
A135: 41768 | B135: =IFERROR(OFFSET(fourbi!$A$1,MATCH(total!$A135,DatLivF,0),MATCH(total!B$2,fourbi!$B$1:$M$1,0)),0) -> 0 | C135: =IFERROR(OFFSET(fourbi!$A$1,MATCH(total!$A135,DatLivF,0),MATCH(total!C$2,fourbi!$B$1:$M$1,0)),0) -> 0 | D135: =IFERROR(OFFSET(fourbi!$A$1,MATCH(total!$A135,DatLivF,0),MATCH(total!D$2,fourbi!$B$1:$M$1,0)),0) -> 0 | E135: =IFERROR(OFFSET(fourbi!$A$1,MATCH(total!$A135,DatLivF,0),MATCH(total!E$2,fourbi!$B$1:$M$1,0)),0) -> 0 | F135: =IFERROR(OFFSET(caleche!$A$1,MATCH(total!$A135,DatLivCal,0),MATCH(total!F$2,caleche!$B$1:$M$1,0)),0) -> 0 | G135: =IFERROR(OFFSET(caleche!$A$1,MATCH(total!$A135,DatLivCal,0),MATCH(total!G$2,caleche!$B$1:$M$1,0)),0) -> 0 | H135: =IFERROR(OFFSET(equitation!$A$1,MATCH(total!$A135,DatLivEq,0),MATCH(total!H$2,equitation!$B$1:$M$1,0)),0) -> 0 | I135: =IFERROR(OFFSET(equitation!$A$1,MATCH(total!$A135,DatLivEq,0),MATCH(total!I$2,equitation!$B$1:$M$1,0)),0) -> 0 | J135: =IFERROR(OFFSET(equitation!$A$1,MATCH(total!$A135,DatLivEq,0),MATCH(total!J$2,equitation!$B$1:$M$1,0)),0) -> 0 | K135: =IFERROR(OFFSET(ceinture!$A$1,MATCH(total!$A135,Datlivceint,0),MATCH(total!K$2,ceinture!$B$1:$L$1,0)),0) -> 0 | L135: =IFERROR(OFFSET('sac-diamant'!$A$1,MATCH(total!$A135,DatLivDiam,0),MATCH(total!L$2,'sac-diamant'!$B$1:$L$1,0)),0) -> 0
A136: 41769 | B136: =IFERROR(OFFSET(fourbi!$A$1,MATCH(total!$A136,DatLivF,0),MATCH(total!B$2,fourbi!$B$1:$M$1,0)),0) -> 0 | C136: =IFERROR(OFFSET(fourbi!$A$1,MATCH(total!$A136,DatLivF,0),MATCH(total!C$2,fourbi!$B$1:$M$1,0)),0) -> 0 | D136: =IFERROR(OFFSET(fourbi!$A$1,MATCH(total!$A136,DatLivF,0),MATCH(total!D$2,fourbi!$B$1:$M$1,0)),0) -> 0 | E136: =IFERROR(OFFSET(fourbi!$A$1,MATCH(total!$A136,DatLivF,0),MATCH(total!E$2,fourbi!$B$1:$M$1,0)),0) -> 0 | F136: =IFERROR(OFFSET(caleche!$A$1,MATCH(total!$A136,DatLivCal,0),MATCH(total!F$2,caleche!$B$1:$M$1,0)),0) -> 0 | G136: =IFERROR(OFFSET(caleche!$A$1,MATCH(total!$A136,DatLivCal,0),MATCH(total!G$2,caleche!$B$1:$M$1,0)),0) -> 0 | H136: =IFERROR(OFFSET(equitation!$A$1,MATCH(total!$A136,DatLivEq,0),MATCH(total!H$2,equitation!$B$1:$M$1,0)),0) -> 0 | I136: =IFERROR(OFFSET(equitation!$A$1,MATCH(total!$A136,DatLivEq,0),MATCH(total!I$2,equitation!$B$1:$M$1,0)),0) -> 0 | J136: =IFERROR(OFFSET(equitation!$A$1,MATCH(total!$A136,DatLivEq,0),MATCH(total!J$2,equitation!$B$1:$M$1,0)),0) -> 0 | K136: =IFERROR(OFFSET(ceinture!$A$1,MATCH(total!$A136,Datlivceint,0),MATCH(total!K$2,ceinture!$B$1:$L$1,0)),0) -> 0 | L136: =IFERROR(OFFSET('sac-diamant'!$A$1,MATCH(total!$A136,DatLivDiam,0),MATCH(total!L$2,'sac-diamant'!$B$1:$L$1,0)),0) -> 0
A137: 41770 | B137: =IFERROR(OFFSET(fourbi!$A$1,MATCH(total!$A137,DatLivF,0),MATCH(total!B$2,fourbi!$B$1:$M$1,0)),0) -> 0 | C137: =IFERROR(OFFSET(fourbi!$A$1,MATCH(total!$A137,DatLivF,0),MATCH(total!C$2,fourbi!$B$1:$M$1,0)),0) -> 0 | D137: =IFERROR(OFFSET(fourbi!$A$1,MATCH(total!$A137,DatLivF,0),MATCH(total!D$2,fourbi!$B$1:$M$1,0)),0) -> 0 | E137: =IFERROR(OFFSET(fourbi!$A$1,MATCH(total!$A137,DatLivF,0),MATCH(total!E$2,fourbi!$B$1:$M$1,0)),0) -> 0 | F137: =IFERROR(OFFSET(caleche!$A$1,MATCH(total!$A137,DatLivCal,0),MATCH(total!F$2,caleche!$B$1:$M$1,0)),0) -> 0 | G137: =IFERROR(OFFSET(caleche!$A$1,MATCH(total!$A137,DatLivCal,0),MATCH(total!G$2,caleche!$B$1:$M$1,0)),0) -> 0 | H137: =IFERROR(OFFSET(equitation!$A$1,MATCH(total!$A137,DatLivEq,0),MATCH(total!H$2,equitation!$B$1:$M$1,0)),0) -> 0 | I137: =IFERROR(OFFSET(equitation!$A$1,MATCH(total!$A137,DatLivEq,0),MATCH(total!I$2,equitation!$B$1:$M$1,0)),0) -> 0 | J137: =IFERROR(OFFSET(equitation!$A$1,MATCH(total!$A137,DatLivEq,0),MATCH(total!J$2,equitation!$B$1:$M$1,0)),0) -> 0 | K137: =IFERROR(OFFSET(ceinture!$A$1,MATCH(total!$A137,Datlivceint,0),MATCH(total!K$2,ceinture!$B$1:$L$1,0)),0) -> 0 | L137: =IFERROR(OFFSET('sac-diamant'!$A$1,MATCH(total!$A137,DatLivDiam,0),MATCH(total!L$2,'sac-diamant'!$B$1:$L$1,0)),0) -> 0
A138: 41771 | B138: =IFERROR(OFFSET(fourbi!$A$1,MATCH(total!$A138,DatLivF,0),MATCH(total!B$2,fourbi!$B$1:$M$1,0)),0) -> 0 | C138: =IFERROR(OFFSET(fourbi!$A$1,MATCH(total!$A138,DatLivF,0),MATCH(total!C$2,fourbi!$B$1:$M$1,0)),0) -> 0 | D138: =IFERROR(OFFSET(fourbi!$A$1,MATCH(total!$A138,DatLivF,0),MATCH(total!D$2,fourbi!$B$1:$M$1,0)),0) -> 0 | E138: =IFERROR(OFFSET(fourbi!$A$1,MATCH(total!$A138,DatLivF,0),MATCH(total!E$2,fourbi!$B$1:$M$1,0)),0) -> 0 | F138: =IFERROR(OFFSET(caleche!$A$1,MATCH(total!$A138,DatLivCal,0),MATCH(total!F$2,caleche!$B$1:$M$1,0)),0) -> 0 | G138: =IFERROR(OFFSET(caleche!$A$1,MATCH(total!$A138,DatLivCal,0),MATCH(total!G$2,caleche!$B$1:$M$1,0)),0) -> 0 | H138: =IFERROR(OFFSET(equitation!$A$1,MATCH(total!$A138,DatLivEq,0),MATCH(total!H$2,equitation!$B$1:$M$1,0)),0) -> 0 | I138: =IFERROR(OFFSET(equitation!$A$1,MATCH(total!$A138,DatLivEq,0),MATCH(total!I$2,equitation!$B$1:$M$1,0)),0) -> 0 | J138: =IFERROR(OFFSET(equitation!$A$1,MATCH(total!$A138,DatLivEq,0),MATCH(total!J$2,equitation!$B$1:$M$1,0)),0) -> 0 | K138: =IFERROR(OFFSET(ceinture!$A$1,MATCH(total!$A138,Datlivceint,0),MATCH(total!K$2,ceinture!$B$1:$L$1,0)),0) -> 0 | L138: =IFERROR(OFFSET('sac-diamant'!$A$1,MATCH(total!$A138,DatLivDiam,0),MATCH(total!L$2,'sac-diamant'!$B$1:$L$1,0)),0) -> 0
... A157: 41790 | B157: =IFERROR(OFFSET(fourbi!$A$1,MATCH(total!$A157,DatLivF,0),MATCH(total!B$2,fourbi!$B$1:$M$1,0)),0) -> 0 | C157: =IFERROR(OFFSET(fourbi!$A$1,MATCH(total!$A157,DatLivF,0),MATCH(total!C$2,fourbi!$B$1:$M$1,0)),0) -> 0 | D157: =IFERROR(OFFSET(fourbi!$A$1,MATCH(total!$A157,DatLivF,0),MATCH(total!D$2,fourbi!$B$1:$M$1,0)),0) -> 0 | E157: =IFERROR(OFFSET(fourbi!$A$1,MATCH(total!$A157,DatLivF,0),MATCH(total!E$2,fourbi!$B$1:$M$1,0)),0) -> 0 | F157: =IFERROR(OFFSET(caleche!$A$1,MATCH(total!$A157,DatLivCal,0),MATCH(total!F$2,caleche!$B$1:$M$1,0)),0) -> 0 | G157: =IFERROR(OFFSET(caleche!$A$1,MATCH(total!$A157,DatLivCal,0),MATCH(total!G$2,caleche!$B$1:$M$1,0)),0) -> 0 | H157: =IFERROR(OFFSET(equitation!$A$1,MATCH(total!$A157,DatLivEq,0),MATCH(total!H$2,equitation!$B$1:$M$1,0)),0) -> 0 | I157: =IFERROR(OFFSET(equitation!$A$1,MATCH(total!$A157,DatLivEq,0),MATCH(total!I$2,equitation!$B$1:$M$1,0)),0) -> 0 | J157: =IFERROR(OFFSET(equitation!$A$1,MATCH(total!$A157,DatLivEq,0),MATCH(total!J$2,equitation!$B$1:$M$1,0)),0) -> 0 | K157: =IFERROR(OFFSET(ceinture!$A$1,MATCH(total!$A157,Datlivceint,0),MATCH(total!K$2,ceinture!$B$1:$L$1,0)),0) -> 0 | L157: =IFERROR(OFFSET('sac-diamant'!$A$1,MATCH(total!$A157,DatLivDiam,0),MATCH(total!L$2,'sac-diamant'!$B$1:$L$1,0)),0) -> 0
A158: MAI
A159: 41791 | B159: =IFERROR(OFFSET(fourbi!$A$1,MATCH(total!$A159,DatLivF,0),MATCH(total!B$2,fourbi!$B$1:$M$1,0)),0) -> 0 | C159: =IFERROR(OFFSET(fourbi!$A$1,MATCH(total!$A159,DatLivF,0),MATCH(total!C$2,fourbi!$B$1:$M$1,0)),0) -> 0 | D159: =IFERROR(OFFSET(fourbi!$A$1,MATCH(total!$A159,DatLivF,0),MATCH(total!D$2,fourbi!$B$1:$M$1,0)),0) -> 0 | E159: =IFERROR(OFFSET(fourbi!$A$1,MATCH(total!$A159,DatLivF,0),MATCH(total!E$2,fourbi!$B$1:$M$1,0)),0) -> 0 | F159: =IFERROR(OFFSET(caleche!$A$1,MATCH(total!$A159,DatLivCal,0),MATCH(total!F$2,caleche!$B$1:$M$1,0)),0) -> 0 | G159: =IFERROR(OFFSET(caleche!$A$1,MATCH(total!$A159,DatLivCal,0),MATCH(total!G$2,caleche!$B$1:$M$1,0)),0) -> 0 | H159: =IFERROR(OFFSET(equitation!$A$1,MATCH(total!$A159,DatLivEq,0),MATCH(total!H$2,equitation!$B$1:$M$1,0)),0) -> 0 | I159: =IFERROR(OFFSET(equitation!$A$1,MATCH(total!$A159,DatLivEq,0),MATCH(total!I$2,equitation!$B$1:$M$1,0)),0) -> 0 | J159: =IFERROR(OFFSET(equitation!$A$1,MATCH(total!$A159,DatLivEq,0),MATCH(total!J$2,equitation!$B$1:$M$1,0)),0) -> 0 | K159: =IFERROR(OFFSET(ceinture!$A$1,MATCH(total!$A159,Datlivceint,0),MATCH(total!K$2,ceinture!$B$1:$L$1,0)),0) -> 0 | L159: =IFERROR(OFFSET('sac-diamant'!$A$1,MATCH(total!$A159,DatLivDiam,0),MATCH(total!L$2,'sac-diamant'!$B$1:$L$1,0)),0) -> 0
A160: 41792 | B160: =IFERROR(OFFSET(fourbi!$A$1,MATCH(total!$A160,DatLivF,0),MATCH(total!B$2,fourbi!$B$1:$M$1,0)),0) -> 0 | C160: =IFERROR(OFFSET(fourbi!$A$1,MATCH(total!$A160,DatLivF,0),MATCH(total!C$2,fourbi!$B$1:$M$1,0)),0) -> 0 | D160: =IFERROR(OFFSET(fourbi!$A$1,MATCH(total!$A160,DatLivF,0),MATCH(total!D$2,fourbi!$B$1:$M$1,0)),0) -> 0 | E160: =IFERROR(OFFSET(fourbi!$A$1,MATCH(total!$A160,DatLivF,0),MATCH(total!E$2,fourbi!$B$1:$M$1,0)),0) -> 0 | F160: =IFERROR(OFFSET(caleche!$A$1,MATCH(total!$A160,DatLivCal,0),MATCH(total!F$2,caleche!$B$1:$M$1,0)),0) -> 0 | G160: =IFERROR(OFFSET(caleche!$A$1,MATCH(total!$A160,DatLivCal,0),MATCH(total!G$2,caleche!$B$1:$M$1,0)),0) -> 0 | H160: =IFERROR(OFFSET(equitation!$A$1,MATCH(total!$A160,DatLivEq,0),MATCH(total!H$2,equitation!$B$1:$M$1,0)),0) -> 0 | I160: =IFERROR(OFFSET(equitation!$A$1,MATCH(total!$A160,DatLivEq,0),MATCH(total!I$2,equitation!$B$1:$M$1,0)),0) -> 0 | J160: =IFERROR(OFFSET(equitation!$A$1,MATCH(total!$A160,DatLivEq,0),MATCH(total!J$2,equitation!$B$1:$M$1,0)),0) -> 0 | K160: =IFERROR(OFFSET(ceinture!$A$1,MATCH(total!$A160,Datlivceint,0),MATCH(total!K$2,ceinture!$B$1:$L$1,0)),0) -> 0 | L160: =IFERROR(OFFSET('sac-diamant'!$A$1,MATCH(total!$A160,DatLivDiam,0),MATCH(total!L$2,'sac-diamant'!$B$1:$L$1,0)),0) -> 0
A161: 41793 | B161: =IFERROR(OFFSET(fourbi!$A$1,MATCH(total!$A161,DatLivF,0),MATCH(total!B$2,fourbi!$B$1:$M$1,0)),0) -> 0 | C161: =IFERROR(OFFSET(fourbi!$A$1,MATCH(total!$A161,DatLivF,0),MATCH(total!C$2,fourbi!$B$1:$M$1,0)),0) -> 0 | D161: =IFERROR(OFFSET(fourbi!$A$1,MATCH(total!$A161,DatLivF,0),MATCH(total!D$2,fourbi!$B$1:$M$1,0)),0) -> 0 | E161: =IFERROR(OFFSET(fourbi!$A$1,MATCH(total!$A161,DatLivF,0),MATCH(total!E$2,fourbi!$B$1:$M$1,0)),0) -> 0 | F161: =IFERROR(OFFSET(caleche!$A$1,MATCH(total!$A161,DatLivCal,0),MATCH(total!F$2,caleche!$B$1:$M$1,0)),0) -> 0 | G161: =IFERROR(OFFSET(caleche!$A$1,MATCH(total!$A161,DatLivCal,0),MATCH(total!G$2,caleche!$B$1:$M$1,0)),0) -> 0 | H161: =IFERROR(OFFSET(equitation!$A$1,MATCH(total!$A161,DatLivEq,0),MATCH(total!H$2,equitation!$B$1:$M$1,0)),0) -> 0 | I161: =IFERROR(OFFSET(equitation!$A$1,MATCH(total!$A161,DatLivEq,0),MATCH(total!I$2,equitation!$B$1:$M$1,0)),0) -> 0 | J161: =IFERROR(OFFSET(equitation!$A$1,MATCH(total!$A161,DatLivEq,0),MATCH(total!J$2,equitation!$B$1:$M$1,0)),0) -> 0 | K161: =IFERROR(OFFSET(ceinture!$A$1,MATCH(total!$A161,Datlivceint,0),MATCH(total!K$2,ceinture!$B$1:$L$1,0)),0) -> 0 | L161: =IFERROR(OFFSET('sac-diamant'!$A$1,MATCH(total!$A161,DatLivDiam,0),MATCH(total!L$2,'sac-diamant'!$B$1:$L$1,0)),0) -> 0
A162: 41794 | B162: =IFERROR(OFFSET(fourbi!$A$1,MATCH(total!$A162,DatLivF,0),MATCH(total!B$2,fourbi!$B$1:$M$1,0)),0) -> 0 | C162: =IFERROR(OFFSET(fourbi!$A$1,MATCH(total!$A162,DatLivF,0),MATCH(total!C$2,fourbi!$B$1:$M$1,0)),0) -> 0 | D162: =IFERROR(OFFSET(fourbi!$A$1,MATCH(total!$A162,DatLivF,0),MATCH(total!D$2,fourbi!$B$1:$M$1,0)),0) -> 0 | E162: =IFERROR(OFFSET(fourbi!$A$1,MATCH(total!$A162,DatLivF,0),MATCH(total!E$2,fourbi!$B$1:$M$1,0)),0) -> 0 | F162: =IFERROR(OFFSET(caleche!$A$1,MATCH(total!$A162,DatLivCal,0),MATCH(total!F$2,caleche!$B$1:$M$1,0)),0) -> 0 | G162: =IFERROR(OFFSET(caleche!$A$1,MATCH(total!$A162,DatLivCal,0),MATCH(total!G$2,caleche!$B$1:$M$1,0)),0) -> 0 | H162: =IFERROR(OFFSET(equitation!$A$1,MATCH(total!$A162,DatLivEq,0),MATCH(total!H$2,equitation!$B$1:$M$1,0)),0) -> 0 | I162: =IFERROR(OFFSET(equitation!$A$1,MATCH(total!$A162,DatLivEq,0),MATCH(total!I$2,equitation!$B$1:$M$1,0)),0) -> 0 | J162: =IFERROR(OFFSET(equitation!$A$1,MATCH(total!$A162,DatLivEq,0),MATCH(total!J$2,equitation!$B$1:$M$1,0)),0) -> 0 | K162: =IFERROR(OFFSET(ceinture!$A$1,MATCH(total!$A162,Datlivceint,0),MATCH(total!K$2,ceinture!$B$1:$L$1,0)),0) -> 0 | L162: =IFERROR(OFFSET('sac-diamant'!$A$1,MATCH(total!$A162,DatLivDiam,0),MATCH(total!L$2,'sac-diamant'!$B$1:$L$1,0)),0) -> 0
A163: 41795 | B163: =IFERROR(OFFSET(fourbi!$A$1,MATCH(total!$A163,DatLivF,0),MATCH(total!B$2,fourbi!$B$1:$M$1,0)),0) -> 0 | C163: =IFERROR(OFFSET(fourbi!$A$1,MATCH(total!$A163,DatLivF,0),MATCH(total!C$2,fourbi!$B$1:$M$1,0)),0) -> 0 | D163: =IFERROR(OFFSET(fourbi!$A$1,MATCH(total!$A163,DatLivF,0),MATCH(total!D$2,fourbi!$B$1:$M$1,0)),0) -> 0 | E163: =IFERROR(OFFSET(fourbi!$A$1,MATCH(total!$A163,DatLivF,0),MATCH(total!E$2,fourbi!$B$1:$M$1,0)),0) -> 0 | F163: =IFERROR(OFFSET(caleche!$A$1,MATCH(total!$A163,DatLivCal,0),MATCH(total!F$2,caleche!$B$1:$M$1,0)),0) -> 0 | G163: =IFERROR(OFFSET(caleche!$A$1,MATCH(total!$A163,DatLivCal,0),MATCH(total!G$2,caleche!$B$1:$M$1,0)),0) -> 0 | H163: =IFERROR(OFFSET(equitation!$A$1,MATCH(total!$A163,DatLivEq,0),MATCH(total!H$2,equitation!$B$1:$M$1,0)),0) -> 0 | I163: =IFERROR(OFFSET(equitation!$A$1,MATCH(total!$A163,DatLivEq,0),MATCH(total!I$2,equitation!$B$1:$M$1,0)),0) -> 0 | J163: =IFERROR(OFFSET(equitation!$A$1,MATCH(total!$A163,DatLivEq,0),MATCH(total!J$2,equitation!$B$1:$M$1,0)),0) -> 0 | K163: =IFERROR(OFFSET(ceinture!$A$1,MATCH(total!$A163,Datlivceint,0),MATCH(total!K$2,ceinture!$B$1:$L$1,0)),0) -> 0 | L163: =IFERROR(OFFSET('sac-diamant'!$A$1,MATCH(total!$A163,DatLivDiam,0),MATCH(total!L$2,'sac-diamant'!$B$1:$L$1,0)),0) -> 0
A164: 41796 | B164: =IFERROR(OFFSET(fourbi!$A$1,MATCH(total!$A164,DatLivF,0),MATCH(total!B$2,fourbi!$B$1:$M$1,0)),0) -> 0 | C164: =IFERROR(OFFSET(fourbi!$A$1,MATCH(total!$A164,DatLivF,0),MATCH(total!C$2,fourbi!$B$1:$M$1,0)),0) -> 0 | D164: =IFERROR(OFFSET(fourbi!$A$1,MATCH(total!$A164,DatLivF,0),MATCH(total!D$2,fourbi!$B$1:$M$1,0)),0) -> 0 | E164: =IFERROR(OFFSET(fourbi!$A$1,MATCH(total!$A164,DatLivF,0),MATCH(total!E$2,fourbi!$B$1:$M$1,0)),0) -> 0 | F164: =IFERROR(OFFSET(caleche!$A$1,MATCH(total!$A164,DatLivCal,0),MATCH(total!F$2,caleche!$B$1:$M$1,0)),0) -> 0 | G164: =IFERROR(OFFSET(caleche!$A$1,MATCH(total!$A164,DatLivCal,0),MATCH(total!G$2,caleche!$B$1:$M$1,0)),0) -> 0 | H164: =IFERROR(OFFSET(equitation!$A$1,MATCH(total!$A164,DatLivEq,0),MATCH(total!H$2,equitation!$B$1:$M$1,0)),0) -> 0 | I164: =IFERROR(OFFSET(equitation!$A$1,MATCH(total!$A164,DatLivEq,0),MATCH(total!I$2,equitation!$B$1:$M$1,0)),0) -> 0 | J164: =IFERROR(OFFSET(equitation!$A$1,MATCH(total!$A164,DatLivEq,0),MATCH(total!J$2,equitation!$B$1:$M$1,0)),0) -> 0 | K164: =IFERROR(OFFSET(ceinture!$A$1,MATCH(total!$A164,Datlivceint,0),MATCH(total!K$2,ceinture!$B$1:$L$1,0)),0) -> 0 | L164: =IFERROR(OFFSET('sac-diamant'!$A$1,MATCH(total!$A164,DatLivDiam,0),MATCH(total!L$2,'sac-diamant'!$B$1:$L$1,0)),0) -> 0
A165: 41797 | B165: =IFERROR(OFFSET(fourbi!$A$1,MATCH(total!$A165,DatLivF,0),MATCH(total!B$2,fourbi!$B$1:$M$1,0)),0) -> 0 | C165: =IFERROR(OFFSET(fourbi!$A$1,MATCH(total!$A165,DatLivF,0),MATCH(total!C$2,fourbi!$B$1:$M$1,0)),0) -> 0 | D165: =IFERROR(OFFSET(fourbi!$A$1,MATCH(total!$A165,DatLivF,0),MATCH(total!D$2,fourbi!$B$1:$M$1,0)),0) -> 0 | E165: =IFERROR(OFFSET(fourbi!$A$1,MATCH(total!$A165,DatLivF,0),MATCH(total!E$2,fourbi!$B$1:$M$1,0)),0) -> 0 | F165: =IFERROR(OFFSET(caleche!$A$1,MATCH(total!$A165,DatLivCal,0),MATCH(total!F$2,caleche!$B$1:$M$1,0)),0) -> 0 | G165: =IFERROR(OFFSET(caleche!$A$1,MATCH(total!$A165,DatLivCal,0),MATCH(total!G$2,caleche!$B$1:$M$1,0)),0) -> 0 | H165: =IFERROR(OFFSET(equitation!$A$1,MATCH(total!$A165,DatLivEq,0),MATCH(total!H$2,equitation!$B$1:$M$1,0)),0) -> 0 | I165: =IFERROR(OFFSET(equitation!$A$1,MATCH(total!$A165,DatLivEq,0),MATCH(total!I$2,equitation!$B$1:$M$1,0)),0) -> 0 | J165: =IFERROR(OFFSET(equitation!$A$1,MATCH(total!$A165,DatLivEq,0),MATCH(total!J$2,equitation!$B$1:$M$1,0)),0) -> 0 | K165: =IFERROR(OFFSET(ceinture!$A$1,MATCH(total!$A165,Datlivceint,0),MATCH(total!K$2,ceinture!$B$1:$L$1,0)),0) -> 0 | L165: =IFERROR(OFFSET('sac-diamant'!$A$1,MATCH(total!$A165,DatLivDiam,0),MATCH(total!L$2,'sac-diamant'!$B$1:$L$1,0)),0) -> 0
A166: 41798 | B166: =IFERROR(OFFSET(fourbi!$A$1,MATCH(total!$A166,DatLivF,0),MATCH(total!B$2,fourbi!$B$1:$M$1,0)),0) -> 0 | C166: =IFERROR(OFFSET(fourbi!$A$1,MATCH(total!$A166,DatLivF,0),MATCH(total!C$2,fourbi!$B$1:$M$1,0)),0) -> 0 | D166: =IFERROR(OFFSET(fourbi!$A$1,MATCH(total!$A166,DatLivF,0),MATCH(total!D$2,fourbi!$B$1:$M$1,0)),0) -> 0 | E166: =IFERROR(OFFSET(fourbi!$A$1,MATCH(total!$A166,DatLivF,0),MATCH(total!E$2,fourbi!$B$1:$M$1,0)),0) -> 0 | F166: =IFERROR(OFFSET(caleche!$A$1,MATCH(total!$A166,DatLivCal,0),MATCH(total!F$2,caleche!$B$1:$M$1,0)),0) -> 0 | G166: =IFERROR(OFFSET(caleche!$A$1,MATCH(total!$A166,DatLivCal,0),MATCH(total!G$2,caleche!$B$1:$M$1,0)),0) -> 0 | H166: =IFERROR(OFFSET(equitation!$A$1,MATCH(total!$A166,DatLivEq,0),MATCH(total!H$2,equitation!$B$1:$M$1,0)),0) -> 0 | I166: =IFERROR(OFFSET(equitation!$A$1,MATCH(total!$A166,DatLivEq,0),MATCH(total!I$2,equitation!$B$1:$M$1,0)),0) -> 0 | J166: =IFERROR(OFFSET(equitation!$A$1,MATCH(total!$A166,DatLivEq,0),MATCH(total!J$2,equitation!$B$1:$M$1,0)),0) -> 0 | K166: =IFERROR(OFFSET(ceinture!$A$1,MATCH(total!$A166,Datlivceint,0),MATCH(total!K$2,ceinture!$B$1:$L$1,0)),0) -> 0 | L166: =IFERROR(OFFSET('sac-diamant'!$A$1,MATCH(total!$A166,DatLivDiam,0),MATCH(total!L$2,'sac-diamant'!$B$1:$L$1,0)),0) -> 0
A167: 41799 | B167: =IFERROR(OFFSET(fourbi!$A$1,MATCH(total!$A167,DatLivF,0),MATCH(total!B$2,fourbi!$B$1:$M$1,0)),0) -> 0 | C167: =IFERROR(OFFSET(fourbi!$A$1,MATCH(total!$A167,DatLivF,0),MATCH(total!C$2,fourbi!$B$1:$M$1,0)),0) -> 0 | D167: =IFERROR(OFFSET(fourbi!$A$1,MATCH(total!$A167,DatLivF,0),MATCH(total!D$2,fourbi!$B$1:$M$1,0)),0) -> 0 | E167: =IFERROR(OFFSET(fourbi!$A$1,MATCH(total!$A167,DatLivF,0),MATCH(total!E$2,fourbi!$B$1:$M$1,0)),0) -> 0 | F167: =IFERROR(OFFSET(caleche!$A$1,MATCH(total!$A167,DatLivCal,0),MATCH(total!F$2,caleche!$B$1:$M$1,0)),0) -> 0 | G167: =IFERROR(OFFSET(caleche!$A$1,MATCH(total!$A167,DatLivCal,0),MATCH(total!G$2,caleche!$B$1:$M$1,0)),0) -> 0 | H167: =IFERROR(OFFSET(equitation!$A$1,MATCH(total!$A167,DatLivEq,0),MATCH(total!H$2,equitation!$B$1:$M$1,0)),0) -> 0 | I167: =IFERROR(OFFSET(equitation!$A$1,MATCH(total!$A167,DatLivEq,0),MATCH(total!I$2,equitation!$B$1:$M$1,0)),0) -> 0 | J167: =IFERROR(OFFSET(equitation!$A$1,MATCH(total!$A167,DatLivEq,0),MATCH(total!J$2,equitation!$B$1:$M$1,0)),0) -> 0 | K167: =IFERROR(OFFSET(ceinture!$A$1,MATCH(total!$A167,Datlivceint,0),MATCH(total!K$2,ceinture!$B$1:$L$1,0)),0) -> 0 | L167: =IFERROR(OFFSET('sac-diamant'!$A$1,MATCH(total!$A167,DatLivDiam,0),MATCH(total!L$2,'sac-diamant'!$B$1:$L$1,0)),0) -> 0
A168: 41800 | B168: =IFERROR(OFFSET(fourbi!$A$1,MATCH(total!$A168,DatLivF,0),MATCH(total!B$2,fourbi!$B$1:$M$1,0)),0) -> 0 | C168: =IFERROR(OFFSET(fourbi!$A$1,MATCH(total!$A168,DatLivF,0),MATCH(total!C$2,fourbi!$B$1:$M$1,0)),0) -> 0 | D168: =IFERROR(OFFSET(fourbi!$A$1,MATCH(total!$A168,DatLivF,0),MATCH(total!D$2,fourbi!$B$1:$M$1,0)),0) -> 0 | E168: =IFERROR(OFFSET(fourbi!$A$1,MATCH(total!$A168,DatLivF,0),MATCH(total!E$2,fourbi!$B$1:$M$1,0)),0) -> 0 | F168: =IFERROR(OFFSET(caleche!$A$1,MATCH(total!$A168,DatLivCal,0),MATCH(total!F$2,caleche!$B$1:$M$1,0)),0) -> 0 | G168: =IFERROR(OFFSET(caleche!$A$1,MATCH(total!$A168,DatLivCal,0),MATCH(total!G$2,caleche!$B$1:$M$1,0)),0) -> 0 | H168: =IFERROR(OFFSET(equitation!$A$1,MATCH(total!$A168,DatLivEq,0),MATCH(total!H$2,equitation!$B$1:$M$1,0)),0) -> 0 | I168: =IFERROR(OFFSET(equitation!$A$1,MATCH(total!$A168,DatLivEq,0),MATCH(total!I$2,equitation!$B$1:$M$1,0)),0) -> 0 | J168: =IFERROR(OFFSET(equitation!$A$1,MATCH(total!$A168,DatLivEq,0),MATCH(total!J$2,equitation!$B$1:$M$1,0)),0) -> 0 | K168: =IFERROR(OFFSET(ceinture!$A$1,MATCH(total!$A168,Datlivceint,0),MATCH(total!K$2,ceinture!$B$1:$L$1,0)),0) -> 0 | L168: =IFERROR(OFFSET('sac-diamant'!$A$1,MATCH(total!$A168,DatLivDiam,0),MATCH(total!L$2,'sac-diamant'!$B$1:$L$1,0)),0) -> 0
A169: 41801 | B169: =IFERROR(OFFSET(fourbi!$A$1,MATCH(total!$A169,DatLivF,0),MATCH(total!B$2,fourbi!$B$1:$M$1,0)),0) -> 0 | C169: =IFERROR(OFFSET(fourbi!$A$1,MATCH(total!$A169,DatLivF,0),MATCH(total!C$2,fourbi!$B$1:$M$1,0)),0) -> 0 | D169: =IFERROR(OFFSET(fourbi!$A$1,MATCH(total!$A169,DatLivF,0),MATCH(total!D$2,fourbi!$B$1:$M$1,0)),0) -> 0 | E169: =IFERROR(OFFSET(fourbi!$A$1,MATCH(total!$A169,DatLivF,0),MATCH(total!E$2,fourbi!$B$1:$M$1,0)),0) -> 0 | F169: =IFERROR(OFFSET(caleche!$A$1,MATCH(total!$A169,DatLivCal,0),MATCH(total!F$2,caleche!$B$1:$M$1,0)),0) -> 0 | G169: =IFERROR(OFFSET(caleche!$A$1,MATCH(total!$A169,DatLivCal,0),MATCH(total!G$2,caleche!$B$1:$M$1,0)),0) -> 0 | H169: =IFERROR(OFFSET(equitation!$A$1,MATCH(total!$A169,DatLivEq,0),MATCH(total!H$2,equitation!$B$1:$M$1,0)),0) -> 0 | I169: =IFERROR(OFFSET(equitation!$A$1,MATCH(total!$A169,DatLivEq,0),MATCH(total!I$2,equitation!$B$1:$M$1,0)),0) -> 0 | J169: =IFERROR(OFFSET(equitation!$A$1,MATCH(total!$A169,DatLivEq,0),MATCH(total!J$2,equitation!$B$1:$M$1,0)),0) -> 0 | K169: =IFERROR(OFFSET(ceinture!$A$1,MATCH(total!$A169,Datlivceint,0),MATCH(total!K$2,ceinture!$B$1:$L$1,0)),0) -> 0 | L169: =IFERROR(OFFSET('sac-diamant'!$A$1,MATCH(total!$A169,DatLivDiam,0),MATCH(total!L$2,'sac-diamant'!$B$1:$L$1,0)),0) -> 0
A170: 41802 | B170: =IFERROR(OFFSET(fourbi!$A$1,MATCH(total!$A170,DatLivF,0),MATCH(total!B$2,fourbi!$B$1:$M$1,0)),0) -> 0 | C170: =IFERROR(OFFSET(fourbi!$A$1,MATCH(total!$A170,DatLivF,0),MATCH(total!C$2,fourbi!$B$1:$M$1,0)),0) -> 0 | D170: =IFERROR(OFFSET(fourbi!$A$1,MATCH(total!$A170,DatLivF,0),MATCH(total!D$2,fourbi!$B$1:$M$1,0)),0) -> 0 | E170: =IFERROR(OFFSET(fourbi!$A$1,MATCH(total!$A170,DatLivF,0),MATCH(total!E$2,fourbi!$B$1:$M$1,0)),0) -> 0 | F170: =IFERROR(OFFSET(caleche!$A$1,MATCH(total!$A170,DatLivCal,0),MATCH(total!F$2,caleche!$B$1:$M$1,0)),0) -> 0 | G170: =IFERROR(OFFSET(caleche!$A$1,MATCH(total!$A170,DatLivCal,0),MATCH(total!G$2,caleche!$B$1:$M$1,0)),0) -> 0 | H170: =IFERROR(OFFSET(equitation!$A$1,MATCH(total!$A170,DatLivEq,0),MATCH(total!H$2,equitation!$B$1:$M$1,0)),0) -> 0 | I170: =IFERROR(OFFSET(equitation!$A$1,MATCH(total!$A170,DatLivEq,0),MATCH(total!I$2,equitation!$B$1:$M$1,0)),0) -> 0 | J170: =IFERROR(OFFSET(equitation!$A$1,MATCH(total!$A170,DatLivEq,0),MATCH(total!J$2,equitation!$B$1:$M$1,0)),0) -> 0 | K170: =IFERROR(OFFSET(ceinture!$A$1,MATCH(total!$A170,Datlivceint,0),MATCH(total!K$2,ceinture!$B$1:$L$1,0)),0) -> 0 | L170: =IFERROR(OFFSET('sac-diamant'!$A$1,MATCH(total!$A170,DatLivDiam,0),MATCH(total!L$2,'sac-diamant'!$B$1:$L$1,0)),0) -> 0
... A188: 41820 | B188: =IFERROR(OFFSET(fourbi!$A$1,MATCH(total!$A188,DatLivF,0),MATCH(total!B$2,fourbi!$B$1:$M$1,0)),0) -> 0 | C188: =IFERROR(OFFSET(fourbi!$A$1,MATCH(total!$A188,DatLivF,0),MATCH(total!C$2,fourbi!$B$1:$M$1,0)),0) -> 0 | D188: =IFERROR(OFFSET(fourbi!$A$1,MATCH(total!$A188,DatLivF,0),MATCH(total!D$2,fourbi!$B$1:$M$1,0)),0) -> 0 | E188: =IFERROR(OFFSET(fourbi!$A$1,MATCH(total!$A188,DatLivF,0),MATCH(total!E$2,fourbi!$B$1:$M$1,0)),0) -> 0 | F188: =IFERROR(OFFSET(caleche!$A$1,MATCH(total!$A188,DatLivCal,0),MATCH(total!F$2,caleche!$B$1:$M$1,0)),0) -> 0 | G188: =IFERROR(OFFSET(caleche!$A$1,MATCH(total!$A188,DatLivCal,0),MATCH(total!G$2,caleche!$B$1:$M$1,0)),0) -> 0 | H188: =IFERROR(OFFSET(equitation!$A$1,MATCH(total!$A188,DatLivEq,0),MATCH(total!H$2,equitation!$B$1:$M$1,0)),0) -> 0 | I188: =IFERROR(OFFSET(equitation!$A$1,MATCH(total!$A188,DatLivEq,0),MATCH(total!I$2,equitation!$B$1:$M$1,0)),0) -> 0 | J188: =IFERROR(OFFSET(equitation!$A$1,MATCH(total!$A188,DatLivEq,0),MATCH(total!J$2,equitation!$B$1:$M$1,0)),0) -> 0 | K188: =IFERROR(OFFSET(ceinture!$A$1,MATCH(total!$A188,Datlivceint,0),MATCH(total!K$2,ceinture!$B$1:$L$1,0)),0) -> 0 | L188: =IFERROR(OFFSET('sac-diamant'!$A$1,MATCH(total!$A188,DatLivDiam,0),MATCH(total!L$2,'sac-diamant'!$B$1:$L$1,0)),0) -> 0
A189: JUIN
A190: 41821 | B190: =IFERROR(OFFSET(fourbi!$A$1,MATCH(total!$A190,DatLivF,0),MATCH(total!B$2,fourbi!$B$1:$M$1,0)),0) -> 0 | C190: =IFERROR(OFFSET(fourbi!$A$1,MATCH(total!$A190,DatLivF,0),MATCH(total!C$2,fourbi!$B$1:$M$1,0)),0) -> 10 | D190: =IFERROR(OFFSET(fourbi!$A$1,MATCH(total!$A190,DatLivF,0),MATCH(total!D$2,fourbi!$B$1:$M$1,0)),0) -> 10 | E190: =IFERROR(OFFSET(fourbi!$A$1,MATCH(total!$A190,DatLivF,0),MATCH(total!E$2,fourbi!$B$1:$M$1,0)),0) -> 0 | F190: =IFERROR(OFFSET(caleche!$A$1,MATCH(total!$A190,DatLivCal,0),MATCH(total!F$2,caleche!$B$1:$M$1,0)),0) -> 0 | G190: =IFERROR(OFFSET(caleche!$A$1,MATCH(total!$A190,DatLivCal,0),MATCH(total!G$2,caleche!$B$1:$M$1,0)),0) -> 0 | H190: =IFERROR(OFFSET(equitation!$A$1,MATCH(total!$A190,DatLivEq,0),MATCH(total!H$2,equitation!$B$1:$M$1,0)),0) -> 0 | I190: =IFERROR(OFFSET(equitation!$A$1,MATCH(total!$A190,DatLivEq,0),MATCH(total!I$2,equitation!$B$1:$M$1,0)),0) -> 0 | J190: =IFERROR(OFFSET(equitation!$A$1,MATCH(total!$A190,DatLivEq,0),MATCH(total!J$2,equitation!$B$1:$M$1,0)),0) -> 0 | K190: =IFERROR(OFFSET(ceinture!$A$1,MATCH(total!$A190,Datlivceint,0),MATCH(total!K$2,ceinture!$B$1:$L$1,0)),0) -> 0 | L190: =IFERROR(OFFSET('sac-diamant'!$A$1,MATCH(total!$A190,DatLivDiam,0),MATCH(total!L$2,'sac-diamant'!$B$1:$L$1,0)),0) -> 0
A191: 41822 | B191: =IFERROR(OFFSET(fourbi!$A$1,MATCH(total!$A191,DatLivF,0),MATCH(total!B$2,fourbi!$B$1:$M$1,0)),0) -> 0 | C191: =IFERROR(OFFSET(fourbi!$A$1,MATCH(total!$A191,DatLivF,0),MATCH(total!C$2,fourbi!$B$1:$M$1,0)),0) -> 0 | D191: =IFERROR(OFFSET(fourbi!$A$1,MATCH(total!$A191,DatLivF,0),MATCH(total!D$2,fourbi!$B$1:$M$1,0)),0) -> 0 | E191: =IFERROR(OFFSET(fourbi!$A$1,MATCH(total!$A191,DatLivF,0),MATCH(total!E$2,fourbi!$B$1:$M$1,0)),0) -> 0 | F191: =IFERROR(OFFSET(caleche!$A$1,MATCH(total!$A191,DatLivCal,0),MATCH(total!F$2,caleche!$B$1:$M$1,0)),0) -> 0 | G191: =IFERROR(OFFSET(caleche!$A$1,MATCH(total!$A191,DatLivCal,0),MATCH(total!G$2,caleche!$B$1:$M$1,0)),0) -> 0 | H191: =IFERROR(OFFSET(equitation!$A$1,MATCH(total!$A191,DatLivEq,0),MATCH(total!H$2,equitation!$B$1:$M$1,0)),0) -> 0 | I191: =IFERROR(OFFSET(equitation!$A$1,MATCH(total!$A191,DatLivEq,0),MATCH(total!I$2,equitation!$B$1:$M$1,0)),0) -> 0 | J191: =IFERROR(OFFSET(equitation!$A$1,MATCH(total!$A191,DatLivEq,0),MATCH(total!J$2,equitation!$B$1:$M$1,0)),0) -> 0 | K191: =IFERROR(OFFSET(ceinture!$A$1,MATCH(total!$A191,Datlivceint,0),MATCH(total!K$2,ceinture!$B$1:$L$1,0)),0) -> 0 | L191: =IFERROR(OFFSET('sac-diamant'!$A$1,MATCH(total!$A191,DatLivDiam,0),MATCH(total!L$2,'sac-diamant'!$B$1:$L$1,0)),0) -> 0
A192: 41823 | B192: =IFERROR(OFFSET(fourbi!$A$1,MATCH(total!$A192,DatLivF,0),MATCH(total!B$2,fourbi!$B$1:$M$1,0)),0) -> 0 | C192: =IFERROR(OFFSET(fourbi!$A$1,MATCH(total!$A192,DatLivF,0),MATCH(total!C$2,fourbi!$B$1:$M$1,0)),0) -> 0 | D192: =IFERROR(OFFSET(fourbi!$A$1,MATCH(total!$A192,DatLivF,0),MATCH(total!D$2,fourbi!$B$1:$M$1,0)),0) -> 0 | E192: =IFERROR(OFFSET(fourbi!$A$1,MATCH(total!$A192,DatLivF,0),MATCH(total!E$2,fourbi!$B$1:$M$1,0)),0) -> 0 | F192: =IFERROR(OFFSET(caleche!$A$1,MATCH(total!$A192,DatLivCal,0),MATCH(total!F$2,caleche!$B$1:$M$1,0)),0) -> 0 | G192: =IFERROR(OFFSET(caleche!$A$1,MATCH(total!$A192,DatLivCal,0),MATCH(total!G$2,caleche!$B$1:$M$1,0)),0) -> 0 | H192: =IFERROR(OFFSET(equitation!$A$1,MATCH(total!$A192,DatLivEq,0),MATCH(total!H$2,equitation!$B$1:$M$1,0)),0) -> 0 | I192: =IFERROR(OFFSET(equitation!$A$1,MATCH(total!$A192,DatLivEq,0),MATCH(total!I$2,equitation!$B$1:$M$1,0)),0) -> 0 | J192: =IFERROR(OFFSET(equitation!$A$1,MATCH(total!$A192,DatLivEq,0),MATCH(total!J$2,equitation!$B$1:$M$1,0)),0) -> 0 | K192: =IFERROR(OFFSET(ceinture!$A$1,MATCH(total!$A192,Datlivceint,0),MATCH(total!K$2,ceinture!$B$1:$L$1,0)),0) -> 0 | L192: =IFERROR(OFFSET('sac-diamant'!$A$1,MATCH(total!$A192,DatLivDiam,0),MATCH(total!L$2,'sac-diamant'!$B$1:$L$1,0)),0) -> 0
A193: 41824 | B193: =IFERROR(OFFSET(fourbi!$A$1,MATCH(total!$A193,DatLivF,0),MATCH(total!B$2,fourbi!$B$1:$M$1,0)),0) -> 0 | C193: =IFERROR(OFFSET(fourbi!$A$1,MATCH(total!$A193,DatLivF,0),MATCH(total!C$2,fourbi!$B$1:$M$1,0)),0) -> 0 | D193: =IFERROR(OFFSET(fourbi!$A$1,MATCH(total!$A193,DatLivF,0),MATCH(total!D$2,fourbi!$B$1:$M$1,0)),0) -> 0 | E193: =IFERROR(OFFSET(fourbi!$A$1,MATCH(total!$A193,DatLivF,0),MATCH(total!E$2,fourbi!$B$1:$M$1,0)),0) -> 0 | F193: =IFERROR(OFFSET(caleche!$A$1,MATCH(total!$A193,DatLivCal,0),MATCH(total!F$2,caleche!$B$1:$M$1,0)),0) -> 0 | G193: =IFERROR(OFFSET(caleche!$A$1,MATCH(total!$A193,DatLivCal,0),MATCH(total!G$2,caleche!$B$1:$M$1,0)),0) -> 0 | H193: =IFERROR(OFFSET(equitation!$A$1,MATCH(total!$A193,DatLivEq,0),MATCH(total!H$2,equitation!$B$1:$M$1,0)),0) -> 0 | I193: =IFERROR(OFFSET(equitation!$A$1,MATCH(total!$A193,DatLivEq,0),MATCH(total!I$2,equitation!$B$1:$M$1,0)),0) -> 0 | J193: =IFERROR(OFFSET(equitation!$A$1,MATCH(total!$A193,DatLivEq,0),MATCH(total!J$2,equitation!$B$1:$M$1,0)),0) -> 0 | K193: =IFERROR(OFFSET(ceinture!$A$1,MATCH(total!$A193,Datlivceint,0),MATCH(total!K$2,ceinture!$B$1:$L$1,0)),0) -> 0 | L193: =IFERROR(OFFSET('sac-diamant'!$A$1,MATCH(total!$A193,DatLivDiam,0),MATCH(total!L$2,'sac-diamant'!$B$1:$L$1,0)),0) -> 0
A194: 41825 | B194: =IFERROR(OFFSET(fourbi!$A$1,MATCH(total!$A194,DatLivF,0),MATCH(total!B$2,fourbi!$B$1:$M$1,0)),0) -> 0 | C194: =IFERROR(OFFSET(fourbi!$A$1,MATCH(total!$A194,DatLivF,0),MATCH(total!C$2,fourbi!$B$1:$M$1,0)),0) -> 0 | D194: =IFERROR(OFFSET(fourbi!$A$1,MATCH(total!$A194,DatLivF,0),MATCH(total!D$2,fourbi!$B$1:$M$1,0)),0) -> 0 | E194: =IFERROR(OFFSET(fourbi!$A$1,MATCH(total!$A194,DatLivF,0),MATCH(total!E$2,fourbi!$B$1:$M$1,0)),0) -> 0 | F194: =IFERROR(OFFSET(caleche!$A$1,MATCH(total!$A194,DatLivCal,0),MATCH(total!F$2,caleche!$B$1:$M$1,0)),0) -> 0 | G194: =IFERROR(OFFSET(caleche!$A$1,MATCH(total!$A194,DatLivCal,0),MATCH(total!G$2,caleche!$B$1:$M$1,0)),0) -> 0 | H194: =IFERROR(OFFSET(equitation!$A$1,MATCH(total!$A194,DatLivEq,0),MATCH(total!H$2,equitation!$B$1:$M$1,0)),0) -> 0 | I194: =IFERROR(OFFSET(equitation!$A$1,MATCH(total!$A194,DatLivEq,0),MATCH(total!I$2,equitation!$B$1:$M$1,0)),0) -> 0 | J194: =IFERROR(OFFSET(equitation!$A$1,MATCH(total!$A194,DatLivEq,0),MATCH(total!J$2,equitation!$B$1:$M$1,0)),0) -> 0 | K194: =IFERROR(OFFSET(ceinture!$A$1,MATCH(total!$A194,Datlivceint,0),MATCH(total!K$2,ceinture!$B$1:$L$1,0)),0) -> 0 | L194: =IFERROR(OFFSET('sac-diamant'!$A$1,MATCH(total!$A194,DatLivDiam,0),MATCH(total!L$2,'sac-diamant'!$B$1:$L$1,0)),0) -> 0
A195: 41826 | B195: =IFERROR(OFFSET(fourbi!$A$1,MATCH(total!$A195,DatLivF,0),MATCH(total!B$2,fourbi!$B$1:$M$1,0)),0) -> 0 | C195: =IFERROR(OFFSET(fourbi!$A$1,MATCH(total!$A195,DatLivF,0),MATCH(total!C$2,fourbi!$B$1:$M$1,0)),0) -> 0 | D195: =IFERROR(OFFSET(fourbi!$A$1,MATCH(total!$A195,DatLivF,0),MATCH(total!D$2,fourbi!$B$1:$M$1,0)),0) -> 0 | E195: =IFERROR(OFFSET(fourbi!$A$1,MATCH(total!$A195,DatLivF,0),MATCH(total!E$2,fourbi!$B$1:$M$1,0)),0) -> 0 | F195: =IFERROR(OFFSET(caleche!$A$1,MATCH(total!$A195,DatLivCal,0),MATCH(total!F$2,caleche!$B$1:$M$1,0)),0) -> 0 | G195: =IFERROR(OFFSET(caleche!$A$1,MATCH(total!$A195,DatLivCal,0),MATCH(total!G$2,caleche!$B$1:$M$1,0)),0) -> 0 | H195: =IFERROR(OFFSET(equitation!$A$1,MATCH(total!$A195,DatLivEq,0),MATCH(total!H$2,equitation!$B$1:$M$1,0)),0) -> 0 | I195: =IFERROR(OFFSET(equitation!$A$1,MATCH(total!$A195,DatLivEq,0),MATCH(total!I$2,equitation!$B$1:$M$1,0)),0) -> 0 | J195: =IFERROR(OFFSET(equitation!$A$1,MATCH(total!$A195,DatLivEq,0),MATCH(total!J$2,equitation!$B$1:$M$1,0)),0) -> 0 | K195: =IFERROR(OFFSET(ceinture!$A$1,MATCH(total!$A195,Datlivceint,0),MATCH(total!K$2,ceinture!$B$1:$L$1,0)),0) -> 0 | L195: =IFERROR(OFFSET('sac-diamant'!$A$1,MATCH(total!$A195,DatLivDiam,0),MATCH(total!L$2,'sac-diamant'!$B$1:$L$1,0)),0) -> 0
A196: 41827 | B196: =IFERROR(OFFSET(fourbi!$A$1,MATCH(total!$A196,DatLivF,0),MATCH(total!B$2,fourbi!$B$1:$M$1,0)),0) -> 0 | C196: =IFERROR(OFFSET(fourbi!$A$1,MATCH(total!$A196,DatLivF,0),MATCH(total!C$2,fourbi!$B$1:$M$1,0)),0) -> 0 | D196: =IFERROR(OFFSET(fourbi!$A$1,MATCH(total!$A196,DatLivF,0),MATCH(total!D$2,fourbi!$B$1:$M$1,0)),0) -> 0 | E196: =IFERROR(OFFSET(fourbi!$A$1,MATCH(total!$A196,DatLivF,0),MATCH(total!E$2,fourbi!$B$1:$M$1,0)),0) -> 0 | F196: =IFERROR(OFFSET(caleche!$A$1,MATCH(total!$A196,DatLivCal,0),MATCH(total!F$2,caleche!$B$1:$M$1,0)),0) -> 0 | G196: =IFERROR(OFFSET(caleche!$A$1,MATCH(total!$A196,DatLivCal,0),MATCH(total!G$2,caleche!$B$1:$M$1,0)),0) -> 0 | H196: =IFERROR(OFFSET(equitation!$A$1,MATCH(total!$A196,DatLivEq,0),MATCH(total!H$2,equitation!$B$1:$M$1,0)),0) -> 0 | I196: =IFERROR(OFFSET(equitation!$A$1,MATCH(total!$A196,DatLivEq,0),MATCH(total!I$2,equitation!$B$1:$M$1,0)),0) -> 0 | J196: =IFERROR(OFFSET(equitation!$A$1,MATCH(total!$A196,DatLivEq,0),MATCH(total!J$2,equitation!$B$1:$M$1,0)),0) -> 0 | K196: =IFERROR(OFFSET(ceinture!$A$1,MATCH(total!$A196,Datlivceint,0),MATCH(total!K$2,ceinture!$B$1:$L$1,0)),0) -> 0 | L196: =IFERROR(OFFSET('sac-diamant'!$A$1,MATCH(total!$A196,DatLivDiam,0),MATCH(total!L$2,'sac-diamant'!$B$1:$L$1,0)),0) -> 0
A197: 41828 | B197: =IFERROR(OFFSET(fourbi!$A$1,MATCH(total!$A197,DatLivF,0),MATCH(total!B$2,fourbi!$B$1:$M$1,0)),0) -> 0 | C197: =IFERROR(OFFSET(fourbi!$A$1,MATCH(total!$A197,DatLivF,0),MATCH(total!C$2,fourbi!$B$1:$M$1,0)),0) -> 0 | D197: =IFERROR(OFFSET(fourbi!$A$1,MATCH(total!$A197,DatLivF,0),MATCH(total!D$2,fourbi!$B$1:$M$1,0)),0) -> 0 | E197: =IFERROR(OFFSET(fourbi!$A$1,MATCH(total!$A197,DatLivF,0),MATCH(total!E$2,fourbi!$B$1:$M$1,0)),0) -> 0 | F197: =IFERROR(OFFSET(caleche!$A$1,MATCH(total!$A197,DatLivCal,0),MATCH(total!F$2,caleche!$B$1:$M$1,0)),0) -> 0 | G197: =IFERROR(OFFSET(caleche!$A$1,MATCH(total!$A197,DatLivCal,0),MATCH(total!G$2,caleche!$B$1:$M$1,0)),0) -> 0 | H197: =IFERROR(OFFSET(equitation!$A$1,MATCH(total!$A197,DatLivEq,0),MATCH(total!H$2,equitation!$B$1:$M$1,0)),0) -> 0 | I197: =IFERROR(OFFSET(equitation!$A$1,MATCH(total!$A197,DatLivEq,0),MATCH(total!I$2,equitation!$B$1:$M$1,0)),0) -> 0 | J197: =IFERROR(OFFSET(equitation!$A$1,MATCH(total!$A197,DatLivEq,0),MATCH(total!J$2,equitation!$B$1:$M$1,0)),0) -> 0 | K197: =IFERROR(OFFSET(ceinture!$A$1,MATCH(total!$A197,Datlivceint,0),MATCH(total!K$2,ceinture!$B$1:$L$1,0)),0) -> 0 | L197: =IFERROR(OFFSET('sac-diamant'!$A$1,MATCH(total!$A197,DatLivDiam,0),MATCH(total!L$2,'sac-diamant'!$B$1:$L$1,0)),0) -> 0
A198: 41829 | B198: =IFERROR(OFFSET(fourbi!$A$1,MATCH(total!$A198,DatLivF,0),MATCH(total!B$2,fourbi!$B$1:$M$1,0)),0) -> 0 | C198: =IFERROR(OFFSET(fourbi!$A$1,MATCH(total!$A198,DatLivF,0),MATCH(total!C$2,fourbi!$B$1:$M$1,0)),0) -> 0 | D198: =IFERROR(OFFSET(fourbi!$A$1,MATCH(total!$A198,DatLivF,0),MATCH(total!D$2,fourbi!$B$1:$M$1,0)),0) -> 0 | E198: =IFERROR(OFFSET(fourbi!$A$1,MATCH(total!$A198,DatLivF,0),MATCH(total!E$2,fourbi!$B$1:$M$1,0)),0) -> 0 | F198: =IFERROR(OFFSET(caleche!$A$1,MATCH(total!$A198,DatLivCal,0),MATCH(total!F$2,caleche!$B$1:$M$1,0)),0) -> 0 | G198: =IFERROR(OFFSET(caleche!$A$1,MATCH(total!$A198,DatLivCal,0),MATCH(total!G$2,caleche!$B$1:$M$1,0)),0) -> 0 | H198: =IFERROR(OFFSET(equitation!$A$1,MATCH(total!$A198,DatLivEq,0),MATCH(total!H$2,equitation!$B$1:$M$1,0)),0) -> 0 | I198: =IFERROR(OFFSET(equitation!$A$1,MATCH(total!$A198,DatLivEq,0),MATCH(total!I$2,equitation!$B$1:$M$1,0)),0) -> 0 | J198: =IFERROR(OFFSET(equitation!$A$1,MATCH(total!$A198,DatLivEq,0),MATCH(total!J$2,equitation!$B$1:$M$1,0)),0) -> 0 | K198: =IFERROR(OFFSET(ceinture!$A$1,MATCH(total!$A198,Datlivceint,0),MATCH(total!K$2,ceinture!$B$1:$L$1,0)),0) -> 0 | L198: =IFERROR(OFFSET('sac-diamant'!$A$1,MATCH(total!$A198,DatLivDiam,0),MATCH(total!L$2,'sac-diamant'!$B$1:$L$1,0)),0) -> 0
A199: 41830 | B199: =IFERROR(OFFSET(fourbi!$A$1,MATCH(total!$A199,DatLivF,0),MATCH(total!B$2,fourbi!$B$1:$M$1,0)),0) -> 0 | C199: =IFERROR(OFFSET(fourbi!$A$1,MATCH(total!$A199,DatLivF,0),MATCH(total!C$2,fourbi!$B$1:$M$1,0)),0) -> 0 | D199: =IFERROR(OFFSET(fourbi!$A$1,MATCH(total!$A199,DatLivF,0),MATCH(total!D$2,fourbi!$B$1:$M$1,0)),0) -> 0 | E199: =IFERROR(OFFSET(fourbi!$A$1,MATCH(total!$A199,DatLivF,0),MATCH(total!E$2,fourbi!$B$1:$M$1,0)),0) -> 0 | F199: =IFERROR(OFFSET(caleche!$A$1,MATCH(total!$A199,DatLivCal,0),MATCH(total!F$2,caleche!$B$1:$M$1,0)),0) -> 0 | G199: =IFERROR(OFFSET(caleche!$A$1,MATCH(total!$A199,DatLivCal,0),MATCH(total!G$2,caleche!$B$1:$M$1,0)),0) -> 0 | H199: =IFERROR(OFFSET(equitation!$A$1,MATCH(total!$A199,DatLivEq,0),MATCH(total!H$2,equitation!$B$1:$M$1,0)),0) -> 0 | I199: =IFERROR(OFFSET(equitation!$A$1,MATCH(total!$A199,DatLivEq,0),MATCH(total!I$2,equitation!$B$1:$M$1,0)),0) -> 0 | J199: =IFERROR(OFFSET(equitation!$A$1,MATCH(total!$A199,DatLivEq,0),MATCH(total!J$2,equitation!$B$1:$M$1,0)),0) -> 0 | K199: =IFERROR(OFFSET(ceinture!$A$1,MATCH(total!$A199,Datlivceint,0),MATCH(total!K$2,ceinture!$B$1:$L$1,0)),0) -> 0 | L199: =IFERROR(OFFSET('sac-diamant'!$A$1,MATCH(total!$A199,DatLivDiam,0),MATCH(total!L$2,'sac-diamant'!$B$1:$L$1,0)),0) -> 0
A200: 41831 | B200: =IFERROR(OFFSET(fourbi!$A$1,MATCH(total!$A200,DatLivF,0),MATCH(total!B$2,fourbi!$B$1:$M$1,0)),0) -> 0 | C200: =IFERROR(OFFSET(fourbi!$A$1,MATCH(total!$A200,DatLivF,0),MATCH(total!C$2,fourbi!$B$1:$M$1,0)),0) -> 0 | D200: =IFERROR(OFFSET(fourbi!$A$1,MATCH(total!$A200,DatLivF,0),MATCH(total!D$2,fourbi!$B$1:$M$1,0)),0) -> 0 | E200: =IFERROR(OFFSET(fourbi!$A$1,MATCH(total!$A200,DatLivF,0),MATCH(total!E$2,fourbi!$B$1:$M$1,0)),0) -> 0 | F200: =IFERROR(OFFSET(caleche!$A$1,MATCH(total!$A200,DatLivCal,0),MATCH(total!F$2,caleche!$B$1:$M$1,0)),0) -> 0 | G200: =IFERROR(OFFSET(caleche!$A$1,MATCH(total!$A200,DatLivCal,0),MATCH(total!G$2,caleche!$B$1:$M$1,0)),0) -> 0 | H200: =IFERROR(OFFSET(equitation!$A$1,MATCH(total!$A200,DatLivEq,0),MATCH(total!H$2,equitation!$B$1:$M$1,0)),0) -> 0 | I200: =IFERROR(OFFSET(equitation!$A$1,MATCH(total!$A200,DatLivEq,0),MATCH(total!I$2,equitation!$B$1:$M$1,0)),0) -> 0 | J200: =IFERROR(OFFSET(equitation!$A$1,MATCH(total!$A200,DatLivEq,0),MATCH(total!J$2,equitation!$B$1:$M$1,0)),0) -> 0 | K200: =IFERROR(OFFSET(ceinture!$A$1,MATCH(total!$A200,Datlivceint,0),MATCH(total!K$2,ceinture!$B$1:$L$1,0)),0) -> 0 | L200: =IFERROR(OFFSET('sac-diamant'!$A$1,MATCH(total!$A200,DatLivDiam,0),MATCH(total!L$2,'sac-diamant'!$B$1:$L$1,0)),0) -> 0
A201: 41832 | B201: =IFERROR(OFFSET(fourbi!$A$1,MATCH(total!$A201,DatLivF,0),MATCH(total!B$2,fourbi!$B$1:$M$1,0)),0) -> 0 | C201: =IFERROR(OFFSET(fourbi!$A$1,MATCH(total!$A201,DatLivF,0),MATCH(total!C$2,fourbi!$B$1:$M$1,0)),0) -> 0 | D201: =IFERROR(OFFSET(fourbi!$A$1,MATCH(total!$A201,DatLivF,0),MATCH(total!D$2,fourbi!$B$1:$M$1,0)),0) -> 0 | E201: =IFERROR(OFFSET(fourbi!$A$1,MATCH(total!$A201,DatLivF,0),MATCH(total!E$2,fourbi!$B$1:$M$1,0)),0) -> 0 | F201: =IFERROR(OFFSET(caleche!$A$1,MATCH(total!$A201,DatLivCal,0),MATCH(total!F$2,caleche!$B$1:$M$1,0)),0) -> 0 | G201: =IFERROR(OFFSET(caleche!$A$1,MATCH(total!$A201,DatLivCal,0),MATCH(total!G$2,caleche!$B$1:$M$1,0)),0) -> 0 | H201: =IFERROR(OFFSET(equitation!$A$1,MATCH(total!$A201,DatLivEq,0),MATCH(total!H$2,equitation!$B$1:$M$1,0)),0) -> 0 | I201: =IFERROR(OFFSET(equitation!$A$1,MATCH(total!$A201,DatLivEq,0),MATCH(total!I$2,equitation!$B$1:$M$1,0)),0) -> 0 | J201: =IFERROR(OFFSET(equitation!$A$1,MATCH(total!$A201,DatLivEq,0),MATCH(total!J$2,equitation!$B$1:$M$1,0)),0) -> 0 | K201: =IFERROR(OFFSET(ceinture!$A$1,MATCH(total!$A201,Datlivceint,0),MATCH(total!K$2,ceinture!$B$1:$L$1,0)),0) -> 0 | L201: =IFERROR(OFFSET('sac-diamant'!$A$1,MATCH(total!$A201,DatLivDiam,0),MATCH(total!L$2,'sac-diamant'!$B$1:$L$1,0)),0) -> 0
... A220: 41851 | B220: =IFERROR(OFFSET(fourbi!$A$1,MATCH(total!$A220,DatLivF,0),MATCH(total!B$2,fourbi!$B$1:$M$1,0)),0) -> 0 | C220: =IFERROR(OFFSET(fourbi!$A$1,MATCH(total!$A220,DatLivF,0),MATCH(total!C$2,fourbi!$B$1:$M$1,0)),0) -> 0 | D220: =IFERROR(OFFSET(fourbi!$A$1,MATCH(total!$A220,DatLivF,0),MATCH(total!D$2,fourbi!$B$1:$M$1,0)),0) -> 0 | E220: =IFERROR(OFFSET(fourbi!$A$1,MATCH(total!$A220,DatLivF,0),MATCH(total!E$2,fourbi!$B$1:$M$1,0)),0) -> 0 | F220: =IFERROR(OFFSET(caleche!$A$1,MATCH(total!$A220,DatLivCal,0),MATCH(total!F$2,caleche!$B$1:$M$1,0)),0) -> 0 | G220: =IFERROR(OFFSET(caleche!$A$1,MATCH(total!$A220,DatLivCal,0),MATCH(total!G$2,caleche!$B$1:$M$1,0)),0) -> 0 | H220: =IFERROR(OFFSET(equitation!$A$1,MATCH(total!$A220,DatLivEq,0),MATCH(total!H$2,equitation!$B$1:$M$1,0)),0) -> 0 | I220: =IFERROR(OFFSET(equitation!$A$1,MATCH(total!$A220,DatLivEq,0),MATCH(total!I$2,equitation!$B$1:$M$1,0)),0) -> 0 | J220: =IFERROR(OFFSET(equitation!$A$1,MATCH(total!$A220,DatLivEq,0),MATCH(total!J$2,equitation!$B$1:$M$1,0)),0) -> 0 | K220: =IFERROR(OFFSET(ceinture!$A$1,MATCH(total!$A220,Datlivceint,0),MATCH(total!K$2,ceinture!$B$1:$L$1,0)),0) -> 0 | L220: =IFERROR(OFFSET('sac-diamant'!$A$1,MATCH(total!$A220,DatLivDiam,0),MATCH(total!L$2,'sac-diamant'!$B$1:$L$1,0)),0) -> 0
A221: JUILLET
A222: 41852 | B222: =IFERROR(OFFSET(fourbi!$A$1,MATCH(total!$A222,DatLivF,0),MATCH(total!B$2,fourbi!$B$1:$M$1,0)),0) -> 0 | C222: =IFERROR(OFFSET(fourbi!$A$1,MATCH(total!$A222,DatLivF,0),MATCH(total!C$2,fourbi!$B$1:$M$1,0)),0) -> 0 | D222: =IFERROR(OFFSET(fourbi!$A$1,MATCH(total!$A222,DatLivF,0),MATCH(total!D$2,fourbi!$B$1:$M$1,0)),0) -> 0 | E222: =IFERROR(OFFSET(fourbi!$A$1,MATCH(total!$A222,DatLivF,0),MATCH(total!E$2,fourbi!$B$1:$M$1,0)),0) -> 0 | F222: =IFERROR(OFFSET(caleche!$A$1,MATCH(total!$A222,DatLivCal,0),MATCH(total!F$2,caleche!$B$1:$M$1,0)),0) -> 0 | G222: =IFERROR(OFFSET(caleche!$A$1,MATCH(total!$A222,DatLivCal,0),MATCH(total!G$2,caleche!$B$1:$M$1,0)),0) -> 0 | H222: =IFERROR(OFFSET(equitation!$A$1,MATCH(total!$A222,DatLivEq,0),MATCH(total!H$2,equitation!$B$1:$M$1,0)),0) -> 0 | I222: =IFERROR(OFFSET(equitation!$A$1,MATCH(total!$A222,DatLivEq,0),MATCH(total!I$2,equitation!$B$1:$M$1,0)),0) -> 0 | J222: =IFERROR(OFFSET(equitation!$A$1,MATCH(total!$A222,DatLivEq,0),MATCH(total!J$2,equitation!$B$1:$M$1,0)),0) -> 0 | K222: =IFERROR(OFFSET(ceinture!$A$1,MATCH(total!$A222,Datlivceint,0),MATCH(total!K$2,ceinture!$B$1:$L$1,0)),0) -> 0 | L222: =IFERROR(OFFSET('sac-diamant'!$A$1,MATCH(total!$A222,DatLivDiam,0),MATCH(total!L$2,'sac-diamant'!$B$1:$L$1,0)),0) -> 0
...
