Workbook
Name DatLivCal: OFFSET(caleche!$A$2,0,0,COUNTA(caleche!A2:$A$370),1)
Name Datlivceint: OFFSET(ceinture!$A$2,0,0,COUNTA(ceinture!$A$2:$A$370),1)
Name DatLivDiam: OFFSET('sac-diamant'!$A$2,0,0,COUNTA('sac-diamant'!$A$2:$A$370),1)
Name DatLivEq: OFFSET(equitation!$A$2,0,0,COUNTA(equitation!$A$2:$A$370),1)
Name DatLivF: OFFSET(fourbi!$A$2,0,0,COUNTA(fourbi!A2:$A$257),1)

Sheet Feuil1
A3: Principe
B5: des noms d'entete sans espace
B6: des premières colonnes nommées avec leur entete
B7: les colonnes d'intitulés fonctionnent jusqu'à la colonne M
B9: pour rajouter ou insérer des colonnes dans total
C10: le faire au sein des zones de couleur et recopier formule
C11: a la fin d'une zone de couleur, recopier formule vers le bas puis le format,
C12: mettre le même libellé de préfarence sans espace que dans la zone source
B14: la formule: avec la fonction DECALER ( cela aurait pu etre une fonction recherche ou index…)
B16: Decaler( cellule depart, nb de lignes , nb de colonnes)…
B18: cellule depart; 1ère cellule en haut à gauche du tableau
B19: nb de lignes : obtenue par la fonction Equiv qui donne le rang d'une donnée dans une liste, le 1er janvier donnant le rang 1, le 10 le rang 10
C20: a1 ligne 1 décalée de 1 (A2) ou de 10 (A11) pour obtenir la ligne avec la bonne date
B22: Nb de colonnes:
C23: on cherche le rang de l'intitulé de l'article cherché dans la zone b1:m1 ( zone qui peut etre étendue autant qu'il le faut)
C24: on décale la 1ere colonne d'autant vers la droite pour obtenir la valeur au croisement de la date et du libellé
B26: Si tu décomposes chaque partie de la formule tu obtiendras les valeurs intermédiaires, ou utilise Evaluation des formules de l'onglet formule
B28: Toutes les formules sont construites de la même manière :
C30: cellule départ | D30: nomonglet!$a$1
C31: equiv date de la colonne A dans DatLiv+spec onglet pour obtenir la ligne
C32: equiv libellé produit de la ligne B de l'onglet total, dans la zone $b$1:$m$1 de l'onglet respectif pour obtenir la colonne

Sheet fourbi
A1: DatLivF | B1: Fourbi_20_TC | C1: Fourbi_25_TC | D1: Fourbi_20_Soie | E1: Fourbi_25_Soie
A2: 41640
A3: 41653 | B3: 144 | C3: 264
A4: 41655 | B4: 72 | C4: 132
A5: 41656 | D5: 4 | E5: 4
A6: 41657 | D6: 5 | E6: 6
A7: 41659 | B7: 72 | C7: 132
A8: 41667 | B8: =72+72 -> 144 | C8: =132+117 -> 249
A9: Total Janvier | B9: =SUM(B2:B8) -> 432 | C9: =SUM(C2:C8) -> 777 | D9: =SUM(D2:D8) -> 9 | E9: =SUM(E2:E8) -> 10
A10: 41683 | B10: 72 | C10: 132
A11: 41688 | B11: 72 | C11: 132
A12: 41690 | B12: 72 | C12: 132
A13: 41695 | B13: 144 | C13: 66
A14: 41697 | D14: 1 | E14: 3
A15: 41698 | B15: 288
A16: total février | B16: =SUM(B10:B15) -> 648 | C16: =SUM(C10:C15) -> 462 | D16: =SUM(D10:D15) -> 1 | E16: =SUM(E10:E15) -> 3
A17: 41708 | D17: 1 | E17: 2
A18: 41722 | D18: 1 | E18: 2
A19: 41723 | B19: 72 | C19: 132 | D19: 2 | E19: 2
A20: 41724
A21: 41725 | B21: 144 | C21: 264
A22: 41729 | B22: 144 | C22: =132 -> 132
A23: MARS | B23: =SUM(B17:B22) -> 360 | C23: =SUM(C17:C22) -> 528 | D23: =SUM(D17:D22) -> 4 | E23: =SUM(E17:E22) -> 6
A24: 41730 | E24: 2
A25: 41737 | E25: 1
A26: 41739 | C26: 88 | D26: 72
A27: 41746 | C27: 44 | E27: 132
A28: 41747
A29: 41748
A30: 41749
A31: 41750
A32: 41751
A33: 41752
A34: 41753
A35: 41754
A36: 41755
A37: 41756
A38: 41757
A39: 41758 | D39: 144 | E39: 74
A40: 41759 | B40: 72 | D40: 190
...

Sheet caleche
A1: DatLivCal | B1: Petite_Calèche | C1: Grande_ Calèche
A2: 41640
A3: 41641
A4: 41642
A5: 41643
A6: 41644
A7: 41645
A8: 41646
A9: 41647
A10: 41648
A11: 41649
A12: 41650
A13: 41651
... A28: 41666
A29: 41667 | B29: 48
A30: 41668
A31: 41669
A32: 41670
A33: Total Janvier | B33: =SUM(B2:B32) -> 48
A34: 41671
A35: 41672
A36: 41673
A37: 41674
A38: 41675
A39: 41676
A40: 41677
A41: 41678
A42: 41679
A43: 41680
A44: 41681
A45: 41682
... A61: 41698
A62: total février
A63: 41699
A64: 41700
A65: 41701
A66: 41702
A67: 41703
A68: 41704
A69: 41705
...

Sheet equitation
A1: DatLivEq | B1: Sac_pansage | C1: Fourre_tout | D1: Sac _bottes
A2: 41640 | D2: 7
A3: 41641
A4: 41642
A5: 41643
A6: 41644
A7: 41645
A8: 41646
A9: 41647
A10: 41648
A11: 41649
A12: 41650
A13: 41651
A14: 41652
... A32: 41670
A33: Total Janvier | B33: =SUM(B2:B32) -> 0 | C33: =SUM(C2:C32) -> 0 | D33: =SUM(D2:D32) -> 7
A34: 41671
A35: 41672
A36: 41673
A37: 41674
A38: 41675
A39: 41676
A40: 41677
A41: 41678
A42: 41679
A43: 41680
A44: 41681
A45: 41682
... A61: 41698
A62: total février
A63: 41699
A64: 41700
A65: 41701
A66: 41702
A67: 41703 | D67: 13.5
A68: 41704
A69: 41705
A70: 41706
A71: 41707
A72: 41708
...

Sheet ceinture
A1: Datlivceint | B1: Ceinture_Kit
A2: 41640
A3: 41641
A4: 41642
A5: 41643
A6: 41644
A7: 41645
A8: 41646
A9: 41647
A10: 41648
A11: 41649
A12: 41650
A13: 41651
... A32: 41670
A33: Total Janvier
A34: 41671
A35: 41672
A36: 41673
A37: 41674
A38: 41675
A39: 41676 | B39: 16
A40: 41677
A41: 41678
A42: 41679
A43: 41680
A44: 41681
A45: 41682
A46: 41683 | B46: 74
A47: 41684
A48: 41685
A49: 41686
A50: 41687
A51: 41688
A52: 41689
A53: 41690 | B53: 103
A54: 41691
A55: 41692
A56: 41693
A57: 41694
A58: 41695
...

Sheet sac-diamant
A1: DatLivDiam | B1: Sac_Diamant
A2: 41640 | B2: 9
A3: 41641
A4: 41642
A5: 41643
A6: 41644
A7: 41645
A8: 41646
A9: 41647
A10: 41648
A11: 41649
A12: 41650
A13: 41651
A14: 41652
... A32: 41670
A33: Total Janvier | B33: =SUM(B2:B32) -> 9
A34: 41671
A35: 41672
A36: 41673
A37: 41674
A38: 41675
A39: 41676
A40: 41677
A41: 41678
A42: 41679
A43: 41680
A44: 41681
A45: 41682
... A61: 41698
A62: total février | B62: =SUM(B34:B61) -> 0
A63: 41699
A64: 41700
A65: 41701
A66: 41702
A67: 41703
A68: 41704
A69: 41705
A70: 41706
A71: 41707
A72: 41708
...

Sheet total
A2: Livraison | B2: Fourbi_20_TC | C2: Fourbi_25_TC | D2: Fourbi_20_Soie | E2: Fourbi_25_Soie | F2: Petite_Calèche | G2: Grande_ Calèche | H2: Sac_pansage | I2: Fourre_tout | J2: Sac _bottes | K2: Ceinture_Kit | L2: Sac_Diamant
A3: 41640 | B3: =IFERROR(OFFSET(fourbi!$A$1,MATCH(total!$A3,DatLivF,0),MATCH(total!B$2,fourbi!$B$1:$M$1,0)),0) -> 0 | C3: =IFERROR(OFFSET(fourbi!$A$1,MATCH(total!$A3,DatLivF,0),MATCH(total!C$2,fourbi!$B$1:$M$1,0)),0) -> 0 | D3: =IFERROR(OFFSET(fourbi!$A$1,MATCH(total!$A3,DatLivF,0),MATCH(total!D$2,fourbi!$B$1:$M$1,0)),0) -> 0 | E3: =IFERROR(OFFSET(fourbi!$A$1,MATCH(total!$A3,DatLivF,0),MATCH(total!E$2,fourbi!$B$1:$M$1,0)),0) -> 0 | F3: =IFERROR(OFFSET(caleche!$A$1,MATCH(total!$A3,DatLivCal,0),MATCH(total!F$2,caleche!$B$1:$M$1,0)),0) -> 0 | G3: =IFERROR(OFFSET(caleche!$A$1,MATCH(total!$A3,DatLivCal,0),MATCH(total!G$2,caleche!$B$1:$M$1,0)),0) -> 0 | H3: =IFERROR(OFFSET(equitation!$A$1,MATCH(total!$A3,DatLivEq,0),MATCH(total!H$2,equitation!$B$1:$M$1,0)),0) -> 0 | I3: =IFERROR(OFFSET(equitation!$A$1,MATCH(total!$A3,DatLivEq,0),MATCH(total!I$2,equitation!$B$1:$M$1,0)),0) -> 0 | J3: =IFERROR(OFFSET(equitation!$A$1,MATCH(total!$A3,DatLivEq,0),MATCH(total!J$2,equitation!$B$1:$M$1,0)),0) -> 7 | K3: =IFERROR(OFFSET(ceinture!$A$1,MATCH(total!$A3,Datlivceint,0),MATCH(total!K$2,ceinture!$B$1:$L$1,0)),0) -> 0 | L3: =IFERROR(OFFSET('sac-diamant'!$A$1,MATCH(total!$A3,DatLivDiam,0),MATCH(total!L$2,'sac-diamant'!$B$1:$L$1,0)),0) -> 9
A4: 41641 | B4: =IFERROR(OFFSET(fourbi!$A$1,MATCH(total!$A4,DatLivF,0),MATCH(total!B$2,fourbi!$B$1:$M$1,0)),0) -> 0 | C4: =IFERROR(OFFSET(fourbi!$A$1,MATCH(total!$A4,DatLivF,0),MATCH(total!C$2,fourbi!$B$1:$M$1,0)),0) -> 0 | D4: =IFERROR(OFFSET(fourbi!$A$1,MATCH(total!$A4,DatLivF,0),MATCH(total!D$2,fourbi!$B$1:$M$1,0)),0) -> 0 | E4: =IFERROR(OFFSET(fourbi!$A$1,MATCH(total!$A4,DatLivF,0),MATCH(total!E$2,fourbi!$B$1:$M$1,0)),0) -> 0 | F4: =IFERROR(OFFSET(caleche!$A$1,MATCH(total!$A4,DatLivCal,0),MATCH(total!F$2,caleche!$B$1:$M$1,0)),0) -> 0 | G4: =IFERROR(OFFSET(caleche!$A$1,MATCH(total!$A4,DatLivCal,0),MATCH(total!G$2,caleche!$B$1:$M$1,0)),0) -> 0 | H4: =IFERROR(OFFSET(equitation!$A$1,MATCH(total!$A4,DatLivEq,0),MATCH(total!H$2,equitation!$B$1:$M$1,0)),0) -> 0 | I4: =IFERROR(OFFSET(equitation!$A$1,MATCH(total!$A4,DatLivEq,0),MATCH(total!I$2,equitation!$B$1:$M$1,0)),0) -> 0 | J4: =IFERROR(OFFSET(equitation!$A$1,MATCH(total!$A4,DatLivEq,0),MATCH(total!J$2,equitation!$B$1:$M$1,0)),0) -> 0 | K4: =IFERROR(OFFSET(ceinture!$A$1,MATCH(total!$A4,Datlivceint,0),MATCH(total!K$2,ceinture!$B$1:$L$1,0)),0) -> 0 | L4: =IFERROR(OFFSET('sac-diamant'!$A$1,MATCH(total!$A4,DatLivDiam,0),MATCH(total!L$2,'sac-diamant'!$B$1:$L$1,0)),0) -> 0
A5: 41642 | B5: =IFERROR(OFFSET(fourbi!$A$1,MATCH(total!$A5,DatLivF,0),MATCH(total!B$2,fourbi!$B$1:$M$1,0)),0) -> 0 | C5: =IFERROR(OFFSET(fourbi!$A$1,MATCH(total!$A5,DatLivF,0),MATCH(total!C$2,fourbi!$B$1:$M$1,0)),0) -> 0 | D5: =IFERROR(OFFSET(fourbi!$A$1,MATCH(total!$A5,DatLivF,0),MATCH(total!D$2,fourbi!$B$1:$M$1,0)),0) -> 0 | E5: =IFERROR(OFFSET(fourbi!$A$1,MATCH(total!$A5,DatLivF,0),MATCH(total!E$2,fourbi!$B$1:$M$1,0)),0) -> 0 | F5: =IFERROR(OFFSET(caleche!$A$1,MATCH(total!$A5,DatLivCal,0),MATCH(total!F$2,caleche!$B$1:$M$1,0)),0) -> 0 | G5: =IFERROR(OFFSET(caleche!$A$1,MATCH(total!$A5,DatLivCal,0),MATCH(total!G$2,caleche!$B$1:$M$1,0)),0) -> 0 | H5: =IFERROR(OFFSET(equitation!$A$1,MATCH(total!$A5,DatLivEq,0),MATCH(total!H$2,equitation!$B$1:$M$1,0)),0) -> 0 | I5: =IFERROR(OFFSET(equitation!$A$1,MATCH(total!$A5,DatLivEq,0),MATCH(total!I$2,equitation!$B$1:$M$1,0)),0) -> 0 | J5: =IFERROR(OFFSET(equitation!$A$1,MATCH(total!$A5,DatLivEq,0),MATCH(total!J$2,equitation!$B$1:$M$1,0)),0) -> 0 | K5: =IFERROR(OFFSET(ceinture!$A$1,MATCH(total!$A5,Datlivceint,0),MATCH(total!K$2,ceinture!$B$1:$L$1,0)),0) -> 0 | L5: =IFERROR(OFFSET('sac-diamant'!$A$1,MATCH(total!$A5,DatLivDiam,0),MATCH(total!L$2,'sac-diamant'!$B$1:$L$1,0)),0) -> 0
A6: 41643 | B6: =IFERROR(OFFSET(fourbi!$A$1,MATCH(total!$A6,DatLivF,0),MATCH(total!B$2,fourbi!$B$1:$M$1,0)),0) -> 0 | C6: =IFERROR(OFFSET(fourbi!$A$1,MATCH(total!$A6,DatLivF,0),MATCH(total!C$2,fourbi!$B$1:$M$1,0)),0) -> 0 | D6: =IFERROR(OFFSET(fourbi!$A$1,MATCH(total!$A6,DatLivF,0),MATCH(total!D$2,fourbi!$B$1:$M$1,0)),0) -> 0 | E6: =IFERROR(OFFSET(fourbi!$A$1,MATCH(total!$A6,DatLivF,0),MATCH(total!E$2,fourbi!$B$1:$M$1,0)),0) -> 0 | F6: =IFERROR(OFFSET(caleche!$A$1,MATCH(total!$A6,DatLivCal,0),MATCH(total!F$2,caleche!$B$1:$M$1,0)),0) -> 0 | G6: =IFERROR(OFFSET(caleche!$A$1,MATCH(total!$A6,DatLivCal,0),MATCH(total!G$2,caleche!$B$1:$M$1,0)),0) -> 0 | H6: =IFERROR(OFFSET(equitation!$A$1,MATCH(total!$A6,DatLivEq,0),MATCH(total!H$2,equitation!$B$1:$M$1,0)),0) -> 0 | I6: =IFERROR(OFFSET(equitation!$A$1,MATCH(total!$A6,DatLivEq,0),MATCH(total!I$2,equitation!$B$1:$M$1,0)),0) -> 0 | J6: =IFERROR(OFFSET(equitation!$A$1,MATCH(total!$A6,DatLivEq,0),MATCH(total!J$2,equitation!$B$1:$M$1,0)),0) -> 0 | K6: =IFERROR(OFFSET(ceinture!$A$1,MATCH(total!$A6,Datlivceint,0),MATCH(total!K$2,ceinture!$B$1:$L$1,0)),0) -> 0 | L6: =IFERROR(OFFSET('sac-diamant'!$A$1,MATCH(total!$A6,DatLivDiam,0),MATCH(total!L$2,'sac-diamant'!$B$1:$L$1,0)),0) -> 0
A7: 41644 | B7: =IFERROR(OFFSET(fourbi!$A$1,MATCH(total!$A7,DatLivF,0),MATCH(total!B$2,fourbi!$B$1:$M$1,0)),0) -> 0 | C7: =IFERROR(OFFSET(fourbi!$A$1,MATCH(total!$A7,DatLivF,0),MATCH(total!C$2,fourbi!$B$1:$M$1,0)),0) -> 0 | D7: =IFERROR(OFFSET(fourbi!$A$1,MATCH(total!$A7,DatLivF,0),MATCH(total!D$2,fourbi!$B$1:$M$1,0)),0) -> 0 | E7: =IFERROR(OFFSET(fourbi!$A$1,MATCH(total!$A7,DatLivF,0),MATCH(total!E$2,fourbi!$B$1:$M$1,0)),0) -> 0 | F7: =IFERROR(OFFSET(caleche!$A$1,MATCH(total!$A7,DatLivCal,0),MATCH(total!F$2,caleche!$B$1:$M$1,0)),0) -> 0 | G7: =IFERROR(OFFSET(caleche!$A$1,MATCH(total!$A7,DatLivCal,0),MATCH(total!G$2,caleche!$B$1:$M$1,0)),0) -> 0 | H7: =IFERROR(OFFSET(equitation!$A$1,MATCH(total!$A7,DatLivEq,0),MATCH(total!H$2,equitation!$B$1:$M$1,0)),0) -> 0 | I7: =IFERROR(OFFSET(equitation!$A$1,MATCH(total!$A7,DatLivEq,0),MATCH(total!I$2,equitation!$B$1:$M$1,0)),0) -> 0 | J7: =IFERROR(OFFSET(equitation!$A$1,MATCH(total!$A7,DatLivEq,0),MATCH(total!J$2,equitation!$B$1:$M$1,0)),0) -> 0 | K7: =IFERROR(OFFSET(ceinture!$A$1,MATCH(total!$A7,Datlivceint,0),MATCH(total!K$2,ceinture!$B$1:$L$1,0)),0) -> 0 | L7: =IFERROR(OFFSET('sac-diamant'!$A$1,MATCH(total!$A7,DatLivDiam,0),MATCH(total!L$2,'sac-diamant'!$B$1:$L$1,0)),0) -> 0
A8: 41645 | B8: =IFERROR(OFFSET(fourbi!$A$1,MATCH(total!$A8,DatLivF,0),MATCH(total!B$2,fourbi!$B$1:$M$1,0)),0) -> 0 | C8: =IFERROR(OFFSET(fourbi!$A$1,MATCH(total!$A8,DatLivF,0),MATCH(total!C$2,fourbi!$B$1:$M$1,0)),0) -> 0 | D8: =IFERROR(OFFSET(fourbi!$A$1,MATCH(total!$A8,DatLivF,0),MATCH(total!D$2,fourbi!$B$1:$M$1,0)),0) -> 0 | E8: =IFERROR(OFFSET(fourbi!$A$1,MATCH(total!$A8,DatLivF,0),MATCH(total!E$2,fourbi!$B$1:$M$1,0)),0) -> 0 | F8: =IFERROR(OFFSET(caleche!$A$1,MATCH(total!$A8,DatLivCal,0),MATCH(total!F$2,caleche!$B$1:$M$1,0)),0) -> 0 | G8: =IFERROR(OFFSET(caleche!$A$1,MATCH(total!$A8,DatLivCal,0),MATCH(total!G$2,caleche!$B$1:$M$1,0)),0) -> 0 | H8: =IFERROR(OFFSET(equitation!$A$1,MATCH(total!$A8,DatLivEq,0),MATCH(total!H$2,equitation!$B$1:$M$1,0)),0) -> 0 | I8: =IFERROR(OFFSET(equitation!$A$1,MATCH(total!$A8,DatLivEq,0),MATCH(total!I$2,equitation!$B$1:$M$1,0)),0) -> 0 | J8: =IFERROR(OFFSET(equitation!$A$1,MATCH(total!$A8,DatLivEq,0),MATCH(total!J$2,equitation!$B$1:$M$1,0)),0) -> 0 | K8: =IFERROR(OFFSET(ceinture!$A$1,MATCH(total!$A8,Datlivceint,0),MATCH(total!K$2,ceinture!$B$1:$L$1,0)),0) -> 0 | L8: =IFERROR(OFFSET('sac-diamant'!$A$1,MATCH(total!$A8,DatLivDiam,0),MATCH(total!L$2,'sac-diamant'!$B$1:$L$1,0)),0) -> 0
A9: 41646 | B9: =IFERROR(OFFSET(fourbi!$A$1,MATCH(total!$A9,DatLivF,0),MATCH(total!B$2,fourbi!$B$1:$M$1,0)),0) -> 0 | C9: =IFERROR(OFFSET(fourbi!$A$1,MATCH(total!$A9,DatLivF,0),MATCH(total!C$2,fourbi!$B$1:$M$1,0)),0) -> 0 | D9: =IFERROR(OFFSET(fourbi!$A$1,MATCH(total!$A9,DatLivF,0),MATCH(total!D$2,fourbi!$B$1:$M$1,0)),0) -> 0 | E9: =IFERROR(OFFSET(fourbi!$A$1,MATCH(total!$A9,DatLivF,0),MATCH(total!E$2,fourbi!$B$1:$M$1,0)),0) -> 0 | F9: =IFERROR(OFFSET(caleche!$A$1,MATCH(total!$A9,DatLivCal,0),MATCH(total!F$2,caleche!$B$1:$M$1,0)),0) -> 0 | G9: =IFERROR(OFFSET(caleche!$A$1,MATCH(total!$A9,DatLivCal,0),MATCH(total!G$2,caleche!$B$1:$M$1,0)),0) -> 0 | H9: =IFERROR(OFFSET(equitation!$A$1,MATCH(total!$A9,DatLivEq,0),MATCH(total!H$2,equitation!$B$1:$M$1,0)),0) -> 0 | I9: =IFERROR(OFFSET(equitation!$A$1,MATCH(total!$A9,DatLivEq,0),MATCH(total!I$2,equitation!$B$1:$M$1,0)),0) -> 0 | J9: =IFERROR(OFFSET(equitation!$A$1,MATCH(total!$A9,DatLivEq,0),MATCH(total!J$2,equitation!$B$1:$M$1,0)),0) -> 0 | K9: =IFERROR(OFFSET(ceinture!$A$1,MATCH(total!$A9,Datlivceint,0),MATCH(total!K$2,ceinture!$B$1:$L$1,0)),0) -> 0 | L9: =IFERROR(OFFSET('sac-diamant'!$A$1,MATCH(total!$A9,DatLivDiam,0),MATCH(total!L$2,'sac-diamant'!$B$1:$L$1,0)),0) -> 0
A10: 41647 | B10: =IFERROR(OFFSET(fourbi!$A$1,MATCH(total!$A10,DatLivF,0),MATCH(total!B$2,fourbi!$B$1:$M$1,0)),0) -> 0 | C10: =IFERROR(OFFSET(fourbi!$A$1,MATCH(total!$A10,DatLivF,0),MATCH(total!C$2,fourbi!$B$1:$M$1,0)),0) -> 0 | D10: =IFERROR(OFFSET(fourbi!$A$1,MATCH(total!$A10,DatLivF,0),MATCH(total!D$2,fourbi!$B$1:$M$1,0)),0) -> 0 | E10: =IFERROR(OFFSET(fourbi!$A$1,MATCH(total!$A10,DatLivF,0),MATCH(total!E$2,fourbi!$B$1:$M$1,0)),0) -> 0 | F10: =IFERROR(OFFSET(caleche!$A$1,MATCH(total!$A10,DatLivCal,0),MATCH(total!F$2,caleche!$B$1:$M$1,0)),0) -> 0 | G10: =IFERROR(OFFSET(caleche!$A$1,MATCH(total!$A10,DatLivCal,0),MATCH(total!G$2,caleche!$B$1:$M$1,0)),0) -> 0 | H10: =IFERROR(OFFSET(equitation!$A$1,MATCH(total!$A10,DatLivEq,0),MATCH(total!H$2,equitation!$B$1:$M$1,0)),0) -> 0 | I10: =IFERROR(OFFSET(equitation!$A$1,MATCH(total!$A10,DatLivEq,0),MATCH(total!I$2,equitation!$B$1:$M$1,0)),0) -> 0 | J10: =IFERROR(OFFSET(equitation!$A$1,MATCH(total!$A10,DatLivEq,0),MATCH(total!J$2,equitation!$B$1:$M$1,0)),0) -> 0 | K10: =IFERROR(OFFSET(ceinture!$A$1,MATCH(total!$A10,Datlivceint,0),MATCH(total!K$2,ceinture!$B$1:$L$1,0)),0) -> 0 | L10: =IFERROR(OFFSET('sac-diamant'!$A$1,MATCH(total!$A10,DatLivDiam,0),MATCH(total!L$2,'sac-diamant'!$B$1:$L$1,0)),0) -> 0
A11: 41648 | B11: =IFERROR(OFFSET(fourbi!$A$1,MATCH(total!$A11,DatLivF,0),MATCH(total!B$2,fourbi!$B$1:$M$1,0)),0) -> 0 | C11: =IFERROR(OFFSET(fourbi!$A$1,MATCH(total!$A11,DatLivF,0),MATCH(total!C$2,fourbi!$B$1:$M$1,0)),0) -> 0 | D11: =IFERROR(OFFSET(fourbi!$A$1,MATCH(total!$A11,DatLivF,0),MATCH(total!D$2,fourbi!$B$1:$M$1,0)),0) -> 0 | E11: =IFERROR(OFFSET(fourbi!$A$1,MATCH(total!$A11,DatLivF,0),MATCH(total!E$2,fourbi!$B$1:$M$1,0)),0) -> 0 | F11: =IFERROR(OFFSET(caleche!$A$1,MATCH(total!$A11,DatLivCal,0),MATCH(total!F$2,caleche!$B$1:$M$1,0)),0) -> 0 | G11: =IFERROR(OFFSET(caleche!$A$1,MATCH(total!$A11,DatLivCal,0),MATCH(total!G$2,caleche!$B$1:$M$1,0)),0) -> 0 | H11: =IFERROR(OFFSET(equitation!$A$1,MATCH(total!$A11,DatLivEq,0),MATCH(total!H$2,equitation!$B$1:$M$1,0)),0) -> 0 | I11: =IFERROR(OFFSET(equitation!$A$1,MATCH(total!$A11,DatLivEq,0),MATCH(total!I$2,equitation!$B$1:$M$1,0)),0) -> 0 | J11: =IFERROR(OFFSET(equitation!$A$1,MATCH(total!$A11,DatLivEq,0),MATCH(total!J$2,equitation!$B$1:$M$1,0)),0) -> 0 | K11: =IFERROR(OFFSET(ceinture!$A$1,MATCH(total!$A11,Datlivceint,0),MATCH(total!K$2,ceinture!$B$1:$L$1,0)),0) -> 0 | L11: =IFERROR(OFFSET('sac-diamant'!$A$1,MATCH(total!$A11,DatLivDiam,0),MATCH(total!L$2,'sac-diamant'!$B$1:$L$1,0)),0) -> 0
A12: 41649 | B12: =IFERROR(OFFSET(fourbi!$A$1,MATCH(total!$A12,DatLivF,0),MATCH(total!B$2,fourbi!$B$1:$M$1,0)),0) -> 0 | C12: =IFERROR(OFFSET(fourbi!$A$1,MATCH(total!$A12,DatLivF,0),MATCH(total!C$2,fourbi!$B$1:$M$1,0)),0) -> 0 | D12: =IFERROR(OFFSET(fourbi!$A$1,MATCH(total!$A12,DatLivF,0),MATCH(total!D$2,fourbi!$B$1:$M$1,0)),0) -> 0 | E12: =IFERROR(OFFSET(fourbi!$A$1,MATCH(total!$A12,DatLivF,0),MATCH(total!E$2,fourbi!$B$1:$M$1,0)),0) -> 0 | F12: =IFERROR(OFFSET(caleche!$A$1,MATCH(total!$A12,DatLivCal,0),MATCH(total!F$2,caleche!$B$1:$M$1,0)),0) -> 0 | G12: =IFERROR(OFFSET(caleche!$A$1,MATCH(total!$A12,DatLivCal,0),MATCH(total!G$2,caleche!$B$1:$M$1,0)),0) -> 0 | H12: =IFERROR(OFFSET(equitation!$A$1,MATCH(total!$A12,DatLivEq,0),MATCH(total!H$2,equitation!$B$1:$M$1,0)),0) -> 0 | I12: =IFERROR(OFFSET(equitation!$A$1,MATCH(total!$A12,DatLivEq,0),MATCH(total!I$2,equitation!$B$1:$M$1,0)),0) -> 0 | J12: =IFERROR(OFFSET(equitation!$A$1,MATCH(total!$A12,DatLivEq,0),MATCH(total!J$2,equitation!$B$1:$M$1,0)),0) -> 0 | K12: =IFERROR(OFFSET(ceinture!$A$1,MATCH(total!$A12,Datlivceint,0),MATCH(total!K$2,ceinture!$B$1:$L$1,0)),0) -> 0 | L12: =IFERROR(OFFSET('sac-diamant'!$A$1,MATCH(total!$A12,DatLivDiam,0),MATCH(total!L$2,'sac-diamant'!$B$1:$L$1,0)),0) -> 0
A13: 41650 | B13: =IFERROR(OFFSET(fourbi!$A$1,MATCH(total!$A13,DatLivF,0),MATCH(total!B$2,fourbi!$B$1:$M$1,0)),0) -> 0 | C13: =IFERROR(OFFSET(fourbi!$A$1,MATCH(total!$A13,DatLivF,0),MATCH(total!C$2,fourbi!$B$1:$M$1,0)),0) -> 0 | D13: =IFERROR(OFFSET(fourbi!$A$1,MATCH(total!$A13,DatLivF,0),MATCH(total!D$2,fourbi!$B$1:$M$1,0)),0) -> 0 | E13: =IFERROR(OFFSET(fourbi!$A$1,MATCH(total!$A13,DatLivF,0),MATCH(total!E$2,fourbi!$B$1:$M$1,0)),0) -> 0 | F13: =IFERROR(OFFSET(caleche!$A$1,MATCH(total!$A13,DatLivCal,0),MATCH(total!F$2,caleche!$B$1:$M$1,0)),0) -> 0 | G13: =IFERROR(OFFSET(caleche!$A$1,MATCH(total!$A13,DatLivCal,0),MATCH(total!G$2,caleche!$B$1:$M$1,0)),0) -> 0 | H13: =IFERROR(OFFSET(equitation!$A$1,MATCH(total!$A13,DatLivEq,0),MATCH(total!H$2,equitation!$B$1:$M$1,0)),0) -> 0 | I13: =IFERROR(OFFSET(equitation!$A$1,MATCH(total!$A13,DatLivEq,0),MATCH(total!I$2,equitation!$B$1:$M$1,0)),0) -> 0 | J13: =IFERROR(OFFSET(equitation!$A$1,MATCH(total!$A13,DatLivEq,0),MATCH(total!J$2,equitation!$B$1:$M$1,0)),0) -> 0 | K13: =IFERROR(OFFSET(ceinture!$A$1,MATCH(total!$A13,Datlivceint,0),MATCH(total!K$2,ceinture!$B$1:$L$1,0)),0) -> 0 | L13: =IFERROR(OFFSET('sac-diamant'!$A$1,MATCH(total!$A13,DatLivDiam,0),MATCH(total!L$2,'sac-diamant'!$B$1:$L$1,0)),0) -> 0
A14: 41651 | B14: =IFERROR(OFFSET(fourbi!$A$1,MATCH(total!$A14,DatLivF,0),MATCH(total!B$2,fourbi!$B$1:$M$1,0)),0) -> 0 | C14: =IFERROR(OFFSET(fourbi!$A$1,MATCH(total!$A14,DatLivF,0),MATCH(total!C$2,fourbi!$B$1:$M$1,0)),0) -> 0 | D14: =IFERROR(OFFSET(fourbi!$A$1,MATCH(total!$A14,DatLivF,0),MATCH(total!D$2,fourbi!$B$1:$M$1,0)),0) -> 0 | E14: =IFERROR(OFFSET(fourbi!$A$1,MATCH(total!$A14,DatLivF,0),MATCH(total!E$2,fourbi!$B$1:$M$1,0)),0) -> 0 | F14: =IFERROR(OFFSET(caleche!$A$1,MATCH(total!$A14,DatLivCal,0),MATCH(total!F$2,caleche!$B$1:$M$1,0)),0) -> 0 | G14: =IFERROR(OFFSET(caleche!$A$1,MATCH(total!$A14,DatLivCal,0),MATCH(total!G$2,caleche!$B$1:$M$1,0)),0) -> 0 | H14: =IFERROR(OFFSET(equitation!$A$1,MATCH(total!$A14,DatLivEq,0),MATCH(total!H$2,equitation!$B$1:$M$1,0)),0) -> 0 | I14: =IFERROR(OFFSET(equitation!$A$1,MATCH(total!$A14,DatLivEq,0),MATCH(total!I$2,equitation!$B$1:$M$1,0)),0) -> 0 | J14: =IFERROR(OFFSET(equitation!$A$1,MATCH(total!$A14,DatLivEq,0),MATCH(total!J$2,equitation!$B$1:$M$1,0)),0) -> 0 | K14: =IFERROR(OFFSET(ceinture!$A$1,MATCH(total!$A14,Datlivceint,0),MATCH(total!K$2,ceinture!$B$1:$L$1,0)),0) -> 0 | L14: =IFERROR(OFFSET('sac-diamant'!$A$1,MATCH(total!$A14,DatLivDiam,0),MATCH(total!L$2,'sac-diamant'!$B$1:$L$1,0)),0) -> 0
... A33: 41670 | B33: =IFERROR(OFFSET(fourbi!$A$1,MATCH(total!$A33,DatLivF,0),MATCH(total!B$2,fourbi!$B$1:$M$1,0)),0) -> 0 | C33: =IFERROR(OFFSET(fourbi!$A$1,MATCH(total!$A33,DatLivF,0),MATCH(total!C$2,fourbi!$B$1:$M$1,0)),0) -> 0 | D33: =IFERROR(OFFSET(fourbi!$A$1,MATCH(total!$A33,DatLivF,0),MATCH(total!D$2,fourbi!$B$1:$M$1,0)),0) -> 0 | E33: =IFERROR(OFFSET(fourbi!$A$1,MATCH(total!$A33,DatLivF,0),MATCH(total!E$2,fourbi!$B$1:$M$1,0)),0) -> 0 | F33: =IFERROR(OFFSET(caleche!$A$1,MATCH(total!$A33,DatLivCal,0),MATCH(total!F$2,caleche!$B$1:$M$1,0)),0) -> 0 | G33: =IFERROR(OFFSET(caleche!$A$1,MATCH(total!$A33,DatLivCal,0),MATCH(total!G$2,caleche!$B$1:$M$1,0)),0) -> 0 | H33: =IFERROR(OFFSET(equitation!$A$1,MATCH(total!$A33,DatLivEq,0),MATCH(total!H$2,equitation!$B$1:$M$1,0)),0) -> 0 | I33: =IFERROR(OFFSET(equitation!$A$1,MATCH(total!$A33,DatLivEq,0),MATCH(total!I$2,equitation!$B$1:$M$1,0)),0) -> 0 | J33: =IFERROR(OFFSET(equitation!$A$1,MATCH(total!$A33,DatLivEq,0),MATCH(total!J$2,equitation!$B$1:$M$1,0)),0) -> 0 | K33: =IFERROR(OFFSET(ceinture!$A$1,MATCH(total!$A33,Datlivceint,0),MATCH(total!K$2,ceinture!$B$1:$L$1,0)),0) -> 0 | L33: =IFERROR(OFFSET('sac-diamant'!$A$1,MATCH(total!$A33,DatLivDiam,0),MATCH(total!L$2,'sac-diamant'!$B$1:$L$1,0)),0) -> 0
A34: Total Janvier | B34: =+fourbi!B9 -> 432 | C34: =+fourbi!C9 -> 777 | D34: =+fourbi!D9 -> 9 | E34: =+fourbi!E9 -> 10 | F34: =+caleche!B33 -> 48 | G34: =+caleche!C33 -> 0 | H34: =+equitation!B33 -> 0 | I34: =+equitation!C33 -> 0 | J34: =+equitation!D33 -> 7 | L34: =+'sac-diamant'!B33 -> 9
A35: 41671 | B35: =IFERROR(OFFSET(fourbi!$A$1,MATCH(total!$A35,DatLivF,0),MATCH(total!B$2,fourbi!$B$1:$M$1,0)),0) -> 0 | C35: =IFERROR(OFFSET(fourbi!$A$1,MATCH(total!$A35,DatLivF,0),MATCH(total!C$2,fourbi!$B$1:$M$1,0)),0) -> 0 | D35: =IFERROR(OFFSET(fourbi!$A$1,MATCH(total!$A35,DatLivF,0),MATCH(total!D$2,fourbi!$B$1:$M$1,0)),0) -> 0 | E35: =IFERROR(OFFSET(fourbi!$A$1,MATCH(total!$A35,DatLivF,0),MATCH(total!E$2,fourbi!$B$1:$M$1,0)),0) -> 0 | F35: =IFERROR(OFFSET(caleche!$A$1,MATCH(total!$A35,DatLivCal,0),MATCH(total!F$2,caleche!$B$1:$M$1,0)),0) -> 0 | G35: =IFERROR(OFFSET(caleche!$A$1,MATCH(total!$A35,DatLivCal,0),MATCH(total!G$2,caleche!$B$1:$M$1,0)),0) -> 0 | H35: =IFERROR(OFFSET(equitation!$A$1,MATCH(total!$A35,DatLivEq,0),MATCH(total!H$2,equitation!$B$1:$M$1,0)),0) -> 0 | I35: =IFERROR(OFFSET(equitation!$A$1,MATCH(total!$A35,DatLivEq,0),MATCH(total!I$2,equitation!$B$1:$M$1,0)),0) -> 0 | J35: =IFERROR(OFFSET(equitation!$A$1,MATCH(total!$A35,DatLivEq,0),MATCH(total!J$2,equitation!$B$1:$M$1,0)),0) -> 0 | K35: =IFERROR(OFFSET(ceinture!$A$1,MATCH(total!$A35,Datlivceint,0),MATCH(total!K$2,ceinture!$B$1:$L$1,0)),0) -> 0 | L35: =IFERROR(OFFSET('sac-diamant'!$A$1,MATCH(total!$A35,DatLivDiam,0),MATCH(total!L$2,'sac-diamant'!$B$1:$L$1,0)),0) -> 0
A36: 41672 | B36: =IFERROR(OFFSET(fourbi!$A$1,MATCH(total!$A36,DatLivF,0),MATCH(total!B$2,fourbi!$B$1:$M$1,0)),0) -> 0 | C36: =IFERROR(OFFSET(fourbi!$A$1,MATCH(total!$A36,DatLivF,0),MATCH(total!C$2,fourbi!$B$1:$M$1,0)),0) -> 0 | D36: =IFERROR(OFFSET(fourbi!$A$1,MATCH(total!$A36,DatLivF,0),MATCH(total!D$2,fourbi!$B$1:$M$1,0)),0) -> 0 | E36: =IFERROR(OFFSET(fourbi!$A$1,MATCH(total!$A36,DatLivF,0),MATCH(total!E$2,fourbi!$B$1:$M$1,0)),0) -> 0 | F36: =IFERROR(OFFSET(caleche!$A$1,MATCH(total!$A36,DatLivCal,0),MATCH(total!F$2,caleche!$B$1:$M$1,0)),0) -> 0 | G36: =IFERROR(OFFSET(caleche!$A$1,MATCH(total!$A36,DatLivCal,0),MATCH(total!G$2,caleche!$B$1:$M$1,0)),0) -> 0 | H36: =IFERROR(OFFSET(equitation!$A$1,MATCH(total!$A36,DatLivEq,0),MATCH(total!H$2,equitation!$B$1:$M$1,0)),0) -> 0 | I36: =IFERROR(OFFSET(equitation!$A$1,MATCH(total!$A36,DatLivEq,0),MATCH(total!I$2,equitation!$B$1:$M$1,0)),0) -> 0 | J36: =IFERROR(OFFSET(equitation!$A$1,MATCH(total!$A36,DatLivEq,0),MATCH(total!J$2,equitation!$B$1:$M$1,0)),0) -> 0 | K36: =IFERROR(OFFSET(ceinture!$A$1,MATCH(total!$A36,Datlivceint,0),MATCH(total!K$2,ceinture!$B$1:$L$1,0)),0) -> 0 | L36: =IFERROR(OFFSET('sac-diamant'!$A$1,MATCH(total!$A36,DatLivDiam,0),MATCH(total!L$2,'sac-diamant'!$B$1:$L$1,0)),0) -> 0
A37: 41673 | B37: =IFERROR(OFFSET(fourbi!$A$1,MATCH(total!$A37,DatLivF,0),MATCH(total!B$2,fourbi!$B$1:$M$1,0)),0) -> 0 | C37: =IFERROR(OFFSET(fourbi!$A$1,MATCH(total!$A37,DatLivF,0),MATCH(total!C$2,fourbi!$B$1:$M$1,0)),0) -> 0 | D37: =IFERROR(OFFSET(fourbi!$A$1,MATCH(total!$A37,DatLivF,0),MATCH(total!D$2,fourbi!$B$1:$M$1,0)),0) -> 0 | E37: =IFERROR(OFFSET(fourbi!$A$1,MATCH(total!$A37,DatLivF,0),MATCH(total!E$2,fourbi!$B$1:$M$1,0)),0) -> 0 | F37: =IFERROR(OFFSET(caleche!$A$1,MATCH(total!$A37,DatLivCal,0),MATCH(total!F$2,caleche!$B$1:$M$1,0)),0) -> 0 | G37: =IFERROR(OFFSET(caleche!$A$1,MATCH(total!$A37,DatLivCal,0),MATCH(total!G$2,caleche!$B$1:$M$1,0)),0) -> 0 | H37: =IFERROR(OFFSET(equitation!$A$1,MATCH(total!$A37,DatLivEq,0),MATCH(total!H$2,equitation!$B$1:$M$1,0)),0) -> 0 | I37: =IFERROR(OFFSET(equitation!$A$1,MATCH(total!$A37,DatLivEq,0),MATCH(total!I$2,equitation!$B$1:$M$1,0)),0) -> 0 | J37: =IFERROR(OFFSET(equitation!$A$1,MATCH(total!$A37,DatLivEq,0),MATCH(total!J$2,equitation!$B$1:$M$1,0)),0) -> 0 | K37: =IFERROR(OFFSET(ceinture!$A$1,MATCH(total!$A37,Datlivceint,0),MATCH(total!K$2,ceinture!$B$1:$L$1,0)),0) -> 0 | L37: =IFERROR(OFFSET('sac-diamant'!$A$1,MATCH(total!$A37,DatLivDiam,0),MATCH(total!L$2,'sac-diamant'!$B$1:$L$1,0)),0) -> 0
A38: 41674 | B38: =IFERROR(OFFSET(fourbi!$A$1,MATCH(total!$A38,DatLivF,0),MATCH(total!B$2,fourbi!$B$1:$M$1,0)),0) -> 0 | C38: =IFERROR(OFFSET(fourbi!$A$1,MATCH(total!$A38,DatLivF,0),MATCH(total!C$2,fourbi!$B$1:$M$1,0)),0) -> 0 | D38: =IFERROR(OFFSET(fourbi!$A$1,MATCH(total!$A38,DatLivF,0),MATCH(total!D$2,fourbi!$B$1:$M$1,0)),0) -> 0 | E38: =IFERROR(OFFSET(fourbi!$A$1,MATCH(total!$A38,DatLivF,0),MATCH(total!E$2,fourbi!$B$1:$M$1,0)),0) -> 0 | F38: =IFERROR(OFFSET(caleche!$A$1,MATCH(total!$A38,DatLivCal,0),MATCH(total!F$2,caleche!$B$1:$M$1,0)),0) -> 0 | G38: =IFERROR(OFFSET(caleche!$A$1,MATCH(total!$A38,DatLivCal,0),MATCH(total!G$2,caleche!$B$1:$M$1,0)),0) -> 0 | H38: =IFERROR(OFFSET(equitation!$A$1,MATCH(total!$A38,DatLivEq,0),MATCH(total!H$2,equitation!$B$1:$M$1,0)),0) -> 0 | I38: =IFERROR(OFFSET(equitation!$A$1,MATCH(total!$A38,DatLivEq,0),MATCH(total!I$2,equitation!$B$1:$M$1,0)),0) -> 0 | J38: =IFERROR(OFFSET(equitation!$A$1,MATCH(total!$A38,DatLivEq,0),MATCH(total!J$2,equitation!$B$1:$M$1,0)),0) -> 0 | K38: =IFERROR(OFFSET(ceinture!$A$1,MATCH(total!$A38,Datlivceint,0),MATCH(total!K$2,ceinture!$B$1:$L$1,0)),0) -> 0 | L38: =IFERROR(OFFSET('sac-diamant'!$A$1,MATCH(total!$A38,DatLivDiam,0),MATCH(total!L$2,'sac-diamant'!$B$1:$L$1,0)),0) -> 0
A39: 41675 | B39: =IFERROR(OFFSET(fourbi!$A$1,MATCH(total!$A39,DatLivF,0),MATCH(total!B$2,fourbi!$B$1:$M$1,0)),0) -> 0 | C39: =IFERROR(OFFSET(fourbi!$A$1,MATCH(total!$A39,DatLivF,0),MATCH(total!C$2,fourbi!$B$1:$M$1,0)),0) -> 0 | D39: =IFERROR(OFFSET(fourbi!$A$1,MATCH(total!$A39,DatLivF,0),MATCH(total!D$2,fourbi!$B$1:$M$1,0)),0) -> 0 | E39: =IFERROR(OFFSET(fourbi!$A$1,MATCH(total!$A39,DatLivF,0),MATCH(total!E$2,fourbi!$B$1:$M$1,0)),0) -> 0 | F39: =IFERROR(OFFSET(caleche!$A$1,MATCH(total!$A39,DatLivCal,0),MATCH(total!F$2,caleche!$B$1:$M$1,0)),0) -> 0 | G39: =IFERROR(OFFSET(caleche!$A$1,MATCH(total!$A39,DatLivCal,0),MATCH(total!G$2,caleche!$B$1:$M$1,0)),0) -> 0 | H39: =IFERROR(OFFSET(equitation!$A$1,MATCH(total!$A39,DatLivEq,0),MATCH(total!H$2,equitation!$B$1:$M$1,0)),0) -> 0 | I39: =IFERROR(OFFSET(equitation!$A$1,MATCH(total!$A39,DatLivEq,0),MATCH(total!I$2,equitation!$B$1:$M$1,0)),0) -> 0 | J39: =IFERROR(OFFSET(equitation!$A$1,MATCH(total!$A39,DatLivEq,0),MATCH(total!J$2,equitation!$B$1:$M$1,0)),0) -> 0 | K39: =IFERROR(OFFSET(ceinture!$A$1,MATCH(total!$A39,Datlivceint,0),MATCH(total!K$2,ceinture!$B$1:$L$1,0)),0) -> 0 | L39: =IFERROR(OFFSET('sac-diamant'!$A$1,MATCH(total!$A39,DatLivDiam,0),MATCH(total!L$2,'sac-diamant'!$B$1:$L$1,0)),0) -> 0
A40: 41676 | B40: =IFERROR(OFFSET(fourbi!$A$1,MATCH(total!$A40,DatLivF,0),MATCH(total!B$2,fourbi!$B$1:$M$1,0)),0) -> 0 | C40: =IFERROR(OFFSET(fourbi!$A$1,MATCH(total!$A40,DatLivF,0),MATCH(total!C$2,fourbi!$B$1:$M$1,0)),0) -> 0 | D40: =IFERROR(OFFSET(fourbi!$A$1,MATCH(total!$A40,DatLivF,0),MATCH(total!D$2,fourbi!$B$1:$M$1,0)),0) -> 0 | E40: =IFERROR(OFFSET(fourbi!$A$1,MATCH(total!$A40,DatLivF,0),MATCH(total!E$2,fourbi!$B$1:$M$1,0)),0) -> 0 | F40: =IFERROR(OFFSET(caleche!$A$1,MATCH(total!$A40,DatLivCal,0),MATCH(total!F$2,caleche!$B$1:$M$1,0)),0) -> 0 | G40: =IFERROR(OFFSET(caleche!$A$1,MATCH(total!$A40,DatLivCal,0),MATCH(total!G$2,caleche!$B$1:$M$1,0)),0) -> 0 | H40: =IFERROR(OFFSET(equitation!$A$1,MATCH(total!$A40,DatLivEq,0),MATCH(total!H$2,equitation!$B$1:$M$1,0)),0) -> 0 | I40: =IFERROR(OFFSET(equitation!$A$1,MATCH(total!$A40,DatLivEq,0),MATCH(total!I$2,equitation!$B$1:$M$1,0)),0) -> 0 | J40: =IFERROR(OFFSET(equitation!$A$1,MATCH(total!$A40,DatLivEq,0),MATCH(total!J$2,equitation!$B$1:$M$1,0)),0) -> 0 | K40: =IFERROR(OFFSET(ceinture!$A$1,MATCH(total!$A40,Datlivceint,0),MATCH(total!K$2,ceinture!$B$1:$L$1,0)),0) -> 16 | L40: =IFERROR(OFFSET('sac-diamant'!$A$1,MATCH(total!$A40,DatLivDiam,0),MATCH(total!L$2,'sac-diamant'!$B$1:$L$1,0)),0) -> 0
A41: 41677 | B41: =IFERROR(OFFSET(fourbi!$A$1,MATCH(total!$A41,DatLivF,0),MATCH(total!B$2,fourbi!$B$1:$M$1,0)),0) -> 0 | C41: =IFERROR(OFFSET(fourbi!$A$1,MATCH(total!$A41,DatLivF,0),MATCH(total!C$2,fourbi!$B$1:$M$1,0)),0) -> 0 | D41: =IFERROR(OFFSET(fourbi!$A$1,MATCH(total!$A41,DatLivF,0),MATCH(total!D$2,fourbi!$B$1:$M$1,0)),0) -> 0 | E41: =IFERROR(OFFSET(fourbi!$A$1,MATCH(total!$A41,DatLivF,0),MATCH(total!E$2,fourbi!$B$1:$M$1,0)),0) -> 0 | F41: =IFERROR(OFFSET(caleche!$A$1,MATCH(total!$A41,DatLivCal,0),MATCH(total!F$2,caleche!$B$1:$M$1,0)),0) -> 0 | G41: =IFERROR(OFFSET(caleche!$A$1,MATCH(total!$A41,DatLivCal,0),MATCH(total!G$2,caleche!$B$1:$M$1,0)),0) -> 0 | H41: =IFERROR(OFFSET(equitation!$A$1,MATCH(total!$A41,DatLivEq,0),MATCH(total!H$2,equitation!$B$1:$M$1,0)),0) -> 0 | I41: =IFERROR(OFFSET(equitation!$A$1,MATCH(total!$A41,DatLivEq,0),MATCH(total!I$2,equitation!$B$1:$M$1,0)),0) -> 0 | J41: =IFERROR(OFFSET(equitation!$A$1,MATCH(total!$A41,DatLivEq,0),MATCH(total!J$2,equitation!$B$1:$M$1,0)),0) -> 0 | K41: =IFERROR(OFFSET(ceinture!$A$1,MATCH(total!$A41,Datlivceint,0),MATCH(total!K$2,ceinture!$B$1:$L$1,0)),0) -> 0 | L41: =IFERROR(OFFSET('sac-diamant'!$A$1,MATCH(total!$A41,DatLivDiam,0),MATCH(total!L$2,'sac-diamant'!$B$1:$L$1,0)),0) -> 0
A42: 41678 | B42: =IFERROR(OFFSET(fourbi!$A$1,MATCH(total!$A42,DatLivF,0),MATCH(total!B$2,fourbi!$B$1:$M$1,0)),0) -> 0 | C42: =IFERROR(OFFSET(fourbi!$A$1,MATCH(total!$A42,DatLivF,0),MATCH(total!C$2,fourbi!$B$1:$M$1,0)),0) -> 0 | D42: =IFERROR(OFFSET(fourbi!$A$1,MATCH(total!$A42,DatLivF,0),MATCH(total!D$2,fourbi!$B$1:$M$1,0)),0) -> 0 | E42: =IFERROR(OFFSET(fourbi!$A$1,MATCH(total!$A42,DatLivF,0),MATCH(total!E$2,fourbi!$B$1:$M$1,0)),0) -> 0 | F42: =IFERROR(OFFSET(caleche!$A$1,MATCH(total!$A42,DatLivCal,0),MATCH(total!F$2,caleche!$B$1:$M$1,0)),0) -> 0 | G42: =IFERROR(OFFSET(caleche!$A$1,MATCH(total!$A42,DatLivCal,0),MATCH(total!G$2,caleche!$B$1:$M$1,0)),0) -> 0 | H42: =IFERROR(OFFSET(equitation!$A$1,MATCH(total!$A42,DatLivEq,0),MATCH(total!H$2,equitation!$B$1:$M$1,0)),0) -> 0 | I42: =IFERROR(OFFSET(equitation!$A$1,MATCH(total!$A42,DatLivEq,0),MATCH(total!I$2,equitation!$B$1:$M$1,0)),0) -> 0 | J42: =IFERROR(OFFSET(equitation!$A$1,MATCH(total!$A42,DatLivEq,0),MATCH(total!J$2,equitation!$B$1:$M$1,0)),0) -> 0 | K42: =IFERROR(OFFSET(ceinture!$A$1,MATCH(total!$A42,Datlivceint,0),MATCH(total!K$2,ceinture!$B$1:$L$1,0)),0) -> 0 | L42: =IFERROR(OFFSET('sac-diamant'!$A$1,MATCH(total!$A42,DatLivDiam,0),MATCH(total!L$2,'sac-diamant'!$B$1:$L$1,0)),0) -> 0
A43: 41679 | B43: =IFERROR(OFFSET(fourbi!$A$1,MATCH(total!$A43,DatLivF,0),MATCH(total!B$2,fourbi!$B$1:$M$1,0)),0) -> 0 | C43: =IFERROR(OFFSET(fourbi!$A$1,MATCH(total!$A43,DatLivF,0),MATCH(total!C$2,fourbi!$B$1:$M$1,0)),0) -> 0 | D43: =IFERROR(OFFSET(fourbi!$A$1,MATCH(total!$A43,DatLivF,0),MATCH(total!D$2,fourbi!$B$1:$M$1,0)),0) -> 0 | E43: =IFERROR(OFFSET(fourbi!$A$1,MATCH(total!$A43,DatLivF,0),MATCH(total!E$2,fourbi!$B$1:$M$1,0)),0) -> 0 | F43: =IFERROR(OFFSET(caleche!$A$1,MATCH(total!$A43,DatLivCal,0),MATCH(total!F$2,caleche!$B$1:$M$1,0)),0) -> 0 | G43: =IFERROR(OFFSET(caleche!$A$1,MATCH(total!$A43,DatLivCal,0),MATCH(total!G$2,caleche!$B$1:$M$1,0)),0) -> 0 | H43: =IFERROR(OFFSET(equitation!$A$1,MATCH(total!$A43,DatLivEq,0),MATCH(total!H$2,equitation!$B$1:$M$1,0)),0) -> 0 | I43: =IFERROR(OFFSET(equitation!$A$1,MATCH(total!$A43,DatLivEq,0),MATCH(total!I$2,equitation!$B$1:$M$1,0)),0) -> 0 | J43: =IFERROR(OFFSET(equitation!$A$1,MATCH(total!$A43,DatLivEq,0),MATCH(total!J$2,equitation!$B$1:$M$1,0)),0) -> 0 | K43: =IFERROR(OFFSET(ceinture!$A$1,MATCH(total!$A43,Datlivceint,0),MATCH(total!K$2,ceinture!$B$1:$L$1,0)),0) -> 0 | L43: =IFERROR(OFFSET('sac-diamant'!$A$1,MATCH(total!$A43,DatLivDiam,0),MATCH(total!L$2,'sac-diamant'!$B$1:$L$1,0)),0) -> 0
A44: 41680 | B44: =IFERROR(OFFSET(fourbi!$A$1,MATCH(total!$A44,DatLivF,0),MATCH(total!B$2,fourbi!$B$1:$M$1,0)),0) -> 0 | C44: =IFERROR(OFFSET(fourbi!$A$1,MATCH(total!$A44,DatLivF,0),MATCH(total!C$2,fourbi!$B$1:$M$1,0)),0) -> 0 | D44: =IFERROR(OFFSET(fourbi!$A$1,MATCH(total!$A44,DatLivF,0),MATCH(total!D$2,fourbi!$B$1:$M$1,0)),0) -> 0 | E44: =IFERROR(OFFSET(fourbi!$A$1,MATCH(total!$A44,DatLivF,0),MATCH(total!E$2,fourbi!$B$1:$M$1,0)),0) -> 0 | F44: =IFERROR(OFFSET(caleche!$A$1,MATCH(total!$A44,DatLivCal,0),MATCH(total!F$2,caleche!$B$1:$M$1,0)),0) -> 0 | G44: =IFERROR(OFFSET(caleche!$A$1,MATCH(total!$A44,DatLivCal,0),MATCH(total!G$2,caleche!$B$1:$M$1,0)),0) -> 0 | H44: =IFERROR(OFFSET(equitation!$A$1,MATCH(total!$A44,DatLivEq,0),MATCH(total!H$2,equitation!$B$1:$M$1,0)),0) -> 0 | I44: =IFERROR(OFFSET(equitation!$A$1,MATCH(total!$A44,DatLivEq,0),MATCH(total!I$2,equitation!$B$1:$M$1,0)),0) -> 0 | J44: =IFERROR(OFFSET(equitation!$A$1,MATCH(total!$A44,DatLivEq,0),MATCH(total!J$2,equitation!$B$1:$M$1,0)),0) -> 0 | K44: =IFERROR(OFFSET(ceinture!$A$1,MATCH(total!$A44,Datlivceint,0),MATCH(total!K$2,ceinture!$B$1:$L$1,0)),0) -> 0 | L44: =IFERROR(OFFSET('sac-diamant'!$A$1,MATCH(total!$A44,DatLivDiam,0),MATCH(total!L$2,'sac-diamant'!$B$1:$L$1,0)),0) -> 0
A45: 41681 | B45: =IFERROR(OFFSET(fourbi!$A$1,MATCH(total!$A45,DatLivF,0),MATCH(total!B$2,fourbi!$B$1:$M$1,0)),0) -> 0 | C45: =IFERROR(OFFSET(fourbi!$A$1,MATCH(total!$A45,DatLivF,0),MATCH(total!C$2,fourbi!$B$1:$M$1,0)),0) -> 0 | D45: =IFERROR(OFFSET(fourbi!$A$1,MATCH(total!$A45,DatLivF,0),MATCH(total!D$2,fourbi!$B$1:$M$1,0)),0) -> 0 | E45: =IFERROR(OFFSET(fourbi!$A$1,MATCH(total!$A45,DatLivF,0),MATCH(total!E$2,fourbi!$B$1:$M$1,0)),0) -> 0 | F45: =IFERROR(OFFSET(caleche!$A$1,MATCH(total!$A45,DatLivCal,0),MATCH(total!F$2,caleche!$B$1:$M$1,0)),0) -> 0 | G45: =IFERROR(OFFSET(caleche!$A$1,MATCH(total!$A45,DatLivCal,0),MATCH(total!G$2,caleche!$B$1:$M$1,0)),0) -> 0 | H45: =IFERROR(OFFSET(equitation!$A$1,MATCH(total!$A45,DatLivEq,0),MATCH(total!H$2,equitation!$B$1:$M$1,0)),0) -> 0 | I45: =IFERROR(OFFSET(equitation!$A$1,MATCH(total!$A45,DatLivEq,0),MATCH(total!I$2,equitation!$B$1:$M$1,0)),0) -> 0 | J45: =IFERROR(OFFSET(equitation!$A$1,MATCH(total!$A45,DatLivEq,0),MATCH(total!J$2,equitation!$B$1:$M$1,0)),0) -> 0 | K45: =IFERROR(OFFSET(ceinture!$A$1,MATCH(total!$A45,Datlivceint,0),MATCH(total!K$2,ceinture!$B$1:$L$1,0)),0) -> 0 | L45: =IFERROR(OFFSET('sac-diamant'!$A$1,MATCH(total!$A45,DatLivDiam,0),MATCH(total!L$2,'sac-diamant'!$B$1:$L$1,0)),0) -> 0
A46: 41682 | B46: =IFERROR(OFFSET(fourbi!$A$1,MATCH(total!$A46,DatLivF,0),MATCH(total!B$2,fourbi!$B$1:$M$1,0)),0) -> 0 | C46: =IFERROR(OFFSET(fourbi!$A$1,MATCH(total!$A46,DatLivF,0),MATCH(total!C$2,fourbi!$B$1:$M$1,0)),0) -> 0 | D46: =IFERROR(OFFSET(fourbi!$A$1,MATCH(total!$A46,DatLivF,0),MATCH(total!D$2,fourbi!$B$1:$M$1,0)),0) -> 0 | E46: =IFERROR(OFFSET(fourbi!$A$1,MATCH(total!$A46,DatLivF,0),MATCH(total!E$2,fourbi!$B$1:$M$1,0)),0) -> 0 | F46: =IFERROR(OFFSET(caleche!$A$1,MATCH(total!$A46,DatLivCal,0),MATCH(total!F$2,caleche!$B$1:$M$1,0)),0) -> 0 | G46: =IFERROR(OFFSET(caleche!$A$1,MATCH(total!$A46,DatLivCal,0),MATCH(total!G$2,caleche!$B$1:$M$1,0)),0) -> 0 | H46: =IFERROR(OFFSET(equitation!$A$1,MATCH(total!$A46,DatLivEq,0),MATCH(total!H$2,equitation!$B$1:$M$1,0)),0) -> 0 | I46: =IFERROR(OFFSET(equitation!$A$1,MATCH(total!$A46,DatLivEq,0),MATCH(total!I$2,equitation!$B$1:$M$1,0)),0) -> 0 | J46: =IFERROR(OFFSET(equitation!$A$1,MATCH(total!$A46,DatLivEq,0),MATCH(total!J$2,equitation!$B$1:$M$1,0)),0) -> 0 | K46: =IFERROR(OFFSET(ceinture!$A$1,MATCH(total!$A46,Datlivceint,0),MATCH(total!K$2,ceinture!$B$1:$L$1,0)),0) -> 0 | L46: =IFERROR(OFFSET('sac-diamant'!$A$1,MATCH(total!$A46,DatLivDiam,0),MATCH(total!L$2,'sac-diamant'!$B$1:$L$1,0)),0) -> 0
... A62: 41698 | B62: =IFERROR(OFFSET(fourbi!$A$1,MATCH(total!$A62,DatLivF,0),MATCH(total!B$2,fourbi!$B$1:$M$1,0)),0) -> 288 | C62: =IFERROR(OFFSET(fourbi!$A$1,MATCH(total!$A62,DatLivF,0),MATCH(total!C$2,fourbi!$B$1:$M$1,0)),0) -> 0 | D62: =IFERROR(OFFSET(fourbi!$A$1,MATCH(total!$A62,DatLivF,0),MATCH(total!D$2,fourbi!$B$1:$M$1,0)),0) -> 0 | E62: =IFERROR(OFFSET(fourbi!$A$1,MATCH(total!$A62,DatLivF,0),MATCH(total!E$2,fourbi!$B$1:$M$1,0)),0) -> 0 | F62: =IFERROR(OFFSET(caleche!$A$1,MATCH(total!$A62,DatLivCal,0),MATCH(total!F$2,caleche!$B$1:$M$1,0)),0) -> 0 | G62: =IFERROR(OFFSET(caleche!$A$1,MATCH(total!$A62,DatLivCal,0),MATCH(total!G$2,caleche!$B$1:$M$1,0)),0) -> 0 | H62: =IFERROR(OFFSET(equitation!$A$1,MATCH(total!$A62,DatLivEq,0),MATCH(total!H$2,equitation!$B$1:$M$1,0)),0) -> 0 | I62: =IFERROR(OFFSET(equitation!$A$1,MATCH(total!$A62,DatLivEq,0),MATCH(total!I$2,equitation!$B$1:$M$1,0)),0) -> 0 | J62: =IFERROR(OFFSET(equitation!$A$1,MATCH(total!$A62,DatLivEq,0),MATCH(total!J$2,equitation!$B$1:$M$1,0)),0) -> 0 | K62: =IFERROR(OFFSET(ceinture!$A$1,MATCH(total!$A62,Datlivceint,0),MATCH(total!K$2,ceinture!$B$1:$L$1,0)),0) -> 180 | L62: =IFERROR(OFFSET('sac-diamant'!$A$1,MATCH(total!$A62,DatLivDiam,0),MATCH(total!L$2,'sac-diamant'!$B$1:$L$1,0)),0) -> 0
A63: total février | B63: =fourbi!B16 -> 648 | C63: =fourbi!C16 -> 462 | D63: =fourbi!D16 -> 1 | E63: =fourbi!E16 -> 3 | F63: =+caleche!B62 -> 0 | G63: =+caleche!C62 -> 0 | K63: =+ceinture!B62 -> 443 | L63: =+'sac-diamant'!B62 -> 0
A64: 41699 | B64: =IFERROR(OFFSET(fourbi!$A$1,MATCH(total!$A64,DatLivF,0),MATCH(total!B$2,fourbi!$B$1:$M$1,0)),0) -> 0 | C64: =IFERROR(OFFSET(fourbi!$A$1,MATCH(total!$A64,DatLivF,0),MATCH(total!C$2,fourbi!$B$1:$M$1,0)),0) -> 0 | D64: =IFERROR(OFFSET(fourbi!$A$1,MATCH(total!$A64,DatLivF,0),MATCH(total!D$2,fourbi!$B$1:$M$1,0)),0) -> 0 | E64: =IFERROR(OFFSET(fourbi!$A$1,MATCH(total!$A64,DatLivF,0),MATCH(total!E$2,fourbi!$B$1:$M$1,0)),0) -> 0 | F64: =IFERROR(OFFSET(caleche!$A$1,MATCH(total!$A64,DatLivCal,0),MATCH(total!F$2,caleche!$B$1:$M$1,0)),0) -> 0 | G64: =IFERROR(OFFSET(caleche!$A$1,MATCH(total!$A64,DatLivCal,0),MATCH(total!G$2,caleche!$B$1:$M$1,0)),0) -> 0 | H64: =IFERROR(OFFSET(equitation!$A$1,MATCH(total!$A64,DatLivEq,0),MATCH(total!H$2,equitation!$B$1:$M$1,0)),0) -> 0 | I64: =IFERROR(OFFSET(equitation!$A$1,MATCH(total!$A64,DatLivEq,0),MATCH(total!I$2,equitation!$B$1:$M$1,0)),0) -> 0 | J64: =IFERROR(OFFSET(equitation!$A$1,MATCH(total!$A64,DatLivEq,0),MATCH(total!J$2,equitation!$B$1:$M$1,0)),0) -> 0 | K64: =IFERROR(OFFSET(ceinture!$A$1,MATCH(total!$A64,Datlivceint,0),MATCH(total!K$2,ceinture!$B$1:$L$1,0)),0) -> 0 | L64: =IFERROR(OFFSET('sac-diamant'!$A$1,MATCH(total!$A64,DatLivDiam,0),MATCH(total!L$2,'sac-diamant'!$B$1:$L$1,0)),0) -> 0
A65: 41700 | B65: =IFERROR(OFFSET(fourbi!$A$1,MATCH(total!$A65,DatLivF,0),MATCH(total!B$2,fourbi!$B$1:$M$1,0)),0) -> 0 | C65: =IFERROR(OFFSET(fourbi!$A$1,MATCH(total!$A65,DatLivF,0),MATCH(total!C$2,fourbi!$B$1:$M$1,0)),0) -> 0 | D65: =IFERROR(OFFSET(fourbi!$A$1,MATCH(total!$A65,DatLivF,0),MATCH(total!D$2,fourbi!$B$1:$M$1,0)),0) -> 0 | E65: =IFERROR(OFFSET(fourbi!$A$1,MATCH(total!$A65,DatLivF,0),MATCH(total!E$2,fourbi!$B$1:$M$1,0)),0) -> 0 | F65: =IFERROR(OFFSET(caleche!$A$1,MATCH(total!$A65,DatLivCal,0),MATCH(total!F$2,caleche!$B$1:$M$1,0)),0) -> 0 | G65: =IFERROR(OFFSET(caleche!$A$1,MATCH(total!$A65,DatLivCal,0),MATCH(total!G$2,caleche!$B$1:$M$1,0)),0) -> 0 | H65: =IFERROR(OFFSET(equitation!$A$1,MATCH(total!$A65,DatLivEq,0),MATCH(total!H$2,equitation!$B$1:$M$1,0)),0) -> 0 | I65: =IFERROR(OFFSET(equitation!$A$1,MATCH(total!$A65,DatLivEq,0),MATCH(total!I$2,equitation!$B$1:$M$1,0)),0) -> 0 | J65: =IFERROR(OFFSET(equitation!$A$1,MATCH(total!$A65,DatLivEq,0),MATCH(total!J$2,equitation!$B$1:$M$1,0)),0) -> 0 | K65: =IFERROR(OFFSET(ceinture!$A$1,MATCH(total!$A65,Datlivceint,0),MATCH(total!K$2,ceinture!$B$1:$L$1,0)),0) -> 0 | L65: =IFERROR(OFFSET('sac-diamant'!$A$1,MATCH(total!$A65,DatLivDiam,0),MATCH(total!L$2,'sac-diamant'!$B$1:$L$1,0)),0) -> 0
A66: 41701 | B66: =IFERROR(OFFSET(fourbi!$A$1,MATCH(total!$A66,DatLivF,0),MATCH(total!B$2,fourbi!$B$1:$M$1,0)),0) -> 0 | C66: =IFERROR(OFFSET(fourbi!$A$1,MATCH(total!$A66,DatLivF,0),MATCH(total!C$2,fourbi!$B$1:$M$1,0)),0) -> 0 | D66: =IFERROR(OFFSET(fourbi!$A$1,MATCH(total!$A66,DatLivF,0),MATCH(total!D$2,fourbi!$B$1:$M$1,0)),0) -> 0 | E66: =IFERROR(OFFSET(fourbi!$A$1,MATCH(total!$A66,DatLivF,0),MATCH(total!E$2,fourbi!$B$1:$M$1,0)),0) -> 0 | F66: =IFERROR(OFFSET(caleche!$A$1,MATCH(total!$A66,DatLivCal,0),MATCH(total!F$2,caleche!$B$1:$M$1,0)),0) -> 0 | G66: =IFERROR(OFFSET(caleche!$A$1,MATCH(total!$A66,DatLivCal,0),MATCH(total!G$2,caleche!$B$1:$M$1,0)),0) -> 0 | H66: =IFERROR(OFFSET(equitation!$A$1,MATCH(total!$A66,DatLivEq,0),MATCH(total!H$2,equitation!$B$1:$M$1,0)),0) -> 0 | I66: =IFERROR(OFFSET(equitation!$A$1,MATCH(total!$A66,DatLivEq,0),MATCH(total!I$2,equitation!$B$1:$M$1,0)),0) -> 0 | J66: =IFERROR(OFFSET(equitation!$A$1,MATCH(total!$A66,DatLivEq,0),MATCH(total!J$2,equitation!$B$1:$M$1,0)),0) -> 0 | K66: =IFERROR(OFFSET(ceinture!$A$1,MATCH(total!$A66,Datlivceint,0),MATCH(total!K$2,ceinture!$B$1:$L$1,0)),0) -> 0 | L66: =IFERROR(OFFSET('sac-diamant'!$A$1,MATCH(total!$A66,DatLivDiam,0),MATCH(total!L$2,'sac-diamant'!$B$1:$L$1,0)),0) -> 0
A67: 41702 | B67: =IFERROR(OFFSET(fourbi!$A$1,MATCH(total!$A67,DatLivF,0),MATCH(total!B$2,fourbi!$B$1:$M$1,0)),0) -> 0 | C67: =IFERROR(OFFSET(fourbi!$A$1,MATCH(total!$A67,DatLivF,0),MATCH(total!C$2,fourbi!$B$1:$M$1,0)),0) -> 0 | D67: =IFERROR(OFFSET(fourbi!$A$1,MATCH(total!$A67,DatLivF,0),MATCH(total!D$2,fourbi!$B$1:$M$1,0)),0) -> 0 | E67: =IFERROR(OFFSET(fourbi!$A$1,MATCH(total!$A67,DatLivF,0),MATCH(total!E$2,fourbi!$B$1:$M$1,0)),0) -> 0 | F67: =IFERROR(OFFSET(caleche!$A$1,MATCH(total!$A67,DatLivCal,0),MATCH(total!F$2,caleche!$B$1:$M$1,0)),0) -> 0 | G67: =IFERROR(OFFSET(caleche!$A$1,MATCH(total!$A67,DatLivCal,0),MATCH(total!G$2,caleche!$B$1:$M$1,0)),0) -> 0 | H67: =IFERROR(OFFSET(equitation!$A$1,MATCH(total!$A67,DatLivEq,0),MATCH(total!H$2,equitation!$B$1:$M$1,0)),0) -> 0 | I67: =IFERROR(OFFSET(equitation!$A$1,MATCH(total!$A67,DatLivEq,0),MATCH(total!I$2,equitation!$B$1:$M$1,0)),0) -> 0 | J67: =IFERROR(OFFSET(equitation!$A$1,MATCH(total!$A67,DatLivEq,0),MATCH(total!J$2,equitation!$B$1:$M$1,0)),0) -> 0 | K67: =IFERROR(OFFSET(ceinture!$A$1,MATCH(total!$A67,Datlivceint,0),MATCH(total!K$2,ceinture!$B$1:$L$1,0)),0) -> 0 | L67: =IFERROR(OFFSET('sac-diamant'!$A$1,MATCH(total!$A67,DatLivDiam,0),MATCH(total!L$2,'sac-diamant'!$B$1:$L$1,0)),0) -> 0
A68: 41703 | B68: =IFERROR(OFFSET(fourbi!$A$1,MATCH(total!$A68,DatLivF,0),MATCH(total!B$2,fourbi!$B$1:$M$1,0)),0) -> 0 | C68: =IFERROR(OFFSET(fourbi!$A$1,MATCH(total!$A68,DatLivF,0),MATCH(total!C$2,fourbi!$B$1:$M$1,0)),0) -> 0 | D68: =IFERROR(OFFSET(fourbi!$A$1,MATCH(total!$A68,DatLivF,0),MATCH(total!D$2,fourbi!$B$1:$M$1,0)),0) -> 0 | E68: =IFERROR(OFFSET(fourbi!$A$1,MATCH(total!$A68,DatLivF,0),MATCH(total!E$2,fourbi!$B$1:$M$1,0)),0) -> 0 | F68: =IFERROR(OFFSET(caleche!$A$1,MATCH(total!$A68,DatLivCal,0),MATCH(total!F$2,caleche!$B$1:$M$1,0)),0) -> 0 | G68: =IFERROR(OFFSET(caleche!$A$1,MATCH(total!$A68,DatLivCal,0),MATCH(total!G$2,caleche!$B$1:$M$1,0)),0) -> 0 | H68: =IFERROR(OFFSET(equitation!$A$1,MATCH(total!$A68,DatLivEq,0),MATCH(total!H$2,equitation!$B$1:$M$1,0)),0) -> 0 | I68: =IFERROR(OFFSET(equitation!$A$1,MATCH(total!$A68,DatLivEq,0),MATCH(total!I$2,equitation!$B$1:$M$1,0)),0) -> 0 | J68: =IFERROR(OFFSET(equitation!$A$1,MATCH(total!$A68,DatLivEq,0),MATCH(total!J$2,equitation!$B$1:$M$1,0)),0) -> 13.5 | K68: =IFERROR(OFFSET(ceinture!$A$1,MATCH(total!$A68,Datlivceint,0),MATCH(total!K$2,ceinture!$B$1:$L$1,0)),0) -> 0 | L68: =IFERROR(OFFSET('sac-diamant'!$A$1,MATCH(total!$A68,DatLivDiam,0),MATCH(total!L$2,'sac-diamant'!$B$1:$L$1,0)),0) -> 0
A69: 41704 | B69: =IFERROR(OFFSET(fourbi!$A$1,MATCH(total!$A69,DatLivF,0),MATCH(total!B$2,fourbi!$B$1:$M$1,0)),0) -> 0 | C69: =IFERROR(OFFSET(fourbi!$A$1,MATCH(total!$A69,DatLivF,0),MATCH(total!C$2,fourbi!$B$1:$M$1,0)),0) -> 0 | D69: =IFERROR(OFFSET(fourbi!$A$1,MATCH(total!$A69,DatLivF,0),MATCH(total!D$2,fourbi!$B$1:$M$1,0)),0) -> 0 | E69: =IFERROR(OFFSET(fourbi!$A$1,MATCH(total!$A69,DatLivF,0),MATCH(total!E$2,fourbi!$B$1:$M$1,0)),0) -> 0 | F69: =IFERROR(OFFSET(caleche!$A$1,MATCH(total!$A69,DatLivCal,0),MATCH(total!F$2,caleche!$B$1:$M$1,0)),0) -> 0 | G69: =IFERROR(OFFSET(caleche!$A$1,MATCH(total!$A69,DatLivCal,0),MATCH(total!G$2,caleche!$B$1:$M$1,0)),0) -> 0 | H69: =IFERROR(OFFSET(equitation!$A$1,MATCH(total!$A69,DatLivEq,0),MATCH(total!H$2,equitation!$B$1:$M$1,0)),0) -> 0 | I69: =IFERROR(OFFSET(equitation!$A$1,MATCH(total!$A69,DatLivEq,0),MATCH(total!I$2,equitation!$B$1:$M$1,0)),0) -> 0 | J69: =IFERROR(OFFSET(equitation!$A$1,MATCH(total!$A69,DatLivEq,0),MATCH(total!J$2,equitation!$B$1:$M$1,0)),0) -> 0 | K69: =IFERROR(OFFSET(ceinture!$A$1,MATCH(total!$A69,Datlivceint,0),MATCH(total!K$2,ceinture!$B$1:$L$1,0)),0) -> 0 | L69: =IFERROR(OFFSET('sac-diamant'!$A$1,MATCH(total!$A69,DatLivDiam,0),MATCH(total!L$2,'sac-diamant'!$B$1:$L$1,0)),0) -> 0
A70: 41705 | B70: =IFERROR(OFFSET(fourbi!$A$1,MATCH(total!$A70,DatLivF,0),MATCH(total!B$2,fourbi!$B$1:$M$1,0)),0) -> 0 | C70: =IFERROR(OFFSET(fourbi!$A$1,MATCH(total!$A70,DatLivF,0),MATCH(total!C$2,fourbi!$B$1:$M$1,0)),0) -> 0 | D70: =IFERROR(OFFSET(fourbi!$A$1,MATCH(total!$A70,DatLivF,0),MATCH(total!D$2,fourbi!$B$1:$M$1,0)),0) -> 0 | E70: =IFERROR(OFFSET(fourbi!$A$1,MATCH(total!$A70,DatLivF,0),MATCH(total!E$2,fourbi!$B$1:$M$1,0)),0) -> 0 | F70: =IFERROR(OFFSET(caleche!$A$1,MATCH(total!$A70,DatLivCal,0),MATCH(total!F$2,caleche!$B$1:$M$1,0)),0) -> 0 | G70: =IFERROR(OFFSET(caleche!$A$1,MATCH(total!$A70,DatLivCal,0),MATCH(total!G$2,caleche!$B$1:$M$1,0)),0) -> 0 | H70: =IFERROR(OFFSET(equitation!$A$1,MATCH(total!$A70,DatLivEq,0),MATCH(total!H$2,equitation!$B$1:$M$1,0)),0) -> 0 | I70: =IFERROR(OFFSET(equitation!$A$1,MATCH(total!$A70,DatLivEq,0),MATCH(total!I$2,equitation!$B$1:$M$1,0)),0) -> 0 | J70: =IFERROR(OFFSET(equitation!$A$1,MATCH(total!$A70,DatLivEq,0),MATCH(total!J$2,equitation!$B$1:$M$1,0)),0) -> 0 | K70: =IFERROR(OFFSET(ceinture!$A$1,MATCH(total!$A70,Datlivceint,0),MATCH(total!K$2,ceinture!$B$1:$L$1,0)),0) -> 0 | L70: =IFERROR(OFFSET('sac-diamant'!$A$1,MATCH(total!$A70,DatLivDiam,0),MATCH(total!L$2,'sac-diamant'!$B$1:$L$1,0)),0) -> 0
A71: 41706 | B71: =IFERROR(OFFSET(fourbi!$A$1,MATCH(total!$A71,DatLivF,0),MATCH(total!B$2,fourbi!$B$1:$M$1,0)),0) -> 0 | C71: =IFERROR(OFFSET(fourbi!$A$1,MATCH(total!$A71,DatLivF,0),MATCH(total!C$2,fourbi!$B$1:$M$1,0)),0) -> 0 | D71: =IFERROR(OFFSET(fourbi!$A$1,MATCH(total!$A71,DatLivF,0),MATCH(total!D$2,fourbi!$B$1:$M$1,0)),0) -> 0 | E71: =IFERROR(OFFSET(fourbi!$A$1,MATCH(total!$A71,DatLivF,0),MATCH(total!E$2,fourbi!$B$1:$M$1,0)),0) -> 0 | F71: =IFERROR(OFFSET(caleche!$A$1,MATCH(total!$A71,DatLivCal,0),MATCH(total!F$2,caleche!$B$1:$M$1,0)),0) -> 0 | G71: =IFERROR(OFFSET(caleche!$A$1,MATCH(total!$A71,DatLivCal,0),MATCH(total!G$2,caleche!$B$1:$M$1,0)),0) -> 0 | H71: =IFERROR(OFFSET(equitation!$A$1,MATCH(total!$A71,DatLivEq,0),MATCH(total!H$2,equitation!$B$1:$M$1,0)),0) -> 0 | I71: =IFERROR(OFFSET(equitation!$A$1,MATCH(total!$A71,DatLivEq,0),MATCH(total!I$2,equitation!$B$1:$M$1,0)),0) -> 0 | J71: =IFERROR(OFFSET(equitation!$A$1,MATCH(total!$A71,DatLivEq,0),MATCH(total!J$2,equitation!$B$1:$M$1,0)),0) -> 0 | K71: =IFERROR(OFFSET(ceinture!$A$1,MATCH(total!$A71,Datlivceint,0),MATCH(total!K$2,ceinture!$B$1:$L$1,0)),0) -> 0 | L71: =IFERROR(OFFSET('sac-diamant'!$A$1,MATCH(total!$A71,DatLivDiam,0),MATCH(total!L$2,'sac-diamant'!$B$1:$L$1,0)),0) -> 0
A72: 41707 | B72: =IFERROR(OFFSET(fourbi!$A$1,MATCH(total!$A72,DatLivF,0),MATCH(total!B$2,fourbi!$B$1:$M$1,0)),0) -> 0 | C72: =IFERROR(OFFSET(fourbi!$A$1,MATCH(total!$A72,DatLivF,0),MATCH(total!C$2,fourbi!$B$1:$M$1,0)),0) -> 0 | D72: =IFERROR(OFFSET(fourbi!$A$1,MATCH(total!$A72,DatLivF,0),MATCH(total!D$2,fourbi!$B$1:$M$1,0)),0) -> 0 | E72: =IFERROR(OFFSET(fourbi!$A$1,MATCH(total!$A72,DatLivF,0),MATCH(total!E$2,fourbi!$B$1:$M$1,0)),0) -> 0 | F72: =IFERROR(OFFSET(caleche!$A$1,MATCH(total!$A72,DatLivCal,0),MATCH(total!F$2,caleche!$B$1:$M$1,0)),0) -> 0 | G72: =IFERROR(OFFSET(caleche!$A$1,MATCH(total!$A72,DatLivCal,0),MATCH(total!G$2,caleche!$B$1:$M$1,0)),0) -> 0 | H72: =IFERROR(OFFSET(equitation!$A$1,MATCH(total!$A72,DatLivEq,0),MATCH(total!H$2,equitation!$B$1:$M$1,0)),0) -> 0 | I72: =IFERROR(OFFSET(equitation!$A$1,MATCH(total!$A72,DatLivEq,0),MATCH(total!I$2,equitation!$B$1:$M$1,0)),0) -> 0 | J72: =IFERROR(OFFSET(equitation!$A$1,MATCH(total!$A72,DatLivEq,0),MATCH(total!J$2,equitation!$B$1:$M$1,0)),0) -> 0 | K72: =IFERROR(OFFSET(ceinture!$A$1,MATCH(total!$A72,Datlivceint,0),MATCH(total!K$2,ceinture!$B$1:$L$1,0)),0) -> 0 | L72: =IFERROR(OFFSET('sac-diamant'!$A$1,MATCH(total!$A72,DatLivDiam,0),MATCH(total!L$2,'sac-diamant'!$B$1:$L$1,0)),0) -> 0
A73: 41708 | B73: =IFERROR(OFFSET(fourbi!$A$1,MATCH(total!$A73,DatLivF,0),MATCH(total!B$2,fourbi!$B$1:$M$1,0)),0) -> 0 | C73: =IFERROR(OFFSET(fourbi!$A$1,MATCH(total!$A73,DatLivF,0),MATCH(total!C$2,fourbi!$B$1:$M$1,0)),0) -> 0 | D73: =IFERROR(OFFSET(fourbi!$A$1,MATCH(total!$A73,DatLivF,0),MATCH(total!D$2,fourbi!$B$1:$M$1,0)),0) -> 1 | E73: =IFERROR(OFFSET(fourbi!$A$1,MATCH(total!$A73,DatLivF,0),MATCH(total!E$2,fourbi!$B$1:$M$1,0)),0) -> 2 | F73: =IFERROR(OFFSET(caleche!$A$1,MATCH(total!$A73,DatLivCal,0),MATCH(total!F$2,caleche!$B$1:$M$1,0)),0) -> 0 | G73: =IFERROR(OFFSET(caleche!$A$1,MATCH(total!$A73,DatLivCal,0),MATCH(total!G$2,caleche!$B$1:$M$1,0)),0) -> 0 | H73: =IFERROR(OFFSET(equitation!$A$1,MATCH(total!$A73,DatLivEq,0),MATCH(total!H$2,equitation!$B$1:$M$1,0)),0) -> 0 | I73: =IFERROR(OFFSET(equitation!$A$1,MATCH(total!$A73,DatLivEq,0),MATCH(total!I$2,equitation!$B$1:$M$1,0)),0) -> 0 | J73: =IFERROR(OFFSET(equitation!$A$1,MATCH(total!$A73,DatLivEq,0),MATCH(total!J$2,equitation!$B$1:$M$1,0)),0) -> 0 | K73: =IFERROR(OFFSET(ceinture!$A$1,MATCH(total!$A73,Datlivceint,0),MATCH(total!K$2,ceinture!$B$1:$L$1,0)),0) -> 0 | L73: =IFERROR(OFFSET('sac-diamant'!$A$1,MATCH(total!$A73,DatLivDiam,0),MATCH(total!L$2,'sac-diamant'!$B$1:$L$1,0)),0) -> 0
A74: 41709 | B74: =IFERROR(OFFSET(fourbi!$A$1,MATCH(total!$A74,DatLivF,0),MATCH(total!B$2,fourbi!$B$1:$M$1,0)),0) -> 0 | C74: =IFERROR(OFFSET(fourbi!$A$1,MATCH(total!$A74,DatLivF,0),MATCH(total!C$2,fourbi!$B$1:$M$1,0)),0) -> 0 | D74: =IFERROR(OFFSET(fourbi!$A$1,MATCH(total!$A74,DatLivF,0),MATCH(total!D$2,fourbi!$B$1:$M$1,0)),0) -> 0 | E74: =IFERROR(OFFSET(fourbi!$A$1,MATCH(total!$A74,DatLivF,0),MATCH(total!E$2,fourbi!$B$1:$M$1,0)),0) -> 0 | F74: =IFERROR(OFFSET(caleche!$A$1,MATCH(total!$A74,DatLivCal,0),MATCH(total!F$2,caleche!$B$1:$M$1,0)),0) -> 0 | G74: =IFERROR(OFFSET(caleche!$A$1,MATCH(total!$A74,DatLivCal,0),MATCH(total!G$2,caleche!$B$1:$M$1,0)),0) -> 0 | H74: =IFERROR(OFFSET(equitation!$A$1,MATCH(total!$A74,DatLivEq,0),MATCH(total!H$2,equitation!$B$1:$M$1,0)),0) -> 0 | I74: =IFERROR(OFFSET(equitation!$A$1,MATCH(total!$A74,DatLivEq,0),MATCH(total!I$2,equitation!$B$1:$M$1,0)),0) -> 0 | J74: =IFERROR(OFFSET(equitation!$A$1,MATCH(total!$A74,DatLivEq,0),MATCH(total!J$2,equitation!$B$1:$M$1,0)),0) -> 0 | K74: =IFERROR(OFFSET(ceinture!$A$1,MATCH(total!$A74,Datlivceint,0),MATCH(total!K$2,ceinture!$B$1:$L$1,0)),0) -> 0 | L74: =IFERROR(OFFSET('sac-diamant'!$A$1,MATCH(total!$A74,DatLivDiam,0),MATCH(total!L$2,'sac-diamant'!$B$1:$L$1,0)),0) -> 0
...
