Workbook
Name f_ville: OFFSET(p_ville,0,0,COUNTA(l_ville),1)
Name l_ville: ALPHA!$J:$J
Name p_ville: ALPHA!$J$1

Sheet RECETTES
B1: 2 LINGOTS AUX NOIX DE SAINT-JACQUES | C1: 2 Tartares saumon | D1: 45 mini brochettes | E1: 6 mini tartares
A2: Agrafeuse
A3: Batteur VMI | B3: 1 | E3: 1
A4: Batteurs 5 | B4: 1
A5: Broyeur
A6: Cellule à azote
A7: Cloches 4
A8: Convoyeurs flow 2
A9: Convoyeurs sans nom
A10: Convoyeurs Séria | C10: 3 | E10: 2
A11: Convoyeur vert
A12: Coupe saucisse
A13: Cutters 3 | B13: 1 | E13: 1
A14: Datteur 3
A15: Détecteur 3
A16: Doseuse 1
A17: Doseuse 2
A18: Doseuse 3

Sheet ALPHA
B1: 2 Tartares saumon | C1: 2 Tartares saumon | D1: 6 mini tartares | E1: 2 LINGOTS AUX NOIX DE SAINT-JACQUES | J1: 2 LINGOTS AUX NOIX DE SAINT-JACQUES | N1: 4216
A2: Agrafeuse | B2: =IFERROR(VLOOKUP(ALPHA!$A2,RECETTES!$A$2:$XX$494,MATCH(ALPHA!B$1,RECETTES!$B$1:$XX$1,0)+1,FALSE),"") -> 0 | C2: =IFERROR(VLOOKUP(ALPHA!$A2,RECETTES!$A$2:$XX$494,MATCH(ALPHA!C$1,RECETTES!$B$1:$XX$1,0)+1,FALSE),"") -> 0 | D2: =IFERROR(VLOOKUP(ALPHA!$A2,RECETTES!$A$2:$XX$494,MATCH(ALPHA!D$1,RECETTES!$B$1:$XX$1,0)+1,FALSE),"") -> 0 | E2: =IFERROR(VLOOKUP(ALPHA!$A2,RECETTES!$A$2:$XX$494,MATCH(ALPHA!E$1,RECETTES!$B$1:$XX$1,0)+1,FALSE),"") -> 0 | J2: 2 Tartares saumon | N2: 1843
A3: Batteur VMI | B3: =IFERROR(VLOOKUP(ALPHA!$A3,RECETTES!$A$2:$XX$494,MATCH(ALPHA!B$1,RECETTES!$B$1:$XX$1,0)+1,FALSE),"") -> 0 | C3: =IFERROR(VLOOKUP(ALPHA!$A3,RECETTES!$A$2:$XX$494,MATCH(ALPHA!C$1,RECETTES!$B$1:$XX$1,0)+1,FALSE),"") -> 0 | D3: =IFERROR(VLOOKUP(ALPHA!$A3,RECETTES!$A$2:$XX$494,MATCH(ALPHA!D$1,RECETTES!$B$1:$XX$1,0)+1,FALSE),"") -> 1 | E3: =IFERROR(VLOOKUP(ALPHA!$A3,RECETTES!$A$2:$XX$494,MATCH(ALPHA!E$1,RECETTES!$B$1:$XX$1,0)+1,FALSE),"") -> 1 | J3: 6 mini tartares | N3: 2523
A4: Batteurs 5 | B4: =IFERROR(VLOOKUP(ALPHA!$A4,RECETTES!$A$2:$XX$494,MATCH(ALPHA!B$1,RECETTES!$B$1:$XX$1,0)+1,FALSE),"") -> 0 | C4: =IFERROR(VLOOKUP(ALPHA!$A4,RECETTES!$A$2:$XX$494,MATCH(ALPHA!C$1,RECETTES!$B$1:$XX$1,0)+1,FALSE),"") -> 0 | D4: =IFERROR(VLOOKUP(ALPHA!$A4,RECETTES!$A$2:$XX$494,MATCH(ALPHA!D$1,RECETTES!$B$1:$XX$1,0)+1,FALSE),"") -> 0 | E4: =IFERROR(VLOOKUP(ALPHA!$A4,RECETTES!$A$2:$XX$494,MATCH(ALPHA!E$1,RECETTES!$B$1:$XX$1,0)+1,FALSE),"") -> 1 | J4: 8 bulles cocktail | N4: 4031
A5: Broyeur | B5: =IFERROR(VLOOKUP(ALPHA!$A5,RECETTES!$A$2:$XX$494,MATCH(ALPHA!B$1,RECETTES!$B$1:$XX$1,0)+1,FALSE),"") -> 0 | C5: =IFERROR(VLOOKUP(ALPHA!$A5,RECETTES!$A$2:$XX$494,MATCH(ALPHA!C$1,RECETTES!$B$1:$XX$1,0)+1,FALSE),"") -> 0 | D5: =IFERROR(VLOOKUP(ALPHA!$A5,RECETTES!$A$2:$XX$494,MATCH(ALPHA!D$1,RECETTES!$B$1:$XX$1,0)+1,FALSE),"") -> 0 | E5: =IFERROR(VLOOKUP(ALPHA!$A5,RECETTES!$A$2:$XX$494,MATCH(ALPHA!E$1,RECETTES!$B$1:$XX$1,0)+1,FALSE),"") -> 0
A6: Cellule à azote | B6: =IFERROR(VLOOKUP(ALPHA!$A6,RECETTES!$A$2:$XX$494,MATCH(ALPHA!B$1,RECETTES!$B$1:$XX$1,0)+1,FALSE),"") -> 0 | C6: =IFERROR(VLOOKUP(ALPHA!$A6,RECETTES!$A$2:$XX$494,MATCH(ALPHA!C$1,RECETTES!$B$1:$XX$1,0)+1,FALSE),"") -> 0 | D6: =IFERROR(VLOOKUP(ALPHA!$A6,RECETTES!$A$2:$XX$494,MATCH(ALPHA!D$1,RECETTES!$B$1:$XX$1,0)+1,FALSE),"") -> 0 | E6: =IFERROR(VLOOKUP(ALPHA!$A6,RECETTES!$A$2:$XX$494,MATCH(ALPHA!E$1,RECETTES!$B$1:$XX$1,0)+1,FALSE),"") -> 0
A7: Cloches 4 | B7: =IFERROR(VLOOKUP(ALPHA!$A7,RECETTES!$A$2:$XX$494,MATCH(ALPHA!B$1,RECETTES!$B$1:$XX$1,0)+1,FALSE),"") -> 0 | C7: =IFERROR(VLOOKUP(ALPHA!$A7,RECETTES!$A$2:$XX$494,MATCH(ALPHA!C$1,RECETTES!$B$1:$XX$1,0)+1,FALSE),"") -> 0 | D7: =IFERROR(VLOOKUP(ALPHA!$A7,RECETTES!$A$2:$XX$494,MATCH(ALPHA!D$1,RECETTES!$B$1:$XX$1,0)+1,FALSE),"") -> 0 | E7: =IFERROR(VLOOKUP(ALPHA!$A7,RECETTES!$A$2:$XX$494,MATCH(ALPHA!E$1,RECETTES!$B$1:$XX$1,0)+1,FALSE),"") -> 0
A8: Convoyeurs flow 2 | B8: =IFERROR(VLOOKUP(ALPHA!$A8,RECETTES!$A$2:$XX$494,MATCH(ALPHA!B$1,RECETTES!$B$1:$XX$1,0)+1,FALSE),"") -> 0 | C8: =IFERROR(VLOOKUP(ALPHA!$A8,RECETTES!$A$2:$XX$494,MATCH(ALPHA!C$1,RECETTES!$B$1:$XX$1,0)+1,FALSE),"") -> 0 | D8: =IFERROR(VLOOKUP(ALPHA!$A8,RECETTES!$A$2:$XX$494,MATCH(ALPHA!D$1,RECETTES!$B$1:$XX$1,0)+1,FALSE),"") -> 0 | E8: =IFERROR(VLOOKUP(ALPHA!$A8,RECETTES!$A$2:$XX$494,MATCH(ALPHA!E$1,RECETTES!$B$1:$XX$1,0)+1,FALSE),"") -> 0
A9: Convoyeurs sans nom | B9: =IFERROR(VLOOKUP(ALPHA!$A9,RECETTES!$A$2:$XX$494,MATCH(ALPHA!B$1,RECETTES!$B$1:$XX$1,0)+1,FALSE),"") -> 0 | C9: =IFERROR(VLOOKUP(ALPHA!$A9,RECETTES!$A$2:$XX$494,MATCH(ALPHA!C$1,RECETTES!$B$1:$XX$1,0)+1,FALSE),"") -> 0 | D9: =IFERROR(VLOOKUP(ALPHA!$A9,RECETTES!$A$2:$XX$494,MATCH(ALPHA!D$1,RECETTES!$B$1:$XX$1,0)+1,FALSE),"") -> 0 | E9: =IFERROR(VLOOKUP(ALPHA!$A9,RECETTES!$A$2:$XX$494,MATCH(ALPHA!E$1,RECETTES!$B$1:$XX$1,0)+1,FALSE),"") -> 0
A10: Convoyeurs Séria | B10: =IFERROR(VLOOKUP(ALPHA!$A10,RECETTES!$A$2:$XX$494,MATCH(ALPHA!B$1,RECETTES!$B$1:$XX$1,0)+1,FALSE),"") -> 3 | C10: =IFERROR(VLOOKUP(ALPHA!$A10,RECETTES!$A$2:$XX$494,MATCH(ALPHA!C$1,RECETTES!$B$1:$XX$1,0)+1,FALSE),"") -> 3 | D10: =IFERROR(VLOOKUP(ALPHA!$A10,RECETTES!$A$2:$XX$494,MATCH(ALPHA!D$1,RECETTES!$B$1:$XX$1,0)+1,FALSE),"") -> 2 | E10: =IFERROR(VLOOKUP(ALPHA!$A10,RECETTES!$A$2:$XX$494,MATCH(ALPHA!E$1,RECETTES!$B$1:$XX$1,0)+1,FALSE),"") -> 0
A11: Convoyeur vert | B11: =IFERROR(VLOOKUP(ALPHA!$A11,RECETTES!$A$2:$XX$494,MATCH(ALPHA!B$1,RECETTES!$B$1:$XX$1,0)+1,FALSE),"") -> 0 | C11: =IFERROR(VLOOKUP(ALPHA!$A11,RECETTES!$A$2:$XX$494,MATCH(ALPHA!C$1,RECETTES!$B$1:$XX$1,0)+1,FALSE),"") -> 0 | D11: =IFERROR(VLOOKUP(ALPHA!$A11,RECETTES!$A$2:$XX$494,MATCH(ALPHA!D$1,RECETTES!$B$1:$XX$1,0)+1,FALSE),"") -> 0 | E11: =IFERROR(VLOOKUP(ALPHA!$A11,RECETTES!$A$2:$XX$494,MATCH(ALPHA!E$1,RECETTES!$B$1:$XX$1,0)+1,FALSE),"") -> 0
A12: Coupe saucisse | B12: =IFERROR(VLOOKUP(ALPHA!$A12,RECETTES!$A$2:$XX$494,MATCH(ALPHA!B$1,RECETTES!$B$1:$XX$1,0)+1,FALSE),"") -> 0 | C12: =IFERROR(VLOOKUP(ALPHA!$A12,RECETTES!$A$2:$XX$494,MATCH(ALPHA!C$1,RECETTES!$B$1:$XX$1,0)+1,FALSE),"") -> 0 | D12: =IFERROR(VLOOKUP(ALPHA!$A12,RECETTES!$A$2:$XX$494,MATCH(ALPHA!D$1,RECETTES!$B$1:$XX$1,0)+1,FALSE),"") -> 0 | E12: =IFERROR(VLOOKUP(ALPHA!$A12,RECETTES!$A$2:$XX$494,MATCH(ALPHA!E$1,RECETTES!$B$1:$XX$1,0)+1,FALSE),"") -> 0
A13: Cutters 3 | B13: =IFERROR(VLOOKUP(ALPHA!$A13,RECETTES!$A$2:$XX$494,MATCH(ALPHA!B$1,RECETTES!$B$1:$XX$1,0)+1,FALSE),"") -> 0 | C13: =IFERROR(VLOOKUP(ALPHA!$A13,RECETTES!$A$2:$XX$494,MATCH(ALPHA!C$1,RECETTES!$B$1:$XX$1,0)+1,FALSE),"") -> 0 | D13: =IFERROR(VLOOKUP(ALPHA!$A13,RECETTES!$A$2:$XX$494,MATCH(ALPHA!D$1,RECETTES!$B$1:$XX$1,0)+1,FALSE),"") -> 1 | E13: =IFERROR(VLOOKUP(ALPHA!$A13,RECETTES!$A$2:$XX$494,MATCH(ALPHA!E$1,RECETTES!$B$1:$XX$1,0)+1,FALSE),"") -> 1
A14: Datteur 3 | B14: =IFERROR(VLOOKUP(ALPHA!$A14,RECETTES!$A$2:$XX$494,MATCH(ALPHA!B$1,RECETTES!$B$1:$XX$1,0)+1,FALSE),"") -> 0 | C14: =IFERROR(VLOOKUP(ALPHA!$A14,RECETTES!$A$2:$XX$494,MATCH(ALPHA!C$1,RECETTES!$B$1:$XX$1,0)+1,FALSE),"") -> 0 | D14: =IFERROR(VLOOKUP(ALPHA!$A14,RECETTES!$A$2:$XX$494,MATCH(ALPHA!D$1,RECETTES!$B$1:$XX$1,0)+1,FALSE),"") -> 0 | E14: =IFERROR(VLOOKUP(ALPHA!$A14,RECETTES!$A$2:$XX$494,MATCH(ALPHA!E$1,RECETTES!$B$1:$XX$1,0)+1,FALSE),"") -> 0
A15: Détecteur 3 | B15: =IFERROR(VLOOKUP(ALPHA!$A15,RECETTES!$A$2:$XX$494,MATCH(ALPHA!B$1,RECETTES!$B$1:$XX$1,0)+1,FALSE),"") -> 0 | C15: =IFERROR(VLOOKUP(ALPHA!$A15,RECETTES!$A$2:$XX$494,MATCH(ALPHA!C$1,RECETTES!$B$1:$XX$1,0)+1,FALSE),"") -> 0 | D15: =IFERROR(VLOOKUP(ALPHA!$A15,RECETTES!$A$2:$XX$494,MATCH(ALPHA!D$1,RECETTES!$B$1:$XX$1,0)+1,FALSE),"") -> 0 | E15: =IFERROR(VLOOKUP(ALPHA!$A15,RECETTES!$A$2:$XX$494,MATCH(ALPHA!E$1,RECETTES!$B$1:$XX$1,0)+1,FALSE),"") -> 0
A16: Doseuse 1 | B16: =IFERROR(VLOOKUP(ALPHA!$A16,RECETTES!$A$2:$XX$494,MATCH(ALPHA!B$1,RECETTES!$B$1:$XX$1,0)+1,FALSE),"") -> 0 | C16: =IFERROR(VLOOKUP(ALPHA!$A16,RECETTES!$A$2:$XX$494,MATCH(ALPHA!C$1,RECETTES!$B$1:$XX$1,0)+1,FALSE),"") -> 0 | D16: =IFERROR(VLOOKUP(ALPHA!$A16,RECETTES!$A$2:$XX$494,MATCH(ALPHA!D$1,RECETTES!$B$1:$XX$1,0)+1,FALSE),"") -> 0 | E16: =IFERROR(VLOOKUP(ALPHA!$A16,RECETTES!$A$2:$XX$494,MATCH(ALPHA!E$1,RECETTES!$B$1:$XX$1,0)+1,FALSE),"") -> 0
... A18: Doseuse 3 | B18: =IFERROR(VLOOKUP(ALPHA!$A18,RECETTES!$A$2:$XX$494,MATCH(ALPHA!B$1,RECETTES!$B$1:$XX$1,0)+1,FALSE),"") -> 0 | C18: =IFERROR(VLOOKUP(ALPHA!$A18,RECETTES!$A$2:$XX$494,MATCH(ALPHA!C$1,RECETTES!$B$1:$XX$1,0)+1,FALSE),"") -> 0 | D18: =IFERROR(VLOOKUP(ALPHA!$A18,RECETTES!$A$2:$XX$494,MATCH(ALPHA!D$1,RECETTES!$B$1:$XX$1,0)+1,FALSE),"") -> 0 | E18: =IFERROR(VLOOKUP(ALPHA!$A18,RECETTES!$A$2:$XX$494,MATCH(ALPHA!E$1,RECETTES!$B$1:$XX$1,0)+1,FALSE),"") -> 0
