Workbook
Name _171_Cmd: 'cat pranarom'!$AG$7:$AG$154
Name _171_Lvr: 'cat pranarom'!$AH$7:$AH$154
Name _171_MFAB: 'cat pranarom'!$AJ$7:$AJ$154
Name _171_NSFP: 'cat pranarom'!$AK$7:$AK$154
Name _171_SI: 'cat pranarom'!$AL$7:$AL$154
Name _171_Tel: 'cat pranarom'!$AF$7:$AF$154
Name _171_Terminal: 'cat pranarom'!$AI$7:$AI$154
Name _171_Type_Cmd_Suppl: 'cat pranarom'!$AM$7:$AM$154
Name CIP: 'cat pranarom'!$B$7:$B$154
Name CodArt: 'VRAC HECT'!$I$7:$I$308
Name Code_Acte: 'cat pranarom'!$O$7:$O$154
Name Code_Labo: 'cat pranarom'!$T$7:$T$154
Name cola: 'VRAC HECT'!$A$7:$A$308
Name colasup: 'cat pranarom'!$J$7:$J$154
Name colasup2: 'cat pranarom'!$M$7:$M$154
Name colb: 'VRAC HECT'!$B$7:$B$308
Name Colisage: 'cat pranarom'!$R$7:$R$154
Name Commentaire: 'cat pranarom'!$A$7:$A$154
Name Constituants_principaux: 'VRAC HECT'!$G$7:$G$308
Name EAN: 'VRAC HECT'!$J$7:$J$308
Name EAN13_: 'cat pranarom'!$C$7:$C$154
Name EAN13_2: 'cat pranarom'!$D$7:$D$154
Name EAN13_3: 'cat pranarom'!$E$7:$E$154
Name Fou_DelaiReappro: 'cat pranarom'!$AD$7:$AD$154
Name Fou_Email: 'cat pranarom'!$AB$7:$AB$154
Name Fou_Fax: 'cat pranarom'!$AA$7:$AA$154
Name Fou_Type: 'cat pranarom'!$AE$7:$AE$154
Name Fou_Web: 'cat pranarom'!$AC$7:$AC$154
Name Gabarit: 'cat pranarom'!$AV$7:$AV$154
Name Labo: 'cat pranarom'!$U$7:$U$154
Name Labo_Adr1: 'cat pranarom'!$V$7:$V$154
Name Labo_Adr2: 'cat pranarom'!$W$7:$W$154
Name Labo_CP: 'cat pranarom'!$X$7:$X$154
Name Labo_Tel: 'cat pranarom'!$Z$7:$Z$154
Name Labo_Ville: 'cat pranarom'!$Y$7:$Y$154
Name Libellé: 'cat pranarom'!$F$7:$F$154
Name Liste: 'cat pranarom'!$Q$7:$Q$154
Name Nom_français: 'VRAC HECT'!$D$7:$D$308
Name Nom_latin: 'VRAC HECT'!$C$7:$C$308
Name Origine: 'VRAC HECT'!$E$7:$E$308
Name Partie_distillée: 'VRAC HECT'!$F$7:$F$308
Name PML_CodeCle: 'cat pranarom'!$AR$7:$AR$154
Name PML_CodeRep: 'cat pranarom'!$AP$7:$AP$154
Name PML_IDRep: 'cat pranarom'!$AQ$7:$AQ$154
Name PML_URL: 'cat pranarom'!$AN$7:$AN$154
Name PML_URLAux: 'cat pranarom'!$AO$7:$AO$154
Name Prix_A_HT: 'cat pranarom'!$I$7:$I$154
Name Prix_Base: 'cat pranarom'!$P$7:$P$154
Name PUHT: 'VRAC HECT'!$M$7:$M$308
Name QteMin: 'cat pranarom'!$AS$7:$AS$154
Name QteMin2: 'cat pranarom'!$AT$7:$AT$154
Name Referencement: 'cat pranarom'!$H$7:$H$154
Name Remise2: 'cat pranarom'!$K$7:$K$154
Name Remise3: 'cat pranarom'!$L$7:$L$154
Name RemQte2: 'cat pranarom'!$AU$7:$AU$154
Name TVA: 'cat pranarom'!$G$7:$G$154
Name TVA: 'VRAC HECT'!$K$7:$K$308
Name UniteCmd: 'cat pranarom'!$S$7:$S$154
Name UVENT: 'VRAC HECT'!$L$7:$L$308
Name Vignette: 'cat pranarom'!$N$7:$N$154

Sheet synth
A2: Vrac HECT
A4: EAN | B4: PU | C4: TVA | D4: etc
A5: 5420008500022 | B5: =prana!I6=IFERROR(OFFSET('VRAC HECT'!$J$6,MATCH(prana!$A5,EAN,0),3),"CodAbs") -> FALSE | C5: =IFERROR(OFFSET('VRAC HECT'!$J$6,MATCH(synth!$A5,EAN,0),1),"CodAbs") -> 5.5 | D5: changer le nb de colonnes à décaler dans cette partie de la formule EQUIV(synth!$A5;EAN;0);1)
A6: 5420008500015 | B6: =IFERROR(OFFSET('VRAC HECT'!$J$6,MATCH(prana!$A6,EAN,0),3),"CodAbs") -> CodAbs | C6: =IFERROR(OFFSET('VRAC HECT'!$J$6,MATCH(synth!$A6,EAN,0),1),"CodAbs") -> 5.5
A7: 5420008500060 | B7: =IFERROR(OFFSET('VRAC HECT'!$J$6,MATCH(synth!$A7,EAN,0),3),"CodAbs") -> 32.14 | C7: =IFERROR(OFFSET('VRAC HECT'!$J$6,MATCH(synth!$A7,EAN,0),1),"CodAbs") -> 5.5
A8: 5420008523113 | B8: =IFERROR(OFFSET('VRAC HECT'!$J$6,MATCH(synth!$A8,EAN,0),3),"CodAbs") -> 3.41 | C8: =IFERROR(OFFSET('VRAC HECT'!$J$6,MATCH(synth!$A8,EAN,0),1),"CodAbs") -> 5.5
A9: 5420008508622 | B9: =IFERROR(OFFSET('VRAC HECT'!$J$6,MATCH(synth!$A9,EAN,0),3),"CodAbs") -> 11.76 | C9: =IFERROR(OFFSET('VRAC HECT'!$J$6,MATCH(synth!$A9,EAN,0),1),"CodAbs") -> 5.5
A10: 5420008590788 | B10: =IFERROR(OFFSET('VRAC HECT'!$J$6,MATCH(synth!$A10,EAN,0),3),"CodAbs") -> 23.22 | C10: =IFERROR(OFFSET('VRAC HECT'!$J$6,MATCH(synth!$A10,EAN,0),1),"CodAbs") -> 20
A11: 1254786 | B11: =IFERROR(OFFSET('VRAC HECT'!$J$6,MATCH(synth!$A11,EAN,0),3),"CodAbs") -> CodAbs | C11: =IFERROR(OFFSET('VRAC HECT'!$J$6,MATCH(synth!$A11,EAN,0),1),"CodAbs") -> CodAbs
A13: Pnanarom
A15: le code ean ne marche pas, il n'est pas unique dans les colonnes indiquées
A16: Si tu as le code CIP dans ton appli extraire ce code et faire la meme formule
A18: code cip | B18: pht | C18: Tva | D18: etc…..
A19: 1829047905 | B19: =IFERROR(OFFSET('cat pranarom'!$B$6,MATCH(synth!$A19,CIP,0),7),"CodAbs") -> 3.71 | C19: =IFERROR(OFFSET('cat pranarom'!$B$6,MATCH(synth!$A19,CIP,0),5),"CodAbs") -> 0.055
A20: 4843735
A21: 5179570
A22: 5421812

Sheet VRAC HECT
C2: 1) rendre les entetes uniques pour le classeur
C3: 2) remplacer els espcaes par des _ dans les entetes
C4: 3)Sélectionner le tableau( CTRL A vérfier que tout est bien sélectionné pas de ligne ou de colonne vide dans le tableau) et nommer les colonnes, barre formule-Depuis selection Ligne du haut
A6: cola | B6: colb | C6: Nom_latin | D6: Nom_français | E6: Origine | F6: Partie_distillée | G6: Constituants_principaux | H6: Volume | I6: CodArt | J6: EAN | K6: TVA | L6: UVENT | M6: PUHT
C7: Abies alba | D7: Sapin argenté (Sapin blanc) | E7: Balkans | F7: aiguille | G7: α- & β-pinène, limonène, camphène | H7: 10 ml | I7: 2 | J7: 5420008500022 | K7: 5.5 | L7: 3 | M7: 3.93 | N7: =K7 / 100 -> 0.055
C8: Abies balsamea | D8: Sapin baumier (Sapin balsamier) | E8: Canada | F8: aiguille | G8: β-pinène, α-pinène, δ-3-carène, acétate de bornyle, limonène | H8: 10 ml | I8: 1 | J8: 5420008500015 | K8: 5.5 | L8: 1 | M8: 3.78 | N8: =K8 / 100 -> 0.055
C9: Abies balsamea | D9: Sapin baumier (Sapin balsamier) | E9: Canada | F9: aiguille | G9: β-pinène, α-pinène, δ-3-carène, acétate de bornyle, limonène | H9: 100 ml | I9: 6 | J9: 5420008500060 | K9: 5.5 | L9: 1 | M9: 32.14 | N9: =K9 / 100 -> 0.055
C10: Abies sibirica | D10: Sapin de Sibérie | E10: Sibérie | F10: aiguille | G10: α-pinène, acétate de bornyle, camphène, δ-3-carène | H10: 10 ml | I10: 2311 | J10: 5420008523113 | K10: 5.5 | L10: 1 | M10: 3.41 | N10: =K10 / 100 -> 0.055
C11: Achillea millefolium | D11: Millefeuille | E11: Balkans | F11: sommité fleurie | G11: Camphre,1,8 cinéole, chamazulène | H11: 5 ml | I11: 862 | J11: 5420008508622 | K11: 5.5 | L11: 1 | M11: 11.76 | N11: =K11 / 100 -> 0.055
C12: Allium sativum | D12: Ail | E12: Chine | F12: bulbe | G12: Diallyl trisulfure, diallyl disulfure | H12: 5 ml | I12: 23 | J12: 5420008500237 | K12: 5.5 | L12: 1 | M12: 4.08 | N12: =K12 / 100 -> 0.055
C13: Ammi visnaga | D13: Khella | E13: Maroc | F13: semence | G13: Linalol, esters | H13: 5 ml | I13: 27 | J13: 5420008500275 | K13: 5.5 | L13: 1 | M13: 15.98 | N13: =K13 / 100 -> 0.055
C14: Amyris balsamifera | D14: Santal des Indes | E14: Haïti | F14: bois | G14: Valérianol, eudesmol | H14: 10 ml | I14: 31 | J14: 5420008500312 | K14: 20 | L14: 1 | M14: 3.78 | N14: =K14 / 100 -> 0.2
C15: Anethum graveolens | D15: Aneth | E15: Hongrie / Ukraine | F15: fruit | G15: Limonène, carvone | H15: 10 ml | I15: 34 | J15: 5420008500343 | K15: 5.5 | L15: 1 | M15: 5.68 | N15: =K15 / 100 -> 0.055
C16: Angelica archangelica | D16: Angélique | E16: Slovénie / Belgique / France | F16: racine | G16: α-pinène, phéllandrène, δ-3-carène, limonène | H16: 5 ml | I16: 37 | J16: 5420008500374 | K16: 5.5 | L16: 1 | M16: 19.06 | N16: =K16 / 100 -> 0.055
C17: Apium graveolens var. dulce | D17: Céleri | E17: Inde | F17: semence | G17: Limonène, sélinène | H17: 10 ml | I17: 49 | J17: 5420008500497 | K17: 20 | L17: 1 | M17: 5.13 | N17: =K17 / 100 -> 0.2
C18: Artemisia dracunculus | D18: Estragon | E18: Hongrie / France | F18: sommité fleurie | G18: Chavicol M.E., β-ocimèn | H18: 5 ml | I18: 56 | J18: 5420008500565 | K18: 5.5 | L18: 3 | M18: 4.94 | N18: =K18 / 100 -> 0.055
... C20: Artemisia dracunculus | D20: Estragon | E20: Hongrie / France | F20: sommité fleurie | G20: Chavicol M.E., β-ocimèn | H20: 100 ml | I20: 59 | J20: 5420008500596 | K20: 5.5 | L20: 1 | M20: 84.05 | N20: =K20 / 100 -> 0.055
B21: PH | C21: Artemisia herba-alba | D21: Armoise blanche | E21: Maroc | F21: sommité fleurie | G21: Camphre, thuyones | H21: 10 ml | I21: 61 | J21: 5420008500619 | K21: 20 | L21: 1 | M21: 8.39 | N21: =K21 / 100 -> 0.2
C22: Boswellia carteri | D22: Encens (Oliban) | E22: Somalie | F22: oléorésine | G22: Limonène, α-pinène,β-myrcène, β-caryophyllène | H22: 5 ml | I22: 80 | J22: 5420008500800 | K22: 20 | L22: 3 | M22: 5.68 | N22: =K22 / 100 -> 0.2
C23: Boswellia carteri | D23: Encens (Oliban) | E23: Somalie | F23: oléorésine | G23: Limonène, α-pinène,β-myrcène, β-caryophyllène | H23: 30 ml | I23: 82 | J23: 5420008500824 | K23: 20 | L23: 1 | M23: 30.64 | N23: =K23 / 100 -> 0.2
A24: Bio | C24: Boswellia carteri | D24: Encens (Oliban) | E24: Somalie | F24: oléorésine | G24: Limonène, α-pinène | H24: 5 ml | I24: 84 | J24: 5420008513350 | K24: 20 | L24: 1 | M24: 6.41 | N24: =K24 / 100 -> 0.2
C25: Cananga odorata | D25: Ylang-ylang extra | E25: Madagascar / Comores | F25: fleur | G25: Germacrène D, acétate de benzyle, farnésène, benzoate de benzyle | H25: 5 ml | I25: 91 | J25: 5420008500916 | K25: 20 | L25: 3 | M25: 5.62 | N25: =K25 / 100 -> 0.2
C26: Cananga odorata | D26: Ylang-ylang extra | E26: Madagascar / Comores | F26: fleur | G26: Germacrène D, acétate de benzyle, farnésène, benzoate de benzyle | H26: 30 ml | I26: 93 | J26: 5420008500930 | K26: 20 | L26: 1 | M26: 30.36 | N26: =K26 / 100 -> 0.2
C27: Cananga odorata | D27: Ylang-ylang extra | E27: Madagascar / Comores | F27: fleur | G27: Germacrène D, acétate de benzyle, farnésène, benzoate de benzyle | H27: 100 ml | I27: 2210 | J27: 5420008522109 | K27: 20 | L27: 1 | M27: 95.6 | N27: =K27 / 100 -> 0.2
A28: Bio | C28: Cananga odorata | D28: Ylang-ylang totum | E28: Comores / Madagascar | F28: fleur | G28: Germacrène D, acétate de farnésyle, farnésène, benzoate de benzyle | H28: 5 ml | I28: 2429 | J28: 5420008524295 | K28: 20 | L28: 3 | M28: 6.28 | N28: =K28 / 100 -> 0.2
C29: Canarium luzonicum | D29: Elémi | E29: Philippines | F29: oléorésine | G29: Limonène, élémol, élémicine, α-phellandrène | H29: 10 ml | I29: 95 | J29: 5420008500954 | K29: 20 | L29: 1 | M29: 4 | N29: =K29 / 100 -> 0.2
C30: Carum carvi | D30: Carvi | E30: Hongrie / Hollande | F30: semence | G30: Limonène, carvone | H30: 10 ml | I30: 98 | J30: 5420008500985 | K30: 5.5 | L30: 1 | M30: 3.89 | N30: =K30 / 100 -> 0.055
A31: Bio | C31: Cedrelopsis grevei | D31: Katrafay | E31: Madagascar | F31: bois | G31: ishwarane, β-caryophyllène, α-copaène_x0000_ | H31: 10 ml | I31: 117 | J31: 5420008512513 | K31: 20 | L31: 1 | M31: 8.6 | N31: =K31 / 100 -> 0.2
A32: Bio | C32: Cedrelopsis grevei | D32: Katrafay | E32: Madagascar | F32: bois | G32: ishwarane, β-caryophyllène, α-copaène_x0000_ | H32: 30 ml | I32: 771 | J32: 5420008512698 | K32: 20 | L32: 1 | M32: 23.22 | N32: =K32 / 100 -> 0.2
C33: Cedrus atlantica | D33: Cèdre de l'Atlas | E33: Maroc | F33: bois | G33: Himachalènes, atlantones | H33: 10 ml | I33: 101 | J33: 5420008501012 | K33: 20 | L33: 1 | M33: 2.64 | N33: =K33 / 100 -> 0.2
C34: Cedrus atlantica | D34: Cèdre de l'Atlas | E34: Maroc | F34: bois | G34: Himachalènes, atlantones | H34: 100 ml | I34: 103 | J34: 5420008501036 | K34: 20 | L34: 1 | M34: 22.41 | N34: =K34 / 100 -> 0.2
A35: Bio | C35: Cedrus atlantica | D35: Cèdre de l’Atlas | E35: Maroc | F35: bois | G35: Himachalènes, atlantones | H35: 10 ml | I35: 4311 | J35: 5420008577673 | K35: 20 | L35: 1 | M35: 3.24 | N35: =K35 / 100 -> 0.2
C36: Cedrus deodara | D36: Cèdre de l'Himalaya | E36: Népal | F36: bois | G36: Himachalènes, atlantones, himachalol | H36: 10 ml | I36: 104 | J36: 5420008501043 | K36: 20 | L36: 1 | M36: 2.69 | N36: =K36 / 100 -> 0.2
A37: Bio | C37: Chamaemelum nobile | D37: Camomille noble | E37: France / Hongrie | F37: fleur | G37: Angélate d’isobutyle, angélate d’isoamyle | H37: 5 ml | I37: 7179 | J37: 5420008506758 | K37: 5.5 | L37: 1 | M37: 13.89 | N37: =K37 / 100 -> 0.055
C38: Chamaemelum nobile | D38: Camomille noble | E38: France | F38: fleur | G38: Angélate d’isobutyle, angélate d’isoamyle | H38: 5 ml | I38: 107 | J38: 5420008501074 | K38: 5.5 | L38: 3 | M38: 10.83 | N38: =K38 / 100 -> 0.055
C39: Chamaemelum nobile | D39: Camomille noble | E39: France | F39: fleur | G39: Angélate d’isobutyle, angélate d’isoamyle | H39: 30 ml | I39: 109 | J39: 5420008501098 | K39: 5.5 | L39: 1 | M39: 58.45 | N39: =K39 / 100 -> 0.055
C40: Chamaemelum nobile | D40: Camomille noble | E40: France | F40: fleur | G40: Angélate d’isobutyle, angélate d’isoamyle | H40: 100 ml | I40: 110 | J40: 5420008501104 | K40: 5.5 | L40: 1 | M40: 184.03 | N40: =K40 / 100 -> 0.055
A41: Bio | C41: Cinnamomum camphora ct cinéole | D41: Ravintsara | E41: Madagascar | F41: feuille | G41: Sabinène, 1,8 cinéole, α-terpinéol | H41: 10 ml | I41: 2440 | J41: 5420008524400 | K41: 5.5 | L41: 3 | M41: 6.82 | N41: =K41 / 100 -> 0.055
A42: Bio | C42: Cinnamomum camphora ct cinéole | D42: Ravintsara | E42: Madagascar | F42: feuille | G42: Sabinène, 1,8 cinéole, α-terpinéol | H42: 100 ml | I42: 3608 | J42: 5420008536083 | K42: 5.5 | L42: 1 | M42: 57.96 | N42: =K42 / 100 -> 0.055
C43: Cinnamomum camphora ct cinéole | D43: Ravintsara | E43: Madagascar | F43: feuille | G43: Sabinène, 1,8 cinéole, α-terpinéol | H43: 10 ml | I43: 545 | J43: 5420008505454 | K43: 5.5 | L43: 3 | M43: 6.62 | N43: =K43 / 100 -> 0.055
C44: Cinnamomum camphora ct cinéole | D44: Ravintsara | E44: Madagascar | F44: feuille | G44: Sabinène, 1,8 cinéole, α-terpinéol | H44: 30 ml | I44: 546 | J44: 5420008505461 | K44: 5.5 | L44: 1 | M44: 17.88 | N44: =K44 / 100 -> 0.055
C45: Cinnamomum camphora ct cinéole | D45: Ravintsara | E45: Madagascar | F45: feuille | G45: Sabinène, 1,8 cinéole, α-terpinéol | H45: 100 ml | I45: 547 | J45: 5420008505478 | K45: 5.5 | L45: 1 | M45: 56.3 | N45: =K45 / 100 -> 0.055
C46: Cinnamomum camphora ct linalol | D46: Bois de Hô | E46: Chine | F46: bois | G46: Linalol | H46: 10 ml | I46: 5455 | J46: 5420008584831 | K46: 5.5 | L46: 3 | M46: 4.19 | N46: =K46 / 100 -> 0.055
C47: Cinnamomum camphora ct linalol | D47: Bois de Hô | E47: Chine | F47: bois | G47: Linalol | H47: 30 ml | I47: 3160 | J47: 5420008562532 | K47: 5.5 | L47: 1 | M47: 11.32 | N47: =K47 / 100 -> 0.055
C48: Cinnamomum camphora ct linalol | D48: Bois de Hô | E48: Chine | F48: bois | G48: Linalol | H48: 100 ml | I48: 3902 | J48: 5420008568688 | K48: 5.5 | L48: 1 | M48: 35.64 | N48: =K48 / 100 -> 0.055
A49: Bio | C49: Cinnamomum cassia | D49: Cannelier de Chine | E49: Vietnam | F49: rameau feuillé | G49: E-cinnamaldéhyde | H49: 10 ml | I49: 7192 | J49: 5420008506826 | K49: 5.5 | L49: 1 | M49: 3.47 | N49: =K49 / 100 -> 0.055
C50: Cinnamomum cassia | D50: Cannelier de Chine | E50: Chine | F50: rameau feuillé | G50: Cinnamaldéhyde | H50: 10 ml | I50: 120 | J50: 5420008501203 | K50: 5.5 | L50: 3 | M50: 2.53 | N50: =K50 / 100 -> 0.055
C51: Cinnamomum cassia | D51: Cannelier de Chine | E51: Chine | F51: rameau feuillé | G51: Cinnamaldéhyde | H51: 30 ml | I51: 121 | J51: 5420008501210 | K51: 5.5 | L51: 1 | M51: 6.84 | N51: =K51 / 100 -> 0.055
C52: Cinnamomum cassia | D52: Cannelier de Chine | E52: Chine | F52: rameau feuillé | G52: Cinnamaldéhyde | H52: 100 ml | I52: 122 | J52: 5420008501227 | K52: 5.5 | L52: 1 | M52: 21.54 | N52: =K52 / 100 -> 0.055
C53: Cinnamomum zeylanicum / verum | D53: Cannelier de Ceylan (Cannelle de Ceylan) | E53: Madagascar / Sri lanka | F53: écorce | G53: Cinnamaldéhyde | H53: 5 ml | I53: 123 | J53: 5420008501234 | K53: 5.5 | L53: 1 | M53: 8.19 | N53: =K53 / 100 -> 0.055
C54: Cinnamomum zeylanicum / verum | D54: Cannelier de Ceylan (Cannelle de Ceylan) | E54: Madagascar / Sri lanka | F54: écorce | G54: Cinnamaldéhyde | H54: 30 ml | I54: 125 | J54: 5420008501258 | K54: 5.5 | L54: 1 | M54: 44.22 | N54: =K54 / 100 -> 0.055
C55: Cinnamomum zeylanicum / verum | D55: Cannelier de Ceylan | E55: Sri lanka / Ceylan | F55: feuille | G55: Eugénol | H55: 10 ml | I55: 127 | J55: 5420008501272 | K55: 5.5 | L55: 1 | M55: 2.97 | N55: =K55 / 100 -> 0.055
A56: Bio | C56: Cinnamomum zeylanicum / verum | D56: Cannelier de Ceylan (Cannelle de Ceylan) | E56: Madagascar | F56: écorce | G56: Cinnamaldéhyde | H56: 5 ml | I56: 6121 | J56: 5420008511837 | K56: 5.5 | L56: 1 | M56: 9.04 | N56: =K56 / 100 -> 0.055
A57: Bio | C57: Cinnamosma fragrans | D57: Mandravasarotra (Saro) | E57: Madagascar | F57: feuille | G57: 1,8 cinéole, monoterpènols | H57: 10 ml | I57: 2781 | J57: 5420008527814 | K57: 20 | L57: 3 | M57: 5.89 | N57: =K57 / 100 -> 0.2
C58: Cinnamosma fragrans | D58: Mandravasarotra (Saro) | E58: Madagascar | F58: feuille | G58: 1,8 cinéole, monoterpènols | H58: 10 ml | I58: 6751 | J58: 5420008596957 | K58: 20 | L58: 3 | M58: 5.94 | N58: =K58 / 100 -> 0.2
A59: Bio | C59: Cistus ladaniferus | D59: Ciste ladanifère | E59: Maroc | F59: rameau | G59: α-pinène, camphène | H59: 5 ml | I59: 3519 | J59: 5420008574498 | K59: 20 | L59: 1 | M59: 11.08 | N59: =K59 / 100 -> 0.2
C60: Cistus ladaniferus | D60: Ciste ladanifère | E60: Maroc | F60: rameau | G60: α-pinène, camphène | H60: 5 ml | I60: 4629 | J60: 5420008573286 | K60: 20 | L60: 3 | M60: 10.46 | N60: =K60 / 100 -> 0.2
C61: Cistus ladaniferus | D61: Ciste ladanifère | E61: Maroc | F61: rameau | G61: α-pinène, camphène | H61: 30 ml | I61: 4627 | J61: 5420008573262 | K61: 20 | L61: 1 | M61: 56.51 | N61: =K61 / 100 -> 0.2
C62: Citrus aurantifolia | D62: Lime - citron vert (Limette) | E62: Mexique / Pérou | F62: fruit | G62: Limonène, γ-terpinène, α-terpinéol | H62: 10 ml | I62: 6754 | J62: 5420008596988 | K62: 20 | L62: 1 | M62: 2.97 | N62: =K62 / 100 -> 0.2
A63: Bio | C63: Citrus aurantium ssp amara | D63: Néroli | E63: Maroc | F63: fleur | G63: Linalol, trans-nérolidol, monoterpènes | H63: 5 ml | I63: 331 | J63: 5420008501432 | K63: 5.5 | L63: 1 | M63: 31.47 | N63: =K63 / 100 -> 0.055
C64: Citrus aurantium ssp amara | D64: Néroli | E64: Maroc / Egypte | F64: fleur | G64: Linalol, trans-nérolidol | H64: 2 ml | I64: 7551 | J64: 5420008508905 | K64: 5.5 | L64: 1 | M64: 12.3 | N64: =K64 / 100 -> 0.055
C65: Citrus aurantium ssp amara | D65: Néroli | E65: Maroc / Egypte | F65: fleur | G65: Linalol, trans-nérolidol | H65: 5 ml | I65: 137 | J65: 5420008501371 | K65: 5.5 | L65: 1 | M65: 28.77 | N65: =K65 / 100 -> 0.055
C66: Citrus aurantium ssp amara | D66: Oranger bigarade Oranger amer | E66: Côte d’Ivoire | F66: zeste | G66: Limonène | H66: 10 ml | I66: 141 | J66: 5420008501418 | K66: 5.5 | L66: 1 | M66: 3.37 | N66: =K66 / 100 -> 0.055
A67: Bio | C67: Citrus aurantium ssp amara | D67: Petit grain bigarade | E67: Paraguay | F67: feuille | G67: Linalol, acétate de linalyle | H67: 10 ml | I67: 7235 | J67: 5420008506949 | K67: 5.5 | L67: 1 | M67: 3.24 | N67: =K67 / 100 -> 0.055
C68: Citrus aurantium ssp amara | D68: Petit grain bigarade | E68: Paraguay | F68: feuille | G68: Linalol, acétate de linalyle | H68: 10 ml | I68: 134 | J68: 5420008501340 | K68: 5.5 | L68: 3 | M68: 3.2 | N68: =K68 / 100 -> 0.055
C69: Citrus aurantium ssp amara | D69: Petit grain bigarade | E69: Paraguay | F69: feuille | G69: Linalol, acétate de linalyle | H69: 30 ml | I69: 135 | J69: 5420008501357 | K69: 5.5 | L69: 1 | M69: 8.65 | N69: =K69 / 100 -> 0.055
C70: Citrus aurantium ssp amara | D70: Petit grain bigarade | E70: Paraguay | F70: feuille | G70: Linalol, acétate de linalyle | H70: 100 ml | I70: 136 | J70: 5420008501364 | K70: 5.5 | L70: 1 | M70: 27.23 | N70: =K70 / 100 -> 0.055
A71: Bio | C71: Citrus bergamia | D71: Bergamotier (Bergamotte) | E71: Italie | F71: zeste | G71: Linalol, limonène, acétate de linalyle | H71: 10 ml | I71: 7237 | J71: 5420008506963 | K71: 5.5 | L71: 1 | M71: 4.74 | N71: =K71 / 100 -> 0.055
C72: Citrus bergamia | D72: Bergamotier (Bergamote) | E72: Italie / Côte d’Ivoire | F72: zeste | G72: Linalol, limonène, acétate de linalyle | H72: 10 ml | I72: 149 | J72: 5420008501494 | K72: 5.5 | L72: 3 | M72: 4.61 | N72: =K72 / 100 -> 0.055
A73: Bio | C73: Citrus limon | D73: Citronnier | E73: Italie | F73: zeste | G73: Limonène | H73: 10 ml | I73: 6787 | J73: 5420008597312 | K73: 5.5 | L73: 3 | M73: 3.7 | N73: =K73 / 100 -> 0.055
A74: Bio | C74: Citrus limon | D74: Citronnier | E74: Italie | F74: zeste | G74: Limonène | H74: 100 ml | I74: 2480 | J74: 5420008524806 | K74: 5.5 | L74: 1 | M74: 31.44 | N74: =K74 / 100 -> 0.055
C75: Citrus limon | D75: Citronnier | E75: Espagne / Italie | F75: feuille | G75: Citrals, limonène | H75: 5 ml | I75: 162 | J75: 5420008501623 | K75: 5.5 | L75: 1 | M75: 6.03 | N75: =K75 / 100 -> 0.055
C76: Citrus limon | D76: Citronnier | E76: Italie / Espagne | F76: zeste | G76: Limonène | H76: 30 ml | I76: 3441 | J76: 5420008534416 | K76: 5.5 | L76: 1 | M76: 6.54 | N76: =K76 / 100 -> 0.055
C77: Citrus limon | D77: Citronnier | E77: Italie / Espagne | F77: zeste | G77: Limonène | H77: 100 ml | I77: 4979 | J77: 5420008580895 | K77: 5.5 | L77: 1 | M77: 13.47 | N77: =K77 / 100 -> 0.055
A78: Bio | C78: Citrus paradisi | D78: Pamplemoussier | E78: Amérique du Sud | F78: zeste | G78: Limonène | H78: 10 ml | I78: 2443 | J78: 5420008524431 | K78: 5.5 | L78: 1 | M78: 3.86 | N78: =K78 / 100 -> 0.055
C79: Citrus paradisi | D79: Pamplemoussier | E79: Argentine | F79: zeste | G79: Limonène | H79: 10 ml | I79: 170 | J79: 5420008501708 | K79: 5.5 | L79: 1 | M79: 2.38 | N79: =K79 / 100 -> 0.055
C80: Citrus paradisi | D80: Pamplemoussier | E80: Argentine | F80: zeste | G80: Limonène | H80: 30 ml | I80: 2527 | J80: 5420008525278 | K80: 5.5 | L80: 1 | M80: 6.43 | N80: =K80 / 100 -> 0.055
A81: Bio | C81: Citrus reticulata | D81: Mandarinier | E81: Italie / Brésil | F81: zeste | G81: Limonène, γ-terpinène | H81: 10 ml | I81: 6808 | J81: 5420008597527 | K81: 5.5 | L81: 3 | M81: 5.38 | N81: =K81 / 100 -> 0.055
A82: Bio | C82: Citrus reticulata | D82: Mandarinier | E82: Italie / Brésil | F82: zeste | G82: Limonène, γ-terpinène | H82: 30 ml | I82: 3532 | J82: 5420008574627 | K82: 5.5 | L82: 1 | M82: 14.51 | N82: =K82 / 100 -> 0.055
C83: Citrus reticulata | D83: Mandarinier | E83: Argentine | F83: zeste | G83: Limonène, γ-terpinène | H83: 100 ml | I83: 175 | J83: 5420008501753 | K83: 5.5 | L83: 1 | M83: 27.09 | N83: =K83 / 100 -> 0.055
C84: Citrus reticulata | D84: Petit grain mandarine | E84: Egypte | F84: feuille | G84: N-méthyl, anthranilate de méthyle, γ-terpinène | H84: 5 ml | I84: 176 | J84: 5420008501760 | K84: 20 | L84: 1 | M84: 5.49 | N84: =K84 / 100 -> 0.2
A85: Bio | C85: Citrus sinensis | D85: Orange douce | E85: Amérique du Sud / Paraguay / Brésil | F85: zeste | G85: Limonène | H85: 10 ml | I85: 3924 | J85: 5420008568909 | K85: 5.5 | L85: 3 | M85: 3.01 | N85: =K85 / 100 -> 0.055
A86: Bio | C86: Citrus sinensis | D86: Orange douce | E86: Amérique du Sud / Paraguay / Brésil | F86: zeste | G86: Limonène | H86: 100 ml | I86: 3535 | J86: 5420008574658 | K86: 5.5 | L86: 1 | M86: 25.56 | N86: =K86 / 100 -> 0.055
C87: Citrus sinensis | D87: Orange douce | E87: Grèce | F87: zeste | G87: Limonène | H87: 30 ml | I87: 2597 | J87: 5420008525971 | K87: 5.5 | L87: 1 | M87: 5.69 | N87: =K87 / 100 -> 0.055
C88: Citrus sinensis | D88: Orange douce | E88: Grèce | F88: zeste | G88: Limonène | H88: 100 ml | I88: 3184 | J88: 5420008531842 | K88: 5.5 | L88: 1 | M88: 10.86 | N88: =K88 / 100 -> 0.055
C89: Commiphora molmol | D89: Myrrhe | E89: Somalie | F89: oléorésine | G89: Curzerène, furanocudesmaoliène | H89: 5 ml | I89: 186 | J89: 5420008501869 | K89: 5.5 | L89: 1 | M89: 6.29 | N89: =K89 / 100 -> 0.055
C90: Copaifera officinalis | D90: Baume de copahu | E90: Brésil | F90: oléorésine | G90: β-caryophyllène | H90: 10 ml | I90: 194 | J90: 5420008501944 | K90: 5.5 | L90: 1 | M90: 3.65 | N90: =K90 / 100 -> 0.055
C91: Coriandrum sativum | D91: Coriandre | E91: Russie / Slovénie | F91: fruit | G91: Linalol | H91: 10 ml | I91: 198 | J91: 5420008501982 | K91: 5.5 | L91: 3 | M91: 5.68 | N91: =K91 / 100 -> 0.055
C92: Corydothymus capitatus | D92: Origan d'Espagne | E92: Espagne | F92: sommité fleurie | G92: Carvacrol | H92: 5 ml | I92: 201 | J92: 5420008502019 | K92: 20 | L92: 1 | M92: 5.01 | N92: =K92 / 100 -> 0.2
A93: Bio | C93: Crithmum maritimum | D93: Criste marine | E93: France | F93: sommité fleurie | G93: γ-terpinène, β-phellandrène, methyl-thymol ether | H93: 5 ml | I93: 2653 | J93: 5420008526534 | K93: 20 | L93: 1 | M93: 19.19 | N93: =K93 / 100 -> 0.2
C94: Cuminum cyminum | D94: Cumin | E94: Egypte | F94: fruit | G94: Cuminaldéhyde | H94: 5 ml | I94: 205 | J94: 5420008502057 | K94: 5.5 | L94: 1 | M94: 3.4 | N94: =K94 / 100 -> 0.055
A95: Bio | C95: Cupressus sempervirens var. stricta | D95: Cyprès toujours vert | E95: Espagne | F95: rameau | G95: Pinène, δ-3-carène | H95: 5 ml | I95: 2430 | J95: 5420008524301 | K95: 20 | L95: 3 | M95: 5.02 | N95: =K95 / 100 -> 0.2
A96: Bio | C96: Cupressus sempervirens var. stricta | D96: Cyprès toujours vert | E96: Espagne | F96: rameau | G96: Pinène, δ-3-carène | H96: 30 ml | I96: 3536 | J96: 5420008535369 | K96: 20 | L96: 1 | M96: 27.09 | N96: =K96 / 100 -> 0.2
C97: Cupressus sempervirens var. stricta | D97: Cyprès toujours vert | E97: Maroc / Espagne | F97: rameau | G97: α-pinène, δ-3-carène | H97: 10 ml | I97: 209 | J97: 5420008502095 | K97: 20 | L97: 3 | M97: 3.71 | N97: =K97 / 100 -> 0.2
C98: Curcuma longa | D98: Safran de l'Inde | E98: Népal | F98: racine | G98: Turmérone | H98: 10 ml | I98: 10153 | J98: 5420008510199 | K98: 5.5 | L98: 1 | M98: 6.25 | N98: =K98 / 100 -> 0.055
C99: Cymbopogon citratus | D99: Lemongrass | E99: Guatémala / Inde | F99: partie aérienne | G99: Néral, géranial | H99: 10 ml | I99: 217 | J99: 5420008502170 | K99: 5.5 | L99: 1 | M99: 2.69 | N99: =K99 / 100 -> 0.055
C100: Cymbopogon citratus | D100: Lemongrass | E100: Guatémala / Inde | F100: partie aérienne | G100: Néral, géranial | H100: 100 ml | I100: 219 | J100: 5420008502194 | K100: 5.5 | L100: 1 | M100: 22.86 | N100: =K100 / 100 -> 0.055
C101: Cymbopogon flexuosus | D101: Lemongrass de l'Inde | E101: Inde / Vietnam | F101: partie aérienne | G101: Néral, géranial | H101: 10 ml | I101: 210 | J101: 5420008502101 | K101: 5.5 | L101: 1 | M101: 2.69 | N101: =K101 / 100 -> 0.055
A102: Bio | C102: Cymbopogon giganteus | D102: Citronnelle de Madagascar ou ahibero (Citronnelle sauvage) | E102: Madagascar | F102: feuille | G102: Trans-p-1, 7-mentha-8, 9-dien-2-ol, Limonène, Cis-p-mentha-2, 8-dien-1-ol, Cisp-p-1, 7-mentha-8, 9-dien-2-ol | H102: 10 ml | I102: 132 | J102: 5420008512537 | K102: 20 | L102: 1 | M102: 7.58 | N102: =K102 / 100 -> 0.2
A103: Bio | C103: Cymbopogon martinii var. motia | D103: Palmarosa | E103: Inde / Kénya | F103: partie aérienne | G103: Géraniol, acétate de géranyle | H103: 10 ml | I103: 870 | J103: 5420008508707 | K103: 5.5 | L103: 3 | M103: 2.98 | N103: =K103 / 100 -> 0.055
...

Sheet cat pranarom
B1: 1) supprimer les colonnes vides (j,m etc) ou mettre un nom unique en entete
B2: 2) remplacer les espaces dans les entetes par des _
B3: 3) Nommer avec la procédure de la page précédente, si excel demande un remplacement c'est que ce nom est en double
A6: Commentaire | B6: CIP | C6: EAN13 | D6: EAN13_2 | E6: EAN13_3 | F6: Libellé | G6: TVA | H6: Referencement | I6: Prix_A_HT | J6: colasup | K6: Remise2 | L6: Remise3 | M6: colasup2 | N6: Vignette | O6: Code_Acte | P6: Prix_Base | Q6: Liste | R6: Colisage | S6: UniteCmd | T6: Code_Labo | U6: Labo | V6: Labo_Adr1 | W6: Labo_Adr2 | X6: Labo_CP | Y6: Labo_Ville | Z6: Labo_Tel | AA6: Fou_Fax | AB6: Fou_Email | AC6: Fou_Web | AD6: Fou_DelaiReappro | AE6: Fou_Type | AF6: 171_Tel | AG6: 171_Cmd | AH6: 171_Lvr | AI6: 171_Terminal | AJ6: 171_MFAB | AK6: 171_NSFP | AL6: 171_SI | AM6: 171_Type_Cmd_Suppl | AN6: PML_URL | AO6: PML_URLAux | AP6: PML_CodeRep | AQ6: PML_IDRep | AR6: PML_CodeCle | AS6: QteMin | AT6: QteMin2 | AU6: RemQte2 | AV6: Gabarit
B7: 90367 | C7: 5420010000000 | D7: 5420010000000 | F7: H. E SANTAL DES INDES PRANAROM | G7: 0.2 | I7: 0 | K7: 0 | L7: 0 | N7: NR | O7: PHN | P7: 0 | R7: 0 | S7: 0 | T7: 4036B | U7: PRANAROM INTERNATIONAL | V7: 320077515 | W7: FR 0001814 | Z7: 320077515 | AA7: 320076446 | AD7: 120 | AE7: 2 | AI7: 0 | AR7: 320076446 | AS7: 0 | AT7: 0 | AU7: 0 | AV7: 0
B8: 7753091 | C8: 5420010000000 | F8: PRANA HE EUCALYPTUS RADIE 10ML | G8: 0.055 | I8: 3.07 | K8: 0 | L8: 0 | N8: NR | O8: PHN | P8: 0 | R8: 0 | S8: 0 | AS8: 0 | AT8: 0 | AU8: 0 | AV8: 0
B9: 1829047905 | C9: 5420010000000 | F9: PRANA HE MYRTE ACETATE DE MYRTENYLE 10ML | G9: 0.055 | I9: 3.71 | K9: 0 | L9: 0 | N9: NR | O9: PHN | P9: 0 | R9: 0 | S9: 0 | AS9: 0 | AT9: 0 | AU9: 0 | AV9: 0
B10: 4843735 | C10: 5420010000000 | D10: 3401550000000 | F10: PRANAROM H V BIO CAROTT FV50ML | G10: 0.055 | I10: 4.12 | K10: 0 | L10: 0 | N10: NR | O10: PHN | P10: 0 | R10: 0 | S10: 0 | AS10: 0 | AT10: 0 | AU10: 0 | AV10: 0
B11: 5179570 | C11: 5420010000000 | D11: 3401550000000 | F11: PRANABB DIFFUS ULTRASONIQUE SPHERA BB | G11: 0.2 | I11: 33 | K11: 0 | L11: 0 | N11: NR | O11: PHN | P11: 0 | R11: 0 | S11: 0 | AS11: 0 | AT11: 0 | AU11: 0 | AV11: 0
B12: 5421812 | C12: 5420010000000 | D12: 3401550000000 | F12: AROMAFORCE SPRAY ASSAINIS FL/150ML | G12: 0.2 | I12: 9.8 | K12: 0 | L12: 0 | N12: NR | O12: PHN | P12: 0 | R12: 0 | S12: 0 | AS12: 0 | AT12: 0 | AU12: 0 | AV12: 0
B13: 9927655 | C13: 5420010000000 | D13: 3401600000000 | F13: AROMALGIC SPRAY SOL ARTICUL MUSCL 50ML | G13: 0.2 | I13: 6.62 | K13: 0 | L13: 0 | N13: NR | O13: PHN | P13: 0 | R13: 0 | S13: 0 | AS13: 0 | AT13: 0 | AU13: 0 | AV13: 0
B14: 7846450 | C14: 5420010000000 | F14: AROMAGOM GOM B/24 | G14: 0.055 | I14: 3.35 | K14: 0 | L14: 0 | N14: NR | O14: PHN | P14: 0 | R14: 0 | S14: 0 | AS14: 0 | AT14: 0 | AU14: 0 | AV14: 0
B15: 81580 | C15: 5420010000000 | F15: PRANA HE BIO CANNELIER CHINE | G15: 0.055 | I15: 3.37 | K15: 0 | L15: 0 | N15: NR | O15: PHN | P15: 0 | Q15: 2 | R15: 0 | S15: 0 | AS15: 1 | AT15: 0 | AU15: 0 | AV15: 1
B16: 81634 | C16: 5420010000000 | D16: 5420010000000 | F16: PRANA HE BIO LAVANDIN SUPER 10ML | G16: 0.055 | I16: 3.43 | K16: 0 | L16: 0 | N16: NR | O16: PHN | P16: 0 | R16: 0 | S16: 0 | AS16: 0 | AT16: 0 | AU16: 0 | AV16: 1
B17: 82537 | C17: 5420010000000 | F17: PRANA HE BIO CITRONELLE DE JAVA 10ML | G17: 0.055 | I17: 2.55 | K17: 0 | L17: 0 | N17: NR | O17: PHN | P17: 0 | R17: 0 | S17: 0 | AS17: 0 | AT17: 0 | AU17: 0 | AV17: 3
B18: 82538 | C18: 5420010000000 | F18: PRANA HE BIO GINGEMBRE 5ML | G18: 0.2 | I18: 4.97 | K18: 0 | L18: 0 | N18: NR | O18: PHN | P18: 0 | R18: 0 | S18: 0 | AS18: 0 | AT18: 0 | AU18: 0 | AV18: 1
B19: 82539 | C19: 5420010000000 | F19: PRANA HE CEDRE DE VIRGINIE 10ML | G19: 0.2 | I19: 2.7 | K19: 0 | L19: 0 | N19: NR | O19: PHN | P19: 0 | R19: 0 | S19: 0 | AS19: 0 | AT19: 0 | AU19: 0 | AV19: 1
B20: 85463 | C20: 5420010000000 | F20: PRANA HE AIL 5ML | G20: 0.2 | I20: 3.96 | K20: 0 | L20: 0 | N20: NR | O20: PHN | P20: 0 | R20: 0 | S20: 0 | AS20: 0 | AT20: 0 | AU20: 0 | AV20: 1
B21: 85464 | C21: 5420010000000 | F21: PRANA HE BAUME DE COPAHU 10ML | G21: 0.2 | I21: 3.54 | K21: 0 | L21: 0 | N21: NR | O21: PHN | P21: 0 | R21: 0 | S21: 0 | AS21: 0 | AT21: 0 | AU21: 0 | AV21: 1
B22: 86047 | C22: 5420010000000 | F22: PRANA HE BAY PIMENT 10ML | G22: 0.2 | I22: 5.75 | K22: 0 | L22: 0 | N22: NR | O22: PHN | P22: 0 | R22: 3 | S22: 0 | AS22: 0 | AT22: 0 | AU22: 0 | AV22: 1
B23: 86944 | C23: 5420010000000 | F23: PRANA HE BIO GAULTHERIE ODORANTE 5ML | G23: 0.2 | I23: 3.48 | K23: 0 | L23: 0 | N23: NR | O23: PHN | P23: 0 | R23: 0 | S23: 0 | AS23: 0 | AT23: 0 | AU23: 0 | AV23: 1
B24: 86945 | C24: 5420010000000 | F24: PRANA HE MENTHE POULIOT 10ML | G24: 0.2 | I24: 3.6 | K24: 0 | L24: 0 | N24: NR | O24: PHN | P24: 0 | R24: 0 | S24: 0 | AS24: 0 | AT24: 0 | AU24: 0 | AV24: 1
B25: 88096 | C25: 5420010000000 | F25: PRANA HE HYSOPE COUCHEE | G25: 0.2 | I25: 14.46 | K25: 0 | L25: 0 | N25: NR | O25: PHN | P25: 0 | R25: 0 | S25: 0 | AS25: 0 | AT25: 0 | AU25: 0 | AV25: 1
B26: 636100 | C26: 5420010000000 | F26: PRANA HE BIO MYRTE CINEOLE 5ML | G26: 0.021 | I26: 8.75 | K26: 0 | L26: 0 | N26: NR | O26: PH4 | P26: 0 | R26: 0 | S26: 0 | AS26: 0 | AT26: 0 | AU26: 0 | AV26: 1
B27: 2101053 | C27: 4042810000000 | D27: 5420010000000 | F27: PRANA HE BIO CEDRE ATLAS 10ML | G27: 0.055 | I27: 100 | K27: 0 | L27: 0 | N27: NR | O27: PHN | P27: 0 | R27: 100 | S27: 100 | AS27: 100 | AT27: 0 | AU27: 0 | AV27: 100
B28: 2162155 | C28: 5420010000000 | D28: 5420010000000 | F28: PRANA HE BIO GERANIUM BOURBON 10ML | G28: 0.055 | I28: 14.38 | K28: 0 | L28: 0 | N28: NR | O28: PHN | P28: 0 | R28: 0 | S28: 0 | AS28: 0 | AT28: 0 | AU28: 0 | AV28: 1
B29: 2258748 | C29: 5420010000000 | F29: PRANA HE BIO MARJOLAINE COQUILLE 5ML | G29: 0.055 | I29: 6.05 | K29: 0 | L29: 0 | N29: NR | O29: PHN | P29: 0 | R29: 0 | S29: 0 | AS29: 0 | AT29: 0 | AU29: 0 | AV29: 1
B30: 2341053 | C30: 5420010000000 | F30: PRANA HE BIO NEROLI 5ML | G30: 0.055 | I30: 31.47 | K30: 0 | L30: 0 | N30: NR | O30: PHN | P30: 0 | R30: 0 | S30: 0 | AS30: 0 | AT30: 0 | AU30: 0 | AV30: 1
B31: 2552867 | C31: 5420010000000 | D31: 3401330000000 | F31: AROMAPAR SHAMP+LOTIO 125ML+30ML | G31: 0.2 | I31: 11.51 | K31: 0 | L31: 0 | N31: NR | O31: PHN | P31: 0 | R31: 0 | S31: 0 | AS31: 0 | AT31: 0 | AU31: 0 | AV31: 3
B32: 2677050 | C32: 5420010000000 | F32: PRANA HE BIO EUCALYT CITRIODORA 10ML | G32: 0.055 | I32: 2.84 | K32: 0 | L32: 0 | N32: NR | O32: PHN | P32: 0 | R32: 0 | S32: 0 | AS32: 0 | AT32: 0 | AU32: 0 | AV32: 1
B33: 3254250 | C33: 5420010000000 | F33: PRANA HE BIO GENEVRIER COMMUN 5ML | G33: 0.2 | I33: 7.8 | K33: 0 | L33: 0 | N33: NR | O33: PHN | P33: 0 | R33: 0 | S33: 0 | AS33: 0 | AT33: 0 | AU33: 0 | AV33: 1
B34: 3401231 | C34: 5420010000000 | D34: 5420010000000 | F34: PRANA HE NARD DE L HIMALAYA BIO 10ML | G34: 0.2 | I34: 8.88 | K34: 0 | L34: 0 | N34: NR | O34: PHN | P34: 0 | R34: 0 | S34: 0 | AS34: 0 | AT34: 0 | AU34: 0 | AV34: 1
B35: 4244259 | C35: 5420010000000 | F35: PRANA HE BIO CLOU GIROFLE 10ML | G35: 0.2 | I35: 3.17 | K35: 0 | L35: 0 | N35: NR | O35: PHN | P35: 0 | R35: 0 | S35: 0 | AS35: 0 | AT35: 0 | AU35: 0 | AV35: 3
B36: 4310105 | C36: 5420010000000 | F36: PRANA HE BOIS DE HO | G36: 0.055 | I36: 4.07 | K36: 0 | L36: 0 | N36: NR | O36: PHN | P36: 0 | R36: 0 | S36: 0 | AS36: 0 | AT36: 0 | AU36: 0 | AV36: 3
B37: 4375352 | C37: 5420010000000 | F37: PRANA HE BIO INULE 5ML | G37: 0.2 | I37: 20.2 | K37: 0 | L37: 0 | N37: NR | O37: PHN | P37: 0 | R37: 0 | S37: 0 | AS37: 0 | AT37: 0 | AU37: 0 | AV37: 1
B38: 4493318 | C38: 5420010000000 | F38: OLEOCAPS 1 NEZ | G38: 0.055 | I38: 7.64 | K38: 0 | L38: 0 | N38: NR | O38: PHN | P38: 0 | R38: 0 | S38: 0 | AS38: 0 | AT38: 0 | AU38: 0 | AV38: 6
B39: 4493324 | C39: 5420010000000 | F39: OLEOCAPS 2 GASTRO VOIES URINAIRES | G39: 0.055 | I39: 7.64 | K39: 0 | L39: 0 | N39: NR | O39: PHN | P39: 0 | R39: 0 | S39: 0 | AS39: 0 | AT39: 0 | AU39: 0 | AV39: 6
B40: 4493330 | C40: 5420010000000 | F40: OLEOCAPS 3 DIGESTION | G40: 0.055 | I40: 7.87 | K40: 0 | L40: 0 | N40: NR | O40: PHN | P40: 0 | R40: 0 | S40: 0 | AS40: 0 | AT40: 0 | AU40: 0 | AV40: 6
B41: 4493347 | C41: 5420010000000 | F41: OLEOCAPS 4 DEFENSES | G41: 0.055 | I41: 7.64 | K41: 0 | L41: 0 | N41: NR | O41: PHN | P41: 0 | R41: 0 | S41: 0 | AS41: 0 | AT41: 0 | AU41: 0 | AV41: 6
B42: 4493353 | C42: 5420010000000 | F42: OLEOCAPS 5 GYNECO | G42: 0.055 | I42: 7.64 | K42: 0 | L42: 0 | N42: NR | O42: PHN | P42: 0 | R42: 0 | S42: 0 | AS42: 0 | AT42: 0 | AU42: 0 | AV42: 6
B43: 4493376 | C43: 5420010000000 | F43: OLEOCAPS 6 CIRCULATION | G43: 0.055 | I43: 7.64 | K43: 0 | L43: 0 | N43: NR | O43: PHN | P43: 0 | R43: 0 | S43: 0 | AS43: 0 | AT43: 0 | AU43: 0 | AV43: 6
B44: 4493382 | C44: 5420010000000 | F44: OLEOCAPS 7 STRESS | G44: 0.055 | I44: 7.64 | K44: 0 | L44: 0 | N44: NR | O44: PHN | P44: 0 | R44: 0 | S44: 0 | AS44: 0 | AT44: 0 | AU44: 0 | AV44: 6
B45: 4493399 | C45: 5420010000000 | F45: OLEOCAPS 8 DETOX | G45: 0.055 | I45: 7.64 | K45: 0 | L45: 0 | N45: NR | O45: PHN | P45: 0 | R45: 0 | S45: 0 | AS45: 0 | AT45: 0 | AU45: 0 | AV45: 6
B46: 4679342 | C46: 5420010000000 | D46: 3401550000000 | F46: FONGIAROM HLE ESS ONG PIED SENS | G46: 0.2 | I46: 5.76 | K46: 0 | L46: 0 | N46: NR | O46: PHN | P46: 0 | R46: 0 | S46: 0 | AS46: 0 | AT46: 0 | AU46: 0 | AV46: 3
B47: 4679359 | C47: 5420010000000 | D47: 3401550000000 | F47: PIQUAROM HLE ESS BON GEST PIQ 10 | G47: 0.2 | I47: 5.76 | K47: 0 | L47: 0 | N47: NR | O47: PHN | P47: 0 | R47: 0 | S47: 0 | AS47: 0 | AT47: 0 | AU47: 0 | AV47: 3
B48: 4679365 | C48: 5420010000000 | D48: 3401550000000 | F48: TRAUMAROM HLE ESS COUP BL CONT 1 | G48: 0.2 | I48: 5.76 | K48: 0 | L48: 0 | N48: NR | O48: PHN | P48: 0 | R48: 0 | S48: 0 | AS48: 0 | AT48: 0 | AU48: 0 | AV48: 3
B49: 4697311 | C49: 5420010000000 | D49: 3401550000000 | F49: AROMAFORCE LOT FRICTION FL/5ML | G49: 0.055 | I49: 2.97 | K49: 0 | L49: 0 | N49: NR | O49: PHN | P49: 0 | R49: 0 | S49: 0 | AS49: 0 | AT49: 0 | AU49: 0 | AV49: 6
B50: 4697328 | C50: 5420010000000 | D50: 3401550000000 | F50: AROMAFORCE LOT PURIF L'ATMOSPH SPR/30ML | G50: 0.2 | I50: 5.87 | K50: 0 | L50: 0 | N50: NR | O50: PHN | P50: 0 | R50: 0 | S50: 0 | AS50: 0 | AT50: 0 | AU50: 0 | AV50: 6
B51: 4702408 | C51: 5420010000000 | D51: 3401550000000 | F51: PRANA HE BIO ROMARIN CT CINEOLE 10ML | G51: 0.055 | I51: 3.79 | K51: 0 | L51: 0 | N51: NR | O51: PHN | P51: 0 | R51: 0 | S51: 0 | AS51: 0 | AT51: 0 | AU51: 0 | AV51: 3
B52: 4702420 | C52: 5420010000000 | D52: 3401550000000 | F52: PRANA HE BIO RAVINTSARA FL/10ML | G52: 0.055 | I52: 6.62 | K52: 0 | L52: 0 | N52: NR | O52: PHN | P52: 0 | R52: 0 | S52: 0 | AS52: 0 | AT52: 0 | AU52: 0 | AV52: 3
B53: 4702437 | C53: 5420010000000 | D53: 3401550000000 | F53: PRANA HE BIO YLANG YLANG 5ML | G53: 0.2 | I53: 6.1 | K53: 0 | L53: 0 | N53: NR | O53: PHN | P53: 0 | R53: 0 | S53: 0 | AS53: 0 | AT53: 0 | AU53: 0 | AV53: 1
B54: 4702443 | C54: 5420010000000 | D54: 3401550000000 | F54: PRANA HE BIO MANDRAVASAROTRA FL/10ML | G54: 0.2 | I54: 5.72 | K54: 0 | L54: 0 | N54: NR | O54: PHN | P54: 0 | R54: 0 | S54: 0 | AS54: 0 | AT54: 0 | AU54: 0 | AV54: 3
B55: 4702466 | C55: 5420010000000 | D55: 3401550000000 | F55: PRANA HE BIO PALMAROSA FL/10ML | G55: 0.055 | I55: 2.89 | K55: 0 | L55: 0 | N55: NR | O55: PHN | P55: 0 | R55: 0 | S55: 0 | AS55: 0 | AT55: 0 | AU55: 0 | AV55: 3
B56: 4702472 | C56: 5420010000000 | D56: 3401550000000 | F56: PRANA HE BIO EUCALYPTUS GLOB 10ML | G56: 0.055 | I56: 3.33 | K56: 0 | L56: 0 | N56: NR | O56: PHN | P56: 0 | R56: 0 | S56: 0 | AS56: 0 | AT56: 0 | AU56: 0 | AV56: 3
B57: 4702489 | C57: 5420010000000 | D57: 3401550000000 | F57: PRANA HE BIO EUCALYP RADIATA 10ML | G57: 0.055 | I57: 4.37 | K57: 0 | L57: 0 | N57: NR | O57: PHN | P57: 0 | R57: 0 | S57: 0 | AS57: 0 | AT57: 0 | AU57: 0 | AV57: 3
... B69: 4843764 | C69: 5420010000000 | D69: 3401550000000 | F69: AROMAFORCE SPRAY NASAL | G69: 0.2 | I69: 5.59 | K69: 0 | L69: 0 | N69: NR | O69: PHN | P69: 0 | R69: 0 | S69: 0 | AS69: 0 | AT69: 0 | AU69: 0 | AV69: 6
B70: 5003747 | C70: 5420010000000 | F70: PRANA HE ANGELIQUE 5ML | G70: 0.2 | I70: 18.5 | K70: 0 | L70: 0 | N70: NR | O70: PHN | P70: 0 | R70: 0 | S70: 0 | AS70: 1 | AT70: 0 | AU70: 0 | AV70: 1
B71: 5062158 | C71: 5420010000000 | F71: PRANA HE MARJOLAINE COQ CT THUJANOL 5ML | G71: 0.055 | I71: 9.23 | K71: 0 | L71: 0 | N71: NR | O71: PHN | P71: 0 | R71: 0 | S71: 0 | AS71: 0 | AT71: 0 | AU71: 0 | AV71: 1
B72: 5109121 | C72: 5420010000000 | D72: 3401550000000 | F72: PRANAROM ALLERGOFORC SPRAY NASAL FL15ML 1 | G72: 0.2 | I72: 5.68 | K72: 0 | L72: 0 | N72: NR | O72: PHN | P72: 0 | R72: 0 | S72: 0 | AS72: 0 | AT72: 0 | AU72: 0 | AV72: 6
B73: 5132150 | C73: 5420010000000 | D73: 5420010000000 | F73: PRANA HE BIO KATAFRAY 10ML | G73: 0.2 | I73: 8.35 | K73: 0 | L73: 0 | N73: NR | O73: PHN | P73: 0 | R73: 0 | S73: 0 | AS73: 0 | AT73: 0 | AU73: 0 | AV73: 1
B74: 5147653 | C74: 5420010000000 | D74: 3401550000000 | F74: ALLERGOFORCE SPRAY ENVIR 150ML | G74: 0.2 | I74: 6.76 | K74: 0 | L74: 0 | N74: NR | O74: PHN | P74: 0 | R74: 0 | S74: 0 | AS74: 0 | AT74: 0 | AU74: 0 | AV74: 6
B75: 5179587 | C75: 5420010000000 | D75: 3401550000000 | F75: PRANABB HLE MASS IMMUNITÉ FL C-GTT/10ML | G75: 0.2 | I75: 5 | K75: 0 | L75: 0 | N75: NR | O75: PHN | P75: 0 | R75: 0 | S75: 0 | AS75: 0 | AT75: 0 | AU75: 0 | AV75: 3
B76: 5179676 | C76: 5420010000000 | D76: 3401550000000 | F76: PRANABB HLE ESS MÉLANGE P DIFF ASSAINISS | G76: 0.2 | I76: 5 | K76: 0 | L76: 0 | N76: NR | O76: PHN | P76: 0 | R76: 0 | S76: 0 | AS76: 0 | AT76: 0 | AU76: 0 | AV76: 3
B77: 5179707 | C77: 5420010000000 | D77: 3401550000000 | F77: PRANABB HLE ESS MÉLANGE P DIFF SOMMEIL 10 | G77: 0.2 | I77: 5 | K77: 0 | L77: 0 | N77: NR | O77: PHN | P77: 0 | R77: 0 | S77: 0 | AS77: 0 | AT77: 0 | AU77: 0 | AV77: 3
B78: 5179802 | C78: 5420010000000 | D78: 3401550000000 | F78: PRANABB HLE ESS MÉLANGE P DIFF MOUSTIQUE | G78: 0.2 | I78: 5 | K78: 0 | L78: 0 | N78: NR | O78: PHN | P78: 0 | R78: 0 | S78: 0 | AS78: 0 | AT78: 0 | AU78: 0 | AV78: 3
B79: 5320927 | C79: 5420010000000 | F79: PRANA HE BIO LENTISQUE PISTACHIER 5ML | G79: 0.055 | I79: 17.38 | K79: 0 | L79: 0 | N79: NR | O79: PHN | P79: 0 | R79: 0 | S79: 0 | AS79: 0 | AT79: 0 | AU79: 0 | AV79: 1
B80: 5322381 | C80: 5420010000000 | F80: PRANA HE BIO CAROTTE 5ML | G80: 0.055 | I80: 15.21 | K80: 0 | L80: 0 | N80: NR | O80: PHN | P80: 0 | R80: 0 | S80: 0 | AS80: 0 | AT80: 0 | AU80: 0 | AV80: 1
B81: 5341390 | C81: 5420010000000 | D81: 3401550000000 | F81: PRANABB GEL GINGIVAL 15ML | G81: 0.2 | I81: 5 | K81: 0 | L81: 0 | N81: NR | O81: PHN | P81: 0 | R81: 0 | S81: 0 | AS81: 0 | AT81: 0 | AU81: 0 | AV81: 3
B82: 5420008 | C82: 5420010000000 | F82: PRANA HE BIO SAUGE SLA 5ML | G82: 0.2 | I82: 3.65 | K82: 0 | L82: 0 | N82: NR | O82: PHN | P82: 0 | R82: 0 | S82: 0 | AS82: 0 | AT82: 0 | AU82: 0 | AV82: 1
B83: 5474257 | C83: 5420010000000 | F83: PRANA HE BIO BASILIC EXO 10ML | G83: 0.055 | I83: 5.69 | K83: 0 | L83: 0 | N83: NR | O83: PHN | P83: 0 | R83: 0 | S83: 0 | AS83: 0 | AT83: 0 | AU83: 0 | AV83: 1
B84: 5632897 | C84: 5420010000000 | F84: PRANA HE CAROTTE | G84: 0.055 | I84: 6.13 | K84: 0 | L84: 0 | N84: NR | O84: PHN | P84: 0 | R84: 0 | S84: 0 | AS84: 0 | AT84: 0 | AU84: 0 | AV84: 1
B85: 6846063 | C85: 5420010000000 | F85: PRANA HE BIO THYM SARRIETTE 10ML | G85: 0.055 | I85: 6.91 | K85: 0 | L85: 0 | N85: NR | O85: PHN | P85: 0 | Q85: 2 | R85: 0 | S85: 0 | AS85: 0 | AT85: 0 | AU85: 0 | AV85: 1
B86: 7381152 | C86: 5420010000000 | F86: PRANA HE BIO CANNELLE CEYLAN 5ML | G86: 0.2 | I86: 8.78 | K86: 0 | L86: 0 | N86: NR | O86: PHN | P86: 0 | Q86: 2 | R86: 0 | S86: 0 | AS86: 1 | AT86: 0 | AU86: 0 | AV86: 1
B87: 7752890 | C87: 5420010000000 | F87: PRANA HE AJOWAN FL/10ML | G87: 0.2 | I87: 4.14 | K87: 0 | L87: 0 | N87: NR | O87: PHN | P87: 0 | R87: 0 | S87: 0 | AS87: 0 | AT87: 0 | AU87: 0 | AV87: 1
B88: 7753004 | C88: 5420010000000 | F88: PRANA HE CORIANDRE 10ML | G88: 0.055 | I88: 5.51 | K88: 0 | L88: 0 | N88: NR | O88: PHN | P88: 0 | R88: 0 | S88: 0 | AS88: 0 | AT88: 0 | AU88: 0 | AV88: 1
B89: 7753010 | C89: 5420010000000 | D89: 3401520000000 | F89: PRANA HE BIO CYPRES TJS VERT 5ML | G89: 0.2 | I89: 3.43 | K89: 0 | L89: 0 | N89: NR | O89: PHN | P89: 0 | R89: 0 | S89: 0 | AS89: 0 | AT89: 0 | AU89: 0 | AV89: 3
B90: 7753056 | C90: 5420010000000 | F90: PRANA HE ESTRAGON 5ML | G90: 0.055 | I90: 4.8 | K90: 0 | L90: 0 | N90: NR | O90: PHN | P90: 0 | R90: 0 | S90: 0 | AS90: 0 | AT90: 0 | AU90: 0 | AV90: 1
B91: 7753116 | C91: 5420010000000 | F91: PRANA HE GAULTHERIE COUCHEE 10ML | G91: 0.2 | I91: 2.5 | K91: 0 | L91: 0 | N91: NR | O91: PHN | P91: 0 | R91: 0 | S91: 0 | AS91: 0 | AT91: 0 | AU91: 0 | AV91: 1
B92: 7753139 | C92: 5420010000000 | F92: PRANA HE GERANIUM EGYPTE 10ML | G92: 0.055 | I92: 7.51 | K92: 0 | L92: 0 | N92: NR | O92: PHN | P92: 0 | R92: 0 | S92: 0 | AS92: 0 | AT92: 0 | AU92: 0 | AV92: 1
B93: 7753151 | C93: 5420010000000 | F93: PRANA HE LAURIER NOBLE 5ML | G93: 0.055 | I93: 4.85 | K93: 0 | L93: 0 | N93: NR | O93: PHN | P93: 0 | R93: 0 | S93: 0 | AS93: 0 | AT93: 0 | AU93: 0 | AV93: 1
B94: 7753375 | C94: 5420010000000 | F94: PRANA HE THYM THUYANOL FL/5ML | G94: 0.055 | I94: 9.53 | K94: 0 | L94: 0 | N94: NR | O94: PHN | P94: 0 | R94: 0 | S94: 0 | AS94: 0 | AT94: 0 | AU94: 0 | AV94: 3
B95: 7753429 | C95: 5420010000000 | F95: AROMACEUTIC'S BUCCAROM GEL BUC T/15ML | G95: 0.2 | I95: 5.65 | K95: 0 | L95: 0 | N95: NR | O95: PHN | P95: 0 | R95: 0 | S95: 0 | AS95: 0 | AT95: 0 | AU95: 0 | AV95: 6
B96: 7799609 | C96: 5420010000000 | F96: AROMAFORCE LOT 30ML | G96: 0.055 | I96: 5.87 | K96: 0 | L96: 0 | N96: NR | O96: PHN | P96: 0 | R96: 0 | S96: 0 | AS96: 0 | AT96: 0 | AU96: 0 | AV96: 3
B97: 7876646 | C97: 5420010000000 | F97: AROMACEUTIC'S AROMAPAR LOT CAP SPRAY/30ML | G97: 0.2 | I97: 5.62 | K97: 0 | L97: 0 | N97: NR | O97: PHN | P97: 0 | R97: 0 | S97: 0 | AS97: 0 | AT97: 0 | AU97: 0 | AV97: 6
B98: 7876652 | C98: 5420010000000 | F98: AROMACEUTIC'S LABIAROM GEL BUC T/5ML | G98: 0.2 | I98: 5.42 | K98: 0 | L98: 0 | N98: NR | O98: PHN | P98: 0 | R98: 0 | S98: 0 | AS98: 0 | AT98: 0 | AU98: 0 | AV98: 6
B99: 7938620 | C99: 5420010000000 | F99: PRANA HE BIO ROMARIN VERBE 5ML | G99: 0.055 | I99: 5.71 | K99: 0 | L99: 0 | N99: NR | O99: PHN | P99: 0 | R99: 0 | S99: 0 | AS99: 0 | AT99: 0 | AU99: 0 | AV99: 3
B100: 7938637 | C100: 5420010000000 | D100: 5420010000000 | F100: PRANA HE BIO MANDARINE 10ML | G100: 0.055 | I100: 5.22 | K100: 0 | L100: 0 | N100: NR | O100: PHN | P100: 0 | R100: 0 | S100: 0 | AS100: 0 | AT100: 0 | AU100: 0 | AV100: 1
B101: 7938643 | C101: 5420010000000 | D101: 5420010000000 | F101: PRANA HE BIO CITRON 10ML | G101: 0.055 | I101: 3.59 | K101: 0 | L101: 0 | N101: NR | O101: PHN | P101: 0 | R101: 0 | S101: 0 | AS101: 0 | AT101: 0 | AU101: 0 | AV101: 3
B102: 7938666 | C102: 5420010000000 | D102: 3401580000000 | E102: 5420010000000 | F102: PRANA HE BIO NIAOULI 10ML | G102: 0.055 | I102: 3.51 | K102: 0 | L102: 0 | N102: NR | O102: PHN | P102: 0 | R102: 0 | S102: 0 | AS102: 0 | AT102: 0 | AU102: 0 | AV102: 3
B103: 7963210 | C103: 5420010000000 | F103: PRANA H MASS NOY ABRI FL/50ML | G103: 0.055 | I103: 3.33 | K103: 0 | L103: 0 | N103: NR | O103: PHN | P103: 0 | R103: 0 | S103: 0 | AS103: 0 | AT103: 0 | AU103: 0 | AV103: 3
B104: 7963227 | C104: 5420010000000 | F104: PRANA HV AMANDE DCE FL 50ML | G104: 0.055 | I104: 3.16 | K104: 0 | L104: 0 | N104: NR | O104: PHN | P104: 0 | R104: 0 | S104: 0 | AS104: 0 | AT104: 0 | AU104: 0 | AV104: 3
B105: 7963233 | C105: 5420010000000 | F105: PRANA HLE MASS BIO ARGAN FL/50ML | G105: 0.055 | I105: 5.13 | K105: 0 | L105: 0 | N105: NR | O105: PHN | P105: 0 | R105: 0 | S105: 0 | AS105: 0 | AT105: 0 | AU105: 0 | AV105: 3
B106: 7963262 | C106: 5420010000000 | F106: PRANA HLE MAS BIO ARNICA 50ML | G106: 0.2 | I106: 9.38 | K106: 0 | L106: 0 | N106: NR | O106: PHN | P106: 0 | R106: 0 | S106: 0 | AS106: 0 | AT106: 0 | AU106: 0 | AV106: 3
B107: 7963279 | C107: 5420010000000 | F107: PRANA HLE MASS BOURRACH FL/50ML | G107: 0.055 | I107: 6.18 | K107: 0 | L107: 0 | N107: NR | O107: PHN | P107: 0 | R107: 0 | S107: 0 | AS107: 0 | AT107: 0 | AU107: 0 | AV107: 3
B108: 7963285 | C108: 5420010000000 | F108: PRANA HE MASS BIO CALENDUL FL/50ML | G108: 0.055 | I108: 5.28 | K108: 0 | L108: 0 | N108: NR | O108: PHN | P108: 0 | R108: 0 | S108: 0 | AS108: 0 | AT108: 0 | AU108: 0 | AV108: 1
B109: 7963291 | C109: 5420010000000 | F109: PRANAROM HLE MASS BIO CALOPHYL FL/50ML | G109: 0.055 | I109: 6.45 | K109: 0 | L109: 0 | N109: NR | O109: PHN | P109: 0 | R109: 0 | S109: 0 | AS109: 0 | AT109: 0 | AU109: 0 | AV109: 3
B110: 7963339 | C110: 5420010000000 | F110: PRANA H MASS GERM BLE FL/50ML | G110: 0.055 | I110: 4.24 | K110: 0 | L110: 0 | N110: NR | O110: PHN | P110: 0 | R110: 0 | S110: 0 | AS110: 0 | AT110: 0 | AU110: 0 | AV110: 3
B111: 7963345 | C111: 5420010000000 | F111: PRANA H MASS JOJOBA FL/50ML | G111: 0.2 | I111: 6.39 | K111: 0 | L111: 0 | N111: NR | O111: PHN | P111: 0 | R111: 0 | S111: 0 | AS111: 0 | AT111: 0 | AU111: 0 | AV111: 3
B112: 7963351 | C112: 5420010000000 | F112: PRANA H MASS BIO MACAD FL/50ML | G112: 0.055 | I112: 4.12 | K112: 0 | L112: 0 | N112: NR | O112: PHN | P112: 0 | R112: 0 | S112: 0 | AS112: 0 | AT112: 0 | AU112: 0 | AV112: 3
B113: 7963368 | C113: 5420010000000 | F113: PRANAROM HLE MASS BIO MILLEPER FL/50ML | G113: 0.055 | I113: 4.99 | K113: 0 | L113: 0 | N113: NR | O113: PHN | P113: 0 | R113: 0 | S113: 0 | AS113: 0 | AT113: 0 | AU113: 0 | AV113: 3
...

Sheet prana
A1: Commentaire | B1: CIP | C1: EAN13 | D1: EAN13_2 | E1: EAN13_3 | F1: Libellé | G1: TVA | H1: Referencement | I1: Prix A HT | J1: Remise1 | K1: Remise2 | L1: Remise3 | M1: PV TTC | N1: Vignette | O1: Code Acte | P1: Prix Base | Q1: Liste | R1: Colisage | S1: UniteCmd | T1: Code Labo | U1: Labo | V1: Labo Adr1 | W1: Labo Adr2 | X1: Labo CP | Y1: Labo Ville | Z1: Labo Tel | AA1: Fou_Fax | AB1: Fou_Email | AC1: Fou_Web | AD1: Fou_DelaiReappro | AE1: Fou_Type | AF1: 171_Tel | AG1: 171_Cmd | AH1: 171_Lvr | AI1: 171_Terminal | AJ1: 171_MFAB | AK1: 171_NSFP | AL1: 171_SI | AM1: 171_Type_Cmd_Suppl | AN1: PML_URL | AO1: PML_URLAux | AP1: PML_CodeRep | AQ1: PML_IDRep | AR1: PML_CodeCle | AS1: QteMin | AT1: QteMin2 | AU1: RemQte2 | AV1: Gabarit
B2: 7753300 | C2: 5420008505454 | F2: PRANA HE RAVINTSARA FL/10ML | G2: 0.055 | I2: 6.62 | J2: 0 | K2: 0 | L2: 0 | M2: 7.15 | N2: NR | O2: PHN | P2: 0 | R2: 0 | S2: 0 | T2: 4036B | U2: PRANAROM INTERNATIONAL | V2: 320077515 | W2: FR 0001814 | Z2: 320077515 | AA2: 320076446 | AD2: 120 | AE2: 2 | AI2: 0 | AO2: TOUJOURS PAR MAIL !!!
A4: PAS DE GESTION RELIQUATS SAUF NOUVEAUTE | D4: 320076446 | E4: 0 | F4: 0 | G4: 0 | H4: 0
B5: 10000085 | C5: 5420008512537 | F5: PRANA HE BIO CITRONELLE MADAGASCAR 10ML | G5: 0.2 | I5: 7.58 | J5: 0.2 | K5: 0 | L5: 0 | M5: 10.95 | N5: NR | O5: PHN | P5: 0 | R5: 0 | S5: 0 | AS5: =IFERROR(OFFSET('VRAC HECT'!$J$6,MATCH(prana!$C7,EAN,0),2),"CodAbs") -> 3 | AT5: 0 | AU5: 0 | AV5: =IFERROR(OFFSET('VRAC HECT'!$J$6,MATCH(prana!$C7,EAN,0),2),"CodAbs") -> 3
B6: 90367 | C6: 5420008500312 | D6: 5420008505829 | F6: PRANA HE SANTAL DES INDES PRANAROM | G6: =IFERROR(OFFSET('VRAC HECT'!$J$6,MATCH(prana!$C6,EAN,0),4),"CodAbs") -> 0.2 | I6: =IFERROR(OFFSET('VRAC HECT'!$J$6,MATCH(prana!$C6,EAN,0),3),"CodAbs") -> 3.78 | J6: 0 | K6: 0 | L6: 0 | M6: 7.1 | N6: NR | O6: PHN | P6: 0 | R6: 0 | S6: 0 | AS6: =IFERROR(OFFSET('VRAC HECT'!$J$6,MATCH(prana!$C8,EAN,0),2),"CodAbs") -> 1 | AT6: 0 | AU6: 0 | AV6: =IFERROR(OFFSET('VRAC HECT'!$J$6,MATCH(prana!$C8,EAN,0),2),"CodAbs") -> 1
B7: 7753091 | C7: 5420008502569 | F7: PRANA HE EUCALYPTUS RADIE 10ML | G7: =IFERROR(OFFSET('VRAC HECT'!$J$6,MATCH(prana!$C7,EAN,0),4),"CodAbs") -> 0.055 | I7: =IFERROR(OFFSET('VRAC HECT'!$J$6,MATCH(prana!$C7,EAN,0),3),"CodAbs") -> 3.16 | J7: 0 | K7: 0 | L7: 0 | M7: 4.1 | N7: NR | O7: PHN | P7: 0 | R7: 0 | S7: 0 | AS7: =IFERROR(OFFSET('VRAC HECT'!$J$6,MATCH(prana!$C9,EAN,0),2),"CodAbs") -> CodAbs | AT7: 0 | AU7: 0 | AV7: =IFERROR(OFFSET('VRAC HECT'!$J$6,MATCH(prana!$C9,EAN,0),2),"CodAbs") -> CodAbs
B8: 1829047905 | C8: 5420008504464 | F8: PRANA HE MYRTE ACETATE DE MYRTENYLE 10ML | G8: =IFERROR(OFFSET('VRAC HECT'!$J$6,MATCH(prana!$C8,EAN,0),4),"CodAbs") -> 0.055 | I8: =IFERROR(OFFSET('VRAC HECT'!$J$6,MATCH(prana!$C8,EAN,0),3),"CodAbs") -> 3.71 | J8: 0 | K8: 0 | L8: 0 | M8: 6.4 | N8: NR | O8: PHN | P8: 0 | R8: 0 | S8: 0 | AS8: =IFERROR(OFFSET('VRAC HECT'!$J$6,MATCH(prana!$C10,EAN,0),2),"CodAbs") -> CodAbs | AT8: 0 | AU8: 0 | AV8: =IFERROR(OFFSET('VRAC HECT'!$J$6,MATCH(prana!$C10,EAN,0),2),"CodAbs") -> CodAbs
B9: 4843735 | C9: 5420008509155 | D9: 3401548437353 | F9: PRANAROM H V BIO CAROTT FV50ML | G9: =IFERROR(OFFSET('VRAC HECT'!$J$6,MATCH(prana!$C9,EAN,0),4),"CodAbs") -> CodAbs | I9: =IFERROR(OFFSET('VRAC HECT'!$J$6,MATCH(prana!$C9,EAN,0),3),"CodAbs") -> CodAbs | J9: 0.2 | K9: 0 | L9: 0 | M9: 5.8 | N9: NR | O9: PHN | P9: 0 | R9: 0 | S9: 0 | AS9: =IFERROR(OFFSET('VRAC HECT'!$J$6,MATCH(prana!$C11,EAN,0),2),"CodAbs") -> CodAbs | AT9: 0 | AU9: 0 | AV9: =IFERROR(OFFSET('VRAC HECT'!$J$6,MATCH(prana!$C11,EAN,0),2),"CodAbs") -> CodAbs
B10: 5179570 | C10: 5420008510724 | D10: 3401551795709 | F10: PRANABB DIFFUS ULTRASONIQUE SPHERA BB | G10: =IFERROR(OFFSET('VRAC HECT'!$J$6,MATCH(prana!$C10,EAN,0),4),"CodAbs") -> CodAbs | I10: =IFERROR(OFFSET('VRAC HECT'!$J$6,MATCH(prana!$C10,EAN,0),3),"CodAbs") -> CodAbs | J10: 0 | K10: 0 | L10: 0 | M10: 65 | N10: NR | O10: PHN | P10: 0 | R10: 0 | S10: 0 | AS10: =IFERROR(OFFSET('VRAC HECT'!$J$6,MATCH(prana!$C12,EAN,0),2),"CodAbs") -> CodAbs | AT10: 0 | AU10: 0 | AV10: =IFERROR(OFFSET('VRAC HECT'!$J$6,MATCH(prana!$C12,EAN,0),2),"CodAbs") -> CodAbs
B11: 5421812 | C11: 5420008511165 | D11: 3401554218120 | F11: AROMAFORCE SPRAY ASSAINIS FL/150ML | G11: =IFERROR(OFFSET('VRAC HECT'!$J$6,MATCH(prana!$C11,EAN,0),4),"CodAbs") -> CodAbs | I11: =IFERROR(OFFSET('VRAC HECT'!$J$6,MATCH(prana!$C11,EAN,0),3),"CodAbs") -> CodAbs | J11: 0 | K11: 0 | L11: 0 | M11: 15.9 | N11: NR | O11: PHN | P11: 0 | R11: 0 | S11: 0 | AS11: =IFERROR(OFFSET('VRAC HECT'!$J$6,MATCH(prana!$C13,EAN,0),2),"CodAbs") -> CodAbs | AT11: 0 | AU11: 0 | AV11: =IFERROR(OFFSET('VRAC HECT'!$J$6,MATCH(prana!$C13,EAN,0),2),"CodAbs") -> CodAbs
B12: 9927655 | C12: 5420008513626 | D12: 3401599276550 | F12: AROMALGIC SPRAY SOL ARTICUL MUSCL 50ML | G12: =IFERROR(OFFSET('VRAC HECT'!$J$6,MATCH(prana!$C12,EAN,0),4),"CodAbs") -> CodAbs | I12: =IFERROR(OFFSET('VRAC HECT'!$J$6,MATCH(prana!$C12,EAN,0),3),"CodAbs") -> CodAbs | J12: 0 | K12: 0 | L12: 0 | M12: 11.84 | N12: NR | O12: PHN | P12: 0 | R12: 0 | S12: 0 | AS12: =IFERROR(OFFSET('VRAC HECT'!$J$6,MATCH(prana!$C14,EAN,0),2),"CodAbs") -> 1 | AT12: 0 | AU12: 0 | AV12: =IFERROR(OFFSET('VRAC HECT'!$J$6,MATCH(prana!$C14,EAN,0),2),"CodAbs") -> 1
B13: 7846450 | C13: 5420008525322 | F13: AROMAGOM GOM B/24 | G13: =IFERROR(OFFSET('VRAC HECT'!$J$6,MATCH(prana!$C13,EAN,0),4),"CodAbs") -> CodAbs | I13: =IFERROR(OFFSET('VRAC HECT'!$J$6,MATCH(prana!$C13,EAN,0),3),"CodAbs") -> CodAbs | J13: 0 | K13: 0 | L13: 0 | M13: 4.33 | N13: NR | O13: PHN | P13: 0 | R13: 0 | S13: 0 | AS13: =IFERROR(OFFSET('VRAC HECT'!$J$6,MATCH(prana!$C15,EAN,0),2),"CodAbs") -> 1 | AT13: 0 | AU13: 0 | AV13: =IFERROR(OFFSET('VRAC HECT'!$J$6,MATCH(prana!$C15,EAN,0),2),"CodAbs") -> 1
B14: 81580 | C14: 5420008506826 | F14: PRANA HE BIO CANNELIER CHINE | G14: =IFERROR(OFFSET('VRAC HECT'!$J$6,MATCH(prana!$C14,EAN,0),4),"CodAbs") -> 0.055 | I14: =IFERROR(OFFSET('VRAC HECT'!$J$6,MATCH(prana!$C14,EAN,0),3),"CodAbs") -> 3.47 | J14: 0.2 | K14: 0 | L14: 0 | M14: 5.5 | N14: NR | O14: PHN | P14: 0 | Q14: 2 | R14: 0 | S14: 0 | AS14: =IFERROR(OFFSET('VRAC HECT'!$J$6,MATCH(prana!$C16,EAN,0),2),"CodAbs") -> 3 | AT14: 0 | AU14: 0 | AV14: =IFERROR(OFFSET('VRAC HECT'!$J$6,MATCH(prana!$C16,EAN,0),2),"CodAbs") -> 3
B15: 81634 | C15: 5420008581908 | D15: 5420008502873 | F15: PRANA HE BIO LAVANDIN SUPER 10ML | G15: =IFERROR(OFFSET('VRAC HECT'!$J$6,MATCH(prana!$C15,EAN,0),4),"CodAbs") -> 0.055 | I15: =IFERROR(OFFSET('VRAC HECT'!$J$6,MATCH(prana!$C15,EAN,0),3),"CodAbs") -> 3.53 | J15: 0.2 | K15: 0 | L15: 0 | M15: 5.5 | N15: NR | O15: PHN | P15: 0 | R15: 0 | S15: 0 | AS15: =IFERROR(OFFSET('VRAC HECT'!$J$6,MATCH(prana!$C17,EAN,0),2),"CodAbs") -> 1 | AT15: 0 | AU15: 0 | AV15: =IFERROR(OFFSET('VRAC HECT'!$J$6,MATCH(prana!$C17,EAN,0),2),"CodAbs") -> 1
B16: 82537 | C16: 5420008507212 | F16: PRANA HE BIO CITRONELLE DE JAVA 10ML | G16: =IFERROR(OFFSET('VRAC HECT'!$J$6,MATCH(prana!$C16,EAN,0),4),"CodAbs") -> 0.055 | I16: =IFERROR(OFFSET('VRAC HECT'!$J$6,MATCH(prana!$C16,EAN,0),3),"CodAbs") -> 2.63 | J16: 0.2 | K16: 0 | L16: 0 | M16: 3.95 | N16: NR | O16: PHN | P16: 0 | R16: 0 | S16: 0 | AS16: =IFERROR(OFFSET('VRAC HECT'!$J$6,MATCH(prana!$C18,EAN,0),2),"CodAbs") -> 1 | AT16: 0 | AU16: 0 | AV16: =IFERROR(OFFSET('VRAC HECT'!$J$6,MATCH(prana!$C18,EAN,0),2),"CodAbs") -> 1
B17: 82538 | C17: 5420008508783 | F17: PRANA HE BIO GINGEMBRE 5ML | G17: =IFERROR(OFFSET('VRAC HECT'!$J$6,MATCH(prana!$C17,EAN,0),4),"CodAbs") -> 0.055 | I17: =IFERROR(OFFSET('VRAC HECT'!$J$6,MATCH(prana!$C17,EAN,0),3),"CodAbs") -> 5.12 | J17: 0.2 | K17: 0 | L17: 0 | M17: 7.95 | N17: NR | O17: PHN | P17: 0 | R17: 0 | S17: 0 | AS17: =IFERROR(OFFSET('VRAC HECT'!$J$6,MATCH(prana!$C19,EAN,0),2),"CodAbs") -> 1 | AT17: 0 | AU17: 0 | AV17: =IFERROR(OFFSET('VRAC HECT'!$J$6,MATCH(prana!$C19,EAN,0),2),"CodAbs") -> 1
B18: 82539 | C18: 5420008503245 | F18: PRANA HE CEDRE DE VIRGINIE 10ML | G18: =IFERROR(OFFSET('VRAC HECT'!$J$6,MATCH(prana!$C18,EAN,0),4),"CodAbs") -> 0.2 | I18: =IFERROR(OFFSET('VRAC HECT'!$J$6,MATCH(prana!$C18,EAN,0),3),"CodAbs") -> 2.78 | J18: 0.2 | K18: 0 | L18: 0 | M18: 4.5 | N18: NR | O18: PHN | P18: 0 | R18: 0 | S18: 0 | AS18: =IFERROR(OFFSET('VRAC HECT'!$J$6,MATCH(prana!$C20,EAN,0),2),"CodAbs") -> 1 | AT18: 0 | AU18: 0 | AV18: =IFERROR(OFFSET('VRAC HECT'!$J$6,MATCH(prana!$C20,EAN,0),2),"CodAbs") -> 1
B19: 85463 | C19: 5420008500237 | F19: PRANA HE AIL 5ML | G19: =IFERROR(OFFSET('VRAC HECT'!$J$6,MATCH(prana!$C19,EAN,0),4),"CodAbs") -> 0.055 | I19: =IFERROR(OFFSET('VRAC HECT'!$J$6,MATCH(prana!$C19,EAN,0),3),"CodAbs") -> 4.08 | J19: 0.2 | K19: 0 | L19: 0 | M19: 6.5 | N19: NR | O19: PHN | P19: 0 | R19: 0 | S19: 0 | AS19: =IFERROR(OFFSET('VRAC HECT'!$J$6,MATCH(prana!$C21,EAN,0),2),"CodAbs") -> 1 | AT19: 0 | AU19: 0 | AV19: =IFERROR(OFFSET('VRAC HECT'!$J$6,MATCH(prana!$C21,EAN,0),2),"CodAbs") -> 1
B20: 85464 | C20: 5420008501944 | F20: PRANA HE BAUME DE COPAHU 10ML | G20: =IFERROR(OFFSET('VRAC HECT'!$J$6,MATCH(prana!$C20,EAN,0),4),"CodAbs") -> 0.055 | I20: =IFERROR(OFFSET('VRAC HECT'!$J$6,MATCH(prana!$C20,EAN,0),3),"CodAbs") -> 3.65 | J20: 0.2 | K20: 0 | L20: 0 | M20: 5.95 | N20: NR | O20: PHN | P20: 0 | R20: 0 | S20: 0 | AS20: =IFERROR(OFFSET('VRAC HECT'!$J$6,MATCH(prana!$C22,EAN,0),2),"CodAbs") -> 1 | AT20: 0 | AU20: 0 | AV20: =IFERROR(OFFSET('VRAC HECT'!$J$6,MATCH(prana!$C22,EAN,0),2),"CodAbs") -> 1
B21: 86047 | C21: 5420008505171 | F21: PRANA HE BAY PIMENT 10ML | G21: =IFERROR(OFFSET('VRAC HECT'!$J$6,MATCH(prana!$C21,EAN,0),4),"CodAbs") -> 0.2 | I21: =IFERROR(OFFSET('VRAC HECT'!$J$6,MATCH(prana!$C21,EAN,0),3),"CodAbs") -> 5.92 | J21: 0.2 | K21: 0 | L21: 0 | M21: 9.8 | N21: NR | O21: PHN | P21: 0 | R21: 3 | S21: 0 | AS21: =IFERROR(OFFSET('VRAC HECT'!$J$6,MATCH(prana!$C23,EAN,0),2),"CodAbs") -> 1 | AT21: 0 | AU21: 0 | AV21: =IFERROR(OFFSET('VRAC HECT'!$J$6,MATCH(prana!$C23,EAN,0),2),"CodAbs") -> 1
B22: 86944 | C22: 5420008507403 | F22: PRANA HE BIO GAULTHERIE ODORANTE 5ML | G22: =IFERROR(OFFSET('VRAC HECT'!$J$6,MATCH(prana!$C22,EAN,0),4),"CodAbs") -> 0.2 | I22: =IFERROR(OFFSET('VRAC HECT'!$J$6,MATCH(prana!$C22,EAN,0),3),"CodAbs") -> 3.58 | J22: 0.2 | K22: 0 | L22: 0 | M22: 5.5 | N22: NR | O22: PHN | P22: 0 | R22: 0 | S22: 0 | AS22: =IFERROR(OFFSET('VRAC HECT'!$J$6,MATCH(prana!$C24,EAN,0),2),"CodAbs") -> 1 | AT22: 0 | AU22: 0 | AV22: =IFERROR(OFFSET('VRAC HECT'!$J$6,MATCH(prana!$C24,EAN,0),2),"CodAbs") -> 1
B23: 86945 | C23: 5420008504297 | F23: PRANA HE MENTHE POULIOT 10ML | G23: =IFERROR(OFFSET('VRAC HECT'!$J$6,MATCH(prana!$C23,EAN,0),4),"CodAbs") -> 0.2 | I23: =IFERROR(OFFSET('VRAC HECT'!$J$6,MATCH(prana!$C23,EAN,0),3),"CodAbs") -> 3.71 | J23: 0.2 | K23: 0 | L23: 0 | M23: 5.95 | N23: NR | O23: PHN | P23: 0 | R23: 0 | S23: 0 | AS23: =IFERROR(OFFSET('VRAC HECT'!$J$6,MATCH(prana!$C25,EAN,0),2),"CodAbs") -> 1 | AT23: 0 | AU23: 0 | AV23: =IFERROR(OFFSET('VRAC HECT'!$J$6,MATCH(prana!$C25,EAN,0),2),"CodAbs") -> 1
B24: 88096 | C24: 5420008503009 | F24: PRANA HE HYSOPE COUCHEE | G24: =IFERROR(OFFSET('VRAC HECT'!$J$6,MATCH(prana!$C24,EAN,0),4),"CodAbs") -> 0.055 | I24: =IFERROR(OFFSET('VRAC HECT'!$J$6,MATCH(prana!$C24,EAN,0),3),"CodAbs") -> 14.89 | J24: 0.2 | K24: 0 | L24: 0 | M24: 22.95 | N24: NR | O24: PHN | P24: 0 | R24: 0 | S24: 0 | AS24: =IFERROR(OFFSET('VRAC HECT'!$J$6,MATCH(prana!$C26,EAN,0),2),"CodAbs") -> CodAbs | AT24: 0 | AU24: 0 | AV24: =IFERROR(OFFSET('VRAC HECT'!$J$6,MATCH(prana!$C26,EAN,0),2),"CodAbs") -> CodAbs
B25: 636100 | C25: 5420008524356 | F25: PRANA HE BIO MYRTE CINEOLE 5ML | G25: =IFERROR(OFFSET('VRAC HECT'!$J$6,MATCH(prana!$C25,EAN,0),4),"CodAbs") -> 0.055 | I25: =IFERROR(OFFSET('VRAC HECT'!$J$6,MATCH(prana!$C25,EAN,0),3),"CodAbs") -> 9.01 | J25: 0.2 | K25: 0 | L25: 0 | M25: 2.02 | N25: NR | O25: PHN | P25: 0 | R25: 0 | S25: 0 | AS25: =IFERROR(OFFSET('VRAC HECT'!$J$6,MATCH(prana!$C27,EAN,0),2),"CodAbs") -> 1 | AT25: 0 | AU25: 0 | AV25: =IFERROR(OFFSET('VRAC HECT'!$J$6,MATCH(prana!$C27,EAN,0),2),"CodAbs") -> 1
B26: 2101053 | C26: 4042809507737 | D26: 3401521010535 | E26: 5420008577673 | F26: PRANA HE BIO CEDRE ATLAS 10ML | G26: =IFERROR(OFFSET('VRAC HECT'!$J$6,MATCH(prana!$C26,EAN,0),4),"CodAbs") -> CodAbs | I26: =IFERROR(OFFSET('VRAC HECT'!$J$6,MATCH(prana!$C26,EAN,0),3),"CodAbs") -> CodAbs | J26: 0.2 | K26: 0 | L26: 0 | M26: 4.95 | N26: NR | O26: PHN | P26: 29.78 | R26: 0 | S26: 100 | AS26: =IFERROR(OFFSET('VRAC HECT'!$J$6,MATCH(prana!$C28,EAN,0),2),"CodAbs") -> 1 | AT26: 0 | AU26: 0 | AV26: =IFERROR(OFFSET('VRAC HECT'!$J$6,MATCH(prana!$C28,EAN,0),2),"CodAbs") -> 1
B27: 2162155 | C27: 5420008512612 | D27: 5420008504945 | F27: PRANA HE BIO GERANIUM BOURBON 10ML | G27: =IFERROR(OFFSET('VRAC HECT'!$J$6,MATCH(prana!$C27,EAN,0),4),"CodAbs") -> 0.055 | I27: =IFERROR(OFFSET('VRAC HECT'!$J$6,MATCH(prana!$C27,EAN,0),3),"CodAbs") -> 14.81 | J27: 0.2 | K27: 0 | L27: 0 | M27: 20.95 | N27: NR | O27: PHN | P27: 0 | R27: 0 | S27: 0 | AS27: =IFERROR(OFFSET('VRAC HECT'!$J$6,MATCH(prana!$C29,EAN,0),2),"CodAbs") -> 1 | AT27: 0 | AU27: 0 | AV27: =IFERROR(OFFSET('VRAC HECT'!$J$6,MATCH(prana!$C29,EAN,0),2),"CodAbs") -> 1
B28: 2258748 | C28: 5420008508004 | F28: PRANA HE BIO MARJOLAINE COQUILLE 5ML | G28: =IFERROR(OFFSET('VRAC HECT'!$J$6,MATCH(prana!$C28,EAN,0),4),"CodAbs") -> 0.055 | I28: =IFERROR(OFFSET('VRAC HECT'!$J$6,MATCH(prana!$C28,EAN,0),3),"CodAbs") -> 6.23 | J28: 0.2 | K28: 0 | L28: 0 | M28: 9.5 | N28: NR | O28: PHN | P28: 0 | R28: 0 | S28: 0 | AS28: =IFERROR(OFFSET('VRAC HECT'!$J$6,MATCH(prana!$C30,EAN,0),2),"CodAbs") -> CodAbs | AT28: 0 | AU28: 0 | AV28: =IFERROR(OFFSET('VRAC HECT'!$J$6,MATCH(prana!$C30,EAN,0),2),"CodAbs") -> CodAbs
B29: 2341053 | C29: 5420008501432 | F29: PRANA HE BIO NEROLI 5ML | G29: =IFERROR(OFFSET('VRAC HECT'!$J$6,MATCH(prana!$C29,EAN,0),4),"CodAbs") -> 0.055 | I29: =IFERROR(OFFSET('VRAC HECT'!$J$6,MATCH(prana!$C29,EAN,0),3),"CodAbs") -> 31.47 | J29: 0.2 | K29: 0 | L29: 0 | M29: 44.95 | N29: NR | O29: PHN | P29: 0 | R29: 0 | S29: 0 | AS29: =IFERROR(OFFSET('VRAC HECT'!$J$6,MATCH(prana!$C31,EAN,0),2),"CodAbs") -> 1 | AT29: 0 | AU29: 0 | AV29: =IFERROR(OFFSET('VRAC HECT'!$J$6,MATCH(prana!$C31,EAN,0),2),"CodAbs") -> 1
B30: 2552867 | C30: 5420008596582 | D30: 3401325528670 | F30: AROMAPAR SHAMP+LOTIO 125ML+30ML | G30: =IFERROR(OFFSET('VRAC HECT'!$J$6,MATCH(prana!$C30,EAN,0),4),"CodAbs") -> CodAbs | I30: =IFERROR(OFFSET('VRAC HECT'!$J$6,MATCH(prana!$C30,EAN,0),3),"CodAbs") -> CodAbs | J30: 0 | K30: 0 | L30: 0 | M30: 16.95 | N30: NR | O30: PHN | P30: 0 | R30: 0 | S30: 0 | AS30: =IFERROR(OFFSET('VRAC HECT'!$J$6,MATCH(prana!$C32,EAN,0),2),"CodAbs") -> CodAbs | AT30: 0 | AU30: 0 | AV30: =IFERROR(OFFSET('VRAC HECT'!$J$6,MATCH(prana!$C32,EAN,0),2),"CodAbs") -> CodAbs
B31: 2677050 | C31: 5420008507267 | F31: PRANA HE BIO EUCALYT CITRIODORA 10ML | G31: =IFERROR(OFFSET('VRAC HECT'!$J$6,MATCH(prana!$C31,EAN,0),4),"CodAbs") -> 0.055 | I31: =IFERROR(OFFSET('VRAC HECT'!$J$6,MATCH(prana!$C31,EAN,0),3),"CodAbs") -> 2.93 | J31: 0.2 | K31: 0 | L31: 0 | M31: 4.5 | N31: NR | O31: PHN | P31: 0 | R31: 0 | S31: 0 | AS31: =IFERROR(OFFSET('VRAC HECT'!$J$6,MATCH(prana!$C33,EAN,0),2),"CodAbs") -> CodAbs | AT31: 0 | AU31: 0 | AV31: =IFERROR(OFFSET('VRAC HECT'!$J$6,MATCH(prana!$C33,EAN,0),2),"CodAbs") -> CodAbs
B32: 3254250 | C32: 3400932542505 | D32: 5420008524325 | F32: PRANA HE BIO GENEVRIER COMMUN 5ML | G32: =IFERROR(OFFSET('VRAC HECT'!$J$6,MATCH(prana!$C32,EAN,0),4),"CodAbs") -> CodAbs | I32: =IFERROR(OFFSET('VRAC HECT'!$J$6,MATCH(prana!$C32,EAN,0),3),"CodAbs") -> CodAbs | J32: 0.2 | K32: 0 | L32: 0 | M32: 13.95 | N32: NR | O32: PHN | P32: 0 | R32: 0 | S32: 0 | AS32: =IFERROR(OFFSET('VRAC HECT'!$J$6,MATCH(prana!$C34,EAN,0),2),"CodAbs") -> 1 | AT32: 0 | AU32: 0 | AV32: =IFERROR(OFFSET('VRAC HECT'!$J$6,MATCH(prana!$C34,EAN,0),2),"CodAbs") -> 1
B33: 3401231 | C33: 3400934012310 | D33: 5420008504495 | E33: 5420008507922 | F33: PRANA HE NARD DE L HIMALAYA BIO 10ML | G33: =IFERROR(OFFSET('VRAC HECT'!$J$6,MATCH(prana!$C33,EAN,0),4),"CodAbs") -> CodAbs | I33: =IFERROR(OFFSET('VRAC HECT'!$J$6,MATCH(prana!$C33,EAN,0),3),"CodAbs") -> CodAbs | J33: 0.2 | K33: 0 | L33: 0 | M33: 13.95 | N33: NR | O33: PHN | P33: 0 | R33: 0 | S33: 0 | AS33: =IFERROR(OFFSET('VRAC HECT'!$J$6,MATCH(prana!$C35,EAN,0),2),"CodAbs") -> 3 | AT33: 0 | AU33: 0 | AV33: =IFERROR(OFFSET('VRAC HECT'!$J$6,MATCH(prana!$C35,EAN,0),2),"CodAbs") -> 3
B34: 4244259 | C34: 5420008524424 | D34: 3401542442599 | F34: PRANA HE BIO CLOU GIROFLE 10ML | G34: =IFERROR(OFFSET('VRAC HECT'!$J$6,MATCH(prana!$C34,EAN,0),4),"CodAbs") -> 0.055 | I34: =IFERROR(OFFSET('VRAC HECT'!$J$6,MATCH(prana!$C34,EAN,0),3),"CodAbs") -> 3.37 | J34: 0.2 | K34: 0 | L34: 0 | M34: 5.1 | N34: NR | O34: PHN | P34: 0 | R34: 0 | S34: 0 | AS34: =IFERROR(OFFSET('VRAC HECT'!$J$6,MATCH(prana!$C36,EAN,0),2),"CodAbs") -> 1 | AT34: 0 | AU34: 0 | AV34: =IFERROR(OFFSET('VRAC HECT'!$J$6,MATCH(prana!$C36,EAN,0),2),"CodAbs") -> 1
B35: 4310105 | C35: 5420008584831 | F35: PRANA HE BOIS DE HO | G35: =IFERROR(OFFSET('VRAC HECT'!$J$6,MATCH(prana!$C35,EAN,0),4),"CodAbs") -> 0.055 | I35: =IFERROR(OFFSET('VRAC HECT'!$J$6,MATCH(prana!$C35,EAN,0),3),"CodAbs") -> 4.19 | J35: 0.2 | K35: 0 | L35: 0 | M35: 6.5 | N35: NR | O35: PHN | P35: 0 | R35: 0 | S35: 0 | AS35: =IFERROR(OFFSET('VRAC HECT'!$J$6,MATCH(prana!$C37,EAN,0),2),"CodAbs") -> CodAbs | AT35: 0 | AU35: 0 | AV35: =IFERROR(OFFSET('VRAC HECT'!$J$6,MATCH(prana!$C37,EAN,0),2),"CodAbs") -> CodAbs
B36: 4375352 | C36: 5420008535734 | D36: 3401543753526 | F36: PRANA HE BIO INULE 5ML | G36: =IFERROR(OFFSET('VRAC HECT'!$J$6,MATCH(prana!$C36,EAN,0),4),"CodAbs") -> 0.2 | I36: =IFERROR(OFFSET('VRAC HECT'!$J$6,MATCH(prana!$C36,EAN,0),3),"CodAbs") -> 20.81 | J36: 0.2 | K36: 0 | L36: 0 | M36: 31.5 | N36: NR | O36: PHN | P36: 0 | R36: 0 | S36: 0 | AS36: =IFERROR(OFFSET('VRAC HECT'!$J$6,MATCH(prana!$C38,EAN,0),2),"CodAbs") -> CodAbs | AT36: 0 | AU36: 0 | AV36: =IFERROR(OFFSET('VRAC HECT'!$J$6,MATCH(prana!$C38,EAN,0),2),"CodAbs") -> CodAbs
B37: 4493318 | C37: 5420008590627 | F37: OLEOCAPS 1 NEZ | G37: =IFERROR(OFFSET('VRAC HECT'!$J$6,MATCH(prana!$C37,EAN,0),4),"CodAbs") -> CodAbs | I37: =IFERROR(OFFSET('VRAC HECT'!$J$6,MATCH(prana!$C37,EAN,0),3),"CodAbs") -> CodAbs | J37: 0 | K37: 0 | L37: 0 | M37: 9.9 | N37: NR | O37: PHN | P37: 0 | R37: 0 | S37: 0 | AS37: =IFERROR(OFFSET('VRAC HECT'!$J$6,MATCH(prana!$C39,EAN,0),2),"CodAbs") -> CodAbs | AT37: 0 | AU37: 0 | AV37: =IFERROR(OFFSET('VRAC HECT'!$J$6,MATCH(prana!$C39,EAN,0),2),"CodAbs") -> CodAbs
B38: 4493324 | C38: 5420008597459 | F38: OLEOCAPS 2 GASTRO VOIES URINAIRES | G38: =IFERROR(OFFSET('VRAC HECT'!$J$6,MATCH(prana!$C38,EAN,0),4),"CodAbs") -> CodAbs | I38: =IFERROR(OFFSET('VRAC HECT'!$J$6,MATCH(prana!$C38,EAN,0),3),"CodAbs") -> CodAbs | J38: 0 | K38: 0 | L38: 0 | M38: 10.5 | N38: NR | O38: PHN | P38: 0 | R38: 0 | S38: 0 | AS38: =IFERROR(OFFSET('VRAC HECT'!$J$6,MATCH(prana!$C40,EAN,0),2),"CodAbs") -> CodAbs | AT38: 0 | AU38: 0 | AV38: =IFERROR(OFFSET('VRAC HECT'!$J$6,MATCH(prana!$C40,EAN,0),2),"CodAbs") -> CodAbs
B39: 4493330 | C39: 5420008577079 | F39: OLEOCAPS 3 DIGESTION | G39: =IFERROR(OFFSET('VRAC HECT'!$J$6,MATCH(prana!$C39,EAN,0),4),"CodAbs") -> CodAbs | I39: =IFERROR(OFFSET('VRAC HECT'!$J$6,MATCH(prana!$C39,EAN,0),3),"CodAbs") -> CodAbs | J39: 0 | K39: 0 | L39: 0 | M39: 10.5 | N39: NR | O39: PHN | P39: 0 | R39: 0 | S39: 0 | AS39: =IFERROR(OFFSET('VRAC HECT'!$J$6,MATCH(prana!$C41,EAN,0),2),"CodAbs") -> CodAbs | AT39: 0 | AU39: 0 | AV39: =IFERROR(OFFSET('VRAC HECT'!$J$6,MATCH(prana!$C41,EAN,0),2),"CodAbs") -> CodAbs
B40: 4493347 | C40: 5420008585968 | F40: OLEOCAPS 4 DEFENSES | G40: =IFERROR(OFFSET('VRAC HECT'!$J$6,MATCH(prana!$C40,EAN,0),4),"CodAbs") -> CodAbs | I40: =IFERROR(OFFSET('VRAC HECT'!$J$6,MATCH(prana!$C40,EAN,0),3),"CodAbs") -> CodAbs | J40: 0 | K40: 0 | L40: 0 | M40: 10.5 | N40: NR | O40: PHN | P40: 0 | R40: 0 | S40: 0 | AS40: =IFERROR(OFFSET('VRAC HECT'!$J$6,MATCH(prana!$C42,EAN,0),2),"CodAbs") -> CodAbs | AT40: 0 | AU40: 0 | AV40: =IFERROR(OFFSET('VRAC HECT'!$J$6,MATCH(prana!$C42,EAN,0),2),"CodAbs") -> CodAbs
B41: 4493353 | C41: 5420008585975 | F41: OLEOCAPS 5 GYNECO | G41: =IFERROR(OFFSET('VRAC HECT'!$J$6,MATCH(prana!$C41,EAN,0),4),"CodAbs") -> CodAbs | I41: =IFERROR(OFFSET('VRAC HECT'!$J$6,MATCH(prana!$C41,EAN,0),3),"CodAbs") -> CodAbs | J41: 0 | K41: 0 | L41: 0 | M41: 10.5 | N41: NR | O41: PHN | P41: 0 | R41: 0 | S41: 0 | AS41: =IFERROR(OFFSET('VRAC HECT'!$J$6,MATCH(prana!$C43,EAN,0),2),"CodAbs") -> CodAbs | AT41: 0 | AU41: 0 | AV41: =IFERROR(OFFSET('VRAC HECT'!$J$6,MATCH(prana!$C43,EAN,0),2),"CodAbs") -> CodAbs
B42: 4493376 | C42: 5420008595646 | F42: OLEOCAPS 6 CIRCULATION | G42: =IFERROR(OFFSET('VRAC HECT'!$J$6,MATCH(prana!$C42,EAN,0),4),"CodAbs") -> CodAbs | I42: =IFERROR(OFFSET('VRAC HECT'!$J$6,MATCH(prana!$C42,EAN,0),3),"CodAbs") -> CodAbs | J42: 0 | K42: 0 | L42: 0 | M42: 10.5 | N42: NR | O42: PHN | P42: 0 | R42: 0 | S42: 0 | AS42: =IFERROR(OFFSET('VRAC HECT'!$J$6,MATCH(prana!$C44,EAN,0),2),"CodAbs") -> CodAbs | AT42: 0 | AU42: 0 | AV42: =IFERROR(OFFSET('VRAC HECT'!$J$6,MATCH(prana!$C44,EAN,0),2),"CodAbs") -> CodAbs
B43: 4493382 | C43: 5420008594373 | F43: OLEOCAPS 7 STRESS | G43: =IFERROR(OFFSET('VRAC HECT'!$J$6,MATCH(prana!$C43,EAN,0),4),"CodAbs") -> CodAbs | I43: =IFERROR(OFFSET('VRAC HECT'!$J$6,MATCH(prana!$C43,EAN,0),3),"CodAbs") -> CodAbs | J43: 0 | K43: 0 | L43: 0 | M43: 10.5 | N43: NR | O43: PHN | P43: 0 | R43: 0 | S43: 0 | AS43: =IFERROR(OFFSET('VRAC HECT'!$J$6,MATCH(prana!$C45,EAN,0),2),"CodAbs") -> CodAbs | AT43: 0 | AU43: 0 | AV43: =IFERROR(OFFSET('VRAC HECT'!$J$6,MATCH(prana!$C45,EAN,0),2),"CodAbs") -> CodAbs
B44: 4493399 | C44: 5420008598210 | F44: OLEOCAPS 8 DETOX | G44: =IFERROR(OFFSET('VRAC HECT'!$J$6,MATCH(prana!$C44,EAN,0),4),"CodAbs") -> CodAbs | I44: =IFERROR(OFFSET('VRAC HECT'!$J$6,MATCH(prana!$C44,EAN,0),3),"CodAbs") -> CodAbs | J44: 0 | K44: 0 | L44: 0 | M44: 10.5 | N44: NR | O44: PHN | P44: 0 | R44: 0 | S44: 0 | AS44: =IFERROR(OFFSET('VRAC HECT'!$J$6,MATCH(prana!$C46,EAN,0),2),"CodAbs") -> CodAbs | AT44: 0 | AU44: 0 | AV44: =IFERROR(OFFSET('VRAC HECT'!$J$6,MATCH(prana!$C46,EAN,0),2),"CodAbs") -> CodAbs
B45: 4679342 | C45: 5420008550737 | D45: 3401546793420 | F45: FONGIAROM HLE ESS ONG PIED SENS | G45: =IFERROR(OFFSET('VRAC HECT'!$J$6,MATCH(prana!$C45,EAN,0),4),"CodAbs") -> CodAbs | I45: =IFERROR(OFFSET('VRAC HECT'!$J$6,MATCH(prana!$C45,EAN,0),3),"CodAbs") -> CodAbs | J45: 0 | K45: 0 | L45: 0 | M45: 9.95 | N45: NR | O45: PHN | P45: 0 | R45: 0 | S45: 0 | AS45: =IFERROR(OFFSET('VRAC HECT'!$J$6,MATCH(prana!$C47,EAN,0),2),"CodAbs") -> CodAbs | AT45: 0 | AU45: 0 | AV45: =IFERROR(OFFSET('VRAC HECT'!$J$6,MATCH(prana!$C47,EAN,0),2),"CodAbs") -> CodAbs
B46: 4679359 | C46: 5420008557996 | D46: 3401546793598 | F46: PIQUAROM HLE ESS BON GEST PIQ 10 | G46: =IFERROR(OFFSET('VRAC HECT'!$J$6,MATCH(prana!$C46,EAN,0),4),"CodAbs") -> CodAbs | I46: =IFERROR(OFFSET('VRAC HECT'!$J$6,MATCH(prana!$C46,EAN,0),3),"CodAbs") -> CodAbs | J46: 0 | K46: 0 | L46: 0 | M46: 9.95 | N46: NR | O46: PHN | P46: 0 | R46: 0 | S46: 0 | AS46: =IFERROR(OFFSET('VRAC HECT'!$J$6,MATCH(prana!$C48,EAN,0),2),"CodAbs") -> CodAbs | AT46: 0 | AU46: 0 | AV46: =IFERROR(OFFSET('VRAC HECT'!$J$6,MATCH(prana!$C48,EAN,0),2),"CodAbs") -> CodAbs
B47: 4679365 | C47: 5420008512476 | D47: 3401546793659 | F47: TRAUMAROM HLE ESS COUP BL CONT 1 | G47: =IFERROR(OFFSET('VRAC HECT'!$J$6,MATCH(prana!$C47,EAN,0),4),"CodAbs") -> CodAbs | I47: =IFERROR(OFFSET('VRAC HECT'!$J$6,MATCH(prana!$C47,EAN,0),3),"CodAbs") -> CodAbs | J47: 0 | K47: 0 | L47: 0 | M47: 9.95 | N47: NR | O47: PHN | P47: 0 | R47: 0 | S47: 0 | AS47: =IFERROR(OFFSET('VRAC HECT'!$J$6,MATCH(prana!$C49,EAN,0),2),"CodAbs") -> CodAbs | AT47: 0 | AU47: 0 | AV47: =IFERROR(OFFSET('VRAC HECT'!$J$6,MATCH(prana!$C49,EAN,0),2),"CodAbs") -> CodAbs
B48: 4697311 | C48: 5420008513732 | D48: 3401546973112 | F48: AROMAFORCE LOT FRICTION FL/5ML | G48: =IFERROR(OFFSET('VRAC HECT'!$J$6,MATCH(prana!$C48,EAN,0),4),"CodAbs") -> CodAbs | I48: =IFERROR(OFFSET('VRAC HECT'!$J$6,MATCH(prana!$C48,EAN,0),3),"CodAbs") -> CodAbs | J48: 0 | K48: 0 | L48: 0 | M48: 4.5 | N48: NR | O48: PHN | P48: 0 | R48: 0 | S48: 0 | AS48: =IFERROR(OFFSET('VRAC HECT'!$J$6,MATCH(prana!$C50,EAN,0),2),"CodAbs") -> 3 | AT48: 0 | AU48: 0 | AV48: =IFERROR(OFFSET('VRAC HECT'!$J$6,MATCH(prana!$C50,EAN,0),2),"CodAbs") -> 3
B49: 4697328 | C49: 5420008520822 | D49: 3401546973280 | F49: AROMAFORCE LOT PURIF L'ATMOSPH SPR/30ML | G49: =IFERROR(OFFSET('VRAC HECT'!$J$6,MATCH(prana!$C49,EAN,0),4),"CodAbs") -> CodAbs | I49: =IFERROR(OFFSET('VRAC HECT'!$J$6,MATCH(prana!$C49,EAN,0),3),"CodAbs") -> CodAbs | J49: 0 | K49: 0 | L49: 0 | M49: 9.7 | N49: NR | O49: PHN | P49: 0 | R49: 0 | S49: 0 | AS49: =IFERROR(OFFSET('VRAC HECT'!$J$6,MATCH(prana!$C51,EAN,0),2),"CodAbs") -> 3 | AT49: 0 | AU49: 0 | AV49: =IFERROR(OFFSET('VRAC HECT'!$J$6,MATCH(prana!$C51,EAN,0),2),"CodAbs") -> 3
B50: 4702408 | C50: 5420008533648 | D50: 3401547024080 | F50: PRANA HE BIO ROMARIN CT CINEOLE 10ML | G50: =IFERROR(OFFSET('VRAC HECT'!$J$6,MATCH(prana!$C50,EAN,0),4),"CodAbs") -> 0.055 | I50: =IFERROR(OFFSET('VRAC HECT'!$J$6,MATCH(prana!$C50,EAN,0),3),"CodAbs") -> 3.9 | J50: 0.2 | K50: 0 | L50: 0 | M50: 5.5 | N50: NR | O50: PHN | P50: 0 | R50: 0 | S50: 0 | AS50: =IFERROR(OFFSET('VRAC HECT'!$J$6,MATCH(prana!$C52,EAN,0),2),"CodAbs") -> 3 | AT50: 0 | AU50: 0 | AV50: =IFERROR(OFFSET('VRAC HECT'!$J$6,MATCH(prana!$C52,EAN,0),2),"CodAbs") -> 3
B51: 4702420 | C51: 5420008524400 | D51: 3401547024202 | F51: PRANA HE BIO RAVINTSARA FL/10ML | G51: =IFERROR(OFFSET('VRAC HECT'!$J$6,MATCH(prana!$C51,EAN,0),4),"CodAbs") -> 0.055 | I51: =IFERROR(OFFSET('VRAC HECT'!$J$6,MATCH(prana!$C51,EAN,0),3),"CodAbs") -> 6.82 | J51: 0.2 | K51: 0 | L51: 0 | M51: 9.5 | N51: NR | O51: PHN | P51: 0 | R51: 0 | S51: 0 | AS51: =IFERROR(OFFSET('VRAC HECT'!$J$6,MATCH(prana!$C53,EAN,0),2),"CodAbs") -> 3 | AT51: 0 | AU51: 0 | AV51: =IFERROR(OFFSET('VRAC HECT'!$J$6,MATCH(prana!$C53,EAN,0),2),"CodAbs") -> 3
B52: 4702437 | C52: 5420008524295 | D52: 3401547024370 | F52: PRANA HE BIO YLANG YLANG 5ML | G52: =IFERROR(OFFSET('VRAC HECT'!$J$6,MATCH(prana!$C52,EAN,0),4),"CodAbs") -> 0.2 | I52: =IFERROR(OFFSET('VRAC HECT'!$J$6,MATCH(prana!$C52,EAN,0),3),"CodAbs") -> 6.28 | J52: 0.2 | K52: 0 | L52: 0 | M52: 9.95 | N52: NR | O52: PHN | P52: 0 | R52: 0 | S52: 0 | AS52: =IFERROR(OFFSET('VRAC HECT'!$J$6,MATCH(prana!$C54,EAN,0),2),"CodAbs") -> 3 | AT52: 0 | AU52: 0 | AV52: =IFERROR(OFFSET('VRAC HECT'!$J$6,MATCH(prana!$C54,EAN,0),2),"CodAbs") -> 3
B53: 4702443 | C53: 5420008527814 | D53: 3401547024431 | F53: PRANA HE BIO MANDRAVASAROTRA FL/10ML | G53: =IFERROR(OFFSET('VRAC HECT'!$J$6,MATCH(prana!$C53,EAN,0),4),"CodAbs") -> 0.2 | I53: =IFERROR(OFFSET('VRAC HECT'!$J$6,MATCH(prana!$C53,EAN,0),3),"CodAbs") -> 5.89 | J53: 0.2 | K53: 0 | L53: 0 | M53: 9.5 | N53: NR | O53: PHN | P53: 0 | R53: 0 | S53: 0 | AS53: =IFERROR(OFFSET('VRAC HECT'!$J$6,MATCH(prana!$C55,EAN,0),2),"CodAbs") -> 3 | AT53: 0 | AU53: 0 | AV53: =IFERROR(OFFSET('VRAC HECT'!$J$6,MATCH(prana!$C55,EAN,0),2),"CodAbs") -> 3
B54: 4702466 | C54: 5420008508707 | D54: 3401547024660 | F54: PRANA HE BIO PALMAROSA FL/10ML | G54: =IFERROR(OFFSET('VRAC HECT'!$J$6,MATCH(prana!$C54,EAN,0),4),"CodAbs") -> 0.055 | I54: =IFERROR(OFFSET('VRAC HECT'!$J$6,MATCH(prana!$C54,EAN,0),3),"CodAbs") -> 2.98 | J54: 0.2 | K54: 0 | L54: 0 | M54: 4.5 | N54: NR | O54: PHN | P54: 0 | R54: 0 | S54: 0 | AS54: =IFERROR(OFFSET('VRAC HECT'!$J$6,MATCH(prana!$C56,EAN,0),2),"CodAbs") -> 3 | AT54: 0 | AU54: 0 | AV54: =IFERROR(OFFSET('VRAC HECT'!$J$6,MATCH(prana!$C56,EAN,0),2),"CodAbs") -> 3
B55: 4702472 | C55: 5420008524448 | D55: 3401547024721 | F55: PRANA HE BIO EUCALYPTUS GLOB 10ML | G55: =IFERROR(OFFSET('VRAC HECT'!$J$6,MATCH(prana!$C55,EAN,0),4),"CodAbs") -> 0.055 | I55: =IFERROR(OFFSET('VRAC HECT'!$J$6,MATCH(prana!$C55,EAN,0),3),"CodAbs") -> 3.43 | J55: 0.2 | K55: 0 | L55: 0 | M55: 4.95 | N55: NR | O55: PHN | P55: 0 | R55: 0 | S55: 0 | AS55: =IFERROR(OFFSET('VRAC HECT'!$J$6,MATCH(prana!$C57,EAN,0),2),"CodAbs") -> 3 | AT55: 0 | AU55: 0 | AV55: =IFERROR(OFFSET('VRAC HECT'!$J$6,MATCH(prana!$C57,EAN,0),2),"CodAbs") -> 3
B56: 4702489 | C56: 5420008524530 | D56: 3401547024899 | F56: PRANA HE BIO EUCALYP RADIATA 10ML | G56: =IFERROR(OFFSET('VRAC HECT'!$J$6,MATCH(prana!$C56,EAN,0),4),"CodAbs") -> 0.055 | I56: =IFERROR(OFFSET('VRAC HECT'!$J$6,MATCH(prana!$C56,EAN,0),3),"CodAbs") -> 4.5 | J56: 0.2 | K56: 0 | L56: 0 | M56: 6.5 | N56: NR | O56: PHN | P56: 0 | R56: 0 | S56: 0 | AS56: =IFERROR(OFFSET('VRAC HECT'!$J$6,MATCH(prana!$C58,EAN,0),2),"CodAbs") -> 3 | AT56: 0 | AU56: 0 | AV56: =IFERROR(OFFSET('VRAC HECT'!$J$6,MATCH(prana!$C58,EAN,0),2),"CodAbs") -> 3
... B68: 4843764 | C68: 5420008509148 | D68: 3401548437643 | F68: AROMAFORCE SPRAY NASAL | G68: =IFERROR(OFFSET('VRAC HECT'!$J$6,MATCH(prana!$C68,EAN,0),4),"CodAbs") -> CodAbs | I68: =IFERROR(OFFSET('VRAC HECT'!$J$6,MATCH(prana!$C68,EAN,0),3),"CodAbs") -> CodAbs | J68: 0 | K68: 0 | L68: 0 | M68: 8.5 | N68: NR | O68: PHN | P68: 0 | R68: 0 | S68: 0 | AS68: =IFERROR(OFFSET('VRAC HECT'!$J$6,MATCH(prana!$C70,EAN,0),2),"CodAbs") -> 1 | AT68: 0 | AU68: 0 | AV68: =IFERROR(OFFSET('VRAC HECT'!$J$6,MATCH(prana!$C70,EAN,0),2),"CodAbs") -> 1
B69: 5003747 | C69: 5420008500374 | F69: PRANA HE ANGELIQUE 5ML | G69: =IFERROR(OFFSET('VRAC HECT'!$J$6,MATCH(prana!$C69,EAN,0),4),"CodAbs") -> 0.055 | I69: =IFERROR(OFFSET('VRAC HECT'!$J$6,MATCH(prana!$C69,EAN,0),3),"CodAbs") -> 19.06 | J69: 0.2 | K69: 0 | L69: 0 | M69: 26.95 | N69: NR | O69: PHN | P69: 0 | R69: 0 | S69: 0 | AS69: =IFERROR(OFFSET('VRAC HECT'!$J$6,MATCH(prana!$C71,EAN,0),2),"CodAbs") -> CodAbs | AT69: 0 | AU69: 0 | AV69: =IFERROR(OFFSET('VRAC HECT'!$J$6,MATCH(prana!$C71,EAN,0),2),"CodAbs") -> CodAbs
B70: 5062158 | C70: 5420008512605 | F70: PRANA HE MARJOLAINE COQ CT THUJANOL 5ML | G70: =IFERROR(OFFSET('VRAC HECT'!$J$6,MATCH(prana!$C70,EAN,0),4),"CodAbs") -> 0.055 | I70: =IFERROR(OFFSET('VRAC HECT'!$J$6,MATCH(prana!$C70,EAN,0),3),"CodAbs") -> 9.82 | J70: 0.2 | K70: 0 | L70: 0 | M70: 14.5 | N70: NR | O70: PHN | P70: 0 | R70: 0 | S70: 0 | AS70: =IFERROR(OFFSET('VRAC HECT'!$J$6,MATCH(prana!$C72,EAN,0),2),"CodAbs") -> 1 | AT70: 0 | AU70: 0 | AV70: =IFERROR(OFFSET('VRAC HECT'!$J$6,MATCH(prana!$C72,EAN,0),2),"CodAbs") -> 1
B71: 5109121 | C71: 5420008510250 | D71: 3401551091214 | F71: PRANAROM ALLERGOFORC SPRAY NASAL FL15ML 1 | G71: =IFERROR(OFFSET('VRAC HECT'!$J$6,MATCH(prana!$C71,EAN,0),4),"CodAbs") -> CodAbs | I71: =IFERROR(OFFSET('VRAC HECT'!$J$6,MATCH(prana!$C71,EAN,0),3),"CodAbs") -> CodAbs | J71: 0 | K71: 0 | L71: 0 | M71: 7.5 | N71: NR | O71: PHN | P71: 0 | R71: 0 | S71: 0 | AS71: =IFERROR(OFFSET('VRAC HECT'!$J$6,MATCH(prana!$C73,EAN,0),2),"CodAbs") -> CodAbs | AT71: 0 | AU71: 0 | AV71: =IFERROR(OFFSET('VRAC HECT'!$J$6,MATCH(prana!$C73,EAN,0),2),"CodAbs") -> CodAbs
B72: 5132150 | C72: 5420008512513 | D72: 5420008512520 | F72: PRANA HE BIO KATAFRAY 10ML | G72: =IFERROR(OFFSET('VRAC HECT'!$J$6,MATCH(prana!$C72,EAN,0),4),"CodAbs") -> 0.2 | I72: =IFERROR(OFFSET('VRAC HECT'!$J$6,MATCH(prana!$C72,EAN,0),3),"CodAbs") -> 8.6 | J72: 0.2 | K72: 0 | L72: 0 | M72: 13.95 | N72: NR | O72: PHN | P72: 0 | R72: 0 | S72: 0 | AS72: =IFERROR(OFFSET('VRAC HECT'!$J$6,MATCH(prana!$C74,EAN,0),2),"CodAbs") -> CodAbs | AT72: 0 | AU72: 0 | AV72: =IFERROR(OFFSET('VRAC HECT'!$J$6,MATCH(prana!$C74,EAN,0),2),"CodAbs") -> CodAbs
B73: 5147653 | C73: 5420008510359 | D73: 3401551476530 | F73: ALLERGOFORCE SPRAY ENVIR 150ML | G73: =IFERROR(OFFSET('VRAC HECT'!$J$6,MATCH(prana!$C73,EAN,0),4),"CodAbs") -> CodAbs | I73: =IFERROR(OFFSET('VRAC HECT'!$J$6,MATCH(prana!$C73,EAN,0),3),"CodAbs") -> CodAbs | J73: 0 | K73: 0 | L73: 0 | M73: 10.5 | N73: NR | O73: PHN | P73: 0 | R73: 0 | S73: 0 | AS73: =IFERROR(OFFSET('VRAC HECT'!$J$6,MATCH(prana!$C75,EAN,0),2),"CodAbs") -> CodAbs | AT73: 0 | AU73: 0 | AV73: =IFERROR(OFFSET('VRAC HECT'!$J$6,MATCH(prana!$C75,EAN,0),2),"CodAbs") -> CodAbs
B74: 5179587 | C74: 5420008510403 | D74: 3401551795877 | F74: PRANABB HLE MASS IMMUNITÉ FL C-GTT/10ML | G74: =IFERROR(OFFSET('VRAC HECT'!$J$6,MATCH(prana!$C74,EAN,0),4),"CodAbs") -> CodAbs | I74: =IFERROR(OFFSET('VRAC HECT'!$J$6,MATCH(prana!$C74,EAN,0),3),"CodAbs") -> CodAbs | J74: 0 | K74: 0 | L74: 0 | M74: 7.95 | N74: NR | O74: PHN | P74: 0 | R74: 0 | S74: 0 | AS74: =IFERROR(OFFSET('VRAC HECT'!$J$6,MATCH(prana!$C76,EAN,0),2),"CodAbs") -> CodAbs | AT74: 0 | AU74: 0 | AV74: =IFERROR(OFFSET('VRAC HECT'!$J$6,MATCH(prana!$C76,EAN,0),2),"CodAbs") -> CodAbs
B75: 5179676 | C75: 5420008510427 | D75: 3401551796768 | F75: PRANABB HLE ESS MÉLANGE P DIFF ASSAINISS | G75: =IFERROR(OFFSET('VRAC HECT'!$J$6,MATCH(prana!$C75,EAN,0),4),"CodAbs") -> CodAbs | I75: =IFERROR(OFFSET('VRAC HECT'!$J$6,MATCH(prana!$C75,EAN,0),3),"CodAbs") -> CodAbs | J75: 0 | K75: 0 | L75: 0 | M75: 7.95 | N75: NR | O75: PHN | P75: 0 | R75: 0 | S75: 0 | AS75: =IFERROR(OFFSET('VRAC HECT'!$J$6,MATCH(prana!$C77,EAN,0),2),"CodAbs") -> CodAbs | AT75: 0 | AU75: 0 | AV75: =IFERROR(OFFSET('VRAC HECT'!$J$6,MATCH(prana!$C77,EAN,0),2),"CodAbs") -> CodAbs
B76: 5179707 | C76: 5420008510434 | D76: 3401551797079 | F76: PRANABB HLE ESS MÉLANGE P DIFF SOMMEIL 10 | G76: =IFERROR(OFFSET('VRAC HECT'!$J$6,MATCH(prana!$C76,EAN,0),4),"CodAbs") -> CodAbs | I76: =IFERROR(OFFSET('VRAC HECT'!$J$6,MATCH(prana!$C76,EAN,0),3),"CodAbs") -> CodAbs | J76: 0 | K76: 0 | L76: 0 | M76: 7.95 | N76: NR | O76: PHN | P76: 0 | R76: 0 | S76: 0 | AS76: =IFERROR(OFFSET('VRAC HECT'!$J$6,MATCH(prana!$C78,EAN,0),2),"CodAbs") -> 1 | AT76: 0 | AU76: 0 | AV76: =IFERROR(OFFSET('VRAC HECT'!$J$6,MATCH(prana!$C78,EAN,0),2),"CodAbs") -> 1
B77: 5179802 | C77: 5420008510465 | D77: 3401551798021 | F77: PRANABB HLE ESS MÉLANGE P DIFF MOUSTIQUE | G77: =IFERROR(OFFSET('VRAC HECT'!$J$6,MATCH(prana!$C77,EAN,0),4),"CodAbs") -> CodAbs | I77: =IFERROR(OFFSET('VRAC HECT'!$J$6,MATCH(prana!$C77,EAN,0),3),"CodAbs") -> CodAbs | J77: 0 | K77: 0 | L77: 0 | M77: 7.95 | N77: NR | O77: PHN | P77: 0 | R77: 0 | S77: 0 | AS77: =IFERROR(OFFSET('VRAC HECT'!$J$6,MATCH(prana!$C79,EAN,0),2),"CodAbs") -> 1 | AT77: 0 | AU77: 0 | AV77: =IFERROR(OFFSET('VRAC HECT'!$J$6,MATCH(prana!$C79,EAN,0),2),"CodAbs") -> 1
B78: 5320927 | C78: 5420008532092 | F78: PRANA HE BIO LENTISQUE PISTACHIER 5ML | G78: =IFERROR(OFFSET('VRAC HECT'!$J$6,MATCH(prana!$C78,EAN,0),4),"CodAbs") -> 0.055 | I78: =IFERROR(OFFSET('VRAC HECT'!$J$6,MATCH(prana!$C78,EAN,0),3),"CodAbs") -> 17.9 | J78: 0.2 | K78: 0 | L78: 0 | M78: 26.95 | N78: NR | O78: PHN | P78: 0 | R78: 0 | S78: 0 | AS78: =IFERROR(OFFSET('VRAC HECT'!$J$6,MATCH(prana!$C80,EAN,0),2),"CodAbs") -> CodAbs | AT78: 0 | AU78: 0 | AV78: =IFERROR(OFFSET('VRAC HECT'!$J$6,MATCH(prana!$C80,EAN,0),2),"CodAbs") -> CodAbs
B79: 5322381 | C79: 5420008532238 | F79: PRANA HE BIO CAROTTE 5ML | G79: =IFERROR(OFFSET('VRAC HECT'!$J$6,MATCH(prana!$C79,EAN,0),4),"CodAbs") -> 0.055 | I79: =IFERROR(OFFSET('VRAC HECT'!$J$6,MATCH(prana!$C79,EAN,0),3),"CodAbs") -> 15.67 | J79: 0.2 | K79: 0 | L79: 0 | M79: 22.95 | N79: NR | O79: PHN | P79: 0 | R79: 0 | S79: 0 | AS79: =IFERROR(OFFSET('VRAC HECT'!$J$6,MATCH(prana!$C81,EAN,0),2),"CodAbs") -> 1 | AT79: 0 | AU79: 0 | AV79: =IFERROR(OFFSET('VRAC HECT'!$J$6,MATCH(prana!$C81,EAN,0),2),"CodAbs") -> 1
B80: 5341390 | C80: 5420008510397 | D80: 3401553413908 | F80: PRANABB GEL GINGIVAL 15ML | G80: =IFERROR(OFFSET('VRAC HECT'!$J$6,MATCH(prana!$C80,EAN,0),4),"CodAbs") -> CodAbs | I80: =IFERROR(OFFSET('VRAC HECT'!$J$6,MATCH(prana!$C80,EAN,0),3),"CodAbs") -> CodAbs | J80: 0 | K80: 0 | L80: 0 | M80: 7.95 | N80: NR | O80: PHN | P80: 0 | R80: 0 | S80: 0 | AS80: =IFERROR(OFFSET('VRAC HECT'!$J$6,MATCH(prana!$C82,EAN,0),2),"CodAbs") -> 1 | AT80: 0 | AU80: 0 | AV80: =IFERROR(OFFSET('VRAC HECT'!$J$6,MATCH(prana!$C82,EAN,0),2),"CodAbs") -> 1
B81: 5420008 | C81: 5420008508370 | D81: 3373020007524 | F81: PRANA HE BIO SAUGE SLA 5ML | G81: =IFERROR(OFFSET('VRAC HECT'!$J$6,MATCH(prana!$C81,EAN,0),4),"CodAbs") -> 0.2 | I81: =IFERROR(OFFSET('VRAC HECT'!$J$6,MATCH(prana!$C81,EAN,0),3),"CodAbs") -> 4.24 | J81: 0.2 | K81: 0 | L81: 0 | M81: 5.95 | N81: NR | O81: PHN | P81: 0 | R81: 0 | S81: 0 | AS81: =IFERROR(OFFSET('VRAC HECT'!$J$6,MATCH(prana!$C83,EAN,0),2),"CodAbs") -> CodAbs | AT81: 0 | AU81: 0 | AV81: =IFERROR(OFFSET('VRAC HECT'!$J$6,MATCH(prana!$C83,EAN,0),2),"CodAbs") -> CodAbs
B82: 5474257 | C82: 5420008524547 | F82: PRANA HE BIO BASILIC EXO 10ML | G82: =IFERROR(OFFSET('VRAC HECT'!$J$6,MATCH(prana!$C82,EAN,0),4),"CodAbs") -> 0.055 | I82: =IFERROR(OFFSET('VRAC HECT'!$J$6,MATCH(prana!$C82,EAN,0),3),"CodAbs") -> 5.86 | J82: 0.2 | K82: 0 | L82: 0 | M82: 8.95 | N82: NR | O82: PHN | P82: 0 | R82: 0 | S82: 0 | AS82: =IFERROR(OFFSET('VRAC HECT'!$J$6,MATCH(prana!$C84,EAN,0),2),"CodAbs") -> 1 | AT82: 0 | AU82: 0 | AV82: =IFERROR(OFFSET('VRAC HECT'!$J$6,MATCH(prana!$C84,EAN,0),2),"CodAbs") -> 1
B83: 5632897 | C83: 3400956328970 | D83: 5420008502323 | F83: PRANA HE CAROTTE | G83: =IFERROR(OFFSET('VRAC HECT'!$J$6,MATCH(prana!$C83,EAN,0),4),"CodAbs") -> CodAbs | I83: =IFERROR(OFFSET('VRAC HECT'!$J$6,MATCH(prana!$C83,EAN,0),3),"CodAbs") -> CodAbs | J83: 0.2 | K83: 0 | L83: 0 | M83: 8.95 | N83: NR | O83: PHN | P83: 0 | R83: 0 | S83: 0 | AS83: =IFERROR(OFFSET('VRAC HECT'!$J$6,MATCH(prana!$C85,EAN,0),2),"CodAbs") -> 1 | AT83: 0 | AU83: 0 | AV83: =IFERROR(OFFSET('VRAC HECT'!$J$6,MATCH(prana!$C85,EAN,0),2),"CodAbs") -> 1
B84: 6846063 | C84: 5420008508486 | F84: PRANA HE BIO THYM SARRIETTE 10ML | G84: =IFERROR(OFFSET('VRAC HECT'!$J$6,MATCH(prana!$C84,EAN,0),4),"CodAbs") -> 0.055 | I84: =IFERROR(OFFSET('VRAC HECT'!$J$6,MATCH(prana!$C84,EAN,0),3),"CodAbs") -> 7.12 | J84: 0.2 | K84: 0 | L84: 0 | M84: 10.5 | N84: NR | O84: PHN | P84: 0 | Q84: 2 | R84: 0 | S84: 0 | AS84: =IFERROR(OFFSET('VRAC HECT'!$J$6,MATCH(prana!$C86,EAN,0),2),"CodAbs") -> 1 | AT84: 0 | AU84: 0 | AV84: =IFERROR(OFFSET('VRAC HECT'!$J$6,MATCH(prana!$C86,EAN,0),2),"CodAbs") -> 1
B85: 7381152 | C85: 5420008511837 | D85: 3401173811528 | F85: PRANA HE BIO CANNELLE CEYLAN 5ML | G85: =IFERROR(OFFSET('VRAC HECT'!$J$6,MATCH(prana!$C85,EAN,0),4),"CodAbs") -> 0.055 | I85: =IFERROR(OFFSET('VRAC HECT'!$J$6,MATCH(prana!$C85,EAN,0),3),"CodAbs") -> 9.04 | J85: 0.2 | K85: 0 | L85: 0 | M85: 13.95 | N85: NR | O85: PHN | P85: 0 | Q85: 2 | R85: 0 | S85: 0 | AS85: =IFERROR(OFFSET('VRAC HECT'!$J$6,MATCH(prana!$C87,EAN,0),2),"CodAbs") -> 3 | AT85: 0 | AU85: 0 | AV85: =IFERROR(OFFSET('VRAC HECT'!$J$6,MATCH(prana!$C87,EAN,0),2),"CodAbs") -> 3
B86: 7752890 | C86: 5420008506413 | F86: PRANA HE AJOWAN FL/10ML | G86: =IFERROR(OFFSET('VRAC HECT'!$J$6,MATCH(prana!$C86,EAN,0),4),"CodAbs") -> 0.2 | I86: =IFERROR(OFFSET('VRAC HECT'!$J$6,MATCH(prana!$C86,EAN,0),3),"CodAbs") -> 4.26 | J86: 0.2 | K86: 0 | L86: 0 | M86: 6.5 | N86: NR | O86: PHN | P86: 0 | R86: 0 | S86: 0 | AS86: =IFERROR(OFFSET('VRAC HECT'!$J$6,MATCH(prana!$C88,EAN,0),2),"CodAbs") -> 3 | AT86: 0 | AU86: 0 | AV86: =IFERROR(OFFSET('VRAC HECT'!$J$6,MATCH(prana!$C88,EAN,0),2),"CodAbs") -> 3
B87: 7753004 | C87: 5420008501982 | F87: PRANA HE CORIANDRE 10ML | G87: =IFERROR(OFFSET('VRAC HECT'!$J$6,MATCH(prana!$C87,EAN,0),4),"CodAbs") -> 0.055 | I87: =IFERROR(OFFSET('VRAC HECT'!$J$6,MATCH(prana!$C87,EAN,0),3),"CodAbs") -> 5.68 | J87: 0.2 | K87: 0 | L87: 0 | M87: 8.5 | N87: NR | O87: PHN | P87: 0 | R87: 0 | S87: 0 | AS87: =IFERROR(OFFSET('VRAC HECT'!$J$6,MATCH(prana!$C89,EAN,0),2),"CodAbs") -> 3 | AT87: 0 | AU87: 0 | AV87: =IFERROR(OFFSET('VRAC HECT'!$J$6,MATCH(prana!$C89,EAN,0),2),"CodAbs") -> 3
B88: 7753010 | C88: 5420008502095 | D88: 3401521383691 | F88: PRANA HE BIO CYPRES TJS VERT 5ML | G88: =IFERROR(OFFSET('VRAC HECT'!$J$6,MATCH(prana!$C88,EAN,0),4),"CodAbs") -> 0.2 | I88: =IFERROR(OFFSET('VRAC HECT'!$J$6,MATCH(prana!$C88,EAN,0),3),"CodAbs") -> 3.71 | J88: 0.2 | K88: 0 | L88: 0 | M88: 6.95 | N88: NR | O88: PHN | P88: 0 | R88: 0 | S88: 0 | AS88: =IFERROR(OFFSET('VRAC HECT'!$J$6,MATCH(prana!$C90,EAN,0),2),"CodAbs") -> 3 | AT88: 0 | AU88: 0 | AV88: =IFERROR(OFFSET('VRAC HECT'!$J$6,MATCH(prana!$C90,EAN,0),2),"CodAbs") -> 3
B89: 7753056 | C89: 5420008500565 | F89: PRANA HE ESTRAGON 5ML | G89: =IFERROR(OFFSET('VRAC HECT'!$J$6,MATCH(prana!$C89,EAN,0),4),"CodAbs") -> 0.055 | I89: =IFERROR(OFFSET('VRAC HECT'!$J$6,MATCH(prana!$C89,EAN,0),3),"CodAbs") -> 4.94 | J89: 0.2 | K89: 0 | L89: 0 | M89: 7.5 | N89: NR | O89: PHN | P89: 0 | R89: 0 | S89: 0 | AS89: =IFERROR(OFFSET('VRAC HECT'!$J$6,MATCH(prana!$C91,EAN,0),2),"CodAbs") -> 3 | AT89: 0 | AU89: 0 | AV89: =IFERROR(OFFSET('VRAC HECT'!$J$6,MATCH(prana!$C91,EAN,0),2),"CodAbs") -> 3
B90: 7753116 | C90: 5420008502811 | F90: PRANA HE GAULTHERIE COUCHEE 10ML | G90: =IFERROR(OFFSET('VRAC HECT'!$J$6,MATCH(prana!$C90,EAN,0),4),"CodAbs") -> 0.2 | I90: =IFERROR(OFFSET('VRAC HECT'!$J$6,MATCH(prana!$C90,EAN,0),3),"CodAbs") -> 2.58 | J90: 0.2 | K90: 0 | L90: 0 | M90: 3.95 | N90: NR | O90: PHN | P90: 0 | R90: 0 | S90: 0 | AS90: =IFERROR(OFFSET('VRAC HECT'!$J$6,MATCH(prana!$C92,EAN,0),2),"CodAbs") -> 3 | AT90: 0 | AU90: 0 | AV90: =IFERROR(OFFSET('VRAC HECT'!$J$6,MATCH(prana!$C92,EAN,0),2),"CodAbs") -> 3
B91: 7753139 | C91: 5420008505027 | F91: PRANA HE GERANIUM EGYPTE 10ML | G91: =IFERROR(OFFSET('VRAC HECT'!$J$6,MATCH(prana!$C91,EAN,0),4),"CodAbs") -> 0.055 | I91: =IFERROR(OFFSET('VRAC HECT'!$J$6,MATCH(prana!$C91,EAN,0),3),"CodAbs") -> 7.74 | J91: 0.2 | K91: 0 | L91: 0 | M91: 11.95 | N91: NR | O91: PHN | P91: 0 | R91: 0 | S91: 0 | AS91: =IFERROR(OFFSET('VRAC HECT'!$J$6,MATCH(prana!$C93,EAN,0),2),"CodAbs") -> 3 | AT91: 0 | AU91: 0 | AV91: =IFERROR(OFFSET('VRAC HECT'!$J$6,MATCH(prana!$C93,EAN,0),2),"CodAbs") -> 3
B92: 7753151 | C92: 5420008503351 | F92: PRANA HE LAURIER NOBLE 5ML | G92: =IFERROR(OFFSET('VRAC HECT'!$J$6,MATCH(prana!$C92,EAN,0),4),"CodAbs") -> 0.055 | I92: =IFERROR(OFFSET('VRAC HECT'!$J$6,MATCH(prana!$C92,EAN,0),3),"CodAbs") -> 5 | J92: 0.2 | K92: 0 | L92: 0 | M92: 7.95 | N92: NR | O92: PHN | P92: 0 | R92: 0 | S92: 0 | AS92: =IFERROR(OFFSET('VRAC HECT'!$J$6,MATCH(prana!$C94,EAN,0),2),"CodAbs") -> CodAbs | AT92: 0 | AU92: 0 | AV92: =IFERROR(OFFSET('VRAC HECT'!$J$6,MATCH(prana!$C94,EAN,0),2),"CodAbs") -> CodAbs
B93: 7753375 | C93: 5420008506284 | F93: PRANA HE THYM THUYANOL FL/5ML | G93: =IFERROR(OFFSET('VRAC HECT'!$J$6,MATCH(prana!$C93,EAN,0),4),"CodAbs") -> 0.055 | I93: =IFERROR(OFFSET('VRAC HECT'!$J$6,MATCH(prana!$C93,EAN,0),3),"CodAbs") -> 10.79 | J93: 0.2 | K93: 0 | L93: 0 | M93: 14.95 | N93: NR | O93: PHN | P93: 0 | R93: 0 | S93: 0 | AS93: =IFERROR(OFFSET('VRAC HECT'!$J$6,MATCH(prana!$C95,EAN,0),2),"CodAbs") -> CodAbs | AT93: 0 | AU93: 0 | AV93: =IFERROR(OFFSET('VRAC HECT'!$J$6,MATCH(prana!$C95,EAN,0),2),"CodAbs") -> CodAbs
B94: 7753429 | C94: 5420008551956 | F94: AROMACEUTIC'S BUCCAROM GEL BUC T/15ML | G94: =IFERROR(OFFSET('VRAC HECT'!$J$6,MATCH(prana!$C94,EAN,0),4),"CodAbs") -> CodAbs | I94: =IFERROR(OFFSET('VRAC HECT'!$J$6,MATCH(prana!$C94,EAN,0),3),"CodAbs") -> CodAbs | J94: 0 | K94: 0 | L94: 0 | M94: 8.95 | N94: NR | O94: PHN | P94: 0 | R94: 0 | S94: 0 | AS94: =IFERROR(OFFSET('VRAC HECT'!$J$6,MATCH(prana!$C96,EAN,0),2),"CodAbs") -> CodAbs | AT94: 0 | AU94: 0 | AV94: =IFERROR(OFFSET('VRAC HECT'!$J$6,MATCH(prana!$C96,EAN,0),2),"CodAbs") -> CodAbs
B95: 7799609 | C95: 5420008586774 | F95: AROMAFORCE LOT 30ML | G95: =IFERROR(OFFSET('VRAC HECT'!$J$6,MATCH(prana!$C95,EAN,0),4),"CodAbs") -> CodAbs | I95: =IFERROR(OFFSET('VRAC HECT'!$J$6,MATCH(prana!$C95,EAN,0),3),"CodAbs") -> CodAbs | J95: 0 | K95: 0 | L95: 0 | M95: 7.95 | N95: NR | O95: PHN | P95: 0 | R95: 0 | S95: 0 | AS95: =IFERROR(OFFSET('VRAC HECT'!$J$6,MATCH(prana!$C97,EAN,0),2),"CodAbs") -> CodAbs | AT95: 0 | AU95: 0 | AV95: =IFERROR(OFFSET('VRAC HECT'!$J$6,MATCH(prana!$C97,EAN,0),2),"CodAbs") -> CodAbs
B96: 7876646 | C96: 5420008592683 | F96: AROMACEUTIC'S AROMAPAR LOT CAP SPRAY/30ML | G96: =IFERROR(OFFSET('VRAC HECT'!$J$6,MATCH(prana!$C96,EAN,0),4),"CodAbs") -> CodAbs | I96: =IFERROR(OFFSET('VRAC HECT'!$J$6,MATCH(prana!$C96,EAN,0),3),"CodAbs") -> CodAbs | J96: 0 | K96: 0 | L96: 0 | M96: 8.95 | N96: NR | O96: PHN | P96: 0 | R96: 0 | S96: 0 | AS96: =IFERROR(OFFSET('VRAC HECT'!$J$6,MATCH(prana!$C98,EAN,0),2),"CodAbs") -> 3 | AT96: 0 | AU96: 0 | AV96: =IFERROR(OFFSET('VRAC HECT'!$J$6,MATCH(prana!$C98,EAN,0),2),"CodAbs") -> 3
B97: 7876652 | C97: 5420008593604 | F97: AROMACEUTIC'S LABIAROM GEL BUC T/5ML | G97: =IFERROR(OFFSET('VRAC HECT'!$J$6,MATCH(prana!$C97,EAN,0),4),"CodAbs") -> CodAbs | I97: =IFERROR(OFFSET('VRAC HECT'!$J$6,MATCH(prana!$C97,EAN,0),3),"CodAbs") -> CodAbs | J97: 0 | K97: 0 | L97: 0 | M97: 8.6 | N97: NR | O97: PHN | P97: 0 | R97: 0 | S97: 0 | AS97: =IFERROR(OFFSET('VRAC HECT'!$J$6,MATCH(prana!$C99,EAN,0),2),"CodAbs") -> 3 | AT97: 0 | AU97: 0 | AV97: =IFERROR(OFFSET('VRAC HECT'!$J$6,MATCH(prana!$C99,EAN,0),2),"CodAbs") -> 3
B98: 7938620 | C98: 5420008597640 | F98: PRANA HE BIO ROMARIN VERBE 5ML | G98: =IFERROR(OFFSET('VRAC HECT'!$J$6,MATCH(prana!$C98,EAN,0),4),"CodAbs") -> 0.055 | I98: =IFERROR(OFFSET('VRAC HECT'!$J$6,MATCH(prana!$C98,EAN,0),3),"CodAbs") -> 5.88 | J98: 0.2 | K98: 0 | L98: 0 | M98: 8.5 | N98: NR | O98: PHN | P98: 0 | R98: 0 | S98: 0 | AS98: =IFERROR(OFFSET('VRAC HECT'!$J$6,MATCH(prana!$C100,EAN,0),2),"CodAbs") -> 3 | AT98: 0 | AU98: 0 | AV98: =IFERROR(OFFSET('VRAC HECT'!$J$6,MATCH(prana!$C100,EAN,0),2),"CodAbs") -> 3
B99: 7938637 | C99: 5420008597527 | D99: 5420008524929 | F99: PRANA HE BIO MANDARINE 10ML | G99: =IFERROR(OFFSET('VRAC HECT'!$J$6,MATCH(prana!$C99,EAN,0),4),"CodAbs") -> 0.055 | I99: =IFERROR(OFFSET('VRAC HECT'!$J$6,MATCH(prana!$C99,EAN,0),3),"CodAbs") -> 5.38 | J99: 0.2 | K99: 0 | L99: 0 | M99: 7.5 | N99: NR | O99: PHN | P99: 0 | R99: 0 | S99: 0 | AS99: =IFERROR(OFFSET('VRAC HECT'!$J$6,MATCH(prana!$C101,EAN,0),2),"CodAbs") -> 3 | AT99: 0 | AU99: 0 | AV99: =IFERROR(OFFSET('VRAC HECT'!$J$6,MATCH(prana!$C101,EAN,0),2),"CodAbs") -> 3
B100: 7938643 | C100: 5420008597312 | D100: 5420008524455 | F100: PRANA HE BIO CITRON 10ML | G100: =IFERROR(OFFSET('VRAC HECT'!$J$6,MATCH(prana!$C100,EAN,0),4),"CodAbs") -> 0.055 | I100: =IFERROR(OFFSET('VRAC HECT'!$J$6,MATCH(prana!$C100,EAN,0),3),"CodAbs") -> 3.7 | J100: 0.2 | K100: 0 | L100: 0 | M100: 5.95 | N100: NR | O100: PHN | P100: 0 | R100: 0 | S100: 0 | AS100: =IFERROR(OFFSET('VRAC HECT'!$J$6,MATCH(prana!$C102,EAN,0),2),"CodAbs") -> CodAbs | AT100: 0 | AU100: 0 | AV100: =IFERROR(OFFSET('VRAC HECT'!$J$6,MATCH(prana!$C102,EAN,0),2),"CodAbs") -> CodAbs
B101: 7938666 | C101: 5420008524417 | D101: 3401579386668 | E101: 5420008597107 | F101: PRANA HE BIO NIAOULI 10ML | G101: =IFERROR(OFFSET('VRAC HECT'!$J$6,MATCH(prana!$C101,EAN,0),4),"CodAbs") -> 0.055 | I101: =IFERROR(OFFSET('VRAC HECT'!$J$6,MATCH(prana!$C101,EAN,0),3),"CodAbs") -> 3.62 | J101: 0.2 | K101: 0 | L101: 0 | M101: 5.5 | N101: NR | O101: PHN | P101: 0 | R101: 0 | S101: 0 | AS101: =IFERROR(OFFSET('VRAC HECT'!$J$6,MATCH(prana!$C103,EAN,0),2),"CodAbs") -> CodAbs | AT101: 0 | AU101: 0 | AV101: =IFERROR(OFFSET('VRAC HECT'!$J$6,MATCH(prana!$C103,EAN,0),2),"CodAbs") -> CodAbs
B102: 7963210 | C102: 5420008508714 | F102: PRANA H MASS NOY ABRI FL/50ML | G102: =IFERROR(OFFSET('VRAC HECT'!$J$6,MATCH(prana!$C102,EAN,0),4),"CodAbs") -> CodAbs | I102: =IFERROR(OFFSET('VRAC HECT'!$J$6,MATCH(prana!$C102,EAN,0),3),"CodAbs") -> CodAbs | J102: 0.2 | K102: 0 | L102: 0 | M102: 5.5 | N102: NR | O102: PHN | P102: 0 | R102: 0 | S102: 0 | AS102: =IFERROR(OFFSET('VRAC HECT'!$J$6,MATCH(prana!$C104,EAN,0),2),"CodAbs") -> CodAbs | AT102: 0 | AU102: 0 | AV102: =IFERROR(OFFSET('VRAC HECT'!$J$6,MATCH(prana!$C104,EAN,0),2),"CodAbs") -> CodAbs
B103: 7963227 | C103: 5420008514487 | F103: PRANA HV AMANDE DCE FL 50ML | G103: =IFERROR(OFFSET('VRAC HECT'!$J$6,MATCH(prana!$C103,EAN,0),4),"CodAbs") -> CodAbs | I103: =IFERROR(OFFSET('VRAC HECT'!$J$6,MATCH(prana!$C103,EAN,0),3),"CodAbs") -> CodAbs | J103: 0.2 | K103: 0 | L103: 0 | M103: 4.95 | N103: NR | O103: PHN | P103: 0 | R103: 0 | S103: 0 | AS103: =IFERROR(OFFSET('VRAC HECT'!$J$6,MATCH(prana!$C105,EAN,0),2),"CodAbs") -> CodAbs | AT103: 0 | AU103: 0 | AV103: =IFERROR(OFFSET('VRAC HECT'!$J$6,MATCH(prana!$C105,EAN,0),2),"CodAbs") -> CodAbs
B104: 7963233 | C104: 5420008596728 | F104: PRANA HLE MASS BIO ARGAN FL/50ML | G104: =IFERROR(OFFSET('VRAC HECT'!$J$6,MATCH(prana!$C104,EAN,0),4),"CodAbs") -> CodAbs | I104: =IFERROR(OFFSET('VRAC HECT'!$J$6,MATCH(prana!$C104,EAN,0),3),"CodAbs") -> CodAbs | J104: 0.2 | K104: 0 | L104: 0 | M104: 8.95 | N104: NR | O104: PHN | P104: 0 | R104: 0 | S104: 0 | AS104: =IFERROR(OFFSET('VRAC HECT'!$J$6,MATCH(prana!$C106,EAN,0),2),"CodAbs") -> CodAbs | AT104: 0 | AU104: 0 | AV104: =IFERROR(OFFSET('VRAC HECT'!$J$6,MATCH(prana!$C106,EAN,0),2),"CodAbs") -> CodAbs
B105: 7963262 | C105: 5420008578663 | F105: PRANA HLE MAS BIO ARNICA 50ML | G105: =IFERROR(OFFSET('VRAC HECT'!$J$6,MATCH(prana!$C105,EAN,0),4),"CodAbs") -> CodAbs | I105: =IFERROR(OFFSET('VRAC HECT'!$J$6,MATCH(prana!$C105,EAN,0),3),"CodAbs") -> CodAbs | J105: 0.2 | K105: 0 | L105: 0 | M105: 14.95 | N105: NR | O105: PHN | P105: 0 | R105: 0 | S105: 0 | AS105: =IFERROR(OFFSET('VRAC HECT'!$J$6,MATCH(prana!$C107,EAN,0),2),"CodAbs") -> CodAbs | AT105: 0 | AU105: 0 | AV105: =IFERROR(OFFSET('VRAC HECT'!$J$6,MATCH(prana!$C107,EAN,0),2),"CodAbs") -> CodAbs
B106: 7963279 | C106: 5420008508653 | F106: PRANA HLE MASS BOURRACH FL/50ML | G106: =IFERROR(OFFSET('VRAC HECT'!$J$6,MATCH(prana!$C106,EAN,0),4),"CodAbs") -> CodAbs | I106: =IFERROR(OFFSET('VRAC HECT'!$J$6,MATCH(prana!$C106,EAN,0),3),"CodAbs") -> CodAbs | J106: 0.2 | K106: 0 | L106: 0 | M106: 9.95 | N106: NR | O106: PHN | P106: 0 | R106: 0 | S106: 0 | AS106: =IFERROR(OFFSET('VRAC HECT'!$J$6,MATCH(prana!$C108,EAN,0),2),"CodAbs") -> CodAbs | AT106: 0 | AU106: 0 | AV106: =IFERROR(OFFSET('VRAC HECT'!$J$6,MATCH(prana!$C108,EAN,0),2),"CodAbs") -> CodAbs
B107: 7963285 | C107: 5420008596759 | F107: PRANA HE MASS BIO CALENDUL FL/50ML | G107: =IFERROR(OFFSET('VRAC HECT'!$J$6,MATCH(prana!$C107,EAN,0),4),"CodAbs") -> CodAbs | I107: =IFERROR(OFFSET('VRAC HECT'!$J$6,MATCH(prana!$C107,EAN,0),3),"CodAbs") -> CodAbs | J107: 0.2 | K107: 0 | L107: 0 | M107: 8.95 | N107: NR | O107: PHN | P107: 0 | R107: 0 | S107: 0 | AS107: =IFERROR(OFFSET('VRAC HECT'!$J$6,MATCH(prana!$C109,EAN,0),2),"CodAbs") -> CodAbs | AT107: 0 | AU107: 0 | AV107: =IFERROR(OFFSET('VRAC HECT'!$J$6,MATCH(prana!$C109,EAN,0),2),"CodAbs") -> CodAbs
B108: 7963291 | C108: 5420008596766 | F108: PRANAROM HLE MASS BIO CALOPHYL FL/50ML | G108: =IFERROR(OFFSET('VRAC HECT'!$J$6,MATCH(prana!$C108,EAN,0),4),"CodAbs") -> CodAbs | I108: =IFERROR(OFFSET('VRAC HECT'!$J$6,MATCH(prana!$C108,EAN,0),3),"CodAbs") -> CodAbs | J108: 0.2 | K108: 0 | L108: 0 | M108: 10.95 | N108: NR | O108: PHN | P108: 0 | R108: 0 | S108: 0 | AS108: =IFERROR(OFFSET('VRAC HECT'!$J$6,MATCH(prana!$C110,EAN,0),2),"CodAbs") -> CodAbs | AT108: 0 | AU108: 0 | AV108: =IFERROR(OFFSET('VRAC HECT'!$J$6,MATCH(prana!$C110,EAN,0),2),"CodAbs") -> CodAbs
B109: 7963339 | C109: 5420008508660 | F109: PRANA H MASS GERM BLE FL/50ML | G109: =IFERROR(OFFSET('VRAC HECT'!$J$6,MATCH(prana!$C109,EAN,0),4),"CodAbs") -> CodAbs | I109: =IFERROR(OFFSET('VRAC HECT'!$J$6,MATCH(prana!$C109,EAN,0),3),"CodAbs") -> CodAbs | J109: 0.2 | K109: 0 | L109: 0 | M109: 6.5 | N109: NR | O109: PHN | P109: 0 | R109: 0 | S109: 0 | AS109: =IFERROR(OFFSET('VRAC HECT'!$J$6,MATCH(prana!$C111,EAN,0),2),"CodAbs") -> CodAbs | AT109: 0 | AU109: 0 | AV109: =IFERROR(OFFSET('VRAC HECT'!$J$6,MATCH(prana!$C111,EAN,0),2),"CodAbs") -> CodAbs
B110: 7963345 | C110: 5420008508677 | F110: PRANA H MASS JOJOBA FL/50ML | G110: =IFERROR(OFFSET('VRAC HECT'!$J$6,MATCH(prana!$C110,EAN,0),4),"CodAbs") -> CodAbs | I110: =IFERROR(OFFSET('VRAC HECT'!$J$6,MATCH(prana!$C110,EAN,0),3),"CodAbs") -> CodAbs | J110: 0.2 | K110: 0 | L110: 0 | M110: 9.95 | N110: NR | O110: PHN | P110: 0 | R110: 0 | S110: 0 | AS110: =IFERROR(OFFSET('VRAC HECT'!$J$6,MATCH(prana!$C112,EAN,0),2),"CodAbs") -> CodAbs | AT110: 0 | AU110: 0 | AV110: =IFERROR(OFFSET('VRAC HECT'!$J$6,MATCH(prana!$C112,EAN,0),2),"CodAbs") -> CodAbs
B111: 7963351 | C111: 5420008596346 | F111: PRANA H MASS BIO MACAD FL/50ML | G111: =IFERROR(OFFSET('VRAC HECT'!$J$6,MATCH(prana!$C111,EAN,0),4),"CodAbs") -> CodAbs | I111: =IFERROR(OFFSET('VRAC HECT'!$J$6,MATCH(prana!$C111,EAN,0),3),"CodAbs") -> CodAbs | J111: 0.2 | K111: 0 | L111: 0 | M111: 6.5 | N111: NR | O111: PHN | P111: 0 | R111: 0 | S111: 0 | AS111: =IFERROR(OFFSET('VRAC HECT'!$J$6,MATCH(prana!$C113,EAN,0),2),"CodAbs") -> CodAbs | AT111: 0 | AU111: 0 | AV111: =IFERROR(OFFSET('VRAC HECT'!$J$6,MATCH(prana!$C113,EAN,0),2),"CodAbs") -> CodAbs
B112: 7963368 | C112: 5420008508691 | F112: PRANAROM HLE MASS BIO MILLEPER FL/50ML | G112: =IFERROR(OFFSET('VRAC HECT'!$J$6,MATCH(prana!$C112,EAN,0),4),"CodAbs") -> CodAbs | I112: =IFERROR(OFFSET('VRAC HECT'!$J$6,MATCH(prana!$C112,EAN,0),3),"CodAbs") -> CodAbs | J112: 0.2 | K112: 0 | L112: 0 | M112: 7.95 | N112: NR | O112: PHN | P112: 0 | R112: 0 | S112: 0 | AS112: =IFERROR(OFFSET('VRAC HECT'!$J$6,MATCH(prana!$C114,EAN,0),2),"CodAbs") -> CodAbs | AT112: 0 | AU112: 0 | AV112: =IFERROR(OFFSET('VRAC HECT'!$J$6,MATCH(prana!$C114,EAN,0),2),"CodAbs") -> CodAbs
...
