Workbook
Name _171_Cmd: 'cat pranarom'!$AG$7:$AG$154
Name _171_Lvr: 'cat pranarom'!$AH$7:$AH$154
Name _171_MFAB: 'cat pranarom'!$AJ$7:$AJ$154
Name _171_NSFP: 'cat pranarom'!$AK$7:$AK$154
Name _171_SI: 'cat pranarom'!$AL$7:$AL$154
Name _171_Tel: 'cat pranarom'!$AF$7:$AF$154
Name _171_Terminal: 'cat pranarom'!$AI$7:$AI$154
Name _171_Type_Cmd_Suppl: 'cat pranarom'!$AM$7:$AM$154
Name CIP: 'cat pranarom'!$B$7:$B$154
Name CodArt: 'VRAC HECT'!$I$7:$I$308
Name Code_Acte: 'cat pranarom'!$O$7:$O$154
Name Code_Labo: 'cat pranarom'!$T$7:$T$154
Name cola: 'VRAC HECT'!$A$7:$A$308
Name colasup: 'cat pranarom'!$J$7:$J$154
Name colasup2: 'cat pranarom'!$M$7:$M$154
Name colb: 'VRAC HECT'!$B$7:$B$308
Name Colisage: 'cat pranarom'!$R$7:$R$154
Name Commentaire: 'cat pranarom'!$A$7:$A$154
Name Constituants_principaux: 'VRAC HECT'!$G$7:$G$308
Name EAN: 'VRAC HECT'!$J$7:$J$308
Name EAN13_: 'cat pranarom'!$C$7:$C$154
Name EAN13_2: 'cat pranarom'!$D$7:$D$154
Name EAN13_3: 'cat pranarom'!$E$7:$E$154
Name Fou_DelaiReappro: 'cat pranarom'!$AD$7:$AD$154
Name Fou_Email: 'cat pranarom'!$AB$7:$AB$154
Name Fou_Fax: 'cat pranarom'!$AA$7:$AA$154
Name Fou_Type: 'cat pranarom'!$AE$7:$AE$154
Name Fou_Web: 'cat pranarom'!$AC$7:$AC$154
Name Gabarit: 'cat pranarom'!$AV$7:$AV$154
Name Labo: 'cat pranarom'!$U$7:$U$154
Name Labo_Adr1: 'cat pranarom'!$V$7:$V$154
Name Labo_Adr2: 'cat pranarom'!$W$7:$W$154
Name Labo_CP: 'cat pranarom'!$X$7:$X$154
Name Labo_Tel: 'cat pranarom'!$Z$7:$Z$154
Name Labo_Ville: 'cat pranarom'!$Y$7:$Y$154
Name Libellé: 'cat pranarom'!$F$7:$F$154
Name Liste: 'cat pranarom'!$Q$7:$Q$154
Name Nom_français: 'VRAC HECT'!$D$7:$D$308
Name Nom_latin: 'VRAC HECT'!$C$7:$C$308
Name Origine: 'VRAC HECT'!$E$7:$E$308
Name Partie_distillée: 'VRAC HECT'!$F$7:$F$308
Name PML_CodeCle: 'cat pranarom'!$AR$7:$AR$154
Name PML_CodeRep: 'cat pranarom'!$AP$7:$AP$154
Name PML_IDRep: 'cat pranarom'!$AQ$7:$AQ$154
Name PML_URL: 'cat pranarom'!$AN$7:$AN$154
Name PML_URLAux: 'cat pranarom'!$AO$7:$AO$154
Name Prix_A_HT: 'cat pranarom'!$I$7:$I$154
Name Prix_Base: 'cat pranarom'!$P$7:$P$154
Name PUHT: 'VRAC HECT'!$M$7:$M$308
Name QteMin: 'cat pranarom'!$AS$7:$AS$154
Name QteMin2: 'cat pranarom'!$AT$7:$AT$154
Name Referencement: 'cat pranarom'!$H$7:$H$154
Name Remise2: 'cat pranarom'!$K$7:$K$154
Name Remise3: 'cat pranarom'!$L$7:$L$154
Name RemQte2: 'cat pranarom'!$AU$7:$AU$154
Name TVA: 'cat pranarom'!$G$7:$G$154
Name TVA: 'VRAC HECT'!$K$7:$K$308
Name UniteCmd: 'cat pranarom'!$S$7:$S$154
Name UVENT: 'VRAC HECT'!$L$7:$L$308
Name Vignette: 'cat pranarom'!$N$7:$N$154

Sheet synth
A2: Vrac HECT
A4: EAN | B4: PU | C4: TVA | D4: etc
A5: 5420008500022 | B5: =prana!I6=IFERROR(OFFSET('VRAC HECT'!$J$6,MATCH(prana!$A5,EAN,0),3),"CodAbs") -> FALSE | C5: =IFERROR(OFFSET('VRAC HECT'!$J$6,MATCH(synth!$A5,EAN,0),1),"CodAbs") -> 5.5 | D5: changer le nb de colonnes à décaler dans cette partie de la formule EQUIV(synth!$A5;EAN;0);1)
A6: 5420008500015 | B6: =IFERROR(OFFSET('VRAC HECT'!$J$6,MATCH(prana!$A6,EAN,0),3),"CodAbs") -> CodAbs | C6: =IFERROR(OFFSET('VRAC HECT'!$J$6,MATCH(synth!$A6,EAN,0),1),"CodAbs") -> 5.5
A7: 5420008500060 | B7: =IFERROR(OFFSET('VRAC HECT'!$J$6,MATCH(synth!$A7,EAN,0),3),"CodAbs") -> 32.14 | C7: =IFERROR(OFFSET('VRAC HECT'!$J$6,MATCH(synth!$A7,EAN,0),1),"CodAbs") -> 5.5
A8: 5420008523113 | B8: =IFERROR(OFFSET('VRAC HECT'!$J$6,MATCH(synth!$A8,EAN,0),3),"CodAbs") -> 3.41 | C8: =IFERROR(OFFSET('VRAC HECT'!$J$6,MATCH(synth!$A8,EAN,0),1),"CodAbs") -> 5.5
A9: 5420008508622 | B9: =IFERROR(OFFSET('VRAC HECT'!$J$6,MATCH(synth!$A9,EAN,0),3),"CodAbs") -> 11.76 | C9: =IFERROR(OFFSET('VRAC HECT'!$J$6,MATCH(synth!$A9,EAN,0),1),"CodAbs") -> 5.5
A10: 5420008590788 | B10: =IFERROR(OFFSET('VRAC HECT'!$J$6,MATCH(synth!$A10,EAN,0),3),"CodAbs") -> 23.22 | C10: =IFERROR(OFFSET('VRAC HECT'!$J$6,MATCH(synth!$A10,EAN,0),1),"CodAbs") -> 20
A11: 1254786 | B11: =IFERROR(OFFSET('VRAC HECT'!$J$6,MATCH(synth!$A11,EAN,0),3),"CodAbs") -> CodAbs | C11: =IFERROR(OFFSET('VRAC HECT'!$J$6,MATCH(synth!$A11,EAN,0),1),"CodAbs") -> CodAbs
A13: Pnanarom
A15: le code ean ne marche pas, il n'est pas unique dans les colonnes indiquées
A16: Si tu as le code CIP dans ton appli extraire ce code et faire la meme formule
A18: code cip | B18: pht | C18: Tva | D18: etc…..
A19: 1829047905 | B19: =IFERROR(OFFSET('cat pranarom'!$B$6,MATCH(synth!$A19,CIP,0),7),"CodAbs") -> 3.71 | C19: =IFERROR(OFFSET('cat pranarom'!$B$6,MATCH(synth!$A19,CIP,0),5),"CodAbs") -> 0.055
A20: 4843735
A21: 5179570
A22: 5421812

Sheet VRAC HECT
C2: 1) rendre les entetes uniques pour le classeur
C3: 2) remplacer els espcaes par des _ dans les entetes
C4: 3)Sélectionner le tableau( CTRL A vérfier que tout est bien sélectionné pas de ligne ou de colonne vide dans le tableau) et nommer les colonnes, barre formule-Depuis selection Ligne du haut
A6: cola | B6: colb | C6: Nom_latin | D6: Nom_français | E6: Origine | F6: Partie_distillée | G6: Constituants_principaux | H6: Volume | I6: CodArt | J6: EAN | K6: TVA | L6: UVENT | M6: PUHT
C7: Abies alba | D7: Sapin argenté (Sapin blanc) | E7: Balkans | F7: aiguille | G7: α- & β-pinène, limonène, camphène | H7: 10 ml | I7: 2 | J7: 5420008500022 | K7: 5.5 | L7: 3 | M7: 3.93 | N7: =K7 / 100 -> 0.055
C8: Abies balsamea | D8: Sapin baumier (Sapin balsamier) | E8: Canada | F8: aiguille | G8: β-pinène, α-pinène, δ-3-carène, acétate de bornyle, limonène | H8: 10 ml | I8: 1 | J8: 5420008500015 | K8: 5.5 | L8: 1 | M8: 3.78 | N8: =K8 / 100 -> 0.055
C9: Abies balsamea | D9: Sapin baumier (Sapin balsamier) | E9: Canada | F9: aiguille | G9: β-pinène, α-pinène, δ-3-carène, acétate de bornyle, limonène | H9: 100 ml | I9: 6 | J9: 5420008500060 | K9: 5.5 | L9: 1 | M9: 32.14 | N9: =K9 / 100 -> 0.055
C10: Abies sibirica | D10: Sapin de Sibérie | E10: Sibérie | F10: aiguille | G10: α-pinène, acétate de bornyle, camphène, δ-3-carène | H10: 10 ml | I10: 2311 | J10: 5420008523113 | K10: 5.5 | L10: 1 | M10: 3.41 | N10: =K10 / 100 -> 0.055
C11: Achillea millefolium | D11: Millefeuille | E11: Balkans | F11: sommité fleurie | G11: Camphre,1,8 cinéole, chamazulène | H11: 5 ml | I11: 862 | J11: 5420008508622 | K11: 5.5 | L11: 1 | M11: 11.76 | N11: =K11 / 100 -> 0.055
C12: Allium sativum | D12: Ail | E12: Chine | F12: bulbe | G12: Diallyl trisulfure, diallyl disulfure | H12: 5 ml | I12: 23 | J12: 5420008500237 | K12: 5.5 | L12: 1 | M12: 4.08 | N12: =K12 / 100 -> 0.055
C13: Ammi visnaga | D13: Khella | E13: Maroc | F13: semence | G13: Linalol, esters | H13: 5 ml | I13: 27 | J13: 5420008500275 | K13: 5.5 | L13: 1 | M13: 15.98 | N13: =K13 / 100 -> 0.055
C14: Amyris balsamifera | D14: Santal des Indes | E14: Haïti | F14: bois | G14: Valérianol, eudesmol | H14: 10 ml | I14: 31 | J14: 5420008500312 | K14: 20 | L14: 1 | M14: 3.78 | N14: =K14 / 100 -> 0.2
C15: Anethum graveolens | D15: Aneth | E15: Hongrie / Ukraine | F15: fruit | G15: Limonène, carvone | H15: 10 ml | I15: 34 | J15: 5420008500343 | K15: 5.5 | L15: 1 | M15: 5.68 | N15: =K15 / 100 -> 0.055
C16: Angelica archangelica | D16: Angélique | E16: Slovénie / Belgique / France | F16: racine | G16: α-pinène, phéllandrène, δ-3-carène, limonène | H16: 5 ml | I16: 37 | J16: 5420008500374 | K16: 5.5 | L16: 1 | M16: 19.06 | N16: =K16 / 100 -> 0.055
C17: Apium graveolens var. dulce | D17: Céleri | E17: Inde | F17: semence | G17: Limonène, sélinène | H17: 10 ml | I17: 49 | J17: 5420008500497 | K17: 20 | L17: 1 | M17: 5.13 | N17: =K17 / 100 -> 0.2
C18: Artemisia dracunculus | D18: Estragon | E18: Hongrie / France | F18: sommité fleurie | G18: Chavicol M.E., β-ocimèn | H18: 5 ml | I18: 56 | J18: 5420008500565 | K18: 5.5 | L18: 3 | M18: 4.94 | N18: =K18 / 100 -> 0.055
... C20: Artemisia dracunculus | D20: Estragon | E20: Hongrie / France | F20: sommité fleurie | G20: Chavicol M.E., β-ocimèn | H20: 100 ml | I20: 59 | J20: 5420008500596 | K20: 5.5 | L20: 1 | M20: 84.05 | N20: =K20 / 100 -> 0.055
B21: PH | C21: Artemisia herba-alba | D21: Armoise blanche | E21: Maroc | F21: sommité fleurie | G21: Camphre, thuyones | H21: 10 ml | I21: 61 | J21: 5420008500619 | K21: 20 | L21: 1 | M21: 8.39 | N21: =K21 / 100 -> 0.2
C22: Boswellia carteri | D22: Encens (Oliban) | E22: Somalie | F22: oléorésine | G22: Limonène, α-pinène,β-myrcène, β-caryophyllène | H22: 5 ml | I22: 80 | J22: 5420008500800 | K22: 20 | L22: 3 | M22: 5.68 | N22: =K22 / 100 -> 0.2
C23: Boswellia carteri | D23: Encens (Oliban) | E23: Somalie | F23: oléorésine | G23: Limonène, α-pinène,β-myrcène, β-caryophyllène | H23: 30 ml | I23: 82 | J23: 5420008500824 | K23: 20 | L23: 1 | M23: 30.64 | N23: =K23 / 100 -> 0.2
A24: Bio | C24: Boswellia carteri | D24: Encens (Oliban) | E24: Somalie | F24: oléorésine | G24: Limonène, α-pinène | H24: 5 ml | I24: 84 | J24: 5420008513350 | K24: 20 | L24: 1 | M24: 6.41 | N24: =K24 / 100 -> 0.2
C25: Cananga odorata | D25: Ylang-ylang extra | E25: Madagascar / Comores | F25: fleur | G25: Germacrène D, acétate de benzyle, farnésène, benzoate de benzyle | H25: 5 ml | I25: 91 | J25: 5420008500916 | K25: 20 | L25: 3 | M25: 5.62 | N25: =K25 / 100 -> 0.2
C26: Cananga odorata | D26: Ylang-ylang extra | E26: Madagascar / Comores | F26: fleur | G26: Germacrène D, acétate de benzyle, farnésène, benzoate de benzyle | H26: 30 ml | I26: 93 | J26: 5420008500930 | K26: 20 | L26: 1 | M26: 30.36 | N26: =K26 / 100 -> 0.2
C27: Cananga odorata | D27: Ylang-ylang extra | E27: Madagascar / Comores | F27: fleur | G27: Germacrène D, acétate de benzyle, farnésène, benzoate de benzyle | H27: 100 ml | I27: 2210 | J27: 5420008522109 | K27: 20 | L27: 1 | M27: 95.6 | N27: =K27 / 100 -> 0.2
A28: Bio | C28: Cananga odorata | D28: Ylang-ylang totum | E28: Comores / Madagascar | F28: fleur | G28: Germacrène D, acétate de farnésyle, farnésène, benzoate de benzyle | H28: 5 ml | I28: 2429 | J28: 5420008524295 | K28: 20 | L28: 3 | M28: 6.28 | N28: =K28 / 100 -> 0.2
C29: Canarium luzonicum | D29: Elémi | E29: Philippines | F29: oléorésine | G29: Limonène, élémol, élémicine, α-phellandrène | H29: 10 ml | I29: 95 | J29: 5420008500954 | K29: 20 | L29: 1 | M29: 4 | N29: =K29 / 100 -> 0.2
C30: Carum carvi | D30: Carvi | E30: Hongrie / Hollande | F30: semence | G30: Limonène, carvone | H30: 10 ml | I30: 98 | J30: 5420008500985 | K30: 5.5 | L30: 1 | M30: 3.89 | N30: =K30 / 100 -> 0.055
A31: Bio | C31: Cedrelopsis grevei | D31: Katrafay | E31: Madagascar | F31: bois | G31: ishwarane, β-caryophyllène, α-copaène_x0000_ | H31: 10 ml | I31: 117 | J31: 5420008512513 | K31: 20 | L31: 1 | M31: 8.6 | N31: =K31 / 100 -> 0.2
A32: Bio | C32: Cedrelopsis grevei | D32: Katrafay | E32: Madagascar | F32: bois | G32: ishwarane, β-caryophyllène, α-copaène_x0000_ | H32: 30 ml | I32: 771 | J32: 5420008512698 | K32: 20 | L32: 1 | M32: 23.22 | N32: =K32 / 100 -> 0.2
C33: Cedrus atlantica | D33: Cèdre de l'Atlas | E33: Maroc | F33: bois | G33: Himachalènes, atlantones | H33: 10 ml | I33: 101 | J33: 5420008501012 | K33: 20 | L33: 1 | M33: 2.64 | N33: =K33 / 100 -> 0.2
C34: Cedrus atlantica | D34: Cèdre de l'Atlas | E34: Maroc | F34: bois | G34: Himachalènes, atlantones | H34: 100 ml | I34: 103 | J34: 5420008501036 | K34: 20 | L34: 1 | M34: 22.41 | N34: =K34 / 100 -> 0.2
A35: Bio | C35: Cedrus atlantica | D35: Cèdre de l’Atlas | E35: Maroc | F35: bois | G35: Himachalènes, atlantones | H35: 10 ml | I35: 4311 | J35: 5420008577673 | K35: 20 | L35: 1 | M35: 3.24 | N35: =K35 / 100 -> 0.2
C36: Cedrus deodara | D36: Cèdre de l'Himalaya | E36: Népal | F36: bois | G36: Himachalènes, atlantones, himachalol | H36: 10 ml | I36: 104 | J36: 5420008501043 | K36: 20 | L36: 1 | M36: 2.69 | N36: =K36 / 100 -> 0.2
A37: Bio | C37: Chamaemelum nobile | D37: Camomille noble | E37: France / Hongrie | F37: fleur | G37: Angélate d’isobutyle, angélate d’isoamyle | H37: 5 ml | I37: 7179 | J37: 5420008506758 | K37: 5.5 | L37: 1 | M37: 13.89 | N37: =K37 / 100 -> 0.055
C38: Chamaemelum nobile | D38: Camomille noble | E38: France | F38: fleur | G38: Angélate d’isobutyle, angélate d’isoamyle | H38: 5 ml | I38: 107 | J38: 5420008501074 | K38: 5.5 | L38: 3 | M38: 10.83 | N38: =K38 / 100 -> 0.055
C39: Chamaemelum nobile | D39: Camomille noble | E39: France | F39: fleur | G39: Angélate d’isobutyle, angélate d’isoamyle | H39: 30 ml | I39: 109 | J39: 5420008501098 | K39: 5.5 | L39: 1 | M39: 58.45 | N39: =K39 / 100 -> 0.055
C40: Chamaemelum nobile | D40: Camomille noble | E40: France | F40: fleur | G40: Angélate d’isobutyle, angélate d’isoamyle | H40: 100 ml | I40: 110 | J40: 5420008501104 | K40: 5.5 | L40: 1 | M40: 184.03 | N40: =K40 / 100 -> 0.055
A41: Bio | C41: Cinnamomum camphora ct cinéole | D41: Ravintsara | E41: Madagascar | F41: feuille | G41: Sabinène, 1,8 cinéole, α-terpinéol | H41: 10 ml | I41: 2440 | J41: 5420008524400 | K41: 5.5 | L41: 3 | M41: 6.82 | N41: =K41 / 100 -> 0.055
A42: Bio | C42: Cinnamomum camphora ct cinéole | D42: Ravintsara | E42: Madagascar | F42: feuille | G42: Sabinène, 1,8 cinéole, α-terpinéol | H42: 100 ml | I42: 3608 | J42: 5420008536083 | K42: 5.5 | L42: 1 | M42: 57.96 | N42: =K42 / 100 -> 0.055
C43: Cinnamomum camphora ct cinéole | D43: Ravintsara | E43: Madagascar | F43: feuille | G43: Sabinène, 1,8 cinéole, α-terpinéol | H43: 10 ml | I43: 545 | J43: 5420008505454 | K43: 5.5 | L43: 3 | M43: 6.62 | N43: =K43 / 100 -> 0.055
...

Sheet cat pranarom
B1: 1) supprimer les colonnes vides (j,m etc) ou mettre un nom unique en entete
B2: 2) remplacer les espaces dans les entetes par des _
B3: 3) Nommer avec la procédure de la page précédente, si excel demande un remplacement c'est que ce nom est en double
A6: Commentaire | B6: CIP | C6: EAN13 | D6: EAN13_2 | E6: EAN13_3 | F6: Libellé | G6: TVA | H6: Referencement | I6: Prix_A_HT | J6: colasup | K6: Remise2 | L6: Remise3 | M6: colasup2 | N6: Vignette | O6: Code_Acte | P6: Prix_Base | Q6: Liste | R6: Colisage | S6: UniteCmd | T6: Code_Labo | U6: Labo | V6: Labo_Adr1 | W6: Labo_Adr2 | X6: Labo_CP | Y6: Labo_Ville | Z6: Labo_Tel | AA6: Fou_Fax | AB6: Fou_Email | AC6: Fou_Web | AD6: Fou_DelaiReappro | AE6: Fou_Type | AF6: 171_Tel | AG6: 171_Cmd | AH6: 171_Lvr | AI6: 171_Terminal | AJ6: 171_MFAB | AK6: 171_NSFP | AL6: 171_SI | AM6: 171_Type_Cmd_Suppl | AN6: PML_URL | AO6: PML_URLAux | AP6: PML_CodeRep | AQ6: PML_IDRep | AR6: PML_CodeCle | AS6: QteMin | AT6: QteMin2 | AU6: RemQte2 | AV6: Gabarit
B7: 90367 | C7: 5420010000000 | D7: 5420010000000 | F7: H. E SANTAL DES INDES PRANAROM | G7: 0.2 | I7: 0 | K7: 0 | L7: 0 | N7: NR | O7: PHN | P7: 0 | R7: 0 | S7: 0 | T7: 4036B | U7: PRANAROM INTERNATIONAL | V7: 320077515 | W7: FR 0001814 | Z7: 320077515 | AA7: 320076446 | AD7: 120 | AE7: 2 | AI7: 0 | AR7: 320076446 | AS7: 0 | AT7: 0 | AU7: 0 | AV7: 0
B8: 7753091 | C8: 5420010000000 | F8: PRANA HE EUCALYPTUS RADIE 10ML | G8: 0.055 | I8: 3.07 | K8: 0 | L8: 0 | N8: NR | O8: PHN | P8: 0 | R8: 0 | S8: 0 | AS8: 0 | AT8: 0 | AU8: 0 | AV8: 0
B9: 1829047905 | C9: 5420010000000 | F9: PRANA HE MYRTE ACETATE DE MYRTENYLE 10ML | G9: 0.055 | I9: 3.71 | K9: 0 | L9: 0 | N9: NR | O9: PHN | P9: 0 | R9: 0 | S9: 0 | AS9: 0 | AT9: 0 | AU9: 0 | AV9: 0
B10: 4843735 | C10: 5420010000000 | D10: 3401550000000 | F10: PRANAROM H V BIO CAROTT FV50ML | G10: 0.055 | I10: 4.12 | K10: 0 | L10: 0 | N10: NR | O10: PHN | P10: 0 | R10: 0 | S10: 0 | AS10: 0 | AT10: 0 | AU10: 0 | AV10: 0
B11: 5179570 | C11: 5420010000000 | D11: 3401550000000 | F11: PRANABB DIFFUS ULTRASONIQUE SPHERA BB | G11: 0.2 | I11: 33 | K11: 0 | L11: 0 | N11: NR | O11: PHN | P11: 0 | R11: 0 | S11: 0 | AS11: 0 | AT11: 0 | AU11: 0 | AV11: 0
B12: 5421812 | C12: 5420010000000 | D12: 3401550000000 | F12: AROMAFORCE SPRAY ASSAINIS FL/150ML | G12: 0.2 | I12: 9.8 | K12: 0 | L12: 0 | N12: NR | O12: PHN | P12: 0 | R12: 0 | S12: 0 | AS12: 0 | AT12: 0 | AU12: 0 | AV12: 0
B13: 9927655 | C13: 5420010000000 | D13: 3401600000000 | F13: AROMALGIC SPRAY SOL ARTICUL MUSCL 50ML | G13: 0.2 | I13: 6.62 | K13: 0 | L13: 0 | N13: NR | O13: PHN | P13: 0 | R13: 0 | S13: 0 | AS13: 0 | AT13: 0 | AU13: 0 | AV13: 0
B14: 7846450 | C14: 5420010000000 | F14: AROMAGOM GOM B/24 | G14: 0.055 | I14: 3.35 | K14: 0 | L14: 0 | N14: NR | O14: PHN | P14: 0 | R14: 0 | S14: 0 | AS14: 0 | AT14: 0 | AU14: 0 | AV14: 0
B15: 81580 | C15: 5420010000000 | F15: PRANA HE BIO CANNELIER CHINE | G15: 0.055 | I15: 3.37 | K15: 0 | L15: 0 | N15: NR | O15: PHN | P15: 0 | Q15: 2 | R15: 0 | S15: 0 | AS15: 1 | AT15: 0 | AU15: 0 | AV15: 1
B16: 81634 | C16: 5420010000000 | D16: 5420010000000 | F16: PRANA HE BIO LAVANDIN SUPER 10ML | G16: 0.055 | I16: 3.43 | K16: 0 | L16: 0 | N16: NR | O16: PHN | P16: 0 | R16: 0 | S16: 0 | AS16: 0 | AT16: 0 | AU16: 0 | AV16: 1
B17: 82537 | C17: 5420010000000 | F17: PRANA HE BIO CITRONELLE DE JAVA 10ML | G17: 0.055 | I17: 2.55 | K17: 0 | L17: 0 | N17: NR | O17: PHN | P17: 0 | R17: 0 | S17: 0 | AS17: 0 | AT17: 0 | AU17: 0 | AV17: 3
B18: 82538 | C18: 5420010000000 | F18: PRANA HE BIO GINGEMBRE 5ML | G18: 0.2 | I18: 4.97 | K18: 0 | L18: 0 | N18: NR | O18: PHN | P18: 0 | R18: 0 | S18: 0 | AS18: 0 | AT18: 0 | AU18: 0 | AV18: 1
B19: 82539 | C19: 5420010000000 | F19: PRANA HE CEDRE DE VIRGINIE 10ML | G19: 0.2 | I19: 2.7 | K19: 0 | L19: 0 | N19: NR | O19: PHN | P19: 0 | R19: 0 | S19: 0 | AS19: 0 | AT19: 0 | AU19: 0 | AV19: 1
B20: 85463 | C20: 5420010000000 | F20: PRANA HE AIL 5ML | G20: 0.2 | I20: 3.96 | K20: 0 | L20: 0 | N20: NR | O20: PHN | P20: 0 | R20: 0 | S20: 0 | AS20: 0 | AT20: 0 | AU20: 0 | AV20: 1
B21: 85464 | C21: 5420010000000 | F21: PRANA HE BAUME DE COPAHU 10ML | G21: 0.2 | I21: 3.54 | K21: 0 | L21: 0 | N21: NR | O21: PHN | P21: 0 | R21: 0 | S21: 0 | AS21: 0 | AT21: 0 | AU21: 0 | AV21: 1
B22: 86047 | C22: 5420010000000 | F22: PRANA HE BAY PIMENT 10ML | G22: 0.2 | I22: 5.75 | K22: 0 | L22: 0 | N22: NR | O22: PHN | P22: 0 | R22: 3 | S22: 0 | AS22: 0 | AT22: 0 | AU22: 0 | AV22: 1
B23: 86944 | C23: 5420010000000 | F23: PRANA HE BIO GAULTHERIE ODORANTE 5ML | G23: 0.2 | I23: 3.48 | K23: 0 | L23: 0 | N23: NR | O23: PHN | P23: 0 | R23: 0 | S23: 0 | AS23: 0 | AT23: 0 | AU23: 0 | AV23: 1
B24: 86945 | C24: 5420010000000 | F24: PRANA HE MENTHE POULIOT 10ML | G24: 0.2 | I24: 3.6 | K24: 0 | L24: 0 | N24: NR | O24: PHN | P24: 0 | R24: 0 | S24: 0 | AS24: 0 | AT24: 0 | AU24: 0 | AV24: 1
B25: 88096 | C25: 5420010000000 | F25: PRANA HE HYSOPE COUCHEE | G25: 0.2 | I25: 14.46 | K25: 0 | L25: 0 | N25: NR | O25: PHN | P25: 0 | R25: 0 | S25: 0 | AS25: 0 | AT25: 0 | AU25: 0 | AV25: 1
B26: 636100 | C26: 5420010000000 | F26: PRANA HE BIO MYRTE CINEOLE 5ML | G26: 0.021 | I26: 8.75 | K26: 0 | L26: 0 | N26: NR | O26: PH4 | P26: 0 | R26: 0 | S26: 0 | AS26: 0 | AT26: 0 | AU26: 0 | AV26: 1
B27: 2101053 | C27: 4042810000000 | D27: 5420010000000 | F27: PRANA HE BIO CEDRE ATLAS 10ML | G27: 0.055 | I27: 100 | K27: 0 | L27: 0 | N27: NR | O27: PHN | P27: 0 | R27: 100 | S27: 100 | AS27: 100 | AT27: 0 | AU27: 0 | AV27: 100
B28: 2162155 | C28: 5420010000000 | D28: 5420010000000 | F28: PRANA HE BIO GERANIUM BOURBON 10ML | G28: 0.055 | I28: 14.38 | K28: 0 | L28: 0 | N28: NR | O28: PHN | P28: 0 | R28: 0 | S28: 0 | AS28: 0 | AT28: 0 | AU28: 0 | AV28: 1
B29: 2258748 | C29: 5420010000000 | F29: PRANA HE BIO MARJOLAINE COQUILLE 5ML | G29: 0.055 | I29: 6.05 | K29: 0 | L29: 0 | N29: NR | O29: PHN | P29: 0 | R29: 0 | S29: 0 | AS29: 0 | AT29: 0 | AU29: 0 | AV29: 1
B30: 2341053 | C30: 5420010000000 | F30: PRANA HE BIO NEROLI 5ML | G30: 0.055 | I30: 31.47 | K30: 0 | L30: 0 | N30: NR | O30: PHN | P30: 0 | R30: 0 | S30: 0 | AS30: 0 | AT30: 0 | AU30: 0 | AV30: 1
B31: 2552867 | C31: 5420010000000 | D31: 3401330000000 | F31: AROMAPAR SHAMP+LOTIO 125ML+30ML | G31: 0.2 | I31: 11.51 | K31: 0 | L31: 0 | N31: NR | O31: PHN | P31: 0 | R31: 0 | S31: 0 | AS31: 0 | AT31: 0 | AU31: 0 | AV31: 3
B32: 2677050 | C32: 5420010000000 | F32: PRANA HE BIO EUCALYT CITRIODORA 10ML | G32: 0.055 | I32: 2.84 | K32: 0 | L32: 0 | N32: NR | O32: PHN | P32: 0 | R32: 0 | S32: 0 | AS32: 0 | AT32: 0 | AU32: 0 | AV32: 1
B33: 3254250 | C33: 5420010000000 | F33: PRANA HE BIO GENEVRIER COMMUN 5ML | G33: 0.2 | I33: 7.8 | K33: 0 | L33: 0 | N33: NR | O33: PHN | P33: 0 | R33: 0 | S33: 0 | AS33: 0 | AT33: 0 | AU33: 0 | AV33: 1
B34: 3401231 | C34: 5420010000000 | D34: 5420010000000 | F34: PRANA HE NARD DE L HIMALAYA BIO 10ML | G34: 0.2 | I34: 8.88 | K34: 0 | L34: 0 | N34: NR | O34: PHN | P34: 0 | R34: 0 | S34: 0 | AS34: 0 | AT34: 0 | AU34: 0 | AV34: 1
B35: 4244259 | C35: 5420010000000 | F35: PRANA HE BIO CLOU GIROFLE 10ML | G35: 0.2 | I35: 3.17 | K35: 0 | L35: 0 | N35: NR | O35: PHN | P35: 0 | R35: 0 | S35: 0 | AS35: 0 | AT35: 0 | AU35: 0 | AV35: 3
B36: 4310105 | C36: 5420010000000 | F36: PRANA HE BOIS DE HO | G36: 0.055 | I36: 4.07 | K36: 0 | L36: 0 | N36: NR | O36: PHN | P36: 0 | R36: 0 | S36: 0 | AS36: 0 | AT36: 0 | AU36: 0 | AV36: 3
B37: 4375352 | C37: 5420010000000 | F37: PRANA HE BIO INULE 5ML | G37: 0.2 | I37: 20.2 | K37: 0 | L37: 0 | N37: NR | O37: PHN | P37: 0 | R37: 0 | S37: 0 | AS37: 0 | AT37: 0 | AU37: 0 | AV37: 1
B38: 4493318 | C38: 5420010000000 | F38: OLEOCAPS 1 NEZ | G38: 0.055 | I38: 7.64 | K38: 0 | L38: 0 | N38: NR | O38: PHN | P38: 0 | R38: 0 | S38: 0 | AS38: 0 | AT38: 0 | AU38: 0 | AV38: 6
B39: 4493324 | C39: 5420010000000 | F39: OLEOCAPS 2 GASTRO VOIES URINAIRES | G39: 0.055 | I39: 7.64 | K39: 0 | L39: 0 | N39: NR | O39: PHN | P39: 0 | R39: 0 | S39: 0 | AS39: 0 | AT39: 0 | AU39: 0 | AV39: 6
B40: 4493330 | C40: 5420010000000 | F40: OLEOCAPS 3 DIGESTION | G40: 0.055 | I40: 7.87 | K40: 0 | L40: 0 | N40: NR | O40: PHN | P40: 0 | R40: 0 | S40: 0 | AS40: 0 | AT40: 0 | AU40: 0 | AV40: 6
B41: 4493347 | C41: 5420010000000 | F41: OLEOCAPS 4 DEFENSES | G41: 0.055 | I41: 7.64 | K41: 0 | L41: 0 | N41: NR | O41: PHN | P41: 0 | R41: 0 | S41: 0 | AS41: 0 | AT41: 0 | AU41: 0 | AV41: 6
B42: 4493353 | C42: 5420010000000 | F42: OLEOCAPS 5 GYNECO | G42: 0.055 | I42: 7.64 | K42: 0 | L42: 0 | N42: NR | O42: PHN | P42: 0 | R42: 0 | S42: 0 | AS42: 0 | AT42: 0 | AU42: 0 | AV42: 6
...

Sheet prana
A1: Commentaire | B1: CIP | C1: EAN13 | D1: EAN13_2 | E1: EAN13_3 | F1: Libellé | G1: TVA | H1: Referencement | I1: Prix A HT | J1: Remise1 | K1: Remise2 | L1: Remise3 | M1: PV TTC | N1: Vignette | O1: Code Acte | P1: Prix Base | Q1: Liste | R1: Colisage | S1: UniteCmd | T1: Code Labo | U1: Labo | V1: Labo Adr1 | W1: Labo Adr2 | X1: Labo CP | Y1: Labo Ville | Z1: Labo Tel | AA1: Fou_Fax | AB1: Fou_Email | AC1: Fou_Web | AD1: Fou_DelaiReappro | AE1: Fou_Type | AF1: 171_Tel | AG1: 171_Cmd | AH1: 171_Lvr | AI1: 171_Terminal | AJ1: 171_MFAB | AK1: 171_NSFP | AL1: 171_SI | AM1: 171_Type_Cmd_Suppl | AN1: PML_URL | AO1: PML_URLAux | AP1: PML_CodeRep | AQ1: PML_IDRep | AR1: PML_CodeCle | AS1: QteMin | AT1: QteMin2 | AU1: RemQte2 | AV1: Gabarit
B2: 7753300 | C2: 5420008505454 | F2: PRANA HE RAVINTSARA FL/10ML | G2: 0.055 | I2: 6.62 | J2: 0 | K2: 0 | L2: 0 | M2: 7.15 | N2: NR | O2: PHN | P2: 0 | R2: 0 | S2: 0 | T2: 4036B | U2: PRANAROM INTERNATIONAL | V2: 320077515 | W2: FR 0001814 | Z2: 320077515 | AA2: 320076446 | AD2: 120 | AE2: 2 | AI2: 0 | AO2: TOUJOURS PAR MAIL !!!
A4: PAS DE GESTION RELIQUATS SAUF NOUVEAUTE | D4: 320076446 | E4: 0 | F4: 0 | G4: 0 | H4: 0
B5: 10000085 | C5: 5420008512537 | F5: PRANA HE BIO CITRONELLE MADAGASCAR 10ML | G5: 0.2 | I5: 7.58 | J5: 0.2 | K5: 0 | L5: 0 | M5: 10.95 | N5: NR | O5: PHN | P5: 0 | R5: 0 | S5: 0 | AS5: =IFERROR(OFFSET('VRAC HECT'!$J$6,MATCH(prana!$C7,EAN,0),2),"CodAbs") -> 3 | AT5: 0 | AU5: 0 | AV5: =IFERROR(OFFSET('VRAC HECT'!$J$6,MATCH(prana!$C7,EAN,0),2),"CodAbs") -> 3
B6: 90367 | C6: 5420008500312 | D6: 5420008505829 | F6: PRANA HE SANTAL DES INDES PRANAROM | G6: =IFERROR(OFFSET('VRAC HECT'!$J$6,MATCH(prana!$C6,EAN,0),4),"CodAbs") -> 0.2 | I6: =IFERROR(OFFSET('VRAC HECT'!$J$6,MATCH(prana!$C6,EAN,0),3),"CodAbs") -> 3.78 | J6: 0 | K6: 0 | L6: 0 | M6: 7.1 | N6: NR | O6: PHN | P6: 0 | R6: 0 | S6: 0 | AS6: =IFERROR(OFFSET('VRAC HECT'!$J$6,MATCH(prana!$C8,EAN,0),2),"CodAbs") -> 1 | AT6: 0 | AU6: 0 | AV6: =IFERROR(OFFSET('VRAC HECT'!$J$6,MATCH(prana!$C8,EAN,0),2),"CodAbs") -> 1
B7: 7753091 | C7: 5420008502569 | F7: PRANA HE EUCALYPTUS RADIE 10ML | G7: =IFERROR(OFFSET('VRAC HECT'!$J$6,MATCH(prana!$C7,EAN,0),4),"CodAbs") -> 0.055 | I7: =IFERROR(OFFSET('VRAC HECT'!$J$6,MATCH(prana!$C7,EAN,0),3),"CodAbs") -> 3.16 | J7: 0 | K7: 0 | L7: 0 | M7: 4.1 | N7: NR | O7: PHN | P7: 0 | R7: 0 | S7: 0 | AS7: =IFERROR(OFFSET('VRAC HECT'!$J$6,MATCH(prana!$C9,EAN,0),2),"CodAbs") -> CodAbs | AT7: 0 | AU7: 0 | AV7: =IFERROR(OFFSET('VRAC HECT'!$J$6,MATCH(prana!$C9,EAN,0),2),"CodAbs") -> CodAbs
B8: 1829047905 | C8: 5420008504464 | F8: PRANA HE MYRTE ACETATE DE MYRTENYLE 10ML | G8: =IFERROR(OFFSET('VRAC HECT'!$J$6,MATCH(prana!$C8,EAN,0),4),"CodAbs") -> 0.055 | I8: =IFERROR(OFFSET('VRAC HECT'!$J$6,MATCH(prana!$C8,EAN,0),3),"CodAbs") -> 3.71 | J8: 0 | K8: 0 | L8: 0 | M8: 6.4 | N8: NR | O8: PHN | P8: 0 | R8: 0 | S8: 0 | AS8: =IFERROR(OFFSET('VRAC HECT'!$J$6,MATCH(prana!$C10,EAN,0),2),"CodAbs") -> CodAbs | AT8: 0 | AU8: 0 | AV8: =IFERROR(OFFSET('VRAC HECT'!$J$6,MATCH(prana!$C10,EAN,0),2),"CodAbs") -> CodAbs
B9: 4843735 | C9: 5420008509155 | D9: 3401548437353 | F9: PRANAROM H V BIO CAROTT FV50ML | G9: =IFERROR(OFFSET('VRAC HECT'!$J$6,MATCH(prana!$C9,EAN,0),4),"CodAbs") -> CodAbs | I9: =IFERROR(OFFSET('VRAC HECT'!$J$6,MATCH(prana!$C9,EAN,0),3),"CodAbs") -> CodAbs | J9: 0.2 | K9: 0 | L9: 0 | M9: 5.8 | N9: NR | O9: PHN | P9: 0 | R9: 0 | S9: 0 | AS9: =IFERROR(OFFSET('VRAC HECT'!$J$6,MATCH(prana!$C11,EAN,0),2),"CodAbs") -> CodAbs | AT9: 0 | AU9: 0 | AV9: =IFERROR(OFFSET('VRAC HECT'!$J$6,MATCH(prana!$C11,EAN,0),2),"CodAbs") -> CodAbs
B10: 5179570 | C10: 5420008510724 | D10: 3401551795709 | F10: PRANABB DIFFUS ULTRASONIQUE SPHERA BB | G10: =IFERROR(OFFSET('VRAC HECT'!$J$6,MATCH(prana!$C10,EAN,0),4),"CodAbs") -> CodAbs | I10: =IFERROR(OFFSET('VRAC HECT'!$J$6,MATCH(prana!$C10,EAN,0),3),"CodAbs") -> CodAbs | J10: 0 | K10: 0 | L10: 0 | M10: 65 | N10: NR | O10: PHN | P10: 0 | R10: 0 | S10: 0 | AS10: =IFERROR(OFFSET('VRAC HECT'!$J$6,MATCH(prana!$C12,EAN,0),2),"CodAbs") -> CodAbs | AT10: 0 | AU10: 0 | AV10: =IFERROR(OFFSET('VRAC HECT'!$J$6,MATCH(prana!$C12,EAN,0),2),"CodAbs") -> CodAbs
B11: 5421812 | C11: 5420008511165 | D11: 3401554218120 | F11: AROMAFORCE SPRAY ASSAINIS FL/150ML | G11: =IFERROR(OFFSET('VRAC HECT'!$J$6,MATCH(prana!$C11,EAN,0),4),"CodAbs") -> CodAbs | I11: =IFERROR(OFFSET('VRAC HECT'!$J$6,MATCH(prana!$C11,EAN,0),3),"CodAbs") -> CodAbs | J11: 0 | K11: 0 | L11: 0 | M11: 15.9 | N11: NR | O11: PHN | P11: 0 | R11: 0 | S11: 0 | AS11: =IFERROR(OFFSET('VRAC HECT'!$J$6,MATCH(prana!$C13,EAN,0),2),"CodAbs") -> CodAbs | AT11: 0 | AU11: 0 | AV11: =IFERROR(OFFSET('VRAC HECT'!$J$6,MATCH(prana!$C13,EAN,0),2),"CodAbs") -> CodAbs
B12: 9927655 | C12: 5420008513626 | D12: 3401599276550 | F12: AROMALGIC SPRAY SOL ARTICUL MUSCL 50ML | G12: =IFERROR(OFFSET('VRAC HECT'!$J$6,MATCH(prana!$C12,EAN,0),4),"CodAbs") -> CodAbs | I12: =IFERROR(OFFSET('VRAC HECT'!$J$6,MATCH(prana!$C12,EAN,0),3),"CodAbs") -> CodAbs | J12: 0 | K12: 0 | L12: 0 | M12: 11.84 | N12: NR | O12: PHN | P12: 0 | R12: 0 | S12: 0 | AS12: =IFERROR(OFFSET('VRAC HECT'!$J$6,MATCH(prana!$C14,EAN,0),2),"CodAbs") -> 1 | AT12: 0 | AU12: 0 | AV12: =IFERROR(OFFSET('VRAC HECT'!$J$6,MATCH(prana!$C14,EAN,0),2),"CodAbs") -> 1
B13: 7846450 | C13: 5420008525322 | F13: AROMAGOM GOM B/24 | G13: =IFERROR(OFFSET('VRAC HECT'!$J$6,MATCH(prana!$C13,EAN,0),4),"CodAbs") -> CodAbs | I13: =IFERROR(OFFSET('VRAC HECT'!$J$6,MATCH(prana!$C13,EAN,0),3),"CodAbs") -> CodAbs | J13: 0 | K13: 0 | L13: 0 | M13: 4.33 | N13: NR | O13: PHN | P13: 0 | R13: 0 | S13: 0 | AS13: =IFERROR(OFFSET('VRAC HECT'!$J$6,MATCH(prana!$C15,EAN,0),2),"CodAbs") -> 1 | AT13: 0 | AU13: 0 | AV13: =IFERROR(OFFSET('VRAC HECT'!$J$6,MATCH(prana!$C15,EAN,0),2),"CodAbs") -> 1
B14: 81580 | C14: 5420008506826 | F14: PRANA HE BIO CANNELIER CHINE | G14: =IFERROR(OFFSET('VRAC HECT'!$J$6,MATCH(prana!$C14,EAN,0),4),"CodAbs") -> 0.055 | I14: =IFERROR(OFFSET('VRAC HECT'!$J$6,MATCH(prana!$C14,EAN,0),3),"CodAbs") -> 3.47 | J14: 0.2 | K14: 0 | L14: 0 | M14: 5.5 | N14: NR | O14: PHN | P14: 0 | Q14: 2 | R14: 0 | S14: 0 | AS14: =IFERROR(OFFSET('VRAC HECT'!$J$6,MATCH(prana!$C16,EAN,0),2),"CodAbs") -> 3 | AT14: 0 | AU14: 0 | AV14: =IFERROR(OFFSET('VRAC HECT'!$J$6,MATCH(prana!$C16,EAN,0),2),"CodAbs") -> 3
B15: 81634 | C15: 5420008581908 | D15: 5420008502873 | F15: PRANA HE BIO LAVANDIN SUPER 10ML | G15: =IFERROR(OFFSET('VRAC HECT'!$J$6,MATCH(prana!$C15,EAN,0),4),"CodAbs") -> 0.055 | I15: =IFERROR(OFFSET('VRAC HECT'!$J$6,MATCH(prana!$C15,EAN,0),3),"CodAbs") -> 3.53 | J15: 0.2 | K15: 0 | L15: 0 | M15: 5.5 | N15: NR | O15: PHN | P15: 0 | R15: 0 | S15: 0 | AS15: =IFERROR(OFFSET('VRAC HECT'!$J$6,MATCH(prana!$C17,EAN,0),2),"CodAbs") -> 1 | AT15: 0 | AU15: 0 | AV15: =IFERROR(OFFSET('VRAC HECT'!$J$6,MATCH(prana!$C17,EAN,0),2),"CodAbs") -> 1
B16: 82537 | C16: 5420008507212 | F16: PRANA HE BIO CITRONELLE DE JAVA 10ML | G16: =IFERROR(OFFSET('VRAC HECT'!$J$6,MATCH(prana!$C16,EAN,0),4),"CodAbs") -> 0.055 | I16: =IFERROR(OFFSET('VRAC HECT'!$J$6,MATCH(prana!$C16,EAN,0),3),"CodAbs") -> 2.63 | J16: 0.2 | K16: 0 | L16: 0 | M16: 3.95 | N16: NR | O16: PHN | P16: 0 | R16: 0 | S16: 0 | AS16: =IFERROR(OFFSET('VRAC HECT'!$J$6,MATCH(prana!$C18,EAN,0),2),"CodAbs") -> 1 | AT16: 0 | AU16: 0 | AV16: =IFERROR(OFFSET('VRAC HECT'!$J$6,MATCH(prana!$C18,EAN,0),2),"CodAbs") -> 1
B17: 82538 | C17: 5420008508783 | F17: PRANA HE BIO GINGEMBRE 5ML | G17: =IFERROR(OFFSET('VRAC HECT'!$J$6,MATCH(prana!$C17,EAN,0),4),"CodAbs") -> 0.055 | I17: =IFERROR(OFFSET('VRAC HECT'!$J$6,MATCH(prana!$C17,EAN,0),3),"CodAbs") -> 5.12 | J17: 0.2 | K17: 0 | L17: 0 | M17: 7.95 | N17: NR | O17: PHN | P17: 0 | R17: 0 | S17: 0 | AS17: =IFERROR(OFFSET('VRAC HECT'!$J$6,MATCH(prana!$C19,EAN,0),2),"CodAbs") -> 1 | AT17: 0 | AU17: 0 | AV17: =IFERROR(OFFSET('VRAC HECT'!$J$6,MATCH(prana!$C19,EAN,0),2),"CodAbs") -> 1
B18: 82539 | C18: 5420008503245 | F18: PRANA HE CEDRE DE VIRGINIE 10ML | G18: =IFERROR(OFFSET('VRAC HECT'!$J$6,MATCH(prana!$C18,EAN,0),4),"CodAbs") -> 0.2 | I18: =IFERROR(OFFSET('VRAC HECT'!$J$6,MATCH(prana!$C18,EAN,0),3),"CodAbs") -> 2.78 | J18: 0.2 | K18: 0 | L18: 0 | M18: 4.5 | N18: NR | O18: PHN | P18: 0 | R18: 0 | S18: 0 | AS18: =IFERROR(OFFSET('VRAC HECT'!$J$6,MATCH(prana!$C20,EAN,0),2),"CodAbs") -> 1 | AT18: 0 | AU18: 0 | AV18: =IFERROR(OFFSET('VRAC HECT'!$J$6,MATCH(prana!$C20,EAN,0),2),"CodAbs") -> 1
B19: 85463 | C19: 5420008500237 | F19: PRANA HE AIL 5ML | G19: =IFERROR(OFFSET('VRAC HECT'!$J$6,MATCH(prana!$C19,EAN,0),4),"CodAbs") -> 0.055 | I19: =IFERROR(OFFSET('VRAC HECT'!$J$6,MATCH(prana!$C19,EAN,0),3),"CodAbs") -> 4.08 | J19: 0.2 | K19: 0 | L19: 0 | M19: 6.5 | N19: NR | O19: PHN | P19: 0 | R19: 0 | S19: 0 | AS19: =IFERROR(OFFSET('VRAC HECT'!$J$6,MATCH(prana!$C21,EAN,0),2),"CodAbs") -> 1 | AT19: 0 | AU19: 0 | AV19: =IFERROR(OFFSET('VRAC HECT'!$J$6,MATCH(prana!$C21,EAN,0),2),"CodAbs") -> 1
B20: 85464 | C20: 5420008501944 | F20: PRANA HE BAUME DE COPAHU 10ML | G20: =IFERROR(OFFSET('VRAC HECT'!$J$6,MATCH(prana!$C20,EAN,0),4),"CodAbs") -> 0.055 | I20: =IFERROR(OFFSET('VRAC HECT'!$J$6,MATCH(prana!$C20,EAN,0),3),"CodAbs") -> 3.65 | J20: 0.2 | K20: 0 | L20: 0 | M20: 5.95 | N20: NR | O20: PHN | P20: 0 | R20: 0 | S20: 0 | AS20: =IFERROR(OFFSET('VRAC HECT'!$J$6,MATCH(prana!$C22,EAN,0),2),"CodAbs") -> 1 | AT20: 0 | AU20: 0 | AV20: =IFERROR(OFFSET('VRAC HECT'!$J$6,MATCH(prana!$C22,EAN,0),2),"CodAbs") -> 1
B21: 86047 | C21: 5420008505171 | F21: PRANA HE BAY PIMENT 10ML | G21: =IFERROR(OFFSET('VRAC HECT'!$J$6,MATCH(prana!$C21,EAN,0),4),"CodAbs") -> 0.2 | I21: =IFERROR(OFFSET('VRAC HECT'!$J$6,MATCH(prana!$C21,EAN,0),3),"CodAbs") -> 5.92 | J21: 0.2 | K21: 0 | L21: 0 | M21: 9.8 | N21: NR | O21: PHN | P21: 0 | R21: 3 | S21: 0 | AS21: =IFERROR(OFFSET('VRAC HECT'!$J$6,MATCH(prana!$C23,EAN,0),2),"CodAbs") -> 1 | AT21: 0 | AU21: 0 | AV21: =IFERROR(OFFSET('VRAC HECT'!$J$6,MATCH(prana!$C23,EAN,0),2),"CodAbs") -> 1
B22: 86944 | C22: 5420008507403 | F22: PRANA HE BIO GAULTHERIE ODORANTE 5ML | G22: =IFERROR(OFFSET('VRAC HECT'!$J$6,MATCH(prana!$C22,EAN,0),4),"CodAbs") -> 0.2 | I22: =IFERROR(OFFSET('VRAC HECT'!$J$6,MATCH(prana!$C22,EAN,0),3),"CodAbs") -> 3.58 | J22: 0.2 | K22: 0 | L22: 0 | M22: 5.5 | N22: NR | O22: PHN | P22: 0 | R22: 0 | S22: 0 | AS22: =IFERROR(OFFSET('VRAC HECT'!$J$6,MATCH(prana!$C24,EAN,0),2),"CodAbs") -> 1 | AT22: 0 | AU22: 0 | AV22: =IFERROR(OFFSET('VRAC HECT'!$J$6,MATCH(prana!$C24,EAN,0),2),"CodAbs") -> 1
B23: 86945 | C23: 5420008504297 | F23: PRANA HE MENTHE POULIOT 10ML | G23: =IFERROR(OFFSET('VRAC HECT'!$J$6,MATCH(prana!$C23,EAN,0),4),"CodAbs") -> 0.2 | I23: =IFERROR(OFFSET('VRAC HECT'!$J$6,MATCH(prana!$C23,EAN,0),3),"CodAbs") -> 3.71 | J23: 0.2 | K23: 0 | L23: 0 | M23: 5.95 | N23: NR | O23: PHN | P23: 0 | R23: 0 | S23: 0 | AS23: =IFERROR(OFFSET('VRAC HECT'!$J$6,MATCH(prana!$C25,EAN,0),2),"CodAbs") -> 1 | AT23: 0 | AU23: 0 | AV23: =IFERROR(OFFSET('VRAC HECT'!$J$6,MATCH(prana!$C25,EAN,0),2),"CodAbs") -> 1
B24: 88096 | C24: 5420008503009 | F24: PRANA HE HYSOPE COUCHEE | G24: =IFERROR(OFFSET('VRAC HECT'!$J$6,MATCH(prana!$C24,EAN,0),4),"CodAbs") -> 0.055 | I24: =IFERROR(OFFSET('VRAC HECT'!$J$6,MATCH(prana!$C24,EAN,0),3),"CodAbs") -> 14.89 | J24: 0.2 | K24: 0 | L24: 0 | M24: 22.95 | N24: NR | O24: PHN | P24: 0 | R24: 0 | S24: 0 | AS24: =IFERROR(OFFSET('VRAC HECT'!$J$6,MATCH(prana!$C26,EAN,0),2),"CodAbs") -> CodAbs | AT24: 0 | AU24: 0 | AV24: =IFERROR(OFFSET('VRAC HECT'!$J$6,MATCH(prana!$C26,EAN,0),2),"CodAbs") -> CodAbs
B25: 636100 | C25: 5420008524356 | F25: PRANA HE BIO MYRTE CINEOLE 5ML | G25: =IFERROR(OFFSET('VRAC HECT'!$J$6,MATCH(prana!$C25,EAN,0),4),"CodAbs") -> 0.055 | I25: =IFERROR(OFFSET('VRAC HECT'!$J$6,MATCH(prana!$C25,EAN,0),3),"CodAbs") -> 9.01 | J25: 0.2 | K25: 0 | L25: 0 | M25: 2.02 | N25: NR | O25: PHN | P25: 0 | R25: 0 | S25: 0 | AS25: =IFERROR(OFFSET('VRAC HECT'!$J$6,MATCH(prana!$C27,EAN,0),2),"CodAbs") -> 1 | AT25: 0 | AU25: 0 | AV25: =IFERROR(OFFSET('VRAC HECT'!$J$6,MATCH(prana!$C27,EAN,0),2),"CodAbs") -> 1
B26: 2101053 | C26: 4042809507737 | D26: 3401521010535 | E26: 5420008577673 | F26: PRANA HE BIO CEDRE ATLAS 10ML | G26: =IFERROR(OFFSET('VRAC HECT'!$J$6,MATCH(prana!$C26,EAN,0),4),"CodAbs") -> CodAbs | I26: =IFERROR(OFFSET('VRAC HECT'!$J$6,MATCH(prana!$C26,EAN,0),3),"CodAbs") -> CodAbs | J26: 0.2 | K26: 0 | L26: 0 | M26: 4.95 | N26: NR | O26: PHN | P26: 29.78 | R26: 0 | S26: 100 | AS26: =IFERROR(OFFSET('VRAC HECT'!$J$6,MATCH(prana!$C28,EAN,0),2),"CodAbs") -> 1 | AT26: 0 | AU26: 0 | AV26: =IFERROR(OFFSET('VRAC HECT'!$J$6,MATCH(prana!$C28,EAN,0),2),"CodAbs") -> 1
B27: 2162155 | C27: 5420008512612 | D27: 5420008504945 | F27: PRANA HE BIO GERANIUM BOURBON 10ML | G27: =IFERROR(OFFSET('VRAC HECT'!$J$6,MATCH(prana!$C27,EAN,0),4),"CodAbs") -> 0.055 | I27: =IFERROR(OFFSET('VRAC HECT'!$J$6,MATCH(prana!$C27,EAN,0),3),"CodAbs") -> 14.81 | J27: 0.2 | K27: 0 | L27: 0 | M27: 20.95 | N27: NR | O27: PHN | P27: 0 | R27: 0 | S27: 0 | AS27: =IFERROR(OFFSET('VRAC HECT'!$J$6,MATCH(prana!$C29,EAN,0),2),"CodAbs") -> 1 | AT27: 0 | AU27: 0 | AV27: =IFERROR(OFFSET('VRAC HECT'!$J$6,MATCH(prana!$C29,EAN,0),2),"CodAbs") -> 1
B28: 2258748 | C28: 5420008508004 | F28: PRANA HE BIO MARJOLAINE COQUILLE 5ML | G28: =IFERROR(OFFSET('VRAC HECT'!$J$6,MATCH(prana!$C28,EAN,0),4),"CodAbs") -> 0.055 | I28: =IFERROR(OFFSET('VRAC HECT'!$J$6,MATCH(prana!$C28,EAN,0),3),"CodAbs") -> 6.23 | J28: 0.2 | K28: 0 | L28: 0 | M28: 9.5 | N28: NR | O28: PHN | P28: 0 | R28: 0 | S28: 0 | AS28: =IFERROR(OFFSET('VRAC HECT'!$J$6,MATCH(prana!$C30,EAN,0),2),"CodAbs") -> CodAbs | AT28: 0 | AU28: 0 | AV28: =IFERROR(OFFSET('VRAC HECT'!$J$6,MATCH(prana!$C30,EAN,0),2),"CodAbs") -> CodAbs
B29: 2341053 | C29: 5420008501432 | F29: PRANA HE BIO NEROLI 5ML | G29: =IFERROR(OFFSET('VRAC HECT'!$J$6,MATCH(prana!$C29,EAN,0),4),"CodAbs") -> 0.055 | I29: =IFERROR(OFFSET('VRAC HECT'!$J$6,MATCH(prana!$C29,EAN,0),3),"CodAbs") -> 31.47 | J29: 0.2 | K29: 0 | L29: 0 | M29: 44.95 | N29: NR | O29: PHN | P29: 0 | R29: 0 | S29: 0 | AS29: =IFERROR(OFFSET('VRAC HECT'!$J$6,MATCH(prana!$C31,EAN,0),2),"CodAbs") -> 1 | AT29: 0 | AU29: 0 | AV29: =IFERROR(OFFSET('VRAC HECT'!$J$6,MATCH(prana!$C31,EAN,0),2),"CodAbs") -> 1
B30: 2552867 | C30: 5420008596582 | D30: 3401325528670 | F30: AROMAPAR SHAMP+LOTIO 125ML+30ML | G30: =IFERROR(OFFSET('VRAC HECT'!$J$6,MATCH(prana!$C30,EAN,0),4),"CodAbs") -> CodAbs | I30: =IFERROR(OFFSET('VRAC HECT'!$J$6,MATCH(prana!$C30,EAN,0),3),"CodAbs") -> CodAbs | J30: 0 | K30: 0 | L30: 0 | M30: 16.95 | N30: NR | O30: PHN | P30: 0 | R30: 0 | S30: 0 | AS30: =IFERROR(OFFSET('VRAC HECT'!$J$6,MATCH(prana!$C32,EAN,0),2),"CodAbs") -> CodAbs | AT30: 0 | AU30: 0 | AV30: =IFERROR(OFFSET('VRAC HECT'!$J$6,MATCH(prana!$C32,EAN,0),2),"CodAbs") -> CodAbs
B31: 2677050 | C31: 5420008507267 | F31: PRANA HE BIO EUCALYT CITRIODORA 10ML | G31: =IFERROR(OFFSET('VRAC HECT'!$J$6,MATCH(prana!$C31,EAN,0),4),"CodAbs") -> 0.055 | I31: =IFERROR(OFFSET('VRAC HECT'!$J$6,MATCH(prana!$C31,EAN,0),3),"CodAbs") -> 2.93 | J31: 0.2 | K31: 0 | L31: 0 | M31: 4.5 | N31: NR | O31: PHN | P31: 0 | R31: 0 | S31: 0 | AS31: =IFERROR(OFFSET('VRAC HECT'!$J$6,MATCH(prana!$C33,EAN,0),2),"CodAbs") -> CodAbs | AT31: 0 | AU31: 0 | AV31: =IFERROR(OFFSET('VRAC HECT'!$J$6,MATCH(prana!$C33,EAN,0),2),"CodAbs") -> CodAbs
B32: 3254250 | C32: 3400932542505 | D32: 5420008524325 | F32: PRANA HE BIO GENEVRIER COMMUN 5ML | G32: =IFERROR(OFFSET('VRAC HECT'!$J$6,MATCH(prana!$C32,EAN,0),4),"CodAbs") -> CodAbs | I32: =IFERROR(OFFSET('VRAC HECT'!$J$6,MATCH(prana!$C32,EAN,0),3),"CodAbs") -> CodAbs | J32: 0.2 | K32: 0 | L32: 0 | M32: 13.95 | N32: NR | O32: PHN | P32: 0 | R32: 0 | S32: 0 | AS32: =IFERROR(OFFSET('VRAC HECT'!$J$6,MATCH(prana!$C34,EAN,0),2),"CodAbs") -> 1 | AT32: 0 | AU32: 0 | AV32: =IFERROR(OFFSET('VRAC HECT'!$J$6,MATCH(prana!$C34,EAN,0),2),"CodAbs") -> 1
B33: 3401231 | C33: 3400934012310 | D33: 5420008504495 | E33: 5420008507922 | F33: PRANA HE NARD DE L HIMALAYA BIO 10ML | G33: =IFERROR(OFFSET('VRAC HECT'!$J$6,MATCH(prana!$C33,EAN,0),4),"CodAbs") -> CodAbs | I33: =IFERROR(OFFSET('VRAC HECT'!$J$6,MATCH(prana!$C33,EAN,0),3),"CodAbs") -> CodAbs | J33: 0.2 | K33: 0 | L33: 0 | M33: 13.95 | N33: NR | O33: PHN | P33: 0 | R33: 0 | S33: 0 | AS33: =IFERROR(OFFSET('VRAC HECT'!$J$6,MATCH(prana!$C35,EAN,0),2),"CodAbs") -> 3 | AT33: 0 | AU33: 0 | AV33: =IFERROR(OFFSET('VRAC HECT'!$J$6,MATCH(prana!$C35,EAN,0),2),"CodAbs") -> 3
B34: 4244259 | C34: 5420008524424 | D34: 3401542442599 | F34: PRANA HE BIO CLOU GIROFLE 10ML | G34: =IFERROR(OFFSET('VRAC HECT'!$J$6,MATCH(prana!$C34,EAN,0),4),"CodAbs") -> 0.055 | I34: =IFERROR(OFFSET('VRAC HECT'!$J$6,MATCH(prana!$C34,EAN,0),3),"CodAbs") -> 3.37 | J34: 0.2 | K34: 0 | L34: 0 | M34: 5.1 | N34: NR | O34: PHN | P34: 0 | R34: 0 | S34: 0 | AS34: =IFERROR(OFFSET('VRAC HECT'!$J$6,MATCH(prana!$C36,EAN,0),2),"CodAbs") -> 1 | AT34: 0 | AU34: 0 | AV34: =IFERROR(OFFSET('VRAC HECT'!$J$6,MATCH(prana!$C36,EAN,0),2),"CodAbs") -> 1
B35: 4310105 | C35: 5420008584831 | F35: PRANA HE BOIS DE HO | G35: =IFERROR(OFFSET('VRAC HECT'!$J$6,MATCH(prana!$C35,EAN,0),4),"CodAbs") -> 0.055 | I35: =IFERROR(OFFSET('VRAC HECT'!$J$6,MATCH(prana!$C35,EAN,0),3),"CodAbs") -> 4.19 | J35: 0.2 | K35: 0 | L35: 0 | M35: 6.5 | N35: NR | O35: PHN | P35: 0 | R35: 0 | S35: 0 | AS35: =IFERROR(OFFSET('VRAC HECT'!$J$6,MATCH(prana!$C37,EAN,0),2),"CodAbs") -> CodAbs | AT35: 0 | AU35: 0 | AV35: =IFERROR(OFFSET('VRAC HECT'!$J$6,MATCH(prana!$C37,EAN,0),2),"CodAbs") -> CodAbs
B36: 4375352 | C36: 5420008535734 | D36: 3401543753526 | F36: PRANA HE BIO INULE 5ML | G36: =IFERROR(OFFSET('VRAC HECT'!$J$6,MATCH(prana!$C36,EAN,0),4),"CodAbs") -> 0.2 | I36: =IFERROR(OFFSET('VRAC HECT'!$J$6,MATCH(prana!$C36,EAN,0),3),"CodAbs") -> 20.81 | J36: 0.2 | K36: 0 | L36: 0 | M36: 31.5 | N36: NR | O36: PHN | P36: 0 | R36: 0 | S36: 0 | AS36: =IFERROR(OFFSET('VRAC HECT'!$J$6,MATCH(prana!$C38,EAN,0),2),"CodAbs") -> CodAbs | AT36: 0 | AU36: 0 | AV36: =IFERROR(OFFSET('VRAC HECT'!$J$6,MATCH(prana!$C38,EAN,0),2),"CodAbs") -> CodAbs
B37: 4493318 | C37: 5420008590627 | F37: OLEOCAPS 1 NEZ | G37: =IFERROR(OFFSET('VRAC HECT'!$J$6,MATCH(prana!$C37,EAN,0),4),"CodAbs") -> CodAbs | I37: =IFERROR(OFFSET('VRAC HECT'!$J$6,MATCH(prana!$C37,EAN,0),3),"CodAbs") -> CodAbs | J37: 0 | K37: 0 | L37: 0 | M37: 9.9 | N37: NR | O37: PHN | P37: 0 | R37: 0 | S37: 0 | AS37: =IFERROR(OFFSET('VRAC HECT'!$J$6,MATCH(prana!$C39,EAN,0),2),"CodAbs") -> CodAbs | AT37: 0 | AU37: 0 | AV37: =IFERROR(OFFSET('VRAC HECT'!$J$6,MATCH(prana!$C39,EAN,0),2),"CodAbs") -> CodAbs
B38: 4493324 | C38: 5420008597459 | F38: OLEOCAPS 2 GASTRO VOIES URINAIRES | G38: =IFERROR(OFFSET('VRAC HECT'!$J$6,MATCH(prana!$C38,EAN,0),4),"CodAbs") -> CodAbs | I38: =IFERROR(OFFSET('VRAC HECT'!$J$6,MATCH(prana!$C38,EAN,0),3),"CodAbs") -> CodAbs | J38: 0 | K38: 0 | L38: 0 | M38: 10.5 | N38: NR | O38: PHN | P38: 0 | R38: 0 | S38: 0 | AS38: =IFERROR(OFFSET('VRAC HECT'!$J$6,MATCH(prana!$C40,EAN,0),2),"CodAbs") -> CodAbs | AT38: 0 | AU38: 0 | AV38: =IFERROR(OFFSET('VRAC HECT'!$J$6,MATCH(prana!$C40,EAN,0),2),"CodAbs") -> CodAbs
B39: 4493330 | C39: 5420008577079 | F39: OLEOCAPS 3 DIGESTION | G39: =IFERROR(OFFSET('VRAC HECT'!$J$6,MATCH(prana!$C39,EAN,0),4),"CodAbs") -> CodAbs | I39: =IFERROR(OFFSET('VRAC HECT'!$J$6,MATCH(prana!$C39,EAN,0),3),"CodAbs") -> CodAbs | J39: 0 | K39: 0 | L39: 0 | M39: 10.5 | N39: NR | O39: PHN | P39: 0 | R39: 0 | S39: 0 | AS39: =IFERROR(OFFSET('VRAC HECT'!$J$6,MATCH(prana!$C41,EAN,0),2),"CodAbs") -> CodAbs | AT39: 0 | AU39: 0 | AV39: =IFERROR(OFFSET('VRAC HECT'!$J$6,MATCH(prana!$C41,EAN,0),2),"CodAbs") -> CodAbs
B40: 4493347 | C40: 5420008585968 | F40: OLEOCAPS 4 DEFENSES | G40: =IFERROR(OFFSET('VRAC HECT'!$J$6,MATCH(prana!$C40,EAN,0),4),"CodAbs") -> CodAbs | I40: =IFERROR(OFFSET('VRAC HECT'!$J$6,MATCH(prana!$C40,EAN,0),3),"CodAbs") -> CodAbs | J40: 0 | K40: 0 | L40: 0 | M40: 10.5 | N40: NR | O40: PHN | P40: 0 | R40: 0 | S40: 0 | AS40: =IFERROR(OFFSET('VRAC HECT'!$J$6,MATCH(prana!$C42,EAN,0),2),"CodAbs") -> CodAbs | AT40: 0 | AU40: 0 | AV40: =IFERROR(OFFSET('VRAC HECT'!$J$6,MATCH(prana!$C42,EAN,0),2),"CodAbs") -> CodAbs
B41: 4493353 | C41: 5420008585975 | F41: OLEOCAPS 5 GYNECO | G41: =IFERROR(OFFSET('VRAC HECT'!$J$6,MATCH(prana!$C41,EAN,0),4),"CodAbs") -> CodAbs | I41: =IFERROR(OFFSET('VRAC HECT'!$J$6,MATCH(prana!$C41,EAN,0),3),"CodAbs") -> CodAbs | J41: 0 | K41: 0 | L41: 0 | M41: 10.5 | N41: NR | O41: PHN | P41: 0 | R41: 0 | S41: 0 | AS41: =IFERROR(OFFSET('VRAC HECT'!$J$6,MATCH(prana!$C43,EAN,0),2),"CodAbs") -> CodAbs | AT41: 0 | AU41: 0 | AV41: =IFERROR(OFFSET('VRAC HECT'!$J$6,MATCH(prana!$C43,EAN,0),2),"CodAbs") -> CodAbs
...
