Workbook
Name ouinon: Table!$D$1:$D$2
Name semaine: Table!$A$1:$B$7

Sheet automatique
A1: Détails du projet | G1: 0
A2: Projet | C2: Tous mes travaux | G2: =TODAY() -> 41752
A3: Chef de projet | C3: XXXX
A5: Jours ouvrés uniquement | C5: OUI
A6: Date de début | C6: 41730
A7: Commentaires | H7: =C6+G1 -> 41730 | I7: =H7+1 -> 41731 | J7: =I7+1 -> 41732 | K7: =J7+1 -> 41733 | L7: =K7+1 -> 41734 | M7: =L7+1 -> 41735 | N7: =M7+1 -> 41736 | O7: =N7+1 -> 41737 | P7: =O7+1 -> 41738 | ... BO7: =BN7+1 -> 41789
H8: ="S "&WEEKNUM(H7,2) -> S 14 | I8: =IF(I9="L","S "&WEEKNUM(I7,2),"") | J8: =IF(J9="L","S "&WEEKNUM(J7,2),"") | K8: =IF(K9="L","S "&WEEKNUM(K7,2),"") | L8: =IF(L9="L","S "&WEEKNUM(L7,2),"") | M8: =IF(M9="L","S "&WEEKNUM(M7,2),"") | N8: =IF(N9="L","S "&WEEKNUM(N7,2),"") -> S 15 | O8: =IF(O9="L","S "&WEEKNUM(O7,2),"") | P8: =IF(P9="L","S "&WEEKNUM(P7,2),"") | ... BO8: =IF(BO9="L","S "&WEEKNUM(BO7,2),"")
B9: Tâches | C9: Date de début | D9: Durée | E9: Date de fin | F9: Réalisé | H9: =VLOOKUP(WEEKDAY(H7,2),semaine,2,FALSE) -> M | I9: =VLOOKUP(WEEKDAY(I7,2),semaine,2,FALSE) -> M | J9: =VLOOKUP(WEEKDAY(J7,2),semaine,2,FALSE) -> J | K9: =VLOOKUP(WEEKDAY(K7,2),semaine,2,FALSE) -> V | L9: =VLOOKUP(WEEKDAY(L7,2),semaine,2,FALSE) -> S | M9: =VLOOKUP(WEEKDAY(M7,2),semaine,2,FALSE) -> D | N9: =VLOOKUP(WEEKDAY(N7,2),semaine,2,FALSE) -> L | O9: =VLOOKUP(WEEKDAY(O7,2),semaine,2,FALSE) -> M | ... BO9: =VLOOKUP(WEEKDAY(BO7,2),semaine,2,FALSE) -> V
H10: =DAY(H7) -> 1 | I10: =DAY(I7) -> 2 | J10: =DAY(J7) -> 3 | K10: =DAY(K7) -> 4 | L10: =DAY(L7) -> 5 | M10: =DAY(M7) -> 6 | N10: =DAY(N7) -> 7 | O10: =DAY(O7) -> 8 | ... BO10: =DAY(BO7) -> 30
B11: Vacances scolaires
B12: Vacances universitaires
A13: 1 | B13: Serveur partagé
A14: 1.1 | B14: Accompagnement migration | C14: 41730 | D14: 17 | E14: =IF(B14="","",IF($C$5="OUI",WORKDAY(C14,IF(WEEKDAY(C14,2)>5,D14,D14-1),'Fériés et congés'!$A$3:$A$15),C14+D14-1)) -> 41753 | F14: 0.6 | G14: =C14+F14*(E14-C14) -> 41743.8
A15: 1.2 | B15: 1ère Relance com-com | C15: 41739 | D15: 1 | E15: =IF(B15="","",IF($C$5="OUI",WORKDAY(C15,IF(WEEKDAY(C15,2)>5,D15,D15-1),'Fériés et congés'!$A$3:$A$15),C15+D15-1)) -> 41739 | F15: 1 | G15: =C15+F15*(E15-C15) -> 41739
A16: 1.3 | B16: 2ème relance réunion service | C16: 41746 | D16: 2 | E16: =IF(B16="","",IF($C$5="OUI",WORKDAY(C16,IF(WEEKDAY(C16,2)>5,D16,D16-1),'Fériés et congés'!$A$3:$A$15),C16+D16-1)) -> 41747 | F16: 0 | G16: =C16+F16*(E16-C16) -> 41746
A17: 1.4 | B17: Réalisation bilan après 1 mois | C17: 41758 | D17: 3 | E17: =IF(B17="","",IF($C$5="OUI",WORKDAY(C17,IF(WEEKDAY(C17,2)>5,D17,D17-1),'Fériés et congés'!$A$3:$A$15),C17+D17-1)) -> 41761 | F17: 0 | G17: =C17+F17*(E17-C17) -> 41758
A18: 1.5 | B18: Catégorisation projets (lisibilité) | C18: 41750 | D18: 5 | E18: =IF(B18="","",IF($C$5="OUI",WORKDAY(C18,IF(WEEKDAY(C18,2)>5,D18,D18-1),'Fériés et congés'!$A$3:$A$15),C18+D18-1)) -> 41754 | F18: 0 | G18: =C18+F18*(E18-C18) -> 41750
A19: 1.6 | B19: Ajustements/améliorations | C19: 41760 | D19: 30 | E19: =IF(B19="","",IF($C$5="OUI",WORKDAY(C19,IF(WEEKDAY(C19,2)>5,D19,D19-1),'Fériés et congés'!$A$3:$A$15),C19+D19-1)) -> 41806 | F19: 0 | G19: =C19+F19*(E19-C19) -> 41760
A20: 2 | B20: Contributeurs Typo3
A21: 2.1 | B21: Préparation formation | C21: 41743 | D21: 1 | E21: =IF(B21="","",IF($C$5="OUI",WORKDAY(C21,IF(WEEKDAY(C21,2)>5,D21,D21-1),'Fériés et congés'!$A$3:$A$15),C21+D21-1)) -> 41743 | F21: 0 | G21: =C21+F21*(E21-C21) -> 41743
A22: 2.2 | B22: Formation Typo3 | C22: 41744 | D22: 1 | E22: =IF(B22="","",IF($C$5="OUI",WORKDAY(C22,IF(WEEKDAY(C22,2)>5,D22,D22-1),'Fériés et congés'!$A$3:$A$15),C22+D22-1)) -> 41744 | F22: 0 | G22: =C22+F22*(E22-C22) -> 41744
A23: 3 | B23: Plan de com' offre de formation
A24: 1.10 | B24: Préparation réunion du 11/4 | C24: 41730 | D24: 11 | E24: =IF(B24="","",IF($C$5="OUI",WORKDAY(C24,IF(WEEKDAY(C24,2)>5,D24,D24-1),'Fériés et congés'!$A$3:$A$15),C24+D24-1)) -> 41744 | F24: 0.99 | G24: =C24+F24*(E24-C24) -> 41743.86
A25: 1.11 | B25: Statistiques unistra et Profetes | C25: 41736 | D25: 5 | E25: =IF(B25="","",IF($C$5="OUI",WORKDAY(C25,IF(WEEKDAY(C25,2)>5,D25,D25-1),'Fériés et congés'!$A$3:$A$15),C25+D25-1)) -> 41740 | F25: 1 | G25: =C25+F25*(E25-C25) -> 41740
A26: 1.12 | B26: Collecte existant | C26: 41730 | D26: 10 | E26: =IF(B26="","",IF($C$5="OUI",WORKDAY(C26,IF(WEEKDAY(C26,2)>5,D26,D26-1),'Fériés et congés'!$A$3:$A$15),C26+D26-1)) -> 41743 | F26: 1 | G26: =C26+F26*(E26-C26) -> 41743
A27: 1.13 | B27: 1ère réunion 2h | C27: 41740 | D27: 1 | E27: =IF(B27="","",IF($C$5="OUI",WORKDAY(C27,IF(WEEKDAY(C27,2)>5,D27,D27-1),'Fériés et congés'!$A$3:$A$15),C27+D27-1)) -> 41740 | G27: =C27+F27*(E27-C27) -> 41740
A28: 4 | B28: Sites en langues étrangères
A29: 1.14 | B29: Saisie textes guide Welcome | C29: 41730 | D29: 17 | E29: =IF(B29="","",IF($C$5="OUI",WORKDAY(C29,IF(WEEKDAY(C29,2)>5,D29,D29-1),'Fériés et congés'!$A$3:$A$15),C29+D29-1)) -> 41753 | F29: 0.05 | G29: =C29+F29*(E29-C29) -> 41731.15
A30: 1.15 | B30: Ajouts graphiques (photos) | C30: 41743 | D30: 2 | E30: =IF(B30="","",IF($C$5="OUI",WORKDAY(C30,IF(WEEKDAY(C30,2)>5,D30,D30-1),'Fériés et congés'!$A$3:$A$15),C30+D30-1)) -> 41744 | F30: 0 | G30: =C30+F30*(E30-C30) -> 41743
A31: 1.16 | B31: Suite (ajouts français à traduire) | C31: 41607 | D31: 3 | E31: =IF(B31="","",IF($C$5="OUI",WORKDAY(C31,IF(WEEKDAY(C31,2)>5,D31,D31-1),'Fériés et congés'!$A$3:$A$15),C31+D31-1)) -> 41611 | G31: =C31+F31*(E31-C31) -> 41607
A32: 1.16 | B32: Relecture - ajustements | C32: 41607 | D32: 3 | E32: =IF(B32="","",IF($C$5="OUI",WORKDAY(C32,IF(WEEKDAY(C32,2)>5,D32,D32-1)),C32+D32-1)) -> 41611 | G32: =C32+F32*(E32-C32) -> 41607
A33: 4 | B33: Sites en langues étrangères
A34: 1.16 | B34: Saisie des textes | C34: 41760 | D34: 7 | E34: =IF(B34="","",IF($C$5="OUI",WORKDAY(C34,IF(WEEKDAY(C34,2)>5,D34,D34-1),'Fériés et congés'!$A$3:$A$15),C34+D34-1)) -> 41771 | G34: =C34+F34*(E34-C34) -> 41760
A35: 1.17 | B35: Sous-tâche 17 | C35: 41610 | D35: 3 | E35: =IF(B35="","",IF($C$5="OUI",WORKDAY(C35,IF(WEEKDAY(C35,2)>5,D35,D35-1),'Fériés et congés'!$A$3:$A$15),C35+D35-1)) -> 41612 | G35: =C35+F35*(E35-C35) -> 41610
A36: 1.18 | B36: Sous-tâche 18 | C36: 41613 | D36: 1 | E36: =IF(B36="","",IF($C$5="OUI",WORKDAY(C36,IF(WEEKDAY(C36,2)>5,D36,D36-1),'Fériés et congés'!$A$3:$A$15),C36+D36-1)) -> 41613 | G36: =C36+F36*(E36-C36) -> 41613
A37: 1.19 | B37: Sous-tâche 19 | C37: 41615 | D37: 3 | E37: =IF(B37="","",IF($C$5="OUI",WORKDAY(C37,IF(WEEKDAY(C37,2)>5,D37,D37-1),'Fériés et congés'!$A$3:$A$15),C37+D37-1)) -> 41619 | G37: =C37+F37*(E37-C37) -> 41615
A38: 1.20 | B38: Sous-tâche 20 | C38: 41618 | D38: 1 | E38: =IF(B38="","",IF($C$5="OUI",WORKDAY(C38,IF(WEEKDAY(C38,2)>5,D38,D38-1),'Fériés et congés'!$A$3:$A$15),C38+D38-1)) -> 41618 | G38: =C38+F38*(E38-C38) -> 41618
A39: 1.21 | B39: Sous-tâche 21 | C39: 41620 | D39: 2 | E39: =IF(B39="","",IF($C$5="OUI",WORKDAY(C39,IF(WEEKDAY(C39,2)>5,D39,D39-1),'Fériés et congés'!$A$3:$A$15),C39+D39-1)) -> 41621 | G39: =C39+F39*(E39-C39) -> 41620
A40: 1.22 | B40: Sous-tâche 22 | C40: 41623 | D40: 3 | E40: =IF(B40="","",IF($C$5="OUI",WORKDAY(C40,IF(WEEKDAY(C40,2)>5,D40,D40-1),'Fériés et congés'!$A$3:$A$15),C40+D40-1)) -> 41626 | G40: =C40+F40*(E40-C40) -> 41623
A41: 1.23 | B41: Sous-tâche 23 | C41: 41627 | D41: 4 | E41: =IF(B41="","",IF($C$5="OUI",WORKDAY(C41,IF(WEEKDAY(C41,2)>5,D41,D41-1),'Fériés et congés'!$A$3:$A$15),C41+D41-1)) -> 41632 | G41: =C41+F41*(E41-C41) -> 41627
A42: 1.24 | B42: Sous-tâche 24 | C42: 41632 | D42: 5 | E42: =IF(B42="","",IF($C$5="OUI",WORKDAY(C42,IF(WEEKDAY(C42,2)>5,D42,D42-1),'Fériés et congés'!$A$3:$A$15),C42+D42-1)) -> 41638 | G42: =C42+F42*(E42-C42) -> 41632
A43: 1.25 | B43: Sous-tâche 25 | C43: 41638 | D43: 4 | E43: =IF(B43="","",IF($C$5="OUI",WORKDAY(C43,IF(WEEKDAY(C43,2)>5,D43,D43-1),'Fériés et congés'!$A$3:$A$15),C43+D43-1)) -> 41642 | G43: =C43+F43*(E43-C43) -> 41638
A44: 1.26 | B44: Sous-tâche 26 | C44: 41644 | D44: 1 | E44: =IF(B44="","",IF($C$5="OUI",WORKDAY(C44,IF(WEEKDAY(C44,2)>5,D44,D44-1),'Fériés et congés'!$A$3:$A$15),C44+D44-1)) -> 41645 | G44: =C44+F44*(E44-C44) -> 41644
A45: 1.27 | B45: Sous-tâche 27 | C45: 41645 | D45: 3 | E45: =IF(B45="","",IF($C$5="OUI",WORKDAY(C45,IF(WEEKDAY(C45,2)>5,D45,D45-1),'Fériés et congés'!$A$3:$A$15),C45+D45-1)) -> 41647 | G45: =C45+F45*(E45-C45) -> 41645
... A48: 1.30 | B48: Sous-tâche 30 | C48: 41660 | D48: 2 | E48: =IF(B48="","",IF($C$5="OUI",WORKDAY(C48,IF(WEEKDAY(C48,2)>5,D48,D48-1),'Fériés et congés'!$A$3:$A$15),C48+D48-1)) -> 41661 | G48: =C48+F48*(E48-C48) -> 41660
E49: =IF(B49="","",IF($C$5="OUI",WORKDAY(C49,IF(WEEKDAY(C49,2)>=6,D49,D49-1)),C49+D49-1))
E50: =IF(B50="","",IF($C$5="OUI",WORKDAY(C50,IF(WEEKDAY(C50,2)>=6,D50,D50-1)),C50+D50-1))
E51: =IF(B51="","",IF($C$5="OUI",WORKDAY(C51,IF(WEEKDAY(C51,2)>=6,D51,D51-1)),C51+D51-1))
E52: =IF(B52="","",IF($C$5="OUI",WORKDAY(C52,IF(WEEKDAY(C52,2)>=6,D52,D52-1)),C52+D52-1))
E53: =IF(B53="","",IF($C$5="OUI",WORKDAY(C53,IF(WEEKDAY(C53,2)>=6,D53,D53-1)),C53+D53-1))
E54: =IF(B54="","",IF($C$5="OUI",WORKDAY(C54,IF(WEEKDAY(C54,2)>=6,D54,D54-1)),C54+D54-1))
E55: =IF(B55="","",IF($C$5="OUI",WORKDAY(C55,IF(WEEKDAY(C55,2)>=6,D55,D55-1)),C55+D55-1))
E56: =IF(B56="","",IF($C$5="OUI",WORKDAY(C56,IF(WEEKDAY(C56,2)>=6,D56,D56-1)),C56+D56-1))
E57: =IF(B57="","",IF($C$5="OUI",WORKDAY(C57,IF(WEEKDAY(C57,2)>=6,D57,D57-1)),C57+D57-1))
E58: =IF(B58="","",IF($C$5="OUI",WORKDAY(C58,IF(WEEKDAY(C58,2)>=6,D58,D58-1)),C58+D58-1))
E59: =IF(B59="","",IF($C$5="OUI",WORKDAY(C59,IF(WEEKDAY(C59,2)>=6,D59,D59-1)),C59+D59-1))
E60: =IF(B60="","",IF($C$5="OUI",WORKDAY(C60,IF(WEEKDAY(C60,2)>=6,D60,D60-1)),C60+D60-1))
... E106: =IF(B106="","",IF($C$5="OUI",WORKDAY(C106,IF(WEEKDAY(C106,2)>=6,D106,D106-1)),C106+D106-1))

Sheet Table
A1: 1 | B1: L | D1: OUI
A2: 2 | B2: M | D2: NON
A3: 3 | B3: M
A4: 4 | B4: J
A5: 5 | B5: V
A6: 6 | B6: S
A7: 7 | B7: D

Sheet Fériés et congés
A2: Fériés | B2: Congés
A3: =DATE(2014,1,1) -> 41640 | B3: =DATE(2014,5,30) -> 41789
A4: =DATE(2014,3,18) -> 41716 | B4: =DATE(2014,6,2) -> 41792
A5: =DATE(2014,4,21) -> 41750
A6: =DATE(2014,5,1) -> 41760
A7: =DATE(2014,5,8) -> 41767
A8: =DATE(2014,5,29) -> 41788
A9: =DATE(2014,6,9) -> 41799
A10: =DATE(2014,7,14) -> 41834
A11: =DATE(2014,8,15) -> 41866
A12: =DATE(2014,11,1) -> 41944
A13: =DATE(2014,11,11) -> 41954
A14: =DATE(2014,12,25) -> 41998
A15: =DATE(2014,12,26) -> 41999

Sheet Gantt à la main
A1: Aujourd'hui :
A2: =TODAY() -> 41752
F3: Avril | AJ3: Mai | BN3: Juin | CR3: Juillet | DW3: Août
A4: Vacances scolaires | X4: V | Y4: V | Z4: V | AA4: V | AB4: V | AC4: V | AD4: V | AE4: V | AF4: V | AG4: V | AH4: V | AI4: V | AJ4: V | AK4: V | AL4: V | AM4: V
A5: Fériés ou Congés | W5: F | AN5: C | AO5: C | AP5: C | AQ5: F | AR5: C | AU5: C | AV5: C | AW5: C | AX5: C | AY5: C | BL5: F | BM5: C | BO5: C | BV5: C | DE5: F | DW5: Fe | DZ5: Fe | EA5: Fe | EB5: Fe | EC5: Fe | ED5: Fe | EG5: Fe | EH5: Fe | EI5: Fe | EJ5: Fe | EK5: F
F6: S 14 | L6: S 15 | S6: S 16 | Z6: S 17 | AG6: S 18 | AN6: S 19 | AU6: S 20 | BB6: S 21 | BI6: S 22 | BN6: S 22 | BO6: S 23 | BV6: S 24 | CC6: S 25 | CJ6: S 26 | CQ6: S 27 | CX6: S 28 | DE6: S 29 | DL6: S 30 | DS6: S 31 | DZ6: S 32 | EG6: S 33 | EN6: S 34 | EU6: S 35
F7: M | G7: M | H7: J | I7: V | J7: S | K7: D | L7: L | M7: M | N7: M | O7: J | P7: V | Q7: S | R7: D | S7: L | T7: M | U7: M | V7: J | W7: V | X7: S | Y7: D | Z7: L | AA7: M | AB7: M | AC7: J | AD7: V | AE7: S | AF7: D | AG7: L | AH7: M | AI7: M | AJ7: J | AK7: V | AL7: S | AM7: D | AN7: L | AO7: M | AP7: M | AQ7: J | AR7: V | AS7: S | AT7: D | AU7: L | AV7: M | AW7: M | AX7: J | AY7: V | AZ7: S | BA7: D | BB7: L | BC7: M | BD7: M | BE7: J | BF7: V | BG7: S | BH7: D | BI7: L | BJ7: M | BK7: M | BL7: J | BM7: V | BN7: D | BO7: L | BP7: M | BQ7: M | BR7: J | BS7: V | BT7: S | BU7: D | BV7: L | BW7: M | BX7: M | BY7: J | BZ7: V | CA7: S | CB7: D | CC7: L | CD7: M | CE7: M | CF7: J | CG7: V | CH7: S | CI7: D | CJ7: L | CK7: M | CL7: M | CM7: J | CN7: V | CO7: S | CP7: D | CQ7: L | CR7: M | CS7: M | CT7: J | CU7: V | CV7: S | CW7: D | CX7: L | CY7: M | CZ7: M | DA7: J | DB7: V | DC7: S | DD7: D | DE7: L | DF7: M | DG7: M | DH7: J | DI7: V | DJ7: S | DK7: D | DL7: L | DM7: M | DN7: M | DO7: J | DP7: V | DQ7: S | DR7: D | DS7: L | DT7: M | DU7: M | DV7: J | DW7: V | DX7: S | DY7: D | DZ7: L | EA7: M | EB7: M | EC7: J | ED7: V | EE7: S | EF7: D | EG7: L | EH7: M | EI7: M | EJ7: J | EK7: V | EL7: S | EM7: D | EN7: L | EO7: M | EP7: M | EQ7: J | ER7: V | ES7: S | ET7: D | EU7: L | EV7: M | EW7: M | EX7: J | EY7: V | EZ7: S | FA7: D
B8: Temps esti. | C8: Temps réel | D8: Échéance souhait. | E8: Échéance réelle | F8: 1 | G8: 2 | H8: 3 | I8: 4 | J8: 5 | K8: 6 | L8: 7 | M8: 8 | N8: 9 | O8: 10 | P8: 11 | Q8: 12 | R8: 13 | S8: 14 | T8: 15 | U8: 16 | V8: 17 | W8: 18 | X8: 19 | Y8: 20 | Z8: 21 | AA8: 22 | AB8: 23 | AC8: 24 | AD8: 25 | AE8: 26 | AF8: 27 | AG8: 28 | AH8: 29 | AI8: 30 | AJ8: 1 | AK8: 2 | AL8: 3 | AM8: 4 | AN8: 5 | AO8: 6 | AP8: 7 | AQ8: 8 | AR8: 9 | AS8: 10 | AT8: 11 | AU8: 12 | AV8: 13 | AW8: 14 | AX8: 15 | AY8: 16 | AZ8: 17 | BA8: 18 | BB8: 19 | BC8: 20 | BD8: 21 | BE8: 22 | BF8: 23 | BG8: 24 | BH8: 25 | BI8: 26 | BJ8: 27 | BK8: 28 | BL8: 29 | BM8: 30 | BN8: 1 | BO8: 2 | BP8: 3 | BQ8: 4 | BR8: 5 | BS8: 6 | BT8: 7 | BU8: 8 | BV8: 9 | BW8: 10 | BX8: 11 | BY8: 12 | BZ8: 13 | CA8: 14 | CB8: 15 | CC8: 16 | CD8: 17 | CE8: 18 | CF8: 19 | CG8: 20 | CH8: 21 | CI8: 22 | CJ8: 23 | CK8: 24 | CL8: 25 | CM8: 26 | CN8: 27 | CO8: 28 | CP8: 29 | CQ8: 30 | CR8: 1 | CS8: 2 | CT8: 3 | CU8: 4 | CV8: 5 | CW8: 6 | CX8: 7 | CY8: 8 | CZ8: 9 | DA8: 10 | DB8: 11 | DC8: 12 | DD8: 13 | DE8: 14 | DF8: 15 | DG8: 16 | DH8: 17 | DI8: 18 | DJ8: 19 | DK8: 20 | DL8: 21 | DM8: 22 | DN8: 23 | DO8: 24 | DP8: 25 | DQ8: 26 | DR8: 27 | DS8: 28 | DT8: 29 | DU8: 30 | DV8: 31 | DW8: 1 | DX8: 2 | DY8: 3 | DZ8: 4 | EA8: 5 | EB8: 6 | EC8: 7 | ED8: 8 | EE8: 9 | EF8: 10 | EG8: 11 | EH8: 12 | EI8: 13 | EJ8: 14 | EK8: 15 | EL8: 16 | EM8: 17 | EN8: 18 | EO8: 19 | EP8: 20 | EQ8: 21 | ER8: 22 | ES8: 23 | ET8: 24 | EU8: 25 | EV8: 26 | EW8: 27 | EX8: 28 | EY8: 29 | EZ8: 30 | FA8: 31
A9: Plan de com' offre de formation
A10: Document de travail
A11: Statistiques unistra et Profetes
A12: Mise en forme du Powerpoint
A13: 1ère réunion 2h | P13: X
A14: Synthèse réunion
A15: Suite travail sur plan de com' | Z15: ? | AA15: ? | AB15: ? | AC15: ? | AD15: ? | AG15: ? | AH15: ? | AI15: ? | AJ15: ? | AK15: ? | BB15: ? | BC15: ? | BD15: ? | BE15: ? | BF15: ? | BI15: ? | BJ15: ? | BK15: ? | BP15: ? | BQ15: ? | BR15: ? | BS15: ? | BW15: ? | BX15: ? | BY15: ? | BZ15: ? | CC15: ? | CD15: ? | CE15: ? | CF15: ? | CG15: ? | CJ15: ? | CK15: ? | CL15: ? | CM15: ? | CN15: ? | CQ15: ?
A16: Serveur partagé
A17: Accompagnement migration
A18: 1ère Relance com-com | O18: X
A19: 2ème relance réunion service | V19: X
A20: Réalisation bilan après 1 mois
A21: Catégorisation projets (lisibilité)
A22: Ajustements/améliorations
A23: Mémo pour Catherine photothèque
A24: Contributeurs Typo3
A25: Préparation formation
A26: Formation Typo3 | T26: X
A27: Formation SVU ? | AG27: ? | AH27: ? | AI27: ? | AJ27: ? | AK27: ? | BB27: ? | BC27: ? | BD27: ? | BE27: ? | BF27: ?
A28: Mise à jour V3 guide éditorial
A29: Sites en langues étrangères
A30: Saisie textes guide Welcome | V30: X
A31: Ajouts graphiques (photos)
A32: Suite (ajouts français à traduire)
A33: Relecture - ajustements
A34: Saisie des textes après traduction
A35: Travail sur contenus web
A36: Migration contenus SVU
A37: Page présentation ORESIPE
A38: Rappatrier chiffres en têtes (L'Actu)
A39: Demandes webmestre@unistra.fr | B39: 2 j / sem | D39: en continue
A40: Outils communs du service
A41: Réunion avec Stéphanie | O41: X
A42: Ajustements fiche projet vierge
A43: Ajustements planning vierge
A44: Ajustements relevé d'activités Excel
A45: Présentation relevé d'activité en RS | V45: X
A46: Ajustement suite au déploiement ?
A47: Fiches de poste ? | BB47: ? | BC47: ? | BD47: ? | BE47: ? | BF47: ? | BI47: ? | BJ47: ? | BK47: ? | BP47: ? | BQ47: ? | BR47: ? | BS47: ? | BW47: ? | BX47: ? | BY47: ? | BZ47: ? | CC47: ? | CD47: ? | CE47: ? | CF47: ? | CG47: ? | CJ47: ? | CK47: ? | CL47: ? | CM47: ? | CN47: ?
A48: Vie du service
A49: Réunion de service | V49: X
A50: Formation du personnel | BE50: X
