Workbook

Sheet report 15 Avril Cot 1 & 2
A4: SIREN | B4: REFERENCE | C4: NOM | E4: solde par siren | F4: solde par client | G4: les 2
A5: 552140816 | B5: 200250 | E5: =IF(ISNA(VLOOKUP(A5,'extraction Bal AG 15 AVRIL'!$F$2:$M$75,8,0)),0,(VLOOKUP(A5,'extraction Bal AG 15 AVRIL'!$F$2:$M$75,8,0))) -> 0 | F5: =IF(ISNA(VLOOKUP(B5,'extraction Bal AG 15 AVRIL'!$A$2:$M$75,13,0)),0,(VLOOKUP(B5,'extraction Bal AG 15 AVRIL'!$A$2:$M$75,13,0))) -> -760 | G5: =IF(ISNA(VLOOKUP(A5,'extraction Bal AG 15 AVRIL'!$F$2:$M$75,8,0)),VLOOKUP(B5,'extraction Bal AG 15 AVRIL'!$A$2:$M$75,13,0),VLOOKUP(A5,'extraction Bal AG 15 AVRIL'!$F$2:$M$75,8,0)) -> 0 | H5: devrait ramener -760
A6: 956801658 | B6: 578593 | E6: =IF(ISNA(VLOOKUP(A6,'extraction Bal AG 15 AVRIL'!$F$2:$M$75,8,0)),0,(VLOOKUP(A6,'extraction Bal AG 15 AVRIL'!$F$2:$M$75,8,0))) -> 0 | F6: =IF(ISNA(VLOOKUP(B6,'extraction Bal AG 15 AVRIL'!$A$2:$M$75,13,0)),0,(VLOOKUP(B6,'extraction Bal AG 15 AVRIL'!$A$2:$M$75,13,0))) -> 0 | G6: =IF(ISNA(VLOOKUP(A6,'extraction Bal AG 15 AVRIL'!$F$2:$M$75,8,0)),VLOOKUP(B6,'extraction Bal AG 15 AVRIL'!$A$2:$M$75,13,0),VLOOKUP(A6,'extraction Bal AG 15 AVRIL'!$F$2:$M$75,8,0)) -> 0 | H6: ok
A7: 542078555 | B7: 565876 | E7: =IF(ISNA(VLOOKUP(A7,'extraction Bal AG 15 AVRIL'!$F$2:$M$75,8,0)),0,(VLOOKUP(A7,'extraction Bal AG 15 AVRIL'!$F$2:$M$75,8,0))) -> 0 | F7: =IF(ISNA(VLOOKUP(B7,'extraction Bal AG 15 AVRIL'!$A$2:$M$75,13,0)),0,(VLOOKUP(B7,'extraction Bal AG 15 AVRIL'!$A$2:$M$75,13,0))) -> -420.12 | G7: =IF(ISNA(VLOOKUP(A7,'extraction Bal AG 15 AVRIL'!$F$2:$M$75,8,0)),VLOOKUP(B7,'extraction Bal AG 15 AVRIL'!$A$2:$M$75,13,0),VLOOKUP(A7,'extraction Bal AG 15 AVRIL'!$F$2:$M$75,8,0)) -> 0 | H7: devrait ramener- 420,12
A8: 945650141 | B8: 585 | E8: =IF(ISNA(VLOOKUP(A8,'extraction Bal AG 15 AVRIL'!$F$2:$M$75,8,0)),0,(VLOOKUP(A8,'extraction Bal AG 15 AVRIL'!$F$2:$M$75,8,0))) -> 0 | F8: =IF(ISNA(VLOOKUP(B8,'extraction Bal AG 15 AVRIL'!$A$2:$M$75,13,0)),0,(VLOOKUP(B8,'extraction Bal AG 15 AVRIL'!$A$2:$M$75,13,0))) -> 0 | G8: =IF(ISNA(VLOOKUP(A8,'extraction Bal AG 15 AVRIL'!$F$2:$M$75,8,0)),VLOOKUP(B8,'extraction Bal AG 15 AVRIL'!$A$2:$M$75,13,0),VLOOKUP(A8,'extraction Bal AG 15 AVRIL'!$F$2:$M$75,8,0)) -> 0 | H8: ok
A9: 788039253 | E9: =IF(ISNA(VLOOKUP(A9,'extraction Bal AG 15 AVRIL'!$F$2:$M$75,8,0)),0,(VLOOKUP(A9,'extraction Bal AG 15 AVRIL'!$F$2:$M$75,8,0))) -> 0 | F9: =IF(ISNA(VLOOKUP(B9,'extraction Bal AG 15 AVRIL'!$A$2:$M$75,13,0)),0,(VLOOKUP(B9,'extraction Bal AG 15 AVRIL'!$A$2:$M$75,13,0))) -> 0 | G9: =IF(ISNA(VLOOKUP(A9,'extraction Bal AG 15 AVRIL'!$F$2:$M$75,8,0)),VLOOKUP(B9,'extraction Bal AG 15 AVRIL'!$A$2:$M$75,13,0),VLOOKUP(A9,'extraction Bal AG 15 AVRIL'!$F$2:$M$75,8,0)) -> 0 | H9: ok
A10: 856500822 | B10: 45697 | E10: =IF(ISNA(VLOOKUP(A10,'extraction Bal AG 15 AVRIL'!$F$2:$M$75,8,0)),0,(VLOOKUP(A10,'extraction Bal AG 15 AVRIL'!$F$2:$M$75,8,0))) -> 962.76 | F10: =IF(ISNA(VLOOKUP(B10,'extraction Bal AG 15 AVRIL'!$A$2:$M$75,13,0)),0,(VLOOKUP(B10,'extraction Bal AG 15 AVRIL'!$A$2:$M$75,13,0))) -> 962.76 | G10: =IF(ISNA(VLOOKUP(A10,'extraction Bal AG 15 AVRIL'!$F$2:$M$75,8,0)),VLOOKUP(B10,'extraction Bal AG 15 AVRIL'!$A$2:$M$75,13,0),VLOOKUP(A10,'extraction Bal AG 15 AVRIL'!$F$2:$M$75,8,0)) -> 962.76 | H10: ok
A11: 775558968 | B11: 500870 | E11: =IF(ISNA(VLOOKUP(A11,'extraction Bal AG 15 AVRIL'!$F$2:$M$75,8,0)),0,(VLOOKUP(A11,'extraction Bal AG 15 AVRIL'!$F$2:$M$75,8,0))) -> -885.66 | F11: =IF(ISNA(VLOOKUP(B11,'extraction Bal AG 15 AVRIL'!$A$2:$M$75,13,0)),0,(VLOOKUP(B11,'extraction Bal AG 15 AVRIL'!$A$2:$M$75,13,0))) -> -885.66 | G11: =IF(ISNA(VLOOKUP(A11,'extraction Bal AG 15 AVRIL'!$F$2:$M$75,8,0)),VLOOKUP(B11,'extraction Bal AG 15 AVRIL'!$A$2:$M$75,13,0),VLOOKUP(A11,'extraction Bal AG 15 AVRIL'!$F$2:$M$75,8,0)) -> -885.66 | H11: ok
A12: 306763426 | B12: 609702 | E12: =IF(ISNA(VLOOKUP(A12,'extraction Bal AG 15 AVRIL'!$F$2:$M$75,8,0)),0,(VLOOKUP(A12,'extraction Bal AG 15 AVRIL'!$F$2:$M$75,8,0))) -> -357.38 | F12: =IF(ISNA(VLOOKUP(B12,'extraction Bal AG 15 AVRIL'!$A$2:$M$75,13,0)),0,(VLOOKUP(B12,'extraction Bal AG 15 AVRIL'!$A$2:$M$75,13,0))) -> -357.38 | G12: =IF(ISNA(VLOOKUP(A12,'extraction Bal AG 15 AVRIL'!$F$2:$M$75,8,0)),VLOOKUP(B12,'extraction Bal AG 15 AVRIL'!$A$2:$M$75,13,0),VLOOKUP(A12,'extraction Bal AG 15 AVRIL'!$F$2:$M$75,8,0)) -> -357.38 | H12: ok
A13: 572203842 | B13: 11621 | E13: =IF(ISNA(VLOOKUP(A13,'extraction Bal AG 15 AVRIL'!$F$2:$M$75,8,0)),0,(VLOOKUP(A13,'extraction Bal AG 15 AVRIL'!$F$2:$M$75,8,0))) -> 10115.19 | F13: =IF(ISNA(VLOOKUP(B13,'extraction Bal AG 15 AVRIL'!$A$2:$M$75,13,0)),0,(VLOOKUP(B13,'extraction Bal AG 15 AVRIL'!$A$2:$M$75,13,0))) -> 10115.19 | G13: =IF(ISNA(VLOOKUP(A13,'extraction Bal AG 15 AVRIL'!$F$2:$M$75,8,0)),VLOOKUP(B13,'extraction Bal AG 15 AVRIL'!$A$2:$M$75,13,0),VLOOKUP(A13,'extraction Bal AG 15 AVRIL'!$F$2:$M$75,8,0)) -> 10115.19 | H13: ok
A14: 475582144 | B14: 12354 | E14: =IF(ISNA(VLOOKUP(A14,'extraction Bal AG 15 AVRIL'!$F$2:$M$75,8,0)),0,(VLOOKUP(A14,'extraction Bal AG 15 AVRIL'!$F$2:$M$75,8,0))) -> -596.26 | F14: =IF(ISNA(VLOOKUP(B14,'extraction Bal AG 15 AVRIL'!$A$2:$M$75,13,0)),0,(VLOOKUP(B14,'extraction Bal AG 15 AVRIL'!$A$2:$M$75,13,0))) -> -596.26 | G14: =IF(ISNA(VLOOKUP(A14,'extraction Bal AG 15 AVRIL'!$F$2:$M$75,8,0)),VLOOKUP(B14,'extraction Bal AG 15 AVRIL'!$A$2:$M$75,13,0),VLOOKUP(A14,'extraction Bal AG 15 AVRIL'!$F$2:$M$75,8,0)) -> -596.26 | H14: ok
A15: 619848807 | B15: 64878 | E15: =IF(ISNA(VLOOKUP(A15,'extraction Bal AG 15 AVRIL'!$F$2:$M$75,8,0)),0,(VLOOKUP(A15,'extraction Bal AG 15 AVRIL'!$F$2:$M$75,8,0))) -> 5252.41 | F15: =IF(ISNA(VLOOKUP(B15,'extraction Bal AG 15 AVRIL'!$A$2:$M$75,13,0)),0,(VLOOKUP(B15,'extraction Bal AG 15 AVRIL'!$A$2:$M$75,13,0))) -> 5252.41 | G15: =IF(ISNA(VLOOKUP(A15,'extraction Bal AG 15 AVRIL'!$F$2:$M$75,8,0)),VLOOKUP(B15,'extraction Bal AG 15 AVRIL'!$A$2:$M$75,13,0),VLOOKUP(A15,'extraction Bal AG 15 AVRIL'!$F$2:$M$75,8,0)) -> 5252.41 | H15: ok
A16: 322284274 | B16: 857322 | E16: =IF(ISNA(VLOOKUP(A16,'extraction Bal AG 15 AVRIL'!$F$2:$M$75,8,0)),0,(VLOOKUP(A16,'extraction Bal AG 15 AVRIL'!$F$2:$M$75,8,0))) -> 0 | F16: =IF(ISNA(VLOOKUP(B16,'extraction Bal AG 15 AVRIL'!$A$2:$M$75,13,0)),0,(VLOOKUP(B16,'extraction Bal AG 15 AVRIL'!$A$2:$M$75,13,0))) -> 0 | G16: =IF(ISNA(VLOOKUP(A16,'extraction Bal AG 15 AVRIL'!$F$2:$M$75,8,0)),VLOOKUP(B16,'extraction Bal AG 15 AVRIL'!$A$2:$M$75,13,0),VLOOKUP(A16,'extraction Bal AG 15 AVRIL'!$F$2:$M$75,8,0)) -> 0 | H16: ok
A17: 916721038 | B17: 508922 | E17: =IF(ISNA(VLOOKUP(A17,'extraction Bal AG 15 AVRIL'!$F$2:$M$75,8,0)),0,(VLOOKUP(A17,'extraction Bal AG 15 AVRIL'!$F$2:$M$75,8,0))) -> 0 | F17: =IF(ISNA(VLOOKUP(B17,'extraction Bal AG 15 AVRIL'!$A$2:$M$75,13,0)),0,(VLOOKUP(B17,'extraction Bal AG 15 AVRIL'!$A$2:$M$75,13,0))) -> 0 | G17: =IF(ISNA(VLOOKUP(A17,'extraction Bal AG 15 AVRIL'!$F$2:$M$75,8,0)),VLOOKUP(B17,'extraction Bal AG 15 AVRIL'!$A$2:$M$75,13,0),VLOOKUP(A17,'extraction Bal AG 15 AVRIL'!$F$2:$M$75,8,0)) -> 0 | H17: ok
A18: 845620152 | B18: PROSPECT | E18: =IF(ISNA(VLOOKUP(A18,'extraction Bal AG 15 AVRIL'!$F$2:$M$75,8,0)),0,(VLOOKUP(A18,'extraction Bal AG 15 AVRIL'!$F$2:$M$75,8,0))) -> 1006.8 | F18: =IF(ISNA(VLOOKUP(B18,'extraction Bal AG 15 AVRIL'!$A$2:$M$75,13,0)),0,(VLOOKUP(B18,'extraction Bal AG 15 AVRIL'!$A$2:$M$75,13,0))) -> 0 | G18: =IF(ISNA(VLOOKUP(A18,'extraction Bal AG 15 AVRIL'!$F$2:$M$75,8,0)),VLOOKUP(B18,'extraction Bal AG 15 AVRIL'!$A$2:$M$75,13,0),VLOOKUP(A18,'extraction Bal AG 15 AVRIL'!$F$2:$M$75,8,0)) -> 1006.8 | H18: ok
A19: 302279229 | B19: 23453 | E19: =IF(ISNA(VLOOKUP(A19,'extraction Bal AG 15 AVRIL'!$F$2:$M$75,8,0)),0,(VLOOKUP(A19,'extraction Bal AG 15 AVRIL'!$F$2:$M$75,8,0))) -> 8352.42 | F19: =IF(ISNA(VLOOKUP(B19,'extraction Bal AG 15 AVRIL'!$A$2:$M$75,13,0)),0,(VLOOKUP(B19,'extraction Bal AG 15 AVRIL'!$A$2:$M$75,13,0))) -> 8352.42 | G19: =IF(ISNA(VLOOKUP(A19,'extraction Bal AG 15 AVRIL'!$F$2:$M$75,8,0)),VLOOKUP(B19,'extraction Bal AG 15 AVRIL'!$A$2:$M$75,13,0),VLOOKUP(A19,'extraction Bal AG 15 AVRIL'!$F$2:$M$75,8,0)) -> 8352.42 | H19: ok
A20: 515480028 | B20: 597986 | E20: =IF(ISNA(VLOOKUP(A20,'extraction Bal AG 15 AVRIL'!$F$2:$M$75,8,0)),0,(VLOOKUP(A20,'extraction Bal AG 15 AVRIL'!$F$2:$M$75,8,0))) -> 0 | F20: =IF(ISNA(VLOOKUP(B20,'extraction Bal AG 15 AVRIL'!$A$2:$M$75,13,0)),0,(VLOOKUP(B20,'extraction Bal AG 15 AVRIL'!$A$2:$M$75,13,0))) -> 1326.15 | G20: =IF(ISNA(VLOOKUP(A20,'extraction Bal AG 15 AVRIL'!$F$2:$M$75,8,0)),VLOOKUP(B20,'extraction Bal AG 15 AVRIL'!$A$2:$M$75,13,0),VLOOKUP(A20,'extraction Bal AG 15 AVRIL'!$F$2:$M$75,8,0)) -> 0 | H20: devrait ramener 1326,15
A21: 525580130 | B21: 839277 | E21: =IF(ISNA(VLOOKUP(A21,'extraction Bal AG 15 AVRIL'!$F$2:$M$75,8,0)),0,(VLOOKUP(A21,'extraction Bal AG 15 AVRIL'!$F$2:$M$75,8,0))) -> 13825.2 | F21: =IF(ISNA(VLOOKUP(B21,'extraction Bal AG 15 AVRIL'!$A$2:$M$75,13,0)),0,(VLOOKUP(B21,'extraction Bal AG 15 AVRIL'!$A$2:$M$75,13,0))) -> 13825.2 | G21: =IF(ISNA(VLOOKUP(A21,'extraction Bal AG 15 AVRIL'!$F$2:$M$75,8,0)),VLOOKUP(B21,'extraction Bal AG 15 AVRIL'!$A$2:$M$75,13,0),VLOOKUP(A21,'extraction Bal AG 15 AVRIL'!$F$2:$M$75,8,0)) -> 13825.2 | H21: ok
A22: 775576036 | B22: 614695 | E22: =IF(ISNA(VLOOKUP(A22,'extraction Bal AG 15 AVRIL'!$F$2:$M$75,8,0)),0,(VLOOKUP(A22,'extraction Bal AG 15 AVRIL'!$F$2:$M$75,8,0))) -> 0 | F22: =IF(ISNA(VLOOKUP(B22,'extraction Bal AG 15 AVRIL'!$A$2:$M$75,13,0)),0,(VLOOKUP(B22,'extraction Bal AG 15 AVRIL'!$A$2:$M$75,13,0))) -> -132.6 | G22: =IF(ISNA(VLOOKUP(A22,'extraction Bal AG 15 AVRIL'!$F$2:$M$75,8,0)),VLOOKUP(B22,'extraction Bal AG 15 AVRIL'!$A$2:$M$75,13,0),VLOOKUP(A22,'extraction Bal AG 15 AVRIL'!$F$2:$M$75,8,0)) -> 0 | H22: devrait ramener -132,60
A23: 597020841 | B23: 11087 | E23: =IF(ISNA(VLOOKUP(A23,'extraction Bal AG 15 AVRIL'!$F$2:$M$75,8,0)),0,(VLOOKUP(A23,'extraction Bal AG 15 AVRIL'!$F$2:$M$75,8,0))) -> 6049 | F23: =IF(ISNA(VLOOKUP(B23,'extraction Bal AG 15 AVRIL'!$A$2:$M$75,13,0)),0,(VLOOKUP(B23,'extraction Bal AG 15 AVRIL'!$A$2:$M$75,13,0))) -> 6049 | G23: =IF(ISNA(VLOOKUP(A23,'extraction Bal AG 15 AVRIL'!$F$2:$M$75,8,0)),VLOOKUP(B23,'extraction Bal AG 15 AVRIL'!$A$2:$M$75,13,0),VLOOKUP(A23,'extraction Bal AG 15 AVRIL'!$F$2:$M$75,8,0)) -> 6049 | H23: ok
A24: 327127247 | B24: 483593 | E24: =IF(ISNA(VLOOKUP(A24,'extraction Bal AG 15 AVRIL'!$F$2:$M$75,8,0)),0,(VLOOKUP(A24,'extraction Bal AG 15 AVRIL'!$F$2:$M$75,8,0))) -> 0 | F24: =IF(ISNA(VLOOKUP(B24,'extraction Bal AG 15 AVRIL'!$A$2:$M$75,13,0)),0,(VLOOKUP(B24,'extraction Bal AG 15 AVRIL'!$A$2:$M$75,13,0))) -> 0 | G24: =IF(ISNA(VLOOKUP(A24,'extraction Bal AG 15 AVRIL'!$F$2:$M$75,8,0)),VLOOKUP(B24,'extraction Bal AG 15 AVRIL'!$A$2:$M$75,13,0),VLOOKUP(A24,'extraction Bal AG 15 AVRIL'!$F$2:$M$75,8,0)) -> 0 | H24: ok
A25: 312869209 | B25: 632257 | E25: =IF(ISNA(VLOOKUP(A25,'extraction Bal AG 15 AVRIL'!$F$2:$M$75,8,0)),0,(VLOOKUP(A25,'extraction Bal AG 15 AVRIL'!$F$2:$M$75,8,0))) -> -278.12 | F25: =IF(ISNA(VLOOKUP(B25,'extraction Bal AG 15 AVRIL'!$A$2:$M$75,13,0)),0,(VLOOKUP(B25,'extraction Bal AG 15 AVRIL'!$A$2:$M$75,13,0))) -> -278.12 | G25: =IF(ISNA(VLOOKUP(A25,'extraction Bal AG 15 AVRIL'!$F$2:$M$75,8,0)),VLOOKUP(B25,'extraction Bal AG 15 AVRIL'!$A$2:$M$75,13,0),VLOOKUP(A25,'extraction Bal AG 15 AVRIL'!$F$2:$M$75,8,0)) -> -278.12 | H25: ok
A26: 495580086 | B26: JFL | E26: =IF(ISNA(VLOOKUP(A26,'extraction Bal AG 15 AVRIL'!$F$2:$M$75,8,0)),0,(VLOOKUP(A26,'extraction Bal AG 15 AVRIL'!$F$2:$M$75,8,0))) -> 0 | F26: =IF(ISNA(VLOOKUP(B26,'extraction Bal AG 15 AVRIL'!$A$2:$M$75,13,0)),0,(VLOOKUP(B26,'extraction Bal AG 15 AVRIL'!$A$2:$M$75,13,0))) -> 0 | G26: =IF(ISNA(VLOOKUP(A26,'extraction Bal AG 15 AVRIL'!$F$2:$M$75,8,0)),VLOOKUP(B26,'extraction Bal AG 15 AVRIL'!$A$2:$M$75,13,0),VLOOKUP(A26,'extraction Bal AG 15 AVRIL'!$F$2:$M$75,8,0)) -> 0 | H26: ok
A27: 301502613 | B27: 23270 | E27: =IF(ISNA(VLOOKUP(A27,'extraction Bal AG 15 AVRIL'!$F$2:$M$75,8,0)),0,(VLOOKUP(A27,'extraction Bal AG 15 AVRIL'!$F$2:$M$75,8,0))) -> 0 | F27: =IF(ISNA(VLOOKUP(B27,'extraction Bal AG 15 AVRIL'!$A$2:$M$75,13,0)),0,(VLOOKUP(B27,'extraction Bal AG 15 AVRIL'!$A$2:$M$75,13,0))) -> 0 | G27: =IF(ISNA(VLOOKUP(A27,'extraction Bal AG 15 AVRIL'!$F$2:$M$75,8,0)),VLOOKUP(B27,'extraction Bal AG 15 AVRIL'!$A$2:$M$75,13,0),VLOOKUP(A27,'extraction Bal AG 15 AVRIL'!$F$2:$M$75,8,0)) -> 0 | H27: ok
A28: 549850253 | B28: 63786 | E28: =IF(ISNA(VLOOKUP(A28,'extraction Bal AG 15 AVRIL'!$F$2:$M$75,8,0)),0,(VLOOKUP(A28,'extraction Bal AG 15 AVRIL'!$F$2:$M$75,8,0))) -> 0 | F28: =IF(ISNA(VLOOKUP(B28,'extraction Bal AG 15 AVRIL'!$A$2:$M$75,13,0)),0,(VLOOKUP(B28,'extraction Bal AG 15 AVRIL'!$A$2:$M$75,13,0))) -> 0 | G28: =IF(ISNA(VLOOKUP(A28,'extraction Bal AG 15 AVRIL'!$F$2:$M$75,8,0)),VLOOKUP(B28,'extraction Bal AG 15 AVRIL'!$A$2:$M$75,13,0),VLOOKUP(A28,'extraction Bal AG 15 AVRIL'!$F$2:$M$75,8,0)) -> 0 | H28: ok
A29: 496780016 | B29: 531498 | E29: =IF(ISNA(VLOOKUP(A29,'extraction Bal AG 15 AVRIL'!$F$2:$M$75,8,0)),0,(VLOOKUP(A29,'extraction Bal AG 15 AVRIL'!$F$2:$M$75,8,0))) -> 18302.65 | F29: =IF(ISNA(VLOOKUP(B29,'extraction Bal AG 15 AVRIL'!$A$2:$M$75,13,0)),0,(VLOOKUP(B29,'extraction Bal AG 15 AVRIL'!$A$2:$M$75,13,0))) -> 18302.65 | G29: =IF(ISNA(VLOOKUP(A29,'extraction Bal AG 15 AVRIL'!$F$2:$M$75,8,0)),VLOOKUP(B29,'extraction Bal AG 15 AVRIL'!$A$2:$M$75,13,0),VLOOKUP(A29,'extraction Bal AG 15 AVRIL'!$F$2:$M$75,8,0)) -> 18302.65 | H29: ok
A30: 364800672 | B30: 531577 | E30: =IF(ISNA(VLOOKUP(A30,'extraction Bal AG 15 AVRIL'!$F$2:$M$75,8,0)),0,(VLOOKUP(A30,'extraction Bal AG 15 AVRIL'!$F$2:$M$75,8,0))) -> 0 | F30: =IF(ISNA(VLOOKUP(B30,'extraction Bal AG 15 AVRIL'!$A$2:$M$75,13,0)),0,(VLOOKUP(B30,'extraction Bal AG 15 AVRIL'!$A$2:$M$75,13,0))) -> 0 | G30: =IF(ISNA(VLOOKUP(A30,'extraction Bal AG 15 AVRIL'!$F$2:$M$75,8,0)),VLOOKUP(B30,'extraction Bal AG 15 AVRIL'!$A$2:$M$75,13,0),VLOOKUP(A30,'extraction Bal AG 15 AVRIL'!$F$2:$M$75,8,0)) -> 0 | H30: ok
A31: 556350064 | B31: 83323 | E31: =IF(ISNA(VLOOKUP(A31,'extraction Bal AG 15 AVRIL'!$F$2:$M$75,8,0)),0,(VLOOKUP(A31,'extraction Bal AG 15 AVRIL'!$F$2:$M$75,8,0))) -> 0 | F31: =IF(ISNA(VLOOKUP(B31,'extraction Bal AG 15 AVRIL'!$A$2:$M$75,13,0)),0,(VLOOKUP(B31,'extraction Bal AG 15 AVRIL'!$A$2:$M$75,13,0))) -> 0 | G31: =IF(ISNA(VLOOKUP(A31,'extraction Bal AG 15 AVRIL'!$F$2:$M$75,8,0)),VLOOKUP(B31,'extraction Bal AG 15 AVRIL'!$A$2:$M$75,13,0),VLOOKUP(A31,'extraction Bal AG 15 AVRIL'!$F$2:$M$75,8,0)) -> 0 | H31: ok
A32: 671620813 | B32: 76445 | E32: =IF(ISNA(VLOOKUP(A32,'extraction Bal AG 15 AVRIL'!$F$2:$M$75,8,0)),0,(VLOOKUP(A32,'extraction Bal AG 15 AVRIL'!$F$2:$M$75,8,0))) -> 0 | F32: =IF(ISNA(VLOOKUP(B32,'extraction Bal AG 15 AVRIL'!$A$2:$M$75,13,0)),0,(VLOOKUP(B32,'extraction Bal AG 15 AVRIL'!$A$2:$M$75,13,0))) -> 0 | G32: =IF(ISNA(VLOOKUP(A32,'extraction Bal AG 15 AVRIL'!$F$2:$M$75,8,0)),VLOOKUP(B32,'extraction Bal AG 15 AVRIL'!$A$2:$M$75,13,0),VLOOKUP(A32,'extraction Bal AG 15 AVRIL'!$F$2:$M$75,8,0)) -> 0 | H32: ok
A33: 570501544 | B33: 22041 | E33: =IF(ISNA(VLOOKUP(A33,'extraction Bal AG 15 AVRIL'!$F$2:$M$75,8,0)),0,(VLOOKUP(A33,'extraction Bal AG 15 AVRIL'!$F$2:$M$75,8,0))) -> 0 | F33: =IF(ISNA(VLOOKUP(B33,'extraction Bal AG 15 AVRIL'!$A$2:$M$75,13,0)),0,(VLOOKUP(B33,'extraction Bal AG 15 AVRIL'!$A$2:$M$75,13,0))) -> 0 | G33: =IF(ISNA(VLOOKUP(A33,'extraction Bal AG 15 AVRIL'!$F$2:$M$75,8,0)),VLOOKUP(B33,'extraction Bal AG 15 AVRIL'!$A$2:$M$75,13,0),VLOOKUP(A33,'extraction Bal AG 15 AVRIL'!$F$2:$M$75,8,0)) -> 0 | H33: ok
A34: 300881984 | B34: 18780 | E34: =IF(ISNA(VLOOKUP(A34,'extraction Bal AG 15 AVRIL'!$F$2:$M$75,8,0)),0,(VLOOKUP(A34,'extraction Bal AG 15 AVRIL'!$F$2:$M$75,8,0))) -> 0 | F34: =IF(ISNA(VLOOKUP(B34,'extraction Bal AG 15 AVRIL'!$A$2:$M$75,13,0)),0,(VLOOKUP(B34,'extraction Bal AG 15 AVRIL'!$A$2:$M$75,13,0))) -> 0 | G34: =IF(ISNA(VLOOKUP(A34,'extraction Bal AG 15 AVRIL'!$F$2:$M$75,8,0)),VLOOKUP(B34,'extraction Bal AG 15 AVRIL'!$A$2:$M$75,13,0),VLOOKUP(A34,'extraction Bal AG 15 AVRIL'!$F$2:$M$75,8,0)) -> 0 | H34: ok
A35: 375450087 | E35: =IF(ISNA(VLOOKUP(A35,'extraction Bal AG 15 AVRIL'!$F$2:$M$75,8,0)),0,(VLOOKUP(A35,'extraction Bal AG 15 AVRIL'!$F$2:$M$75,8,0))) -> 0 | F35: =IF(ISNA(VLOOKUP(B35,'extraction Bal AG 15 AVRIL'!$A$2:$M$75,13,0)),0,(VLOOKUP(B35,'extraction Bal AG 15 AVRIL'!$A$2:$M$75,13,0))) -> 0 | G35: =IF(ISNA(VLOOKUP(A35,'extraction Bal AG 15 AVRIL'!$F$2:$M$75,8,0)),VLOOKUP(B35,'extraction Bal AG 15 AVRIL'!$A$2:$M$75,13,0),VLOOKUP(A35,'extraction Bal AG 15 AVRIL'!$F$2:$M$75,8,0)) -> 0 | H35: ok
A36: 592051304 | B36: 624442 | E36: =IF(ISNA(VLOOKUP(A36,'extraction Bal AG 15 AVRIL'!$F$2:$M$75,8,0)),0,(VLOOKUP(A36,'extraction Bal AG 15 AVRIL'!$F$2:$M$75,8,0))) -> 3132.21 | F36: =IF(ISNA(VLOOKUP(B36,'extraction Bal AG 15 AVRIL'!$A$2:$M$75,13,0)),0,(VLOOKUP(B36,'extraction Bal AG 15 AVRIL'!$A$2:$M$75,13,0))) -> 0 | G36: =IF(ISNA(VLOOKUP(A36,'extraction Bal AG 15 AVRIL'!$F$2:$M$75,8,0)),VLOOKUP(B36,'extraction Bal AG 15 AVRIL'!$A$2:$M$75,13,0),VLOOKUP(A36,'extraction Bal AG 15 AVRIL'!$F$2:$M$75,8,0)) -> 3132.21 | H36: ok
A37: 548500149 | B37: 76877 | E37: =IF(ISNA(VLOOKUP(A37,'extraction Bal AG 15 AVRIL'!$F$2:$M$75,8,0)),0,(VLOOKUP(A37,'extraction Bal AG 15 AVRIL'!$F$2:$M$75,8,0))) -> 0 | F37: =IF(ISNA(VLOOKUP(B37,'extraction Bal AG 15 AVRIL'!$A$2:$M$75,13,0)),0,(VLOOKUP(B37,'extraction Bal AG 15 AVRIL'!$A$2:$M$75,13,0))) -> 200327.78 | G37: =IF(ISNA(VLOOKUP(A37,'extraction Bal AG 15 AVRIL'!$F$2:$M$75,8,0)),VLOOKUP(B37,'extraction Bal AG 15 AVRIL'!$A$2:$M$75,13,0),VLOOKUP(A37,'extraction Bal AG 15 AVRIL'!$F$2:$M$75,8,0)) -> 0 | H37: devrait ramener 200327,78
A38: 775576986 | B38: 60503 | E38: =IF(ISNA(VLOOKUP(A38,'extraction Bal AG 15 AVRIL'!$F$2:$M$75,8,0)),0,(VLOOKUP(A38,'extraction Bal AG 15 AVRIL'!$F$2:$M$75,8,0))) -> 0 | F38: =IF(ISNA(VLOOKUP(B38,'extraction Bal AG 15 AVRIL'!$A$2:$M$75,13,0)),0,(VLOOKUP(B38,'extraction Bal AG 15 AVRIL'!$A$2:$M$75,13,0))) -> 0 | G38: =IF(ISNA(VLOOKUP(A38,'extraction Bal AG 15 AVRIL'!$F$2:$M$75,8,0)),VLOOKUP(B38,'extraction Bal AG 15 AVRIL'!$A$2:$M$75,13,0),VLOOKUP(A38,'extraction Bal AG 15 AVRIL'!$F$2:$M$75,8,0)) -> 0 | H38: ok
A39: 55805865 | B39: 495708 | E39: =IF(ISNA(VLOOKUP(A39,'extraction Bal AG 15 AVRIL'!$F$2:$M$75,8,0)),0,(VLOOKUP(A39,'extraction Bal AG 15 AVRIL'!$F$2:$M$75,8,0))) -> 0 | F39: =IF(ISNA(VLOOKUP(B39,'extraction Bal AG 15 AVRIL'!$A$2:$M$75,13,0)),0,(VLOOKUP(B39,'extraction Bal AG 15 AVRIL'!$A$2:$M$75,13,0))) -> 0 | G39: =IF(ISNA(VLOOKUP(A39,'extraction Bal AG 15 AVRIL'!$F$2:$M$75,8,0)),VLOOKUP(B39,'extraction Bal AG 15 AVRIL'!$A$2:$M$75,13,0),VLOOKUP(A39,'extraction Bal AG 15 AVRIL'!$F$2:$M$75,8,0)) -> 0 | H39: ok
A40: 956508469 | B40: 535918 | E40: =IF(ISNA(VLOOKUP(A40,'extraction Bal AG 15 AVRIL'!$F$2:$M$75,8,0)),0,(VLOOKUP(A40,'extraction Bal AG 15 AVRIL'!$F$2:$M$75,8,0))) -> 0 | F40: =IF(ISNA(VLOOKUP(B40,'extraction Bal AG 15 AVRIL'!$A$2:$M$75,13,0)),0,(VLOOKUP(B40,'extraction Bal AG 15 AVRIL'!$A$2:$M$75,13,0))) -> 638.64 | G40: =IF(ISNA(VLOOKUP(A40,'extraction Bal AG 15 AVRIL'!$F$2:$M$75,8,0)),VLOOKUP(B40,'extraction Bal AG 15 AVRIL'!$A$2:$M$75,13,0),VLOOKUP(A40,'extraction Bal AG 15 AVRIL'!$F$2:$M$75,8,0)) -> 0 | H40: devrait ramener 638,64
A41: 356800896 | B41: 11637 | E41: =IF(ISNA(VLOOKUP(A41,'extraction Bal AG 15 AVRIL'!$F$2:$M$75,8,0)),0,(VLOOKUP(A41,'extraction Bal AG 15 AVRIL'!$F$2:$M$75,8,0))) -> 1783.46 | F41: =IF(ISNA(VLOOKUP(B41,'extraction Bal AG 15 AVRIL'!$A$2:$M$75,13,0)),0,(VLOOKUP(B41,'extraction Bal AG 15 AVRIL'!$A$2:$M$75,13,0))) -> 1783.46 | G41: =IF(ISNA(VLOOKUP(A41,'extraction Bal AG 15 AVRIL'!$F$2:$M$75,8,0)),VLOOKUP(B41,'extraction Bal AG 15 AVRIL'!$A$2:$M$75,13,0),VLOOKUP(A41,'extraction Bal AG 15 AVRIL'!$F$2:$M$75,8,0)) -> 1783.46 | H41: ok
A42: 568504161 | B42: 42231 | E42: =IF(ISNA(VLOOKUP(A42,'extraction Bal AG 15 AVRIL'!$F$2:$M$75,8,0)),0,(VLOOKUP(A42,'extraction Bal AG 15 AVRIL'!$F$2:$M$75,8,0))) -> 259076.89 | F42: =IF(ISNA(VLOOKUP(B42,'extraction Bal AG 15 AVRIL'!$A$2:$M$75,13,0)),0,(VLOOKUP(B42,'extraction Bal AG 15 AVRIL'!$A$2:$M$75,13,0))) -> 259076.89 | G42: =IF(ISNA(VLOOKUP(A42,'extraction Bal AG 15 AVRIL'!$F$2:$M$75,8,0)),VLOOKUP(B42,'extraction Bal AG 15 AVRIL'!$A$2:$M$75,13,0),VLOOKUP(A42,'extraction Bal AG 15 AVRIL'!$F$2:$M$75,8,0)) -> 259076.89 | H42: ok
A43: 695680108 | B43: prospect | E43: =IF(ISNA(VLOOKUP(A43,'extraction Bal AG 15 AVRIL'!$F$2:$M$75,8,0)),0,(VLOOKUP(A43,'extraction Bal AG 15 AVRIL'!$F$2:$M$75,8,0))) -> -522.64 | F43: =IF(ISNA(VLOOKUP(B43,'extraction Bal AG 15 AVRIL'!$A$2:$M$75,13,0)),0,(VLOOKUP(B43,'extraction Bal AG 15 AVRIL'!$A$2:$M$75,13,0))) -> 0 | G43: =IF(ISNA(VLOOKUP(A43,'extraction Bal AG 15 AVRIL'!$F$2:$M$75,8,0)),VLOOKUP(B43,'extraction Bal AG 15 AVRIL'!$A$2:$M$75,13,0),VLOOKUP(A43,'extraction Bal AG 15 AVRIL'!$F$2:$M$75,8,0)) -> -522.64 | H43: ok
A44: 306138900 | B44: 565149 | E44: =IF(ISNA(VLOOKUP(A44,'extraction Bal AG 15 AVRIL'!$F$2:$M$75,8,0)),0,(VLOOKUP(A44,'extraction Bal AG 15 AVRIL'!$F$2:$M$75,8,0))) -> 0 | F44: =IF(ISNA(VLOOKUP(B44,'extraction Bal AG 15 AVRIL'!$A$2:$M$75,13,0)),0,(VLOOKUP(B44,'extraction Bal AG 15 AVRIL'!$A$2:$M$75,13,0))) -> 0 | G44: =IF(ISNA(VLOOKUP(A44,'extraction Bal AG 15 AVRIL'!$F$2:$M$75,8,0)),VLOOKUP(B44,'extraction Bal AG 15 AVRIL'!$A$2:$M$75,13,0),VLOOKUP(A44,'extraction Bal AG 15 AVRIL'!$F$2:$M$75,8,0)) -> 0 | H44: etc…..

Sheet extraction Bal AG 15 AVRIL
M1: Solde au 15.04.2014
A2: Client | C2: Pays | E2: Id TVA sur CA | F2: Tax Number 2 | G2: Code taxe 1 | M2: EUR
A3: 585 | F3: 945650141 | G3: =VLOOKUP(F3,'report 15 Avril Cot 1 & 2'!$A$4:$A$44,1,0) -> 945650141 | M3: 0
A4: 823 | F4: 956508469 | G4: =VLOOKUP(F4,'report 15 Avril Cot 1 & 2'!$A$4:$A$44,1,0) -> 956508469 | M4: 0
A5: 3307 | F5: 515480028 | G5: =VLOOKUP(F5,'report 15 Avril Cot 1 & 2'!$A$4:$A$44,1,0) -> 515480028 | M5: 0
A6: 4242 | F6: 552140816 | G6: =VLOOKUP(F6,'report 15 Avril Cot 1 & 2'!$A$4:$A$44,1,0) -> 552140816 | M6: 0
A7: 11087 | F7: 597020841 | G7: =VLOOKUP(F7,'report 15 Avril Cot 1 & 2'!$A$4:$A$44,1,0) -> 597020841 | M7: 6049
A8: 11621 | F8: 572203842 | G8: =VLOOKUP(F8,'report 15 Avril Cot 1 & 2'!$A$4:$A$44,1,0) -> 572203842 | M8: 10115.19
A9: 11637 | F9: 356800896 | G9: =VLOOKUP(F9,'report 15 Avril Cot 1 & 2'!$A$4:$A$44,1,0) -> 356800896 | M9: 1783.46
A10: 12335 | F10: 542078555 | G10: =VLOOKUP(F10,'report 15 Avril Cot 1 & 2'!$A$4:$A$44,1,0) -> 542078555 | M10: 0
A11: 12354 | F11: 475582144 | G11: =VLOOKUP(F11,'report 15 Avril Cot 1 & 2'!$A$4:$A$44,1,0) -> 475582144 | M11: -596.26
A12: 12834 | F12: 788039253 | G12: =VLOOKUP(F12,'report 15 Avril Cot 1 & 2'!$A$4:$A$44,1,0) -> 788039253 | M12: 0
A13: 16859 | F13: 548500149 | G13: =VLOOKUP(F13,'report 15 Avril Cot 1 & 2'!$A$4:$A$44,1,0) -> 548500149 | M13: 0
A14: 18506 | F14: 956508469 | G14: =VLOOKUP(F14,'report 15 Avril Cot 1 & 2'!$A$4:$A$44,1,0) -> 956508469 | M14: 0
... A75: 905755 | F75: 845620152 | G75: =VLOOKUP(F75,'report 15 Avril Cot 1 & 2'!$A$4:$A$44,1,0) -> 845620152 | M75: 1006.8
