Workbook
Name An: Planning!$A$1
Name Annees: Listes!$O$2:$O$8
Name CeJour: CONGES!$H$1
Name ColA: OFFSET(Saisie!$A$1,,,COUNTA(Saisie!$A:$A)+2)
Name ColF: OFFSET(ColA,,5)
Name Debut: OFFSET(Noms,,3)
Name Ferie: OFFSET(Listes!$U$2,,,COUNTA(Listes!$U:$U)-1)
Name Fin: OFFSET(Noms,,4)
Name Mois: Listes!$R$2:$R$13
Name Nbre: OFFSET(Noms,,6)
Name Nom: OFFSET(Listes!$B$2,,,COUNTA(Listes!$B:$B)-1)
Name Noms: OFFSET(Saisie!$A$3,1,,COUNTA(Saisie!$A:$A)-1)
Name Poste: OFFSET(Listes!$G$2,,,COUNTA(Listes!$G:$G)-1)
Name Postes: OFFSET(Noms,,1)
Name Type: OFFSET(Noms,,5)
Name TypeAbs: OFFSET(Listes!$L$2,,,COUNTA(Listes!$L:$L)-1)

Sheet Saisie
A2: Noms | B2: Poste | C2: Lieu | D2: Debut | E2: Fin | F2: Type | G2: Nbre | H2: Les dates "Début" et "Fin" sont les dates d'absences réelles | M2: Les dates saisies sont INCLUSES
B3: =IF(A3="","",VLOOKUP(A3,Listes!B:D,2,0)) | C3: =IF(A3="","",VLOOKUP(A3,Listes!B:D,3,0)) | G3: =IF(A3="","",IF(F3= " 1/2",0.5,(E3-D3+1)-SUMPRODUCT((WEEKDAY(ROW(INDIRECT(D3&":"&E3)))=1)+((WEEKDAY(ROW(INDIRECT(D3&":"&E3)))>1)*COUNTIF(Ferie,ROW(INDIRECT(D3&":"&E3)))>0))))
A4: Marvin DASILVA | B4: =IF(A4="","",VLOOKUP(A4,Listes!B:D,2,0)) -> Boulanger | C4: =IF(A4="","",VLOOKUP(A4,Listes!B:D,3,0)) -> AU PAIN PERDU | D4: 41751 | E4: 41756 | F4: MAL | G4: =IF(A4="","",IF(F4= " 1/2",0.5,(E4-D4+1)-SUMPRODUCT((WEEKDAY(ROW(INDIRECT(D4&":"&E4)))=1)+((WEEKDAY(ROW(INDIRECT(D4&":"&E4)))>1)*COUNTIF(Ferie,ROW(INDIRECT(D4&":"&E4)))>0)))) -> 5
A5: Paola DEL FRANCO | B5: =IF(A5="","",VLOOKUP(A5,Listes!B:D,2,0)) -> Vendeuse | C5: =IF(A5="","",VLOOKUP(A5,Listes!B:D,3,0)) -> MONTROND LES BAINS | D5: 41757 | E5: 41763 | F5: CP | G5: =IF(A5="","",IF(F5= " 1/2",0.5,(E5-D5+1)-SUMPRODUCT((WEEKDAY(ROW(INDIRECT(D5&":"&E5)))=1)+((WEEKDAY(ROW(INDIRECT(D5&":"&E5)))>1)*COUNTIF(Ferie,ROW(INDIRECT(D5&":"&E5)))>0)))) -> 5
A6: Solange GOUTTEFARDE | B6: =IF(A6="","",VLOOKUP(A6,Listes!B:D,2,0)) -> Vendeuse | C6: =IF(A6="","",VLOOKUP(A6,Listes!B:D,3,0)) -> AU PAIN PERDU | D6: 41757 | E6: 41763 | F6: CP | G6: =IF(A6="","",IF(F6= " 1/2",0.5,(E6-D6+1)-SUMPRODUCT((WEEKDAY(ROW(INDIRECT(D6&":"&E6)))=1)+((WEEKDAY(ROW(INDIRECT(D6&":"&E6)))>1)*COUNTIF(Ferie,ROW(INDIRECT(D6&":"&E6)))>0)))) -> 5
A7: Florent GIRAUD | B7: =IF(A7="","",VLOOKUP(A7,Listes!B:D,2,0)) -> Chocolatier | C7: =IF(A7="","",VLOOKUP(A7,Listes!B:D,3,0)) -> MONTBRISON | D7: 41757 | E7: 41763 | F7: CP | G7: =IF(A7="","",IF(F7= " 1/2",0.5,(E7-D7+1)-SUMPRODUCT((WEEKDAY(ROW(INDIRECT(D7&":"&E7)))=1)+((WEEKDAY(ROW(INDIRECT(D7&":"&E7)))>1)*COUNTIF(Ferie,ROW(INDIRECT(D7&":"&E7)))>0)))) -> 5
A8: Isabelle MILAN | B8: =IF(A8="","",VLOOKUP(A8,Listes!B:D,2,0)) -> Vendeuse | C8: =IF(A8="","",VLOOKUP(A8,Listes!B:D,3,0)) -> SAINTE-FOY | D8: 41764 | E8: 41770 | F8: CP | G8: =IF(A8="","",IF(F8= " 1/2",0.5,(E8-D8+1)-SUMPRODUCT((WEEKDAY(ROW(INDIRECT(D8&":"&E8)))=1)+((WEEKDAY(ROW(INDIRECT(D8&":"&E8)))>1)*COUNTIF(Ferie,ROW(INDIRECT(D8&":"&E8)))>0)))) -> 5
A9: Aline GOUTEY | B9: =IF(A9="","",VLOOKUP(A9,Listes!B:D,2,0)) -> Vendeuse | C9: =IF(A9="","",VLOOKUP(A9,Listes!B:D,3,0)) -> MONTBRISON | D9: 41764 | E9: 41770 | F9: CP | G9: =IF(A9="","",IF(F9= " 1/2",0.5,(E9-D9+1)-SUMPRODUCT((WEEKDAY(ROW(INDIRECT(D9&":"&E9)))=1)+((WEEKDAY(ROW(INDIRECT(D9&":"&E9)))>1)*COUNTIF(Ferie,ROW(INDIRECT(D9&":"&E9)))>0)))) -> 5
A10: Valérie PALABAUD | B10: =IF(A10="","",VLOOKUP(A10,Listes!B:D,2,0)) -> Vendeuse | C10: =IF(A10="","",VLOOKUP(A10,Listes!B:D,3,0)) -> MONTROND LES BAINS | D10: 41764 | E10: 41770 | F10: CP | G10: =IF(A10="","",IF(F10= " 1/2",0.5,(E10-D10+1)-SUMPRODUCT((WEEKDAY(ROW(INDIRECT(D10&":"&E10)))=1)+((WEEKDAY(ROW(INDIRECT(D10&":"&E10)))>1)*COUNTIF(Ferie,ROW(INDIRECT(D10&":"&E10)))>0)))) -> 5
A11: Freycenet Jocelyne | B11: =IF(A11="","",VLOOKUP(A11,Listes!B:D,2,0)) -> Vendeuse | C11: =IF(A11="","",VLOOKUP(A11,Listes!B:D,3,0)) -> AU PAIN PERDU | D11: 41778 | E11: 41784 | F11: CP | G11: =IF(A11="","",IF(F11= " 1/2",0.5,(E11-D11+1)-SUMPRODUCT((WEEKDAY(ROW(INDIRECT(D11&":"&E11)))=1)+((WEEKDAY(ROW(INDIRECT(D11&":"&E11)))>1)*COUNTIF(Ferie,ROW(INDIRECT(D11&":"&E11)))>0)))) -> 6
A12: Marie-Do BEGONIN | B12: =IF(A12="","",VLOOKUP(A12,Listes!B:D,2,0)) -> Vendeuse | C12: =IF(A12="","",VLOOKUP(A12,Listes!B:D,3,0)) -> AU PAIN PERDU | D12: 41785 | E12: 41785 | F12: CP | G12: =IF(A12="","",IF(F12= " 1/2",0.5,(E12-D12+1)-SUMPRODUCT((WEEKDAY(ROW(INDIRECT(D12&":"&E12)))=1)+((WEEKDAY(ROW(INDIRECT(D12&":"&E12)))>1)*COUNTIF(Ferie,ROW(INDIRECT(D12&":"&E12)))>0)))) -> 1
A13: Marie-Do BEGONIN | B13: =IF(A13="","",VLOOKUP(A13,Listes!B:D,2,0)) -> Vendeuse | C13: =IF(A13="","",VLOOKUP(A13,Listes!B:D,3,0)) -> AU PAIN PERDU | D13: 41786 | E13: 41791 | F13: RECUP | G13: =IF(A13="","",IF(F13= " 1/2",0.5,(E13-D13+1)-SUMPRODUCT((WEEKDAY(ROW(INDIRECT(D13&":"&E13)))=1)+((WEEKDAY(ROW(INDIRECT(D13&":"&E13)))>1)*COUNTIF(Ferie,ROW(INDIRECT(D13&":"&E13)))>0)))) -> 4
A14: Sébastien BERNE | B14: =IF(A14="","",VLOOKUP(A14,Listes!B:D,2,0)) -> Traiteur | C14: =IF(A14="","",VLOOKUP(A14,Listes!B:D,3,0)) -> SAINT-BARTH | D14: 41729 | E14: 41735 | F14: CP | G14: =IF(A14="","",IF(F14= " 1/2",0.5,(E14-D14+1)-SUMPRODUCT((WEEKDAY(ROW(INDIRECT(D14&":"&E14)))=1)+((WEEKDAY(ROW(INDIRECT(D14&":"&E14)))>1)*COUNTIF(Ferie,ROW(INDIRECT(D14&":"&E14)))>0)))) -> 6
A15: Greg GUERPILLON | B15: =IF(A15="","",VLOOKUP(A15,Listes!B:D,2,0)) -> Pâtissier | C15: =IF(A15="","",VLOOKUP(A15,Listes!B:D,3,0)) -> SAINT-BARTH | D15: 41764 | E15: 41770 | F15: CP | G15: =IF(A15="","",IF(F15= " 1/2",0.5,(E15-D15+1)-SUMPRODUCT((WEEKDAY(ROW(INDIRECT(D15&":"&E15)))=1)+((WEEKDAY(ROW(INDIRECT(D15&":"&E15)))>1)*COUNTIF(Ferie,ROW(INDIRECT(D15&":"&E15)))>0)))) -> 5
... A31: Florent GIRAUD | B31: =IF(A31="","",VLOOKUP(A31,Listes!B:D,2,0)) -> Chocolatier | C31: =IF(A31="","",VLOOKUP(A31,Listes!B:D,3,0)) -> MONTBRISON | D31: 41862 | E31: 41868 | F31: CP | G31: =IF(A31="","",IF(F31= " 1/2",0.5,(E31-D31+1)-SUMPRODUCT((WEEKDAY(ROW(INDIRECT(D31&":"&E31)))=1)+((WEEKDAY(ROW(INDIRECT(D31&":"&E31)))>1)*COUNTIF(Ferie,ROW(INDIRECT(D31&":"&E31)))>0)))) -> 5
B32: =IF(A32="","",VLOOKUP(A32,Listes!B:D,2,0)) | C32: =IF(A32="","",VLOOKUP(A32,Listes!B:D,3,0)) | G32: =IF(A32="","",IF(F32= " 1/2",0.5,(E32-D32+1)-SUMPRODUCT((WEEKDAY(ROW(INDIRECT(D32&":"&E32)))=1)+((WEEKDAY(ROW(INDIRECT(D32&":"&E32)))>1)*COUNTIF(Ferie,ROW(INDIRECT(D32&":"&E32)))>0))))

Sheet Planning
A1: 2014
C2: CP | D2: MAL | E2: EP | F2: 1/2 | G2: CFA | H2: RECUP | L2: Vendeuse | Q2: Août
C4: =DATE(An,MONTH(1&$Q$2),1) -> 41852 | D4: =C4+1 -> 41853 | E4: =D4+1 -> 41854 | F4: =E4+1 -> 41855 | G4: =F4+1 -> 41856 | H4: =G4+1 -> 41857 | I4: =H4+1 -> 41858 | J4: =I4+1 -> 41859 | K4: =J4+1 -> 41860 | ... AD4: =AC4+1 -> 41879 | AE4: =IF(AD4="","",IF(MONTH(AD4+1)<>MONTH(AD4),"",AD4+1)) -> 41880 | AF4: =IF(AE4="","",IF(MONTH(AE4+1)<>MONTH(AE4),"",AE4+1)) -> 41881 | AG4: =IF(AF4="","",IF(MONTH(AF4+1)<>MONTH(AF4),"",AF4+1)) -> 41882
A5: NOM | B5: Lieu | C5: =C4 -> 41852 | D5: =D4 -> 41853 | E5: =E4 -> 41854 | F5: =F4 -> 41855 | G5: =G4 -> 41856 | H5: =H4 -> 41857 | I5: =I4 -> 41858 | J5: =J4 -> 41859 | ... AG5: =AG4 -> 41882
A6: {=IFERROR(INDEX(ColA,MIN(IF(Postes=$L$2,IF(YEAR(Debut)=An,IF((MONTH(Debut)=MONTH(1&$Q$2))+(MONTH(Fin)=MONTH(1&$Q$2)),IF(COUNTIF(A$5:A5,Noms)=0,ROW(Noms))))))),"")} -> Isabelle MILAN | B6: =IF(A6=0,"",VLOOKUP(A6,Listes!B:D,3,0)) -> SAINTE-FOY | C6: {=IFERROR(INDEX(ColF,SUMPRODUCT((Noms=$A6)*(C$4>=Debut)*(C$4<=Fin),ROW(Type))),"")} -> CP | D6: {=IFERROR(INDEX(ColF,SUMPRODUCT((Noms=$A6)*(D$4>=Debut)*(D$4<=Fin),ROW(Type))),"")} -> CP | E6: {=IFERROR(INDEX(ColF,SUMPRODUCT((Noms=$A6)*(E$4>=Debut)*(E$4<=Fin),ROW(Type))),"")} -> CP | F6: {=IFERROR(INDEX(ColF,SUMPRODUCT((Noms=$A6)*(F$4>=Debut)*(F$4<=Fin),ROW(Type))),"")} -> CP | G6: {=IFERROR(INDEX(ColF,SUMPRODUCT((Noms=$A6)*(G$4>=Debut)*(G$4<=Fin),ROW(Type))),"")} -> CP | H6: {=IFERROR(INDEX(ColF,SUMPRODUCT((Noms=$A6)*(H$4>=Debut)*(H$4<=Fin),ROW(Type))),"")} -> CP | I6: {=IFERROR(INDEX(ColF,SUMPRODUCT((Noms=$A6)*(I$4>=Debut)*(I$4<=Fin),ROW(Type))),"")} -> CP | J6: {=IFERROR(INDEX(ColF,SUMPRODUCT((Noms=$A6)*(J$4>=Debut)*(J$4<=Fin),ROW(Type))),"")} -> CP | ... AG6: {=IFERROR(INDEX(ColF,SUMPRODUCT((Noms=$A6)*(AG$4>=Debut)*(AG$4<=Fin),ROW(Type))),"")} -> 0
A7: {=IFERROR(INDEX(ColA,MIN(IF(Postes=$L$2,IF(YEAR(Debut)=An,IF((MONTH(Debut)=MONTH(1&$Q$2))+(MONTH(Fin)=MONTH(1&$Q$2)),IF(COUNTIF(A$5:A6,Noms)=0,ROW(Noms))))))),"")} -> Géraldine VILLARD | B7: =IF(A7=0,"",VLOOKUP(A7,Listes!B:D,3,0)) -> SAINTE-FOY | C7: {=IFERROR(INDEX(ColF,SUMPRODUCT((Noms=$A7)*(C$4>=Debut)*(C$4<=Fin),ROW(Type))),"")} -> 0 | D7: {=IFERROR(INDEX(ColF,SUMPRODUCT((Noms=$A7)*(D$4>=Debut)*(D$4<=Fin),ROW(Type))),"")} -> 0 | E7: {=IFERROR(INDEX(ColF,SUMPRODUCT((Noms=$A7)*(E$4>=Debut)*(E$4<=Fin),ROW(Type))),"")} -> 0 | F7: {=IFERROR(INDEX(ColF,SUMPRODUCT((Noms=$A7)*(F$4>=Debut)*(F$4<=Fin),ROW(Type))),"")} -> 0 | G7: {=IFERROR(INDEX(ColF,SUMPRODUCT((Noms=$A7)*(G$4>=Debut)*(G$4<=Fin),ROW(Type))),"")} -> 0 | H7: {=IFERROR(INDEX(ColF,SUMPRODUCT((Noms=$A7)*(H$4>=Debut)*(H$4<=Fin),ROW(Type))),"")} -> 0 | I7: {=IFERROR(INDEX(ColF,SUMPRODUCT((Noms=$A7)*(I$4>=Debut)*(I$4<=Fin),ROW(Type))),"")} -> 0 | J7: {=IFERROR(INDEX(ColF,SUMPRODUCT((Noms=$A7)*(J$4>=Debut)*(J$4<=Fin),ROW(Type))),"")} -> 0 | ... AG7: {=IFERROR(INDEX(ColF,SUMPRODUCT((Noms=$A7)*(AG$4>=Debut)*(AG$4<=Fin),ROW(Type))),"")} -> CP
A8: {=IFERROR(INDEX(ColA,MIN(IF(Postes=$L$2,IF(YEAR(Debut)=An,IF((MONTH(Debut)=MONTH(1&$Q$2))+(MONTH(Fin)=MONTH(1&$Q$2)),IF(COUNTIF(A$5:A7,Noms)=0,ROW(Noms))))))),"")} -> Paola DEL FRANCO | B8: =IF(A8=0,"",VLOOKUP(A8,Listes!B:D,3,0)) -> MONTROND LES BAINS | C8: {=IFERROR(INDEX(ColF,SUMPRODUCT((Noms=$A8)*(C$4>=Debut)*(C$4<=Fin),ROW(Type))),"")} -> CP | D8: {=IFERROR(INDEX(ColF,SUMPRODUCT((Noms=$A8)*(D$4>=Debut)*(D$4<=Fin),ROW(Type))),"")} -> CP | E8: {=IFERROR(INDEX(ColF,SUMPRODUCT((Noms=$A8)*(E$4>=Debut)*(E$4<=Fin),ROW(Type))),"")} -> CP | F8: {=IFERROR(INDEX(ColF,SUMPRODUCT((Noms=$A8)*(F$4>=Debut)*(F$4<=Fin),ROW(Type))),"")} -> CP | G8: {=IFERROR(INDEX(ColF,SUMPRODUCT((Noms=$A8)*(G$4>=Debut)*(G$4<=Fin),ROW(Type))),"")} -> CP | H8: {=IFERROR(INDEX(ColF,SUMPRODUCT((Noms=$A8)*(H$4>=Debut)*(H$4<=Fin),ROW(Type))),"")} -> CP | I8: {=IFERROR(INDEX(ColF,SUMPRODUCT((Noms=$A8)*(I$4>=Debut)*(I$4<=Fin),ROW(Type))),"")} -> CP | J8: {=IFERROR(INDEX(ColF,SUMPRODUCT((Noms=$A8)*(J$4>=Debut)*(J$4<=Fin),ROW(Type))),"")} -> CP | ... AG8: {=IFERROR(INDEX(ColF,SUMPRODUCT((Noms=$A8)*(AG$4>=Debut)*(AG$4<=Fin),ROW(Type))),"")} -> 0
A9: {=IFERROR(INDEX(ColA,MIN(IF(Postes=$L$2,IF(YEAR(Debut)=An,IF((MONTH(Debut)=MONTH(1&$Q$2))+(MONTH(Fin)=MONTH(1&$Q$2)),IF(COUNTIF(A$5:A8,Noms)=0,ROW(Noms))))))),"")} -> Valérie PALABAUD | B9: =IF(A9=0,"",VLOOKUP(A9,Listes!B:D,3,0)) -> MONTROND LES BAINS | C9: {=IFERROR(INDEX(ColF,SUMPRODUCT((Noms=$A9)*(C$4>=Debut)*(C$4<=Fin),ROW(Type))),"")} -> 0 | D9: {=IFERROR(INDEX(ColF,SUMPRODUCT((Noms=$A9)*(D$4>=Debut)*(D$4<=Fin),ROW(Type))),"")} -> 0 | E9: {=IFERROR(INDEX(ColF,SUMPRODUCT((Noms=$A9)*(E$4>=Debut)*(E$4<=Fin),ROW(Type))),"")} -> 0 | F9: {=IFERROR(INDEX(ColF,SUMPRODUCT((Noms=$A9)*(F$4>=Debut)*(F$4<=Fin),ROW(Type))),"")} -> 0 | G9: {=IFERROR(INDEX(ColF,SUMPRODUCT((Noms=$A9)*(G$4>=Debut)*(G$4<=Fin),ROW(Type))),"")} -> 0 | H9: {=IFERROR(INDEX(ColF,SUMPRODUCT((Noms=$A9)*(H$4>=Debut)*(H$4<=Fin),ROW(Type))),"")} -> 0 | I9: {=IFERROR(INDEX(ColF,SUMPRODUCT((Noms=$A9)*(I$4>=Debut)*(I$4<=Fin),ROW(Type))),"")} -> 0 | J9: {=IFERROR(INDEX(ColF,SUMPRODUCT((Noms=$A9)*(J$4>=Debut)*(J$4<=Fin),ROW(Type))),"")} -> 0 | ... AG9: {=IFERROR(INDEX(ColF,SUMPRODUCT((Noms=$A9)*(AG$4>=Debut)*(AG$4<=Fin),ROW(Type))),"")} -> CP
A10: {=IFERROR(INDEX(ColA,MIN(IF(Postes=$L$2,IF(YEAR(Debut)=An,IF((MONTH(Debut)=MONTH(1&$Q$2))+(MONTH(Fin)=MONTH(1&$Q$2)),IF(COUNTIF(A$5:A9,Noms)=0,ROW(Noms))))))),"")} -> Aline GOUTEY | B10: =IF(A10=0,"",VLOOKUP(A10,Listes!B:D,3,0)) -> MONTBRISON | C10: {=IFERROR(INDEX(ColF,SUMPRODUCT((Noms=$A10)*(C$4>=Debut)*(C$4<=Fin),ROW(Type))),"")} -> CP | D10: {=IFERROR(INDEX(ColF,SUMPRODUCT((Noms=$A10)*(D$4>=Debut)*(D$4<=Fin),ROW(Type))),"")} -> CP | E10: {=IFERROR(INDEX(ColF,SUMPRODUCT((Noms=$A10)*(E$4>=Debut)*(E$4<=Fin),ROW(Type))),"")} -> CP | F10: {=IFERROR(INDEX(ColF,SUMPRODUCT((Noms=$A10)*(F$4>=Debut)*(F$4<=Fin),ROW(Type))),"")} -> 0 | G10: {=IFERROR(INDEX(ColF,SUMPRODUCT((Noms=$A10)*(G$4>=Debut)*(G$4<=Fin),ROW(Type))),"")} -> 0 | H10: {=IFERROR(INDEX(ColF,SUMPRODUCT((Noms=$A10)*(H$4>=Debut)*(H$4<=Fin),ROW(Type))),"")} -> 0 | I10: {=IFERROR(INDEX(ColF,SUMPRODUCT((Noms=$A10)*(I$4>=Debut)*(I$4<=Fin),ROW(Type))),"")} -> 0 | J10: {=IFERROR(INDEX(ColF,SUMPRODUCT((Noms=$A10)*(J$4>=Debut)*(J$4<=Fin),ROW(Type))),"")} -> 0 | ... AG10: {=IFERROR(INDEX(ColF,SUMPRODUCT((Noms=$A10)*(AG$4>=Debut)*(AG$4<=Fin),ROW(Type))),"")} -> 0
A11: {=IFERROR(INDEX(ColA,MIN(IF(Postes=$L$2,IF(YEAR(Debut)=An,IF((MONTH(Debut)=MONTH(1&$Q$2))+(MONTH(Fin)=MONTH(1&$Q$2)),IF(COUNTIF(A$5:A10,Noms)=0,ROW(Noms))))))),"")} -> Annabelle VILVERT | B11: =IF(A11=0,"",VLOOKUP(A11,Listes!B:D,3,0)) -> MONTBRISON | C11: {=IFERROR(INDEX(ColF,SUMPRODUCT((Noms=$A11)*(C$4>=Debut)*(C$4<=Fin),ROW(Type))),"")} -> 0 | D11: {=IFERROR(INDEX(ColF,SUMPRODUCT((Noms=$A11)*(D$4>=Debut)*(D$4<=Fin),ROW(Type))),"")} -> 0 | E11: {=IFERROR(INDEX(ColF,SUMPRODUCT((Noms=$A11)*(E$4>=Debut)*(E$4<=Fin),ROW(Type))),"")} -> 0 | F11: {=IFERROR(INDEX(ColF,SUMPRODUCT((Noms=$A11)*(F$4>=Debut)*(F$4<=Fin),ROW(Type))),"")} -> 0 | G11: {=IFERROR(INDEX(ColF,SUMPRODUCT((Noms=$A11)*(G$4>=Debut)*(G$4<=Fin),ROW(Type))),"")} -> 0 | H11: {=IFERROR(INDEX(ColF,SUMPRODUCT((Noms=$A11)*(H$4>=Debut)*(H$4<=Fin),ROW(Type))),"")} -> 0 | I11: {=IFERROR(INDEX(ColF,SUMPRODUCT((Noms=$A11)*(I$4>=Debut)*(I$4<=Fin),ROW(Type))),"")} -> 0 | J11: {=IFERROR(INDEX(ColF,SUMPRODUCT((Noms=$A11)*(J$4>=Debut)*(J$4<=Fin),ROW(Type))),"")} -> 0 | ... AG11: {=IFERROR(INDEX(ColF,SUMPRODUCT((Noms=$A11)*(AG$4>=Debut)*(AG$4<=Fin),ROW(Type))),"")} -> CP
A12: {=IFERROR(INDEX(ColA,MIN(IF(Postes=$L$2,IF(YEAR(Debut)=An,IF((MONTH(Debut)=MONTH(1&$Q$2))+(MONTH(Fin)=MONTH(1&$Q$2)),IF(COUNTIF(A$5:A11,Noms)=0,ROW(Noms))))))),"")} -> Cindy MARCOUX | B12: =IF(A12=0,"",VLOOKUP(A12,Listes!B:D,3,0)) -> MONTBRISON | C12: {=IFERROR(INDEX(ColF,SUMPRODUCT((Noms=$A12)*(C$4>=Debut)*(C$4<=Fin),ROW(Type))),"")} -> 0 | D12: {=IFERROR(INDEX(ColF,SUMPRODUCT((Noms=$A12)*(D$4>=Debut)*(D$4<=Fin),ROW(Type))),"")} -> 0 | E12: {=IFERROR(INDEX(ColF,SUMPRODUCT((Noms=$A12)*(E$4>=Debut)*(E$4<=Fin),ROW(Type))),"")} -> 0 | F12: {=IFERROR(INDEX(ColF,SUMPRODUCT((Noms=$A12)*(F$4>=Debut)*(F$4<=Fin),ROW(Type))),"")} -> CP | G12: {=IFERROR(INDEX(ColF,SUMPRODUCT((Noms=$A12)*(G$4>=Debut)*(G$4<=Fin),ROW(Type))),"")} -> CP | H12: {=IFERROR(INDEX(ColF,SUMPRODUCT((Noms=$A12)*(H$4>=Debut)*(H$4<=Fin),ROW(Type))),"")} -> CP | I12: {=IFERROR(INDEX(ColF,SUMPRODUCT((Noms=$A12)*(I$4>=Debut)*(I$4<=Fin),ROW(Type))),"")} -> CP | J12: {=IFERROR(INDEX(ColF,SUMPRODUCT((Noms=$A12)*(J$4>=Debut)*(J$4<=Fin),ROW(Type))),"")} -> CP | ... AG12: {=IFERROR(INDEX(ColF,SUMPRODUCT((Noms=$A12)*(AG$4>=Debut)*(AG$4<=Fin),ROW(Type))),"")} -> 0
A13: {=IFERROR(INDEX(ColA,MIN(IF(Postes=$L$2,IF(YEAR(Debut)=An,IF((MONTH(Debut)=MONTH(1&$Q$2))+(MONTH(Fin)=MONTH(1&$Q$2)),IF(COUNTIF(A$5:A12,Noms)=0,ROW(Noms))))))),"")} -> Solange GOUTTEFARDE | B13: =IF(A13=0,"",VLOOKUP(A13,Listes!B:D,3,0)) -> AU PAIN PERDU | C13: {=IFERROR(INDEX(ColF,SUMPRODUCT((Noms=$A13)*(C$4>=Debut)*(C$4<=Fin),ROW(Type))),"")} -> CP | D13: {=IFERROR(INDEX(ColF,SUMPRODUCT((Noms=$A13)*(D$4>=Debut)*(D$4<=Fin),ROW(Type))),"")} -> CP | E13: {=IFERROR(INDEX(ColF,SUMPRODUCT((Noms=$A13)*(E$4>=Debut)*(E$4<=Fin),ROW(Type))),"")} -> CP | F13: {=IFERROR(INDEX(ColF,SUMPRODUCT((Noms=$A13)*(F$4>=Debut)*(F$4<=Fin),ROW(Type))),"")} -> CP | G13: {=IFERROR(INDEX(ColF,SUMPRODUCT((Noms=$A13)*(G$4>=Debut)*(G$4<=Fin),ROW(Type))),"")} -> CP | H13: {=IFERROR(INDEX(ColF,SUMPRODUCT((Noms=$A13)*(H$4>=Debut)*(H$4<=Fin),ROW(Type))),"")} -> CP | I13: {=IFERROR(INDEX(ColF,SUMPRODUCT((Noms=$A13)*(I$4>=Debut)*(I$4<=Fin),ROW(Type))),"")} -> CP | J13: {=IFERROR(INDEX(ColF,SUMPRODUCT((Noms=$A13)*(J$4>=Debut)*(J$4<=Fin),ROW(Type))),"")} -> CP | ... AG13: {=IFERROR(INDEX(ColF,SUMPRODUCT((Noms=$A13)*(AG$4>=Debut)*(AG$4<=Fin),ROW(Type))),"")} -> 0
A14: {=IFERROR(INDEX(ColA,MIN(IF(Postes=$L$2,IF(YEAR(Debut)=An,IF((MONTH(Debut)=MONTH(1&$Q$2))+(MONTH(Fin)=MONTH(1&$Q$2)),IF(COUNTIF(A$5:A13,Noms)=0,ROW(Noms))))))),"")} -> Freycenet Jocelyne | B14: =IF(A14=0,"",VLOOKUP(A14,Listes!B:D,3,0)) -> AU PAIN PERDU | C14: {=IFERROR(INDEX(ColF,SUMPRODUCT((Noms=$A14)*(C$4>=Debut)*(C$4<=Fin),ROW(Type))),"")} -> 0 | D14: {=IFERROR(INDEX(ColF,SUMPRODUCT((Noms=$A14)*(D$4>=Debut)*(D$4<=Fin),ROW(Type))),"")} -> 0 | E14: {=IFERROR(INDEX(ColF,SUMPRODUCT((Noms=$A14)*(E$4>=Debut)*(E$4<=Fin),ROW(Type))),"")} -> 0 | F14: {=IFERROR(INDEX(ColF,SUMPRODUCT((Noms=$A14)*(F$4>=Debut)*(F$4<=Fin),ROW(Type))),"")} -> 0 | G14: {=IFERROR(INDEX(ColF,SUMPRODUCT((Noms=$A14)*(G$4>=Debut)*(G$4<=Fin),ROW(Type))),"")} -> 0 | H14: {=IFERROR(INDEX(ColF,SUMPRODUCT((Noms=$A14)*(H$4>=Debut)*(H$4<=Fin),ROW(Type))),"")} -> 0 | I14: {=IFERROR(INDEX(ColF,SUMPRODUCT((Noms=$A14)*(I$4>=Debut)*(I$4<=Fin),ROW(Type))),"")} -> 0 | J14: {=IFERROR(INDEX(ColF,SUMPRODUCT((Noms=$A14)*(J$4>=Debut)*(J$4<=Fin),ROW(Type))),"")} -> 0 | ... AG14: {=IFERROR(INDEX(ColF,SUMPRODUCT((Noms=$A14)*(AG$4>=Debut)*(AG$4<=Fin),ROW(Type))),"")} -> CP
A15: {=IFERROR(INDEX(ColA,MIN(IF(Postes=$L$2,IF(YEAR(Debut)=An,IF((MONTH(Debut)=MONTH(1&$Q$2))+(MONTH(Fin)=MONTH(1&$Q$2)),IF(COUNTIF(A$5:A14,Noms)=0,ROW(Noms))))))),"")} -> Marie-Do BEGONIN | B15: =IF(A15=0,"",VLOOKUP(A15,Listes!B:D,3,0)) -> AU PAIN PERDU | C15: {=IFERROR(INDEX(ColF,SUMPRODUCT((Noms=$A15)*(C$4>=Debut)*(C$4<=Fin),ROW(Type))),"")} -> 0 | D15: {=IFERROR(INDEX(ColF,SUMPRODUCT((Noms=$A15)*(D$4>=Debut)*(D$4<=Fin),ROW(Type))),"")} -> 0 | E15: {=IFERROR(INDEX(ColF,SUMPRODUCT((Noms=$A15)*(E$4>=Debut)*(E$4<=Fin),ROW(Type))),"")} -> 0 | F15: {=IFERROR(INDEX(ColF,SUMPRODUCT((Noms=$A15)*(F$4>=Debut)*(F$4<=Fin),ROW(Type))),"")} -> 0 | G15: {=IFERROR(INDEX(ColF,SUMPRODUCT((Noms=$A15)*(G$4>=Debut)*(G$4<=Fin),ROW(Type))),"")} -> 0 | H15: {=IFERROR(INDEX(ColF,SUMPRODUCT((Noms=$A15)*(H$4>=Debut)*(H$4<=Fin),ROW(Type))),"")} -> 0 | I15: {=IFERROR(INDEX(ColF,SUMPRODUCT((Noms=$A15)*(I$4>=Debut)*(I$4<=Fin),ROW(Type))),"")} -> 0 | J15: {=IFERROR(INDEX(ColF,SUMPRODUCT((Noms=$A15)*(J$4>=Debut)*(J$4<=Fin),ROW(Type))),"")} -> 0 | ... AG15: {=IFERROR(INDEX(ColF,SUMPRODUCT((Noms=$A15)*(AG$4>=Debut)*(AG$4<=Fin),ROW(Type))),"")} -> 0
A16: {=IFERROR(INDEX(ColA,MIN(IF(Postes=$L$2,IF(YEAR(Debut)=An,IF((MONTH(Debut)=MONTH(1&$Q$2))+(MONTH(Fin)=MONTH(1&$Q$2)),IF(COUNTIF(A$5:A15,Noms)=0,ROW(Noms))))))),"")} -> 0 | B16: =IF(A16=0,"",VLOOKUP(A16,Listes!B:D,3,0)) | C16: {=IFERROR(INDEX(ColF,SUMPRODUCT((Noms=$A16)*(C$4>=Debut)*(C$4<=Fin),ROW(Type))),"")} -> 0 | D16: {=IFERROR(INDEX(ColF,SUMPRODUCT((Noms=$A16)*(D$4>=Debut)*(D$4<=Fin),ROW(Type))),"")} -> 0 | E16: {=IFERROR(INDEX(ColF,SUMPRODUCT((Noms=$A16)*(E$4>=Debut)*(E$4<=Fin),ROW(Type))),"")} -> 0 | F16: {=IFERROR(INDEX(ColF,SUMPRODUCT((Noms=$A16)*(F$4>=Debut)*(F$4<=Fin),ROW(Type))),"")} -> 0 | G16: {=IFERROR(INDEX(ColF,SUMPRODUCT((Noms=$A16)*(G$4>=Debut)*(G$4<=Fin),ROW(Type))),"")} -> 0 | H16: {=IFERROR(INDEX(ColF,SUMPRODUCT((Noms=$A16)*(H$4>=Debut)*(H$4<=Fin),ROW(Type))),"")} -> 0 | I16: {=IFERROR(INDEX(ColF,SUMPRODUCT((Noms=$A16)*(I$4>=Debut)*(I$4<=Fin),ROW(Type))),"")} -> 0 | J16: {=IFERROR(INDEX(ColF,SUMPRODUCT((Noms=$A16)*(J$4>=Debut)*(J$4<=Fin),ROW(Type))),"")} -> 0 | ... AG16: {=IFERROR(INDEX(ColF,SUMPRODUCT((Noms=$A16)*(AG$4>=Debut)*(AG$4<=Fin),ROW(Type))),"")} -> 0
A17: {=IFERROR(INDEX(ColA,MIN(IF(Postes=$L$2,IF(YEAR(Debut)=An,IF((MONTH(Debut)=MONTH(1&$Q$2))+(MONTH(Fin)=MONTH(1&$Q$2)),IF(COUNTIF(A$5:A16,Noms)=0,ROW(Noms))))))),"")} -> 0 | B17: =IF(A17=0,"",VLOOKUP(A17,Listes!B:D,3,0)) | C17: {=IFERROR(INDEX(ColF,SUMPRODUCT((Noms=$A17)*(C$4>=Debut)*(C$4<=Fin),ROW(Type))),"")} -> 0 | D17: {=IFERROR(INDEX(ColF,SUMPRODUCT((Noms=$A17)*(D$4>=Debut)*(D$4<=Fin),ROW(Type))),"")} -> 0 | E17: {=IFERROR(INDEX(ColF,SUMPRODUCT((Noms=$A17)*(E$4>=Debut)*(E$4<=Fin),ROW(Type))),"")} -> 0 | F17: {=IFERROR(INDEX(ColF,SUMPRODUCT((Noms=$A17)*(F$4>=Debut)*(F$4<=Fin),ROW(Type))),"")} -> 0 | G17: {=IFERROR(INDEX(ColF,SUMPRODUCT((Noms=$A17)*(G$4>=Debut)*(G$4<=Fin),ROW(Type))),"")} -> 0 | H17: {=IFERROR(INDEX(ColF,SUMPRODUCT((Noms=$A17)*(H$4>=Debut)*(H$4<=Fin),ROW(Type))),"")} -> 0 | I17: {=IFERROR(INDEX(ColF,SUMPRODUCT((Noms=$A17)*(I$4>=Debut)*(I$4<=Fin),ROW(Type))),"")} -> 0 | J17: {=IFERROR(INDEX(ColF,SUMPRODUCT((Noms=$A17)*(J$4>=Debut)*(J$4<=Fin),ROW(Type))),"")} -> 0 | ... AG17: {=IFERROR(INDEX(ColF,SUMPRODUCT((Noms=$A17)*(AG$4>=Debut)*(AG$4<=Fin),ROW(Type))),"")} -> 0
... A27: {=IFERROR(INDEX(ColA,MIN(IF(Postes=$L$2,IF(YEAR(Debut)=An,IF((MONTH(Debut)=MONTH(1&$Q$2))+(MONTH(Fin)=MONTH(1&$Q$2)),IF(COUNTIF(A$5:A26,Noms)=0,ROW(Noms))))))),"")} -> 0 | B27: =IF(A27=0,"",VLOOKUP(A27,Listes!B:D,3,0)) | C27: {=IFERROR(INDEX(ColF,SUMPRODUCT((Noms=$A27)*(C$4>=Debut)*(C$4<=Fin),ROW(Type))),"")} -> 0 | D27: {=IFERROR(INDEX(ColF,SUMPRODUCT((Noms=$A27)*(D$4>=Debut)*(D$4<=Fin),ROW(Type))),"")} -> 0 | E27: {=IFERROR(INDEX(ColF,SUMPRODUCT((Noms=$A27)*(E$4>=Debut)*(E$4<=Fin),ROW(Type))),"")} -> 0 | F27: {=IFERROR(INDEX(ColF,SUMPRODUCT((Noms=$A27)*(F$4>=Debut)*(F$4<=Fin),ROW(Type))),"")} -> 0 | G27: {=IFERROR(INDEX(ColF,SUMPRODUCT((Noms=$A27)*(G$4>=Debut)*(G$4<=Fin),ROW(Type))),"")} -> 0 | H27: {=IFERROR(INDEX(ColF,SUMPRODUCT((Noms=$A27)*(H$4>=Debut)*(H$4<=Fin),ROW(Type))),"")} -> 0 | I27: {=IFERROR(INDEX(ColF,SUMPRODUCT((Noms=$A27)*(I$4>=Debut)*(I$4<=Fin),ROW(Type))),"")} -> 0 | J27: {=IFERROR(INDEX(ColF,SUMPRODUCT((Noms=$A27)*(J$4>=Debut)*(J$4<=Fin),ROW(Type))),"")} -> 0 | ... AG27: {=IFERROR(INDEX(ColF,SUMPRODUCT((Noms=$A27)*(AG$4>=Debut)*(AG$4<=Fin),ROW(Type))),"")} -> 0

Sheet CONGES
B1: N ==> | C1: =DATE(YEAR(CeJour)-1,6,1) -> 41426 | D1: =EDATE(C1,12)-1 -> 41790 | E1: N-1 ==> | F1: =DATE(YEAR(C1)-1,6,1) -> 41061 | G1: A ceJour => | H1: =TODAY() -> 41772
C2: DROITS | E2: PRIS | F2: Reste
C3: N-1 | D3: N
A4: Christine CHAZAUD | B4: 30 | C4: =B4+(IF(CeJour>$D$1,DATEDIF($F$1,$C$1,"m")*2.5)-SUMPRODUCT((Noms=$A4)*(Fin<=$D$1)*(Type="CP")*Nbre)) -> 30 | D4: =IF(CeJour>$D$1,0,DATEDIF($C$1,CeJour,"m")*2.5) -> 27.5 | E4: =IFERROR(SUMPRODUCT((Noms=A4)*(Debut>=$C$1)*(Fin<=$D$1)*(Type="CP")*Nbre),0) -> 0 | F4: =SUM(C4:D4)-E4 -> 57.5
A5: Aline GOUTEY | B5: 8 | C5: =B5+(IF(CeJour>$D$1,DATEDIF($F$1,$C$1,"m")*2.5)-SUMPRODUCT((Noms=$A5)*(Fin<=$D$1)*(Type="CP")*Nbre)) -> 3 | D5: =IF(CeJour>$D$1,0,DATEDIF($C$1,CeJour,"m")*2.5) -> 27.5 | E5: =IFERROR(SUMPRODUCT((Noms=A5)*(Debut>=$C$1)*(Fin<=$D$1)*(Type="CP")*Nbre),0) -> 5 | F5: =SUM(C5:D5)-E5 -> 25.5
A6: Annabelle VILVERT | B6: 7 | C6: =B6+(IF(CeJour>$D$1,DATEDIF($F$1,$C$1,"m")*2.5)-SUMPRODUCT((Noms=$A6)*(Fin<=$D$1)*(Type="CP")*Nbre)) -> 7 | D6: =IF(CeJour>$D$1,0,DATEDIF($C$1,CeJour,"m")*2.5) -> 27.5 | E6: =IFERROR(SUMPRODUCT((Noms=A6)*(Debut>=$C$1)*(Fin<=$D$1)*(Type="CP")*Nbre),0) -> 0 | F6: =SUM(C6:D6)-E6 -> 34.5
A7: Cindy MARCOUX | B7: 0 | C7: =B7+(IF(CeJour>$D$1,DATEDIF($F$1,$C$1,"m")*2.5)-SUMPRODUCT((Noms=$A7)*(Fin<=$D$1)*(Type="CP")*Nbre)) -> 0 | D7: =IF(CeJour>$D$1,0,DATEDIF($C$1,CeJour,"m")*2.5) -> 27.5 | E7: =IFERROR(SUMPRODUCT((Noms=A7)*(Debut>=$C$1)*(Fin<=$D$1)*(Type="CP")*Nbre),0) -> 0 | F7: =SUM(C7:D7)-E7 -> 27.5
A8: Marie-Do BEGONIN | B8: 1 | C8: =B8+(IF(CeJour>$D$1,DATEDIF($F$1,$C$1,"m")*2.5)-SUMPRODUCT((Noms=$A8)*(Fin<=$D$1)*(Type="CP")*Nbre)) -> 0 | D8: =IF(CeJour>$D$1,0,DATEDIF($C$1,CeJour,"m")*2.5) -> 27.5 | E8: =IFERROR(SUMPRODUCT((Noms=A8)*(Debut>=$C$1)*(Fin<=$D$1)*(Type="CP")*Nbre),0) -> 1 | F8: =SUM(C8:D8)-E8 -> 26.5
A9: Jocelyne FREYCENET | B9: 14.5 | C9: =B9+(IF(CeJour>$D$1,DATEDIF($F$1,$C$1,"m")*2.5)-SUMPRODUCT((Noms=$A9)*(Fin<=$D$1)*(Type="CP")*Nbre)) -> 14.5 | D9: =IF(CeJour>$D$1,0,DATEDIF($C$1,CeJour,"m")*2.5) -> 27.5 | E9: =IFERROR(SUMPRODUCT((Noms=A9)*(Debut>=$C$1)*(Fin<=$D$1)*(Type="CP")*Nbre),0) -> 0 | F9: =SUM(C9:D9)-E9 -> 42
A10: Solange GOUTTEFARDE | B10: 12 | C10: =B10+(IF(CeJour>$D$1,DATEDIF($F$1,$C$1,"m")*2.5)-SUMPRODUCT((Noms=$A10)*(Fin<=$D$1)*(Type="CP")*Nbre)) -> 7 | D10: =IF(CeJour>$D$1,0,DATEDIF($C$1,CeJour,"m")*2.5) -> 27.5 | E10: =IFERROR(SUMPRODUCT((Noms=A10)*(Debut>=$C$1)*(Fin<=$D$1)*(Type="CP")*Nbre),0) -> 5 | F10: =SUM(C10:D10)-E10 -> 29.5
A11: Paola DEL FRANCO | B11: 6.5 | C11: =B11+(IF(CeJour>$D$1,DATEDIF($F$1,$C$1,"m")*2.5)-SUMPRODUCT((Noms=$A11)*(Fin<=$D$1)*(Type="CP")*Nbre)) -> 1.5 | D11: =IF(CeJour>$D$1,0,DATEDIF($C$1,CeJour,"m")*2.5) -> 27.5 | E11: =IFERROR(SUMPRODUCT((Noms=A11)*(Debut>=$C$1)*(Fin<=$D$1)*(Type="CP")*Nbre),0) -> 5 | F11: =SUM(C11:D11)-E11 -> 24
A12: Valérie PALABAUD | B12: 8 | C12: =B12+(IF(CeJour>$D$1,DATEDIF($F$1,$C$1,"m")*2.5)-SUMPRODUCT((Noms=$A12)*(Fin<=$D$1)*(Type="CP")*Nbre)) -> 3 | D12: =IF(CeJour>$D$1,0,DATEDIF($C$1,CeJour,"m")*2.5) -> 27.5 | E12: =IFERROR(SUMPRODUCT((Noms=A12)*(Debut>=$C$1)*(Fin<=$D$1)*(Type="CP")*Nbre),0) -> 5 | F12: =SUM(C12:D12)-E12 -> 25.5
A13: Isabelle MILAN | B13: -6 | C13: =B13+(IF(CeJour>$D$1,DATEDIF($F$1,$C$1,"m")*2.5)-SUMPRODUCT((Noms=$A13)*(Fin<=$D$1)*(Type="CP")*Nbre)) -> -11 | D13: =IF(CeJour>$D$1,0,DATEDIF($C$1,CeJour,"m")*2.5) -> 27.5 | E13: =IFERROR(SUMPRODUCT((Noms=A13)*(Debut>=$C$1)*(Fin<=$D$1)*(Type="CP")*Nbre),0) -> 5 | F13: =SUM(C13:D13)-E13 -> 11.5
A14: Géraldine VILLARD | B14: 0 | C14: =B14+(IF(CeJour>$D$1,DATEDIF($F$1,$C$1,"m")*2.5)-SUMPRODUCT((Noms=$A14)*(Fin<=$D$1)*(Type="CP")*Nbre)) -> 0 | D14: =IF(CeJour>$D$1,0,DATEDIF($C$1,CeJour,"m")*2.5) -> 27.5 | E14: =IFERROR(SUMPRODUCT((Noms=A14)*(Debut>=$C$1)*(Fin<=$D$1)*(Type="CP")*Nbre),0) -> 0 | F14: =SUM(C14:D14)-E14 -> 27.5
A15: Florent GIRAUD | B15: 7 | C15: =B15+(IF(CeJour>$D$1,DATEDIF($F$1,$C$1,"m")*2.5)-SUMPRODUCT((Noms=$A15)*(Fin<=$D$1)*(Type="CP")*Nbre)) -> 2 | D15: =IF(CeJour>$D$1,0,DATEDIF($C$1,CeJour,"m")*2.5) -> 27.5 | E15: =IFERROR(SUMPRODUCT((Noms=A15)*(Debut>=$C$1)*(Fin<=$D$1)*(Type="CP")*Nbre),0) -> 5 | F15: =SUM(C15:D15)-E15 -> 24.5
A16: . | C16: =B16+(IF(CeJour>$D$1,DATEDIF($F$1,$C$1,"m")*2.5)-SUMPRODUCT((Noms=$A16)*(Fin<=$D$1)*(Type="CP")*Nbre)) -> 0 | D16: =IF(CeJour>$D$1,0,DATEDIF($C$1,CeJour,"m")*2.5) -> 27.5 | E16: =IFERROR(SUMPRODUCT((Noms=A16)*(Debut>=$C$1)*(Fin<=$D$1)*(Type="CP")*Nbre),0) -> 0 | F16: =SUM(C16:D16)-E16 -> 27.5
A17: Dylan MOULIN | B17: 8 | C17: =B17+(IF(CeJour>$D$1,DATEDIF($F$1,$C$1,"m")*2.5)-SUMPRODUCT((Noms=$A17)*(Fin<=$D$1)*(Type="CP")*Nbre)) -> 8 | D17: =IF(CeJour>$D$1,0,DATEDIF($C$1,CeJour,"m")*2.5) -> 27.5 | E17: =IFERROR(SUMPRODUCT((Noms=A17)*(Debut>=$C$1)*(Fin<=$D$1)*(Type="CP")*Nbre),0) -> 0 | F17: =SUM(C17:D17)-E17 -> 35.5
A18: Christophe LECAPLIN | B18: -7 | C18: =B18+(IF(CeJour>$D$1,DATEDIF($F$1,$C$1,"m")*2.5)-SUMPRODUCT((Noms=$A18)*(Fin<=$D$1)*(Type="CP")*Nbre)) -> -7 | D18: =IF(CeJour>$D$1,0,DATEDIF($C$1,CeJour,"m")*2.5) -> 27.5 | E18: =IFERROR(SUMPRODUCT((Noms=A18)*(Debut>=$C$1)*(Fin<=$D$1)*(Type="CP")*Nbre),0) -> 0 | F18: =SUM(C18:D18)-E18 -> 20.5
A19: Marvin DA SILVA | B19: 13 | C19: =B19+(IF(CeJour>$D$1,DATEDIF($F$1,$C$1,"m")*2.5)-SUMPRODUCT((Noms=$A19)*(Fin<=$D$1)*(Type="CP")*Nbre)) -> 13 | D19: =IF(CeJour>$D$1,0,DATEDIF($C$1,CeJour,"m")*2.5) -> 27.5 | E19: =IFERROR(SUMPRODUCT((Noms=A19)*(Debut>=$C$1)*(Fin<=$D$1)*(Type="CP")*Nbre),0) -> 0 | F19: =SUM(C19:D19)-E19 -> 40.5
A20: Estelle BETTINGER | B20: -12 | C20: =B20+(IF(CeJour>$D$1,DATEDIF($F$1,$C$1,"m")*2.5)-SUMPRODUCT((Noms=$A20)*(Fin<=$D$1)*(Type="CP")*Nbre)) -> -12 | D20: =IF(CeJour>$D$1,0,DATEDIF($C$1,CeJour,"m")*2.5) -> 27.5 | E20: =IFERROR(SUMPRODUCT((Noms=A20)*(Debut>=$C$1)*(Fin<=$D$1)*(Type="CP")*Nbre),0) -> 0 | F20: =SUM(C20:D20)-E20 -> 15.5
A21: Vincent OUILLON | B21: 0 | C21: =B21+(IF(CeJour>$D$1,DATEDIF($F$1,$C$1,"m")*2.5)-SUMPRODUCT((Noms=$A21)*(Fin<=$D$1)*(Type="CP")*Nbre)) -> 0 | D21: =IF(CeJour>$D$1,0,DATEDIF($C$1,CeJour,"m")*2.5) -> 27.5 | E21: =IFERROR(SUMPRODUCT((Noms=A21)*(Debut>=$C$1)*(Fin<=$D$1)*(Type="CP")*Nbre),0) -> 0 | F21: =SUM(C21:D21)-E21 -> 27.5
A22: Greg GUERPILLON | B22: 18 | C22: =B22+(IF(CeJour>$D$1,DATEDIF($F$1,$C$1,"m")*2.5)-SUMPRODUCT((Noms=$A22)*(Fin<=$D$1)*(Type="CP")*Nbre)) -> 13 | D22: =IF(CeJour>$D$1,0,DATEDIF($C$1,CeJour,"m")*2.5) -> 27.5 | E22: =IFERROR(SUMPRODUCT((Noms=A22)*(Debut>=$C$1)*(Fin<=$D$1)*(Type="CP")*Nbre),0) -> 5 | F22: =SUM(C22:D22)-E22 -> 35.5
A23: Philippe DUCREUX | B23: 16 | C23: =B23+(IF(CeJour>$D$1,DATEDIF($F$1,$C$1,"m")*2.5)-SUMPRODUCT((Noms=$A23)*(Fin<=$D$1)*(Type="CP")*Nbre)) -> 16 | D23: =IF(CeJour>$D$1,0,DATEDIF($C$1,CeJour,"m")*2.5) -> 27.5 | E23: =IFERROR(SUMPRODUCT((Noms=A23)*(Debut>=$C$1)*(Fin<=$D$1)*(Type="CP")*Nbre),0) -> 0 | F23: =SUM(C23:D23)-E23 -> 43.5
A24: Rémi RASCLE | B24: 14 | C24: =B24+(IF(CeJour>$D$1,DATEDIF($F$1,$C$1,"m")*2.5)-SUMPRODUCT((Noms=$A24)*(Fin<=$D$1)*(Type="CP")*Nbre)) -> 14 | D24: =IF(CeJour>$D$1,0,DATEDIF($C$1,CeJour,"m")*2.5) -> 27.5 | E24: =IFERROR(SUMPRODUCT((Noms=A24)*(Debut>=$C$1)*(Fin<=$D$1)*(Type="CP")*Nbre),0) -> 0 | F24: =SUM(C24:D24)-E24 -> 41.5
A25: Geoffrey MAQUET | B25: 8 | C25: =B25+(IF(CeJour>$D$1,DATEDIF($F$1,$C$1,"m")*2.5)-SUMPRODUCT((Noms=$A25)*(Fin<=$D$1)*(Type="CP")*Nbre)) -> 3 | D25: =IF(CeJour>$D$1,0,DATEDIF($C$1,CeJour,"m")*2.5) -> 27.5 | E25: =IFERROR(SUMPRODUCT((Noms=A25)*(Debut>=$C$1)*(Fin<=$D$1)*(Type="CP")*Nbre),0) -> 5 | F25: =SUM(C25:D25)-E25 -> 25.5
A26: Francis DEVAUX | B26: 6.5 | C26: =B26+(IF(CeJour>$D$1,DATEDIF($F$1,$C$1,"m")*2.5)-SUMPRODUCT((Noms=$A26)*(Fin<=$D$1)*(Type="CP")*Nbre)) -> 1.5 | D26: =IF(CeJour>$D$1,0,DATEDIF($C$1,CeJour,"m")*2.5) -> 27.5 | E26: =IFERROR(SUMPRODUCT((Noms=A26)*(Debut>=$C$1)*(Fin<=$D$1)*(Type="CP")*Nbre),0) -> 5 | F26: =SUM(C26:D26)-E26 -> 24
A27: Jordy TISSOT | B27: -9 | C27: =B27+(IF(CeJour>$D$1,DATEDIF($F$1,$C$1,"m")*2.5)-SUMPRODUCT((Noms=$A27)*(Fin<=$D$1)*(Type="CP")*Nbre)) -> -9 | D27: =IF(CeJour>$D$1,0,DATEDIF($C$1,CeJour,"m")*2.5) -> 27.5 | E27: =IFERROR(SUMPRODUCT((Noms=A27)*(Debut>=$C$1)*(Fin<=$D$1)*(Type="CP")*Nbre),0) -> 0 | F27: =SUM(C27:D27)-E27 -> 18.5
A28: NOALLY Geoffroy | B28: 17.5 | C28: =B28+(IF(CeJour>$D$1,DATEDIF($F$1,$C$1,"m")*2.5)-SUMPRODUCT((Noms=$A28)*(Fin<=$D$1)*(Type="CP")*Nbre)) -> 17.5 | D28: =IF(CeJour>$D$1,0,DATEDIF($C$1,CeJour,"m")*2.5) -> 27.5 | E28: =IFERROR(SUMPRODUCT((Noms=A28)*(Debut>=$C$1)*(Fin<=$D$1)*(Type="CP")*Nbre),0) -> 0 | F28: =SUM(C28:D28)-E28 -> 45
... A34: Maiëté DARNER | B34: -7 | C34: =B34+(IF(CeJour>$D$1,DATEDIF($F$1,$C$1,"m")*2.5)-SUMPRODUCT((Noms=$A34)*(Fin<=$D$1)*(Type="CP")*Nbre)) -> -7 | D34: =IF(CeJour>$D$1,0,DATEDIF($C$1,CeJour,"m")*2.5) -> 27.5 | E34: =IFERROR(SUMPRODUCT((Noms=A34)*(Debut>=$C$1)*(Fin<=$D$1)*(Type="CP")*Nbre),0) -> 0 | F34: =SUM(C34:D34)-E34 -> 20.5

Sheet Listes
B1: NOMS | C1: Poste | D1: Lieux | G1: Poste | L1: Types abs. | O1: Années | R1: Mois | U1: FERIES
B2: Christine CHAZAUD | C2: Vendeuse | D2: MONTBRISON | G2: Boulanger | L2: CP | O2: 2014 | R2: Janvier | U2: =DATE(An,1,1) -> 41640 | V2: Premier de l'an
B3: Aline GOUTEY | C3: Vendeuse | D3: MONTBRISON | G3: Chocolatier | L3: MAL | O3: 2015 | R3: Février | U3: =DATE(An,3,29.56+0.979*MOD(204-11*MOD(An,19),30)-WEEKDAY(DATE(An,3,28.56+0.979*MOD(204-11*MOD(An,19),30)))) -> 41749 | V3: Pâques
B4: Annabelle VILVERT | C4: Vendeuse | D4: MONTBRISON | G4: Glacier | L4: EP | O4: 2016 | R4: Mars | U4: =U3+1 -> 41750 | V4: Lundi de Pâques
B5: Cindy MARCOUX | C5: Vendeuse | D5: MONTBRISON | G5: Pâtissier | L5: 1/2 | O5: 2017 | R5: Avril | U5: =DATE(An,5,1) -> 41760 | V5: Fête du travail
B6: Marie-Do BEGONIN | C6: Vendeuse | D6: AU PAIN PERDU | G6: Traiteur | L6: CFA | O6: 2018 | R6: Mai | U6: =DATE(An,5,8) -> 41767 | V6: Victoire 1945
B7: Freycenet Jocelyne | C7: Vendeuse | D7: AU PAIN PERDU | G7: Vendeuse | L7: RECUP | O7: 2019 | R7: Juin | U7: =U3+39 -> 41788 | V7: Ascension
B8: Solange GOUTTEFARDE | C8: Vendeuse | D8: AU PAIN PERDU | O8: 2020 | R8: Juillet | U8: =U3+49 -> 41798 | V8: Pentecôte
B9: Paola DEL FRANCO | C9: Vendeuse | D9: MONTROND LES BAINS | R9: Août | U9: =U8+1 -> 41799 | V9: Lundi de Pentecôte
B10: Valérie PALABAUD | C10: Vendeuse | D10: MONTROND LES BAINS | R10: Septembre | U10: =DATE(An,7,14) -> 41834 | V10: Fête nat.
B11: Isabelle MILAN | C11: Vendeuse | D11: SAINTE-FOY | R11: Octobre | U11: =DATE(An,8,15) -> 41866 | V11: Assomption
B12: Géraldine VILLARD | C12: Vendeuse | D12: SAINTE-FOY | R12: Novembre | U12: =DATE(An,11,1) -> 41944 | V12: Toussaint
B13: Florent GIRAUD | C13: Chocolatier | D13: MONTBRISON | R13: Décembre | U13: =DATE(An,11,11) -> 41954 | V13: Armistice
B14: . | C14: Chocolatier | D14: MONTBRISON | U14: =DATE(An,12,25) -> 41998 | V14: Noël
B15: Dylan MOULIN | C15: Boulanger | D15: AU PAIN PERDU
B16: Christophe LECAPLIN | C16: Boulanger | D16: AU PAIN PERDU
B17: Marvin DASILVA | C17: Boulanger | D17: AU PAIN PERDU
B18: Estelle BETTINGER | C18: Boulanger | D18: AU PAIN PERDU
B19: Vincent OUILLON | C19: Glacier | D19: SAINT-BARTH
B20: Greg GUERPILLON | C20: Pâtissier | D20: SAINT-BARTH
B21: Philippe DUCREUX | C21: Pâtissier | D21: SAINT-BARTH
B22: Rémi RASCLE | C22: Pâtissier | D22: SAINT-BARTH
B23: Geoffrey MAQUET | C23: Pâtissier | D23: SAINT-BARTH
B24: Francis DEVAUX | C24: Pâtissier | D24: SAINT-BARTH
B25: Jordy TISSOT | C25: Pâtissier | D25: SAINT-BARTH
B26: NOALLY Geoffroy | C26: Pâtissier | D26: SAINT-BARTH
... B32: Maiëté DARNER | C32: Traiteur | D32: SAINT-BARTH
