Workbook

Sheet Code de couleur
F3: Tache à réaliser
F4: TRX Réalisés
F5: Fait Par AEE
F6: Retour Cde Signée // Chantier Chuté // A reprogrammer // Point d'arrêt à lever
F7: Attente Validation Responsable
F8: Attente Reglement Devis
F9: Attente Ouverture Fouille + Photos
B11: Portefeuille total | O11: NEUTRE | P11: RIEN DE SPECIAL
B12: =SUM('RECAP DOSSIER'!Q2:Q486) -> 1 | F12: Date Identification validée
F13: Date Montage validée
B14: ATT REGLEMENT DEVIS
B15: =B12-SUM('RECAP DOSSIER'!S2:S486) -> 0
B16: Réalisés
B17: =COUNTA('Suivi Chantier'!AD2:AD391) -> 0
B19: En cours de programmation
B20: ='Suivi Chantier'!AO5-B17 -> 0
B22: Chantiers Restants à réaliser
B23: =B15+B20+'Suivi Chantier'!AQ3 -> 0

Sheet OCT 2015 
A1: Numéro Mobilier | B1: Numéro d'affaire | C1: Adresse | D1: ARRT | E1: AEE | F1: Objet | G1: TRX PREVUS | H1: Semaine | I1: N° DEVET | J1: Date Montage DATE IEP | K1: Heure TRX | L1: Identification | M1: AMEO PMEO DATE IEP | N1: TRX FAIT LE | O1: Montage | P1: N° BST | Q1: Interlocuteur EVESA | R1: Observations

Sheet NOV 2015
A1: Numéro Mobilier | B1: Numéro d'affaire | C1: Adresse | D1: ARRT | E1: AEE | F1: Objet | G1: TRX PREVUS | H1: Semaine | I1: N° DEVET | J1: Date Montage DATE IEP | K1: Heure TRX | L1: Identification | M1: AMEO PMEO DATE IEP | N1: TRX FAIT LE | O1: Montage | P1: TYPE TRX | Q1: Interlocuteur EVESA | R1: Observations
B2: AC21/062195 | C2: 4 place Saint Gervais | D2: 75004 | E2: Saint Maur | F2: RACCORDEMENT BORNE DE RECHARGE | G2: Faire un MD pour le raccordement de la borne de recharge elec pris sur le départ 14S du PDP 75104P0168IM au 13/15 rue Verrerie. | H2: S45 | I2: StMaur-5911 BEX-6240 | J2: 42311 | K2: 08h30 | L2: 42300 | M2: NON | N2: 42311 | O2: IRDE | Q2: M.RAOULT 0614678921 | R2: BEX-6106 annulé //Travaux à prévoir le 03/11
B3: AC21/062069 | C3: AV DUTUIT | D3: 75008 | E3: Puteaux | F3: RACCORDEMENT BORNE DE RECHARGE | G3: MD sur le départ 7 du PDP 75108P0597EN au 10 Champs Elysées | H3: S45 | I3: Puteaux-5961 | J3: 42311 | K3: 08h30 | L3: 42305 | M3: A FAIRE | N3: 42311 | O3: AEE | Q3: M.RAOULT 0614678921
B4: AC21/062084 | C4: 4 PLACE ARMAND CARREL | D4: 75019 | E4: Saint Maur | F4: RACCORDEMENT BORNE DE RECHARGE | G4: Création branchement sur le départ 8 du PDP 75119P0004IM au 8 rue ARMAND CARREL | H4: S45 | I4: StMaur-5965 BEX-6202 | J4: 42311 | K4: 08h30 | L4: 42310 | M4: NON | N4: 42311 | O4: IRDE | Q4: M.RAOULT 0614678921
B5: AC21/062840 | C5: 77 AV DE LA GRANDE ARMEE | D5: 75016 | E5: Grenelle | F5: RACCORDEMENT BORNE DE RECHARGE | G5: Faire une création borne de recharge elec prise sur le départ 1 du PDP 75116P0089EN au 67 AV Grde Armée. | H5: S44 | I5: Grenelle-6037 | J5: 42327 | K5: 08h30 | N5: 42327 | O5: AEE | R5: Mail envoyé pour modification de date le 15/10 /// nouvelle date prévue le 19 Novembre
B6: AC21/062866 | C6: 45 AVENUE VICTOR HUGO | D6: 75016 | E6: Grenelle | F6: RACCORDEMENT BORNE DE RECHARGE | G6: Création branchement Borne de recharge Elect sur le départ 15S du poste 49 AV VICTOR HUGO 75116P0016 | H6: S45 | I6: Grenelle-6195 BEX-6796 | J6: 42331 | K6: 08h30 | L6: 42331 | N6: 42331 | O6: IRDE | Q6: M.RAOULT 0614678921 | R6: Fait par TVEE le 23 Nov
B7: AC21/062070 | C7: AV DUTUIT | D7: 75008 | E7: Puteaux | F7: RACCORDEMENT BORNE DE RECHARGE | G7: MD sur le départ 7 du PDP 75108P0597EN au 10 Champs Elysées | H7: S45 | I7: Puteaux-5962 | O7: AEE | Q7: M.RAOULT 0614678921
B8: AC21/062199 | C8: 137 RUE LAFAYETTE | D8: 75010 | E8: Puteaux | F8: RACCORDEMENT BORNE DE RECHARGE | G8: Création branchement Borne de recharge Elect sur le départ 10S du PDP 75110EN au 148 rue La Fayette | H8: S51 | I8: Puteaux-6022 | K8: 13h30 | L8: 42317 | O8: AEE | Q8: M.RAOULT 0614678921
Q9: M.RAOULT 0614678921
Q10: M.RAOULT 0614678921
Q11: M.RAOULT 0614678921
Q12: M.RAOULT 0614678921
Q13: M.RAOULT 0614678921

Sheet RECAP DOSSIER
B1: NUMERO CAMERA | C1: Numéro d'affaire | D1: Adresse | E1: ARRT | F1: Réception demande | G1: Date RACCORDEMENT souhaitée | H1: Devis Envoyé le | I1: Devis payé | J1: Semaine Trx | K1: DATE RACCORDEMENT BRVE | L1: Heure Trx | M1: TRX Réalisés | N1: Interlocuteur EVESA | Q1: Compteur nbre de chantier | S1: Devis Réalisés | T1: SOMME Devis Réalisés
B2: 07-089 | C2: AC21/065905 | D2: Av Charles Risler / Allée Pierre Loti | E2: 75007 | F2: 42452 | G2: 42488 | H2: 42458 | I2: NON | N2: xx | Q2: =IF(ISNUMBER(E2),1,"") -> 1 | S2: =IF(ISNUMBER(H2),1,"") -> 1
B3: 07-090 | C3: AC21/065450 | Q3: =IF(ISNUMBER(E3),1,"") | S3: =IF(ISNUMBER(H3),1,"")
Q4: =IF(ISNUMBER(E4),1,"") | S4: =IF(ISNUMBER(H4),1,"")
Q5: =IF(ISNUMBER(E5),1,"") | S5: =IF(ISNUMBER(H5),1,"")
Q6: =IF(ISNUMBER(E6),1,"") | S6: =IF(ISNUMBER(H6),1,"")
Q7: =IF(ISNUMBER(E7),1,"") | S7: =IF(ISNUMBER(H7),1,"")
Q8: =IF(ISNUMBER(E8),1,"") | S8: =IF(ISNUMBER(H8),1,"")
Q9: =IF(ISNUMBER(E9),1,"") | S9: =IF(ISNUMBER(H9),1,"")
Q10: =IF(ISNUMBER(E10),1,"") | S10: =IF(ISNUMBER(H10),1,"")
Q11: =IF(ISNUMBER(E11),1,"") | S11: =IF(ISNUMBER(H11),1,"")
Q12: =IF(ISNUMBER(E12),1,"") | S12: =IF(ISNUMBER(H12),1,"")
Q13: =IF(ISNUMBER(E13),1,"") | S13: =IF(ISNUMBER(H13),1,"")
Q14: =IF(ISNUMBER(E14),1,"") | S14: =IF(ISNUMBER(H14),1,"")
Q15: =IF(ISNUMBER(E15),1,"") | S15: =IF(ISNUMBER(H15),1,"")
... Q60: =IF(ISNUMBER(E60),1,"") | S60: =IF(ISNUMBER(H60),1,"")
S61: =IF(ISNUMBER(H61),1,"")

Sheet Suivi Chantier
B1: Numéro Mobilier | C1: Numéro d'affaire | D1: Adresse | E1: ARRT | F1: DEVIS PAYE | G1: Objet | H1: TRX PREVUS | I1: Semaine Trx | J1: N° DEVET | K1: Date Montage DATE IEP | L1: Heure TRX | M1: Identification | N1: Réception Photo de fouille le | O1: AMEO ? PMEO ? DATE IEP | P1: TRX FAIT LE | Q1: Montage | R1: TYPE TRX | S1: Interlocuteur EVESA | T1: Observations | U1: Cde Entreprise APRES VAL DEVET | V1: Cde Matériel APRES VAL DEVET | W1: N° Cdes MATERIEL ENTREPRISE | X1: Retour Cde Val/Signée | Y1: COURRIER: CLT + ENT + IEP | Z1: PMEO fait? + DATE IEP | AA1: Ouverture Fouille | AB1: Photo Fouille + PLAN Deroulage | AC1: Envoie Plan au Bex + ATT TRX | AD1: DATE IEP FACTURE FIN TRX | AE1: AAT DATE IEP | AF1: IEP + Plan Recolement LE | AG1: Carto Le | AH1: RELEVE CONTRADICTOIRE | AI1: FSS | AJ1: Rangement DOSSIER | AK1: A ARCHIVER | AM1: Portefeuille total | AO1: Nombre de cellules ne contenant pas la chaîne « point d'arret » en f | AQ1: Nombre de cellules contenant la chaîne « point d'arret » en f
B2: 07-089 | C2: AC21/065905 | D2: Av Charles Risler / Allée Pierre Loti | E2: 75007 | F2: NON | G2: suppression BRVE | H2: suppression BRVE | AM2: =IF(ISNUMBER(E2),1,"") -> 1
B3: 07-090 | C3: AC21/065450 | AM3: =IF(ISNUMBER(E3),1,"") | AO3: (NBVAL((F2:F500))-(NB.SI(F2:F500;"POINT D'ARRET"))) | AQ3: =COUNTIF(U:U,"POINT D'ARRET") -> 0
AM4: =IF(ISNUMBER(E4),1,"") | AO4: Dossiers en bonne voie
AM5: =IF(ISNUMBER(E5),1,"") | AO5: =COUNTA(U2:U391)-AQ3 -> 0
AM6: =IF(ISNUMBER(E6),1,"")
AM7: =IF(ISNUMBER(E7),1,"") | AO7: SI($A1="oui";CHOISIR(COLONNE(B1)-1;"A FAIRE");"")
AM8: =IF(ISNUMBER(E8),1,"")
AM9: =IF(ISNUMBER(E9),1,"") | AO9: SI(OU(A1="x";A2="non");"";SI(A1<>B1;"Interdit";"Autorisé"))
AM10: =IF(ISNUMBER(E10),1,"")
AM11: =IF(ISNUMBER(E11),1,"") | AO11: SI((A1="x");"";SI(A1<>B1;"Interdit";"Autorisé"))
AM12: =IF(ISNUMBER(E12),1,"")
AM13: =IF(ISNUMBER(E13),1,"") | AO13: $H$4>0 | AP13: $F$4:$G$4
AM14: =IF(ISNUMBER(E14),1,"") | AO14: $E$4="oui" | AP14: $F$4:$G$4
AM15: =IF(ISNUMBER(E15),1,"")
AM16: =IF(ISNUMBER(E16),1,"")
AM17: =IF(ISNUMBER(E17),1,"")
AM18: =IF(ISNUMBER(E18),1,"")
AM19: =IF(ISNUMBER(E19),1,"")
AM20: =IF(ISNUMBER(E20),1,"")
AM21: =IF(ISNUMBER(E21),1,"")
AM22: =IF(ISNUMBER(E22),1,"")
AM23: =IF(ISNUMBER(E23),1,"")
AM24: =IF(ISNUMBER(E24),1,"")
AM25: =IF(ISNUMBER(E25),1,"")
AM26: =IF(ISNUMBER(E26),1,"")
... AM40: =IF(ISNUMBER(E40),1,"")
