Workbook

Sheet Code de couleur
F3: Tache à réaliser
F4: TRX Réalisés
F5: Fait Par AEE
F6: Retour Cde Signée // Chantier Chuté // A reprogrammer // Point d'arrêt à lever
F7: Attente Validation Responsable
F8: Attente Reglement Devis
F9: Attente Ouverture Fouille + Photos
B11: Portefeuille total | O11: NEUTRE
B12: =SUM('Chantiers en Attente Programmat'!S2:S111)+ SUM('Suivi Chantier EVESA en cours'!X2:X173) -> 113 | F12: Date Identification validée
F13: Date Montage validée
B14: ATT REGLEMENT DEVIS | G14: FONCTIONNEMENT DU TABLEAU
B15: =SUM('Chantiers en Attente Programmat'!S2:S111) -> 75 | E15: 1 | F15: Une fois le devis payé dans "Chantiers en Attente Programmat", l'affaire est programmée pour réalisation dans l'un des mois en cours.
E16: 2 | F16: l'affaire est ensuite transférée dans "Suivi Chantier EVESA en cours" pour suivre les différentes étapes avant d'etre archivée.
B17: Chantiers Réalisés | E17: 3 | F17: Une fois l'affaire transférée dans "Suivi Chantier EVESA en cours", elle est supprimée de"Chantiers en Attente Programmat".
B18: =COUNTA('Suivi Chantier EVESA en cours'!O2:O173) -> 44
B20: En cours de programmation
B21: ='Suivi Chantier EVESA en cours'!AD5-'Suivi Chantier EVESA en cours'!AF2-B18 -> 19
B23: Chantiers Restants à réaliser
B24: =B15+B21+'Suivi Chantier EVESA en cours'!AF2 -> 95

Sheet Dossiers annulés
A1: Numéro d'affaire | B1: Adresse | C1: ARRT | D1: Création PDL | E1: E PLAN | F1: ENV COURRIERS + DEVIS DATE IEP | G1: DEVIS PAYE | H1: Rangement DOSSIER | I1: Numéro Archive | J1: Observations | K1: En cours de programmation
A2: AC21/057241 | B2: 144 boulevard Exelmans | C2: 75016 | D2: Pas nécessaire | E2: A FAIRE | F2: NON | G2: OUI | H2: ARCHIVE | I2: =IF(G2="OUI","Oui","") -> Oui | J2: DOSSIER EN ATT D'ARCHIVAGE | K2: ANNULLATION TRX
A3: AC21/057165 | B3: 78 Bis avenue Henri Martin | C3: 75016 | D3: Pas nécessaire | E3: Pas nécessaire | F3: OUI | G3: S46 | H3: ARCHIVE | I3: =IF(G3="OUI","Oui","") | J3: DOSSIER EN ATT D'ARCHIVAGE | K3: ANNULLATION TRX
A4: AC21/057137 | B4: 130 avenue Daumesnil | C4: 75012 | D4: Pas nécessaire | E4: Pas nécessaire | F4: OUI | G4: S46 | H4: ARCHIVE | I4: =IF(G4="OUI","Oui","") | J4: DOSSIER EN ATT D'ARCHIVAGE | K4: ANNULLATION TRX
A5: AC21/057096 | B5: 1 avenue de la Porte Des Lilas | C5: 75019 | D5: Pas nécessaire | E5: Pas nécessaire | F5: OUI | G5: OUI | H5: ARCHIVE | I5: =IF(G5="OUI","Oui","") -> Oui | J5: DOSSIER EN ATT D'ARCHIVAGE | K5: ANNULLATION TRX
A6: AC21/057091 | B6: 55 boulevard Voltaire | C6: 75011 | D6: Pas nécessaire | E6: Pas nécessaire | F6: OUI | G6: NON | H6: ARCHIVE | I6: =IF(G6="OUI","Oui","") | J6: DOSSIER EN ATT D'ARCHIVAGE | K6: ANNULLATION TRX
A7: AC21/057090 | B7: 26 rue Soufflot | C7: 75005 | D7: Pas nécessaire | E7: Pas nécessaire | F7: OUI | G7: OUI | H7: ARCHIVE | I7: =IF(G7="OUI","Oui","") -> Oui | J7: DOSSIER EN ATT D'ARCHIVAGE | K7: ANNULLATION TRX
B8: 34 avenue de la Porte De Choisy | C8: 75013 | D8: Pas nécessaire | E8: Pas nécessaire | F8: OUI | G8: OUI | H8: ARCHIVE | I8: =IF(G8="OUI","Oui","") -> Oui | J8: DOSSIER EN ATT D'ARCHIVAGE | K8: ANNULLATION TRX | M8: 42355
A9: AC21/057087 | B9: 4 boulevard Haussmann | C9: 75009 | D9: Pas nécessaire | E9: Pas nécessaire | F9: OUI | G9: OUI | H9: StMaur-7351 BEX-7497 Puteaux-7538 | I9: =IF(G9="OUI","Oui","") -> Oui | J9: DOSSIER EN ATT D'ARCHIVAGE | K9: ANNULLATION TRX | Q9: SI DTE Puteaux-7538 VALIDEE, ANNULER StMaur-7351 BEX-7497
A10: AC21/057081 | B10: place de l' Abbe Georges Henocque | C10: 75013 | D10: Pas nécessaire | E10: Pas nécessaire | F10: OUI | G10: OUI | H10: ARCHIVE | I10: =IF(G10="OUI","Oui","") -> Oui | J10: DOSSIER EN ATT D'ARCHIVAGE | K10: ANNULLATION TRX
A11: AC21/057073 | B11: 12 rue Pirogues De Bercy | C11: 75012 | D11: Pas nécessaire | E11: Pas nécessaire | F11: OUI | G11: OUI | H11: Puteaux-7128 Puteaux 7130 | I11: 42015 | J11: DOSSIER EN ATT D'ARCHIVAGE | K11: ANNULLATION TRX
A12: AC21/061338 | B12: 1 avenue georges V | C12: 75008 | D12: Pas nécessaire | E12: Pas nécessaire | F12: OUI | G12: OUI | H12: ARCHIVE | I12: 42015 | J12: DOSSIER EN ATT D'ARCHIVAGE | K12: ANNULLATION TRX
A13: AC21/057070 | B13: 4 place de la Bastille | C13: 75012 | D13: Pas nécessaire | E13: Pas nécessaire | G13: OUI | H13: Puteaux 7133 | I13: =IF(G13="OUI","Oui","") -> Oui | J13: DOSSIER EN ATT D'ARCHIVAGE | K13: ANNULLATION TRX
I14: 42033 | K14: 42396
A15: AC21/057097.
A19: AC21/063319 | F19: Création de branchement pour alimentation armoire SLT sur le départ 15S du PDP 75109P0105 EN au 6 rue FG MONTMARTRE. | G19: S02 | H19: Puteaux-7540 Puteaux-7539
H36: 5530291947 6004749238
B48: AC21/062250
B59: AC21/057086

Sheet Chantiers en Attente Programmat
B1: Numéro d'affaire | C1: Adresse | D1: ARRT | E1: AEE | F1: Création PDL | G1: E PLAN | H1: ENV COURRIERS + DEVIS DATE IEP | I1: DEVIS PAYE | J1: Rangement DOSSIER | K1: Priorité | L1: Observations | M1: En cours de programmation | S1: COMPTEUR par cellule
B2: AC21/060185 | C2: rue du Docteur Roux | D2: 75015 | F2: En Cours | G2: Pas nécessaire | H2: OUI | I2: OUI | J2: EN ATT PLANNIFICATION | K2: =IF(I2="OUI","Oui","") -> Oui | L2: A programmer urgent, | S2: =IF(ISNUMBER(D2),1,"") -> 1
B3: AC21/057806 | C3: 21 rue de l' Ourcq | D3: 75019 | F3: OUI | G3: S46 | H3: OUI | I3: OUI | J3: RECEPTIONNER LES TRX | K3: =IF(I3="OUI","Oui","") -> Oui | L3: vérifier si tous les trx sont réalisés | S3: =IF(ISNUMBER(D3),1,"") -> 1
B4: AC21/055673 | C4: rue d' Alesia | D4: 75014 | F4: OUI | G4: S46 | H4: OUI | I4: OUI | J4: EN ATT PLANNIFICATION | K4: =IF(I4="OUI","Oui","") -> Oui | S4: =IF(ISNUMBER(D4),1,"") -> 1
B5: AC21/059199 | C5: 102 rue Rambuteau | D5: 75001 | F5: Pas nécessaire | G5: A FAIRE | H5: OUI | I5: OUI | K5: =IF(I5="OUI","Oui","") -> Oui | S5: =IF(ISNUMBER(D5),1,"") -> 1
B6: AC21/059201 | C6: 1/10/16 rue Pierre Lescot | D6: 75001 | F6: Pas nécessaire | G6: A FAIRE | H6: OUI | I6: OUI | K6: =IF(I6="OUI","Oui","") -> Oui | S6: =IF(ISNUMBER(D6),1,"") -> 1
B7: AC21/060978 | C7: 9 rue Pierre Lescot | D7: 75001 | F7: Pas nécessaire | G7: A FAIRE | H7: OUI | I7: OUI | K7: =IF(I7="OUI","Oui","") -> Oui | S7: =IF(ISNUMBER(D7),1,"") -> 1
B8: AC21/062251 | C8: 13 AV PERE LACHAISE | D8: 75020 | F8: Pas nécessaire | G8: A FAIRE | H8: OUI | I8: OUI | J8: ATTENTE REGLEMENT | K8: =IF(I8="OUI","Oui","") -> Oui | M8: 42355 | S8: =IF(ISNUMBER(D8),1,"") -> 1
B9: AC21/062253 | C9: 31 BD CLICHY | D9: 75009 | F9: Pas nécessaire | G9: A FAIRE | H9: StMaur-7351 BEX-7497 Puteaux-7538 | I9: OUI | J9: ATTENTE REGLEMENT | K9: =IF(I9="OUI","Oui","") -> Oui | Q9: SI DTE Puteaux-7538 VALIDEE, ANNULER StMaur-7351 BEX-7497 | S9: =IF(ISNUMBER(D9),1,"") -> 1
A10: AC21/061338 | B10: AC21/062217 | C10: 94 RUE SAINT MAUR | D10: 75011 | F10: Pas nécessaire | G10: A FAIRE | H10: OUI | I10: OUI | J10: ATTENTE REGLEMENT | K10: =IF(I10="OUI","Oui","") -> Oui | S10: =IF(ISNUMBER(D10),1,"") -> 1
B11: AC21/062252 | C11: 20 AV SEGUR | D11: 75007 | G11: A FAIRE | H11: Puteaux-7128 Puteaux 7130 | I11: 42015 | J11: ATTENTE REGLEMENT | K11: =IF(I11="OUI","Oui","") | S11: =IF(ISNUMBER(D11),1,"") -> 1
B12: AC21/062219 | C12: 4 AV PTE DE BRANCION | D12: 75015 | F12: Pas nécessaire | G12: A FAIRE | H12: OUI | I12: 42015 | J12: ATTENTE REGLEMENT | K12: =IF(I12="OUI","Oui","") | S12: =IF(ISNUMBER(D12),1,"") -> 1
B13: AC21/061685 | C13: rue Henri Ribiere | D13: 75019 | F13: A FAIRE | G13: Pas nécessaire | H13: Puteaux 7133 | I13: NON | J13: ATTENTE COMPLEMENT INFORMATION | K13: =IF(I13="OUI","Oui","") | L13: BST IMPOSSIBLE A TROUVER | S13: =IF(ISNUMBER(D13),1,"") -> 1
B14: AC21/061923 | C14: Albert Bartholome | D14: 75015 | F14: Pas nécessaire | G14: A FAIRE | H14: OUI | I14: 42033 | J14: ATTENTE REGLEMENT | K14: 42396 | S14: =IF(ISNUMBER(D14),1,"") -> 1
B15: AC21/059920 | C15: 4 rue de Metz | D15: 75010 | F15: A FAIRE | G15: A FAIRE | H15: NON | I15: NON | J15: ATTENTE COMPLEMENT INFORMATION | K15: =IF(I15="OUI","Oui","") | L15: vérifier si tous les trx sont réalisés | S15: =IF(ISNUMBER(D15),1,"") -> 1
A16: AC21/062208 | B16: AC21/061456 | C16: 138/140 rue du Cherche Midi | D16: 75015 | F16: OUI | G16: Pas nécessaire | H16: NON | I16: NON | J16: AFFAIRE A ETUDIER | K16: =IF(I16="OUI","Oui","") | S16: =IF(ISNUMBER(D16),1,"") -> 1
B17: AC21/061409 | C17: F 1 boulevard Morland | D17: 75004 | F17: NON | G17: A FAIRE | H17: NON | I17: NON | J17: AFFAIRE A ETUDIER | K17: =IF(I17="OUI","Oui","") | S17: =IF(ISNUMBER(D17),1,"") -> 1
B18: AC21/060906 | C18: 35 avenue de Laumiere | D18: 75019 | F18: En Cours | G18: A FAIRE | H18: OUI | I18: NON | J18: ATTENTE COMPLEMENT INFORMATION | K18: =IF(I18="OUI","Oui","") | S18: =IF(ISNUMBER(D18),1,"") -> 1
A19: AC21/063319 | B19: AC21/061931 | C19: rue du Departement | D19: 75018 | F19: Création de branchement pour alimentation armoire SLT sur le départ 15S du PDP 75109P0105 EN au 6 rue FG MONTMARTRE. | G19: S02 | H19: Puteaux-7540 Puteaux-7539 | S19: =IF(ISNUMBER(D19),1,"") -> 1
B20: AC21/056583 | C20: 33 boulevard de Grenelle | D20: 75015 | F20: OUI | G20: Pas nécessaire | H20: OUI | J20: ATTENTE REGLEMENT | K20: =IF(I20="OUI","Oui","") | S20: =IF(ISNUMBER(D20),1,"") -> 1
B21: AC21/057334 | C21: 125 rue Saint Lazare | D21: 75008 | F21: Pas nécessaire | G21: A FAIRE | H21: NON | I21: NON | J21: AFFAIRE A ETUDIER | K21: =IF(I21="OUI","Oui","") | L21: Devis Annulé | S21: =IF(ISNUMBER(D21),1,"") -> 1
B22: AC21/057258 | C22: 108 rue de la Chapelle | D22: 75018 | F22: Pas nécessaire | G22: Pas nécessaire | H22: OUI | I22: NON | J22: ATTENTE REGLEMENT | K22: =IF(I22="OUI","Oui","") | S22: =IF(ISNUMBER(D22),1,"") -> 1
B23: AC21/057257 | C23: 86 avenue de Saint Ouen | D23: 75018 | F23: Pas nécessaire | G23: A FAIRE | H23: NON | I23: NON | J23: AFFAIRE A ETUDIER | K23: =IF(I23="OUI","Oui","") | L23: Devis Annulé | S23: =IF(ISNUMBER(D23),1,"") -> 1
B24: AC21/057256 | C24: 1 avenue de Villiers | D24: 75017 | F24: Pas nécessaire | G24: A FAIRE | H24: NON | I24: NON | J24: AFFAIRE A ETUDIER | K24: =IF(I24="OUI","Oui","") | S24: =IF(ISNUMBER(D24),1,"") -> 1
B25: AC21/057254 | C25: 155 boulevard Malesherbes | D25: 75017 | F25: Pas nécessaire | G25: A FAIRE | H25: NON | I25: NON | J25: AFFAIRE A ETUDIER | K25: =IF(I25="OUI","Oui","") | S25: =IF(ISNUMBER(D25),1,"") -> 1
B26: AC21/057251 | C26: 32 rue Brochant | D26: 75017 | F26: Pas nécessaire | G26: A FAIRE | H26: NON | I26: NON | J26: AFFAIRE A ETUDIER | K26: =IF(I26="OUI","Oui","") | S26: =IF(ISNUMBER(D26),1,"") -> 1
B27: AC21/057248 | C27: 1 rue du General Brunet | D27: 75019 | F27: Pas nécessaire | G27: A FAIRE | H27: NON | I27: NON | J27: AFFAIRE A ETUDIER | K27: =IF(I27="OUI","Oui","") | S27: =IF(ISNUMBER(D27),1,"") -> 1
B28: AC21/057247 | C28: 80 avenue Mozart | D28: 75016 | F28: Pas nécessaire | G28: A FAIRE | H28: NON | I28: NON | J28: AFFAIRE A ETUDIER | K28: =IF(I28="OUI","Oui","") | S28: =IF(ISNUMBER(D28),1,"") -> 1
B29: AC21/057246 | C29: 11 chaussée de la Muette | D29: 75017 | F29: Pas nécessaire | G29: A FAIRE | H29: NON | I29: NON | J29: AFFAIRE A ETUDIER | K29: =IF(I29="OUI","Oui","") | S29: =IF(ISNUMBER(D29),1,"") -> 1
B30: AC21/057237 | C30: 1 Bis boulevard Gouvion Saint Cyr | D30: 75017 | F30: Pas nécessaire | G30: A FAIRE | H30: NON | I30: NON | J30: AFFAIRE A ETUDIER | K30: =IF(I30="OUI","Oui","") | S30: =IF(ISNUMBER(D30),1,"") -> 1
B31: AC21/057236 | C31: 122 boulevard de la Villette | D31: 75019 | F31: Pas nécessaire | G31: A FAIRE | H31: NON | I31: NON | J31: AFFAIRE A ETUDIER | K31: =IF(I31="OUI","Oui","") | S31: =IF(ISNUMBER(D31),1,"") -> 1
B32: AC21/057235 | C32: 360 rue des Pyrenees | D32: 75020 | F32: Pas nécessaire | G32: A FAIRE | H32: NON | I32: NON | J32: AFFAIRE A ETUDIER | K32: =IF(I32="OUI","Oui","") | L32: devis a envoyer urgent | S32: =IF(ISNUMBER(D32),1,"") -> 1
B33: AC21/057234 | C33: 16 avenue du Pere Lachaise | D33: 75020 | F33: Pas nécessaire | G33: A FAIRE | H33: NON | I33: NON | J33: AFFAIRE A ETUDIER | K33: =IF(I33="OUI","Oui","") | L33: devis a envoyer urgent | S33: =IF(ISNUMBER(D33),1,"") -> 1
B34: AC21/057230 | C34: 2 place de la Porte De Bagnolet | D34: 75020 | F34: Pas nécessaire | G34: Pas nécessaire | H34: OUI | I34: NON | J34: ATTENTE REGLEMENT | K34: =IF(I34="OUI","Oui","") | S34: =IF(ISNUMBER(D34),1,"") -> 1
B35: AC21/057224 | C35: 150 boulevard de Menilmontant | D35: 75020 | F35: Pas nécessaire | G35: A FAIRE | H35: NON | I35: NON | J35: AFFAIRE A ETUDIER | K35: =IF(I35="OUI","Oui","") | L35: devis a envoyer urgent | S35: =IF(ISNUMBER(D35),1,"") -> 1
B36: AC21/057166 | C36: 7 avenue d' Iena | D36: 75016 | F36: Pas nécessaire | G36: A FAIRE | H36: 5530291947 6004749238 | I36: NON | J36: AFFAIRE A ETUDIER | K36: =IF(I36="OUI","Oui","") | S36: =IF(ISNUMBER(D36),1,"") -> 1
B37: AC21/057164 | C37: place Clement Ader / Angle 2 Av de versailles | D37: 75016 | F37: Pas nécessaire | G37: A FAIRE | H37: NON | I37: NON | J37: AFFAIRE A ETUDIER | K37: =IF(I37="OUI","Oui","") | S37: =IF(ISNUMBER(D37),1,"") -> 1
B38: AC21/057161 | C38: 12 place Victor Hugo | D38: 75016 | F38: Pas nécessaire | G38: A FAIRE | H38: NON | I38: NON | J38: AFFAIRE A ETUDIER | K38: =IF(I38="OUI","Oui","") | S38: =IF(ISNUMBER(D38),1,"") -> 1
B39: AC21/057140 | C39: 5 place Felix Eboue | D39: 75012 | F39: Pas nécessaire | G39: A FAIRE | H39: NON | I39: NON | J39: AFFAIRE A ETUDIER | K39: =IF(I39="OUI","Oui","") | S39: =IF(ISNUMBER(D39),1,"") -> 1
B40: AC21/057138 | C40: boulevard de Bercy | D40: 75012 | F40: Pas nécessaire | G40: Pas nécessaire | H40: OUI | I40: NON | J40: AFFAIRE A ETUDIER | K40: =IF(I40="OUI","Oui","") | S40: =IF(ISNUMBER(D40),1,"") -> 1
...

Sheet JUILLET 2015
A1: Numéro d'affaire | B1: Adresse | C1: ARRT | D1: AEE | E1: Objet | F1: TRX PREVUS | G1: Semaine | H1: N° DEVET | I1: Date Montage | J1: Heure TRX | K1: Identification | L1: TRX FAIT LE | M1: Montage | N1: N° BST | O1: Interlocuteur EVESA | P1: Observations
A2: AC21/060263 | B2: 33 avenue Secretan | C2: 75019 | D2: Saint Maur | E2: nouveau raccordement | F2: Réalisation d'un MD pour raccordement d'une armoire EP, à réaliser à partir du départ 15 du PDP 1 RUE BASTE 75119P0080 - AE SAINT MAUR | G2: S28 | I2: 42165 | K2: 42165 | L2: 42165 | M2: ??
A3: AC21/060262 | B3: 53 rue de Meaux | C3: 75019 | D3: Saint Maur | E3: Suppression de coffret EP | F3: 1 BP à créer pour suppression de coffret, raccordé à partir du départ 9 du PDP 1 RUE BASTE 75119P0080 | G3: S27 | I3: 42186 | K3: 42185 | L3: 42188 | M3: IRDE | P3: Annulation jour "j" par l'AE auprès de EGA. Chantier finalement réalisé par IRDE le 03 Juillet
A4: AC21/060262 | B4: 57 rue de Meaux | C4: 75019 | D4: Saint Maur | E4: Suppression de coffret EP | F4: 1 BP à créer pour suppression de coffret, raccordé à partir du départ 9 du PDP 1 RUE BASTE 75119P0080 | G4: S27 | I4: 42186 | K4: 42185 | L4: 42188 | M4: IRDE | P4: Annulation jour "j" par l'AE auprès de EGA. Chantier finalement réalisé par IRDE le 03 Juillet
A5: AC21/060247 | B5: 33 avenue Secretan | C5: 75019 | D5: Saint Maur | E5: Suppression de BST EP | F5: 1 BP à créer pour suppression de BST, raccordé à partir du départ 15 du PDP 1 RUE BASTE 75119P0080 | G5: S27 | I5: 42186 | K5: 42185 | L5: 42188 | M5: IRDE | N5: 3547 | P5: Annulation jour "j" par l'AE auprès de EGA. Chantier finalement réalisé par IRDE le 03 Juillet
A6: AC21/060261 | B6: 21 rue Bouret | C6: 75019 | D6: Saint Maur | E6: Suppression de BST EP | F6: 1 BP à créer pour suppression de BST, raccordé à partir du départ 3 du PDP 1 RUE BASTE 75119P0080 | G6: S28 | I6: 42195 | J6: 08h30 | K6: 42194 | L6: 42195 | M6: AEE | N6: 194C020 | P6: Annulation Jour "J" auprès de l'entreprise IRDE, suite crise "chaleurs estivales" Montage fait par AEE
A7: AC21/060248 | B7: 3 rue Baste | C7: 75019 | D7: Saint Maur | E7: Suppression de BST EP | F7: 1 BP à créer pour suppression de BST, départ inconu, PDP : 1 rue baste 75119P0080 | G7: S28 | I7: 42195 | J7: 08h30 | K7: 42194 | L7: 42195 | M7: AEE | N7: 194C031 | P7: Montage fait par AE
A8: AC21/060248 | B8: 1 rue Baste | C8: 75019 | D8: Saint Maur | E8: Suppresison de BST + Nouveau raccordement | F8: 1 BP à créer pour suppression de BST, raccordé à partir du départ 15 du PDP 1 RUE BASTE 75119P0080 | G8: S28 | I8: 42195 | J8: 08h30 | K8: 42194 | L8: 42195 | M8: IRDE | N8: 194C033 | P8: Montage fait par IRDE.
A9: AC21/060248 | B9: 4 rue Baste | C9: 75019 | D9: Saint Maur | E9: Suppression de BST+ Nouveau raccordement | F9: 1 BP à créer pour suppression de coffret, raccordé à partir du départ 9 du PDP 1 RUE BASTE 75119P0080 | G9: S28 | I9: 42195 | J9: 08h30 | K9: 42194 | L9: 42195 | M9: IRDE | P9: Montage fait par IRDE.
A10: AC21/060693 | B10: 7 boulevard de Magenta | C10: 75010 | E10: nouveau raccordement | F10: Réalisation d'un MJ à partir du départ 6 du PDP 3 RUE CHÂTEAU D'EAU 75110P0241 | G10: S30 | H10: 4278 | I10: 42209 | J10: 13h30 | K10: 42209 | L10: 42209 | M10: EGA
A11: AC21/057426 | B11: F 118 Av Simon Bolivar | C11: 75019 | D11: Saint Maur | E11: suppression de BST + nouveau raccordement | F11: 1 BP pour suppression de BST + 1MD à réaliser à partir du départ 13 du PDP F8 RUE SADI LECOINTE 75119P0917 | G11: S27 | I11: 42186 | K11: 42185 | N11: 194C067 | P11: Annulation jour "j" par l'AE auprès de EGA. Chantier finalement non réalisé à ce jour
A12: AC21/059018 | B12: 39 rue Archereau | C12: 75019 | D12: Puteaux | E12: Raccordement EP | F12: 1 MD à réaliser à partir du départ 8S du PDP 39/41 RUE ARCHEREAU 75119P0272 | G12: S30 | I12: 42208 | J12: 13h30 | K12: 42208 | M12: AEE | P12: Chantier annulé le 22/07/15 car fouille non conforme. Conducteur de Trx injoignable.
A13: AC21/059020 | B13: 39 rue Archereau | C13: 75019 | D13: Puteaux | E13: Suppression de BST EP | F13: 1 BP à réaliser pour suppression de BST, raccordé à partir du départ 8S du PDP 39/41 RUE ARCHEREAU 75119P0272 | G13: S30 | I13: 42208 | J13: 13h30 | K13: 42208 | M13: AEE | N13: 191A026 | P13: Chantier annulé le 22/07/15 car fouille non conforme. Conducteur de Trx injoignable.
A14: AC21/057675 | B14: 72 Rue Louis Blanc | C14: 75010 | D14: Puteaux | E14: Suppression de BST EP | F14: 1 BP pour suppression de BST + 1 MD à réaliser à partir du départ 3 du PDP 37B BD CHAPELLE 75110P0188 | N14: 101B015 | P14: Chantier annulé le 20/07/15 car fouille non ouverte. La fouille ne sera pas ouverte avant plusieurs semaines.

Sheet AOUT 2015
A1: Numéro d'affaire | B1: Adresse | C1: ARRT | D1: AEE | E1: Objet | F1: TRX PREVUS | G1: Semaine | H1: N° DEVET | I1: Date Montage DATE IEP | J1: Heure TRX | K1: Identification | L1: AMEO PMEO DATE IEP | M1: TRX FAIT LE | N1: Montage | O1: N° BST | P1: Interlocuteur EVESA | Q1: Observations
A2: AC21/060632 | B2: 18 Avenue Saint Mande | C2: 75012 | D2: Tolbiac | E2: Suppression de BST EP | F2: Réalisation d'un BP pour suppression de BST EP actuellement alimenté à partir du départ 7R du PDP 20 AV SAINT MANDE 75112P0143 | G2: S32 | H2: 4377 | I2: 42220 | J2: 13h30 | K2: 42220 | L2: NON | M2: 42220 | N2: AEE | O2: 122B095 | S2: =IF(ISNUMBER(M2),-1,"") -> -1
A3: AC21/061339 | B3: 1/2 bvd Montmartre | C3: 75002 | D3: Puteaux | E3: Suppression de 2 BST + 1 Nouveau raccordement | F3: AU 1 BVD MONTMARTRE : Suppression BST N°022060 sur le départ 3R du PDP 75102P0229IM au 163/165 Rue MONTMARTRE BST non représentée sur le plan // AU 2 BVD MONTMARTRE : Nouveau raccordement armoire EP + Suppression BST N°093A090 sur le départ N°10 du PDP 750109P043EN au 4 BVD MONTMARTRE. BST non représentée sur le plan // | G3: S34 | H3: 4622 | I3: 42233 | J3: 08h30 | K3: 42233 | L3: FAIT | M3: 42233 | N3: AEE | O3: Voir Observations | Q3: Au 1 BVDMONTMARTRE : BST N°0220060 Au 2 BVDMONTMARTRE : BST N°093A090 | S3: =IF(ISNUMBER(M3),-1,"") -> -1
A4: AC21/061338 | B4: 30/32 BVD Poissonniere | C4: 75002 | D4: Puteaux | E4: Suppression de 2 BST | F4: Au 30 BVD Poissonniere : Suppression BST N°093B034 sur le départ N°7R du PDP 75109P0105EN au 6 rue du FG MONTMATRE PARIS 09. Au 32 BVD Poissonniere : Suppression BST N°093B022 sur le départ N°7R du PDP 75109P0105EN au 6 rue du FG MONTMATRE PARIS 09. | G4: S34 | H4: Puteaux-4713 | I4: 42234 | J4: 08h30 | K4: 42234 | L4: NON | M4: 42234 | N4: AEE | O4: Voir Observations | Q4: Photos fouille 3 jours avant l'intervention Au 30 BVD Poissonniere : BST N°093B034 Au 32 BVD Poissonniere : BST N°093B022 | S4: =IF(ISNUMBER(M4),-1,"") -> -1
A5: AC21/060618 | B5: 19 bvd Saint Denis | C5: 75002 | D5: Saint Maur | E5: Nouveau raccordement | F5: réalisation d'un MD à réaliser à partir du départ 2 du PDP 17/21 RUE SAINTE APPOLINE 75102P0231 | G5: S37 | H5: St-Maur-4722 St-Maur-4968 | I5: 42237 | J5: 13h30 | K5: 42237 | L5: NON | M5: 42237 | N5: IRDE | O5: 240116 | S5: =IF(ISNUMBER(M5),-1,"") -> -1
A6: AC21/060630 | B6: 4 rue Saint Antoine | C6: 75004 | D6: Saint Maur | E6: Suppression de BST + Nouveau raccordement | F6: 1 BST à supprimer + réalisation d'un MD à réaliser à partir du départ 3 du PDP 10 RUE SAINT ANTOINE 75104P0068 | G6: S37 | H6: St-Maur-4724 | I6: 42237 | J6: 08h30 | K6: 42237 | L6: NON | M6: 42237 | N6: IRDE | O6: 043A045 | S6: =IF(ISNUMBER(M6),-1,"") -> -1
A7: AC21/062092 | B7: 32 BVD Poissonniere | C7: 75002 | D7: Puteaux | E7: Suppression Armoire SLT | F7: Au 32 BVD Poissonniere : Suppression BST + Suppression Armoire SLT. Plusieurs BST sur place. Armoire SLT + BST à identifier jour "J" Départ supposé etre le départ N° 7R du N°7R du PDP 75109P0105EN au 6 rue du FG MONTMATRE PARIS 09 | G7: S35 | H7: Puteaux-5010 Puteaux-5011 | I7: 42241 | J7: 13h30 | K7: 42241 | L7: NON | M7: 42241 | N7: AEE | S7: =IF(ISNUMBER(M7),-1,"") -> -1
A8: AC21/062093 | B8: 32 BVD Poissonniere | C8: 75002 | D8: Puteaux | E8: Suppression de BST | F8: Au 32 BVD Poissonniere : Suppression BST + Suppression Armoire SLT. Plusieurs BST sur place. Armoire SLT + BST à identifier jour "J" Départ supposé etre le départ N° 7R du N°7R du PDP 75109P0105EN au 6 rue du FG MONTMATRE PARIS 09 | G8: S35 | H8: Puteaux-4959 | I8: 42241 | J8: 13h30 | K8: 42241 | L8: NON | M8: 42241 | N8: AEE | S8: =IF(ISNUMBER(M8),-1,"") -> -1

Sheet SEPT 2015
A1: Numéro d'affaire | B1: Adresse | C1: ARRT | D1: AEE | E1: Objet | F1: TRX PREVUS | G1: Semaine | H1: N° DEVET | I1: Date Montage DATE IEP | J1: Heure TRX | K1: Identification | L1: AMEO PMEO DATE IEP | M1: TRX FAIT LE | N1: Montage | O1: N° BST | P1: Interlocuteur EVESA | Q1: Observations
A2: AC21/061690 | B2: 22 rue Mondetour | C2: 75001 | D2: Saint Maur | E2: Suppression Coffret EP + 1 Nouveau Racco | F2: Débranchement et re branchement pour le remplacement Coffret EP sur le départ 2 du PDP 75101P0076EN au 22 rue Pierre Lescot | G2: S39 | H2: StMaur-5133 | I2: 42269 | J2: 08h30 | K2: 42269 | L2: NON | M2: 42269 | N2: AEE
A3: AC21/061943 | B3: 69 avenue Georges Mandel | C3: 75016 | D3: Grenelle | E3: Suppression BST + 1 Nouveau raccordement | F3: Suppression de la BST N°FS00201 sur le départ 16 S du PDP 75116P0616EN au 73 rue POMPE. MD/MJ pour le raccordement de la nouvelle armoire SLT pris sur le départ 16 S du PDP 75116P0616EN au 73 rue POMPE. | G3: S40 | H3: Grenelle-4952 | I3: 42276 | J3: 08h30 | K3: 42276 | L3: FAIT | M3: 42276 | N3: AEE | O3: FS00201
A4: AC21/061701 | B4: rue du Colonel Pierre Avia | C4: 75015 | D4: Grenelle | E4: Suppression Coffret EP | F4: Suppression à la rue du Colonel Pierre Avia // Rue Louis Armand Paris 15. 1 BP à réaliser pour la dépose du coffret EP sur le départ 20 du PDP 75115P0209 IM au 2b rue LOUIS ARMAND. | G4: S40 | H4: Grenelle-5193 Grenelle-5194 Grenelle-5781 | I4: 42277 | J4: 08h30 | K4: 42277 | L4: FAIT | M4: 42277 | N4: AEE | P4: Rato 06 21 45 48 86 | Q4: Suppression Faite ce jour // Nouveau Racco prévu semaine 42
A5: AC21/061338 | B5: 29 BVD Poissonniere | C5: 75002 | D5: Saint Maur | E5: Suppression de 3 BST + 1 Nouveau raccordement | F5: Au 29 BVD Poissonniere : 1 Nouveau Raccormdent armoire EP + Suppression BST N°0230004 sur le départ N°16 du PDP 75102P010EN au 23 BVD Poissonniere PARIS 02. | O5: Voir Observations | P5: M.Rabhi 0658060271 | Q5: Au 29 BVD Poissonniere : BST N°0230004 CHANTIER ANNULE SUITE A DEMANDE DU CLIENT
A6: AC21/057193 | B6: 1 rue de Chazelles / Angle Rue de courcelles | C6: 75017 | D6: Puteaux | E6: Suppresison de BST | F6: Réalisation d'un BP pour la suppression d'une BST sur le départ 6R du PDP 75117P0316EN au 3 rue MEDERIC PARIS 17 | H6: Puteaux-5056 | N6: AEE | O6: 172F008 | P6: Amelie LOISEL 07 77 99 47 21 | Q6: Pas d'entreprise de terrassement, chantier reporté.
A7: AC21/057192 | B7: F 79 rue de Courcelles | C7: 75017 | D7: Puteaux | E7: Suppresison de BST | F7: Réalisation d'un BP pour la suppression d'une BST sur le départ 6R du PDP 75117P0316EN au 3 rue MEDERIC PARIS 17 | H7: Puteaux-5057 | N7: AEE | O7: 172F009 | P7: Amelie LOISEL 07 77 99 47 21 | Q7: Pas d'entreprise de terrassement, chantier reporté.

Sheet OCT 2015 
A1: Numéro d'affaire | B1: Adresse | C1: ARRT | D1: AEE | E1: Objet | F1: TRX PREVUS | G1: Semaine | H1: N° DEVET | I1: Date Montage DATE IEP | J1: Heure TRX | K1: Identification | L1: AMEO PMEO DATE IEP | M1: TRX FAIT LE | N1: Montage | O1: TYPE TRX | P1: Interlocuteur EVESA | Q1: Observations
A2: AC21/062048 | B2: 3 rue d' Alexandrie | C2: 75002 | D2: Saint Maur | E2: Suppression bst | F2: Suppression BST raccordée sur réseau électrique et hors tension côté client. BST raccordée sur un départ du PDP 75102P0060EN au 1 rue Alexandrie Paris 02. Raccordement nouveau coffret type II-745 sur le départ 3R du PDP 75102P0060EN au 1rue Alexandrie. | G2: S40 | H2: StMaur-5198 StMaur-5199 | I2: 42278 | J2: 08h30 | K2: 42276 | L2: NON | M2: 42278 | N2: IRDE | P2: M.Rabhi 0658060271 | Q2: NOUVEAU RACCO FAIT // BST EN DEFAUT, NON SUPPRIMEE CE JOUR // A REPROGRAMMER POUR LE 15/10/15
A3: AC21/060915 | B3: rue Watt | C3: 75013 | D3: Tolbiac | E3: Suppression BST N° 13ZE011 | F3: BST non représentée sur plan 1000ème. Faire un BP pour la suppression de la BST N° 13ZE011 pris sur -le départ N° 12R du PDP 75113P0275IM au 7 rue Chevaleret. ou -le départ N°4 du PDP 75113P0026 IM au 12/14 rue Helene Brion | G3: S41 | H3: Tolbiac-5186 | I3: 42283 | J3: 13h00 | K3: 42283 | L3: NON | M3: 42283 | N3: AEE | P3: M.DELALANDE 0621455262
A4: AC21/060903 | B4: 10 avenue de Bouvines | C4: 75011 | D4: Tolbiac | E4: Nouveau raccordement | F4: Réalisation d'un MD à réaliser à partir du départ 1R du PDP : 42 RUE FAIDHERBE 75111P0289 | G4: S42 | H4: Tolbiac-5586 | I4: 42289 | J4: 13h00 | K4: 42286 | L4: NON | M4: 42289 | N4: AEE | P4: M.LEGAL 06 26 71 63 98 | Q4: 50% AVANCE PAYE SUR 1er DEVIS, // 1er DEVIS ANNULE CAR NON CONFORME,// DEUXIEME DEVIS EN ATTENTE DE REGLEMENT// PREVOIR DEVERSEMENT DE L AVANCE DU 1ER DEVIS SUR DEUXIEME DEVIS,
A5: AC21/061982 | B5: 73 rue Gaston Tessier | C5: 75019 | D5: Grenelle | E5: SUPBST+1BE | F5: Faire un BP pour la suppression de l'armoire SLT probablement prise sur le départ 2 du PDP 75119P0271IM au 249 rue CRIMEE Paris 19. Pose et raccordement d'une nouvelle armoire SLT prise sur le même départ : le départ 2 du PDP 75119P0271IM au 249 rue CRIMEE Paris 19. | G5: S43 | H5: Puteaux-5413 | I5: 42300 | J5: 13h30 | K5: 42297 | L5: FAIT | M5: 42331 | N5: IRDE | P5: Bruno DECALDAS 06 19 67 61 55 | Q5: Travaux par message collationné
A6: AC21/060233 | B6: 18 rue Jean Mace | C6: 75011 | D6: Saint Maur | E6: Suppression EP + Nouveau raccordement Coffret EP | F6: réalisation d'un BP pour suppression du branchement EP.- réalisation d'un ME + un MD à réaliser à partir du départ 1R du PDP : 42 RUE FAIDHERBE 75111P0289 | G6: S44 | H6: StMaur-5397 BEX-5424 | I6: 42303 | J6: 08h30 | K6: 42299 | L6: NON | M6: 42334 | N6: IRDE | P6: M.LEGAL 06 26 71 63 98 | Q6: Travaux par message collationné
A7: AC21/062446 | B7: 11 Rue Armand Carrel | C7: 75019 | D7: Saint Maur | E7: Raccordement Armoire SLT | F7: Faire un MD pour raccorder la nouvelle armoire SLT sur le départ 5 du PDP 75119P006IM au 26 rue ARMAND CARREL | G7: S44 | H7: StMaur-5573 | I7: 42303 | J7: 08h30 | K7: 42299 | L7: NON | M7: 42334 | N7: AEE | P7: Bruno DECALDAS 06 19 67 61 55
B8: 73 rue Sainte Anne | C8: 75002 | D8: Puteaux | E8: Db//Rb | F8: Faire une suppression de l'ancien branchement sur le départ 2 du PDP 75102P0152 IM et un re branchement du coffret EP sur le départ 2 du PDP 75102P0152 IM au 2/4 rue RAMEAU | G8: S44 | H8: Puteaux-5495 | J8: 08h30 | K8: 42296 | L8: A FAIRE | M8: 42355 | N8: AEE | P8: M.Rabhi 0658060271
A9: AC21/062212 | B9: 4 PLACE SAINT GERVAIS | C9: 75004 | D9: Saint Maur | E9: Suppression Borne de recharge | F9: Faire un BP pour la suppression de la borne de recharge elec pris sur le depart 14S du PDP 75104P0168IM au 13/15 rue Verrerie | G9: S44 | H9: StMaur-7351 BEX-7497 Puteaux-7538 | J9: 08h30 | K9: 42303 | L9: NON | N9: AEE | P9: M.LEGAL 06 26 71 63 98 | Q9: SI DTE Puteaux-7538 VALIDEE, ANNULER StMaur-7351 BEX-7497
A10: AC21/060881 | B10: 65 rue de Bagnolet | C10: 75020 | D10: Saint Maur | E10: Suppression BST + Nouveau raccordement Coffret EP | F10: suppression d'une BST + Nouveau raccordement Coffret EP sur le départ 11P du PDP 75120P0037 EN au 67 rue BAGNOLET | G10: S43 | H10: StMaur-5390 BEX-5571 | J10: 08h30 | K10: 42297 | L10: NON | N10: AEE | P10: M.LEGAL 06 26 71 63 98 | Q10: Travaux par message collationné
A11: AC21/061784 | B11: 9 quai Francois Mauriac | C11: 75013 | D11: Tolbiac | E11: Suppresison STATION Vélib | F11: Faire un BP pour la suppression du branchement Vélib sur le départ 6R du PDP 75113P01129IM au 2 rue NEUVE TOLBIAC. | G11: S41 | H11: Puteaux-7128 Puteaux 7130 | I11: 42015 | N11: AEE | P11: Régis de TURENNE 06 98 72 29 50 | Q11: Annulation DOSIIER par le client // Demande de remboursement devis //
I12: 42015 | N12: AEE
H13: Puteaux 7133 | N13: AEE
I14: 42033 | K14: 42396 | N14: AEE
N15: AEE
N16: AEE
N17: AEE
N18: AEE
A19: AC21/063319 | F19: Création de branchement pour alimentation armoire SLT sur le départ 15S du PDP 75109P0105 EN au 6 rue FG MONTMARTRE. | G19: S02 | H19: Puteaux-7540 Puteaux-7539
H36: 5530291947 6004749238
B48: AC21/062250
B59: AC21/057086

Sheet NOV 2015
A1: Numéro d'affaire | B1: Adresse | C1: ARRT | D1: AEE | E1: Objet | F1: TRX PREVUS | G1: Semaine | H1: N° DEVET | I1: Date Montage DATE IEP | J1: Heure TRX | K1: Identification | L1: AMEO PMEO DATE IEP | M1: TRX FAIT LE | N1: Montage | O1: TYPE TRX | P1: Interlocuteur EVESA | Q1: Observations
A2: AC21/062221 | B2: 4 PL ARMARD CARREL | C2: 75019 | D2: Saint Maur | E2: Suppression Borne de recharge | F2: Faire un BP pour la suppression de la borne Vélib sur le départ 15R du PDP 75119P0002EN au 2 Place ARMAND CARREL | G2: S45 | H2: StMaur-5965 BEX-6233 | I2: 42311 | J2: 10h00 | K2: 42304 | L2: NON | M2: 42311 | N2: IRDE | P2: M.LEGAL 06 26 71 63 99
A3: AC21/062112 | B3: Angle rue Froidevaux/ 2 Av du colonel Henri Roi-Tanguy dans la pl Denfert Rochereau | C3: 75014 | D3: Tolbiac | E3: Suppression de BST | F3: Faire 1BP pour la suppression de la BST EP sur le départ 12S du PDP 75114P0220IM au 1 rue VICTOR CONSIDEREANT. | G3: S46 | H3: Tolbiac-6047 Tolbiac-6585 | I3: 42320 | J3: 08h30 | K3: 42313 | L3: NON | M3: 42320 | N3: AEE | P3: M.JULIENNE 06 21 45 48 68
A4: AC21/062863 | B4: Angle rue Froidevaux/ 2 Av du colonel Henri Roi-Tanguy dans la pl Denfert Rochereau | C4: 75014 | D4: Tolbiac | E4: Suppression de BST | F4: Faire 1BP pour la suppression de l'armoire Forain sur le départ 12S du PDP 75114P0220IM au 1 rue VICTOR CONSIDEREANT | G4: S46 | H4: Tolbiac-6055 Tolbiac-6588 | I4: 42320 | J4: 08h30 | K4: 42313 | L4: NON | M4: 42320 | N4: AEE | P4: Ghislaine JOUBERT 0670200635
A5: AC21/061338 | B5: 29 BVD Poissonniere | C5: 75002 | D5: Saint Maur | E5: Suppression de BST + 1 Nouveau raccordement | F5: Au 29 BVD Poissonniere : 1 Nouveau Raccormdent armoire EP + Suppression BST N°0230004 sur le départ N°16 du PDP 75102P010EN au 23 BVD Poissonniere PARIS 02. | G5: S46 | H5: StMaur-6017 | I5: 42324 | K5: 42324 | L5: NON | M5: 42324 | N5: IRDE | O5: PAR MESSAGE COLLATIONNE | P5: M.Rabhi 0658060271 | Q5: Au 29 BVD Poissonniere : BST N°0230004 CHANTIER ANNULE SUITE A DEMANDE DU CLIENT
A6: AC21/062449 | B6: 73/75 Rue de la Reunion | C6: 75020 | D6: Saint Maur | E6: Suppression coffret Forain | F6: Faire une suppression du coffret CF sur le départ 3 du PDP 75120P0026IM au 91 rue ALEX DUMAS. | G6: S47 | H6: StMaur-6301 | I6: 42324 | J6: 08h30 | K6: 42324 | L6: NON | M6: 42324 | N6: AEE
A7: AC21/062122 | B7: 82 avenue de Flandre | C7: 75019 | D7: Puteaux | E7: Raccordement EP | F7: Faire un MD sur le départ 15 du PDP 75119P0312 EN au 11 rue Duvergier pour raccorder le nouveau coffret EP. | G7: S47 | H7: Puteaux-5188 | I7: 42325 | J7: 08h30 | K7: 42325 | L7: A FAIRE | M7: 42325 | N7: AEE | P7: Bruno DECALDAS 06 19 67 61 55
B8: 17 place du Pantheon | C8: 75005 | D8: Tolbiac | E8: Suppression Borne de recharge | F8: Faire un BP pour la suppression de la borne de recharge elec prise sur le départ 2 du PDP 75105P0245EN au 20 Rue FOSSES ST JACQ. | G8: S47 | H8: Tolbiac-6302 | I8: 42325 | J8: 08h30 | K8: 42325 | L8: NON | M8: 42355 | N8: AEE
A9: AC21/057675 | B9: 72 rue Louis Blanc | C9: 75005 | D9: Puteaux | E9: Suppression de BST + 1 Nouveau raccordement | F9: 1 BP pour suppression de BST EP N°101B015 + 1 MD au 72 rue Louis Blanc à réaliser sur le départ sur le départ 3 du PDP 209 rue du Fg St Denis 75110P0377. | G9: S47 | H9: StMaur-7351 BEX-7497 Puteaux-7538 | I9: 42325 | J9: 08h30 | K9: 42325 | L9: A FAIRE | M9: 42325 | N9: AEE | Q9: SI DTE Puteaux-7538 VALIDEE, ANNULER StMaur-7351 BEX-7497
A10: AC21/057193 | B10: 1 rue de Chazelles / Angle Rue de courcelles | C10: 75017 | D10: Puteaux | E10: Suppresison de BST | F10: Réalisation d'un BP pour la suppression d'une BST sur le départ 6R du PDP 75117P0316EN au 3 rue MEDERIC PARIS 17 | G10: S47 | H10: Puteaux-5577 Puteaux-6784 | I10: 42327 | J10: 08h30 | K10: 42310 | L10: NON | M10: 42327 | N10: AEE | P10: Amelie LOISEL 07 77 99 47 21
A11: AC21/057192 | B11: F 79 rue de Courcelles | C11: 75017 | D11: Puteaux | E11: Suppresison de BST | F11: Réalisation d'un BP pour la suppression d'une BST sur le départ 6R du PDP 75117P0316EN au 3 rue MEDERIC PARIS 17 | G11: S47 | H11: Puteaux-7128 Puteaux 7130 | I11: 42015 | J11: 08h30 | K11: 42310 | L11: NON | M11: 42327 | N11: AEE | P11: Amelie LOISEL 07 77 99 47 21
A12: AC21/062257 | B12: 65 AV GRANDE ARMEE | C12: 75016 | D12: Grenelle | E12: Suppression Borne de recharge | F12: Faire un BP pour la suppression de la borne de recharge elec prise sur le départ 1 du PDP 75116P0089EN au 67 AV Grde Armée | G12: S47 | H12: Grenelle-5910 | I12: 42015 | J12: 08h30 | K12: 42320 | L12: NON | M12: 42327 | N12: AEE | P12: M.LEGAL 06 26 71 63 98
A13: AC21/060626 | B13: 73 rue Sainte Anne | C13: 75002 | D13: Puteaux | E13: Db//Rb | F13: Faire une suppression de l'ancien branchement sur le départ 2 du PDP 75102P0152 IM et un re branchement du coffret EP sur le départ 2 du PDP 75102P0152 IM au 2/4 rue RAMEAU | G13: S49 | H13: Puteaux 7133 | I13: 42338 | J13: 08h30 | K13: 42304 | L13: A FAIRE | M13: 42338 | N13: AEE | O13: SOUS AC | P13: M.Rabhi 0658060271
B14: 4 RUE SAINT SABIN | C14: 75011 | D14: Saint Maur | E14: Suppression coffret EP | F14: Faire 1BP pour la Suppression du Coffret EP sur le départ 11 du PDP 75111P0350 IM au 6 rue SAINT SABIN. | G14: S48 | H14: StMaur-6554 BEX-6770 | I14: 42033 | J14: 08h30 | K14: 42396 | L14: NON | M14: 42338 | N14: AEE | O14: PAR MESSAGE COLLATIONNE | P14: M.LEGAL 06 26 71 63 98
A15: AC21/057434 | B15: 10 rue Ernestine | C15: 75018 | D15: Puteaux | E15: Nouveau raccordement | F15: un MD pour raccordement du coffret EP sur le départ 6 du PDP 75118 P0722 EN au 1 rue ERNESTINE | G15: S47 | H15: Puteaux-5930 | J15: 08h30 | K15: 42318 | L15: A FAIRE | N15: AEE | P15: M.Caira 06 21 45 48 46 | Q15: DEVET ANNULE suite à demande AEE Puteaux (M.SAKI) // Reprogrammation en semaine 47.
A16: AC21/059018 | B16: 39 rue Archereau | C16: 75019 | D16: Puteaux | E16: Raccordement EP | F16: 1 MD à réaliser à partir du départ 8S du PDP 39/41 RUE ARCHEREAU 75119P0272 | G16: S48 | H16: Puteaux-6158 | J16: 08h30 | K16: 42325 | L16: A FAIRE | N16: AEE | P16: M.BOUTON 0621454716 | Q16: ATTENTION !!!!! Chantier annulé le 22/07/15 car fouille non conforme. Conducteur de Trx injoignable.
A17: AC21/062208 | B17: 39 rue Archereau | C17: 75019 | D17: Puteaux | E17: Suppression de BST EP | F17: 1 BP à réaliser pour suppression de BST, raccordé à partir du départ 8S du PDP 39/41 RUE ARCHEREAU 75119P0272 | G17: S48 | H17: Puteaux-6159 | J17: 08h30 | L17: A FAIRE | N17: AEE | P17: M.LEGAL 06 26 71 63 98 | Q17: Chantier annulé le 22/07/15 car fouille non conforme. Conducteur de Trx injoignable.
A18: AC21/062087 | B18: 4 Rue VILLEHARDOUIN | C18: 75003 | D18: Saint Maur | E18: RACC-2xC5 | G18: S46 | H18: StMaur-6258 StMaur-6260 | N18: AEE | P18: M.Rabhi 0658060271 | Q18: Trx annulés par le client. Fouille non ouverte et ne sera pas ouverte car DICT PAS FAITE à temps.
A19: AC21/063319 | F19: Création de branchement pour alimentation armoire SLT sur le départ 15S du PDP 75109P0105 EN au 6 rue FG MONTMARTRE. | G19: S02 | H19: Puteaux-7540 Puteaux-7539
H36: 5530291947 6004749238
B48: AC21/062250
B59: AC21/057086

Sheet DEC 2015
A1: Numéro d'affaire | B1: Adresse | C1: ARRT | D1: AEE | E1: Objet | F1: TRX PREVUS | G1: Semaine | H1: N° DEVET | I1: Date Montage DATE IEP | J1: Heure TRX | K1: Identification | L1: AMEO PMEO DATE IEP | M1: TRX FAIT LE | N1: Montage | O1: TYPE TRX | P1: Interlocuteur EVESA | Q1: Observations
A2: AC21/059018 | B2: 39 rue Archereau | C2: 75019 | D2: Puteaux | E2: Raccordement EP | F2: 1 MD à réaliser à partir du départ 8S du PDP 39/41 RUE ARCHEREAU 75119P0272 | H2: Puteaux-7028 | I2: 42339 | J2: 08h30 | K2: 42334 | L2: FAIT | M2: 42339 | N2: AEE | O2: SOUS ATST | P2: M.BOUTON 0621454716 | Q2: ATTENTION !!!!! Chantier annulé le 22/07/15 car fouille non conforme. Conducteur de Trx injoignable.
A3: AC21/059020 | B3: 39 rue Archereau | C3: 75019 | D3: Puteaux | E3: Suppression de BST EP | F3: 1 BP à réaliser pour suppression de BST, raccordé à partir du départ 8S du PDP 39/41 RUE ARCHEREAU 75119P0272 | H3: Puteaux-7029 | I3: 42339 | J3: 08h30 | K3: 42334 | L3: FAIT | M3: 42339 | N3: AEE | O3: SOUS ATST | P3: M.BOUTON 0621454716 | Q3: Chantier annulé le 22/07/15 car fouille non conforme. Conducteur de Trx injoignable.
A4: AC21/061982 | B4: 73 rue Gaston Tessier | C4: 75019 | D4: Grenelle | E4: SUPBST+1BE | F4: Faire un BP pour la suppression de l'armoire SLT probablement prise sur le départ 2 du PDP 75119P0271IM au 249 rue CRIMEE Paris 19. Pose et raccordement d'une nouvelle armoire SLT prise sur le même départ : le départ 2 du PDP 75119P0271IM au 249 rue CRIMEE Paris 19. | G4: S50 | H4: Puteaux-6816 | I4: 42345 | J4: 08h30 | K4: 42296 | L4: FAIT | M4: 42339 | N4: AEE | O4: SOUS ATST | P4: Bruno DECALDAS 06 19 67 61 55
A5: AC21/057434 | B5: 10 rue Ernestine | C5: 75018 | D5: Puteaux | E5: Nouveau raccordement | F5: un MD pour raccordement du coffret EP sur le départ 6 du PDP 75118 P0722 EN au 1 rue ERNESTINE | G5: S50 | H5: Puteaux-6807 | I5: 42346 | J5: 08h30 | K5: 42341 | L5: FAIT | M5: 42346 | N5: AEE | O5: SOUS ATST | P5: M.Caira 06 21 45 48 46 | Q5: Faire attention à la fouille// DEVET ANNULE suite à demande AEE Puteaux (M.SAKI) // Reprogrammation en semaine 47.
A6: AC21/060881 | B6: 65 rue de Bagnolet | C6: 75020 | D6: Saint Maur | E6: Suppression BST | F6: suppression d'une BST sur le départ 11P du PDP 75120P0037 EN au 67 rue BAGNOLET | G6: S50 | H6: BEX- 7299 | I6: 42348 | J6: 08h30 | K6: 42299 | L6: NON | M6: 42348 | N6: TVEE | O6: PAR MESSAGE COLLATIONNE | P6: M.LEGAL 06 26 71 63 98 | Q6: Travaux par message collationné
A7: AC21/062214 | B7: 84 rue de Rennes | C7: 75006 | D7: Grenelle | E7: Suppression Borne de recharge | F7: Faire une suppression de la borne de recharge elec sur le départ 1 du PDP 75106P0893IM au 76 rue RENNES. | G7: S51 | H7: Grenelle-6303 BEX-7254 | I7: 42355 | J7: 13h30 | K7: 42352 | L7: NON | N7: IRDE | O7: PAR MESSAGE COLLATIONNE | P7: M.LEGAL 06 26 71 63 98
B8: 4 Rue VILLEHARDOUIN | C8: 75003 | D8: Saint Maur | E8: RACC-2xC5 | F8: Faire un MD sur l'un des câbles pour le raccordement d'un nouveau coffret type III-960 sur le départ 8 du PDP 75103P0080IM au 60 rue TURNNE Paris 03 Faire un MD pour le raccordement d'un nouveau coffret type III-959 sur le départ 8 du PDP 75103P0080IM au 60 rue TURNNE Paris 03 | G8: S51 | H8: StMaur-6261 | I8: 42355 | J8: 08h30 | K8: 42355 | L8: NON | M8: 42355 | N8: TVEE | O8: SOUS ATST | P8: M.Rabhi 0658060271 | Q8: Trx annulés par le client. Fouille non ouverte et ne sera pas ouverte car DICT PAS FAITE à temps.
A9: AC21/060881 | B9: 65 rue de Bagnolet | C9: 75020 | D9: Saint Maur | E9: Nouveau raccordement Coffret EP | F9: Nouveau raccordement Coffret EP sur le départ 9 du PDP 75120P0037 EN au 67 rue BAGNOLET | G9: S51 | H9: StMaur-7351 BEX-7497 Puteaux-7538 | I9: 42355 | J9: 08h30 | K9: 42352 | L9: A FAIRE | N9: TVEE | O9: PAR MESSAGE COLLATIONNE | P9: M.LEGAL 06 26 71 63 98 | Q9: SI DTE Puteaux-7538 VALIDEE, ANNULER StMaur-7351 BEX-7497
A10: AC21/062255 | B10: 120 BD MURAT | C10: 75016 | D10: Grenelle | E10: Suppression Borne de recharge | F10: Faire un BP pour la suppression de la borne de recharge prise sur le départ N°5R du PDP 75116P0721 EN au 2 Place de la porte de Saint Cloud. | G10: S51 | H10: Grenelle-6511 | I10: 42356 | J10: 13h30 | K10: 42352 | L10: NON | N10: TVEE | O10: SOUS ATST | P10: M.LEGAL 06 26 71 63 98
A11: AC21/063659 | B11: 55/57 RUE DE LA CHAPELLE | C11: 75018 | D11: Puteaux | E11: Suppressionn de 2 bst | F11: AU 57 RUE DE LA CHAPELLE: Suppression de bst sur le départ 13 du PDP 75118P0735 IM au 91/93 rue de la Chapelle AU 55 RUE DE LA CHAPELLE: Suppression de bst sur le départ 2 du PDP 75118P0736 IM au 47 rue Chapelle BST à identifier le jour de la fouille | G11: S52 | H11: Puteaux-7128 Puteaux 7130 | I11: 42360 | J11: 08h30 | K11: 42356 | L11: NON | N11: AEE | O11: SOUS ATST | P11: M.DECALDAS 06 19 67 61 55
A12: AC21/062215 | B12: 2 LOUIS MURAT | C12: 75009 | D12: Puteaux | E12: Suppression Borne de recharge | F12: 1BP pour la Suppression Borne de recharge Elect sur le départ 6 du PDP 75108P0110 EN au 28 rue DR LANCEREAUX | G12: S51 | H12: Puteaux-7118 | I12: 42391 | J12: 08h30 | K12: 42356 | L12: A FAIRE | N12: TVEE | O12: SOUS ATST | P12: M.LEGAL 06 26 71 63 98
A13: AC21/062249 | B13: 55/57 RUE DE LA CHAPELLE | C13: 75018 | D13: Puteaux | E13: Raccordement d'armoire | F13: AU 55 RUE DE LA CHAPELLE: Raccordement d'armoire(MD) sur la liaison réseau(LR) qui alimentait la BST prise sur le départ 2 du PDP 75118P0736 IM au 47 rue Chapelle | G13: S52 | H13: Puteaux 7133 | I13: 42392 | J13: 08h30 | K13: 42396 | L13: NON | N13: AEE | O13: SOUS ATST | P13: M.DECALDAS 06 19 67 61 55
B14: 7 RUE DU GENERAL MALLETERRE | C14: 75016 | D14: Grenelle | E14: Nouveau raccordement | F14: Faire un MJ sur le départ 6 du PDP 75116P0535IM au 17 rue GENE NIOX | G14: S52 | H14: StMaur-7059 | I14: 42727 | J14: 13h30 | K14: 42356 | L14: FAIT | N14: TVEE | O14: SOUS ATST | P14: M.CHIFFOT 07.77.99.47.23
A15: AC21/062216 | B15: 147 RUE LA FAYETTE | C15: 75010 | D15: Puteaux | E15: Suppression Borne de recharge | F15: Faire 1BP pour la Suppression Borne de recharge Elect sur le départ 14S du PDP 75110P0154EN au 148 rue LAFAYETTE. | G15: S50 | H15: Puteaux-7239 | N15: TVEE | P15: M.LEGAL 06 26 71 63 98
A16: AC21/063319 | B16: 32 BVD POISSONNIERE | C16: 75002 | D16: Puteaux | E16: Nouveau raccordement ARMOIRE SLT | F16: Création de branchement pour alimentation armoire SLT sur le départ 15S du PDP 75109P0105 EN au 6 rue FG MONTMARTRE. | G16: S49 | H16: Puteaux-6622 | J16: 08h30 | K16: 42340 | L16: NON | N16: TVEE | O16: SOUS ATST | P16: M.Rabhi 0658060271
A17: AC21/055673 | B17: rue d' Alesia | C17: 75014 | N17: TVEE
A18: AC21/061565 | B18: F25 rue du Clos | C18: 75020 | D18: Saint Maur | E18: Nouveau raccordement | F18: Faire 1 MD à réaliser sur le départ 6 du PDP 75120P0095 au 22 rue du CLOS Paris 20. //////// Faire la suppression de la BST N° XX9699 sur le départ 6 du PDP 75120P0095 au 22 rue du CLOS Paris 20. | G18: S02 | H18: StMaur-7009 StMaur-7008 | N18: TVEE
A19: AC21/063319 | B19: 32 BVD POISSONNIERE | C19: 75002 | D19: Puteaux | E19: Nouveau raccordement ARMOIRE SLT | F19: Création de branchement pour alimentation armoire SLT sur le départ 15S du PDP 75109P0105 EN au 6 rue FG MONTMARTRE. | G19: S02 | H19: Puteaux-7540 Puteaux-7539 | P19: M.Rabhi 0658060271
B59: AC21/057086

Sheet JAN 2016
A1: Numéro d'affaire | B1: Adresse | C1: ARRT | D1: AEE | E1: Objet | F1: TRX PREVUS | G1: Semaine | H1: N° DEVET | I1: Date Montage DATE IEP | J1: Heure TRX | K1: Identification | L1: AMEO PMEO DATE IEP | M1: TRX FAIT LE | N1: Montage | O1: TYPE TRX | P1: Interlocuteur EVESA | Q1: Observations
A2: AC21/062323 | B2: 7 rue Antoine Julien Henard | C2: 75012 | D2: Tolbiac | E2: Création branchement pour raccordement coffret borne 2 directions | F2: Création branchement pour raccordement coffret borne 2 directions sur le départ 8R du PDP 75112P0032 EN au 41 Allée Vivaldi | G2: S01 | H2: Tolbiac-7057 | I2: 42375 | J2: 08h30 | K2: 42008 | L2: A FAIRE | N2: AEE | O2: SOUS ATST | P2: M.LENOIR 06 19 97 22 08 f.lenoir@evesa.fr
A3: AC21/059720 | B3: 15 rue Nelaton | C3: 75015 | D3: Grenelle | E3: Suppression coffret camera | F3: 1 BP pour suppression d'un coffret caméra actuellement alimenté à partir du départ 5 du PDP : 10 RUE DU DOCTEUR FINLAY 75115P0749. | G3: S01 | H3: Grenelle-7308 | I3: 42376 | J3: 08h30 | K3: 42008 | L3: NON | N3: AEE | O3: SOUS ATST | P3: M.Mellul 0618300907 mmellul@citelum.fr
A4: AC21/062220 | B4: 24 AV PAUL DOUMER | C4: 75016 | D4: Grenelle | E4: Suppression de borne | F4: 1BP pour la Suppression Borne de recharge Elect sur le départ 3 du PDP 75116P0682IM au 16/20 rue PETRARQUE | G4: S01 | H4: Grenelle-7094 | I4: 42376 | J4: 13h30 | K4: 42008 | L4: A FAIRE | N4: AEE | O4: SOUS ATST | P4: M.LEGAL 06 26 71 63 98
A5: AC21/062250 | B5: 4 AV GOURGAUD | C5: 75017 | D5: Puteaux | E5: Suppression Borne de recharge | F5: Faire un BP pour la suppression de la BST prise sur le départ 4 du PDP 75117P0412EN au 1 Av GOURGAUD | G5: S02 | H5: Puteaux-7189 | I5: 42380 | J5: 13h30 | K5: 42011 | L5: NON | N5: AEE | O5: SOUS ATST | P5: M.LEGAL 06 26 71 63 98
A6: AC21/062477 | B6: 18 rue Sedaine | C6: 75011 | D6: Saint Maur | E6: le raccordement du nouveau coffret EP | F6: Faire un MD pour le raccordement du nouveau coffret EP sur le départ 8 du PDP 75111P0350IM au 6 rue ST SABIN. | G6: S02 | H6: StMaur-7310 BEX-7495 | I6: 42380 | J6: 08h30 | K6: 42012 | L6: NON | N6: TVEE | O6: PAR MESSAGE COLLATIONNE | P6: M.LEGAL 06 26 71 63 98
A7: AC21/062328 | B7: 21 rue du Lieutenant Chaure | C7: 75020 | D7: Saint Maur | E7: raccordement du nouveau coffret EP | F7: Faire un MD pour le raccordement du nouveau coffret EP sur le départ 11 du PDP 75120P0352IM | G7: S02 | H7: StMaur-7312 | I7: 42383 | J7: 10h00 | K7: 42015 | L7: NON | N7: AEE | O7: SOUS ATST | P7: M.LEGAL 06 26 71 63 98
B8: 21 rue du Lieutenant Chaure | C8: 75020 | D8: Saint Maur | E8: suppression du coffret EP | F8: Faire un BP pour la suppression du coffret sur le départ 11 du PDP 75120P0352IM au 9 rue Alphonse Penaud | G8: S02 | H8: StMaur-7319 | I8: 42383 | J8: 08h30 | K8: 42015 | L8: NON | M8: 42355 | N8: AEE | O8: SOUS ATST | P8: M.LEGAL 06 26 71 63 98
A9: AC21/063865 | B9: 10 RUE DE FLANDRE | C9: 75019 | D9: Saint Maur | E9: suppression de borne de recharge | F9: Faire une suppression de borne de recharge(BP) sur le départ 2 du PDP 75119P0428 EN | G9: S02 | H9: StMaur-7351 BEX-7497 Puteaux-7538 | I9: 42383 | J9: 08h30 | K9: 42012 | L9: NON | N9: TVEE | O9: PAR MESSAGE COLLATIONNE | P9: M.LEGAL 06 26 71 63 98 | Q9: SI DTE Puteaux-7538 VALIDEE, ANNULER StMaur-7351 BEX-7497
A10: AC21/062208 | B10: RUE DE L'AMIRAL DE COLIGNY | C10: 75001 | D10: Saint Maur | E10: Suppression Borne de recharge | F10: 1BP pour la Suppression Borne de recharge Elect sur le départ 4S du PDP 75101P0045EN | G10: S51 | H10: StMaur-7471 | I10: 42398 | J10: 13h30 | K10: 42031 | L10: A FAIRE | N10: AEE | O10: SOUS ATST | P10: M.LEGAL 06 26 71 63 98
A11: AC21/062249 | B11: 9 AV DE VILLARS | C11: 75001 | D11: Grenelle | E11: Suppression Borne de recharge | F11: Faire un BP pour la suppression de la borne de recharge elect sur le départ 3 75107P0292 EN | G11: S51 | H11: Puteaux-7128 Puteaux 7130 | I11: 42398 | J11: 13h30 | K11: 42396 | L11: A FAIRE | N11: AEE | O11: SOUS ATST | P11: M.LEGAL 06 26 71 63 98
A12: AC21/061565 | B12: 25 rue du Clos | C12: 75020 | D12: Saint Maur | E12: Suppression Borne de recharge + Nouveau raccordement Armoire S12 | F12: Faire un BP pour la suppression de la BST prise sur le départ 6 du PDP 75120P0095 au 22 rue du CLOS Paris 20, Faire 1 MD sur le départ 6 du PDP 75120P0095 au 22 rue du CLOS Paris 20. | G12: S02 | H12: StMaur-7008 StMaur-7009 | K12: 42017 | L12: A FAIRE | O12: PAR MESSAGE COLLATIONNE
A13: AC21/062318 | B13: 10/12 passage Dagorno | C13: 75020 | D13: Saint Maur | E13: Création nouveau raccordement | F13: Création nouveau raccordement sur le départ 9R du PDP 75120P0057En au 101 rue Périnées. | G13: S02 | H13: Puteaux 7133 | K13: 42017 | L13: NON | O13: PAR MESSAGE COLLATIONNE
B14: Angle rue Froidevaux/ 2 Av du colonel Henri Roi-Tanguy dans la pl Denfert Rochereau | C14: 75014 | D14: Tolbiac | E14: Nouveau raccordement | F14: Faire 1MD pour création d'un nouveau branchement EP sur le départ 12S du PDP 75114P0220IM au 1 rue VICTOR CONSIDEREANT | H14: Tolbiac-6048 | P14: M.JULIENNE 06 21 45 48 68
A15: AC21/062254 | B15: 107 boulevard Massena | C15: 75013 | D15: Tolbiac | E15: Suppression Borne de recharge | F15: Faire 1BP pour la Suppression Borne de recharge Elect sur le départ 4 du PDP 75113P0776 EN au 36 AV PTE DE CHOISY. | G15: S03 | H15: Tolbiac-7516
A19: AC21/063319 | B19: 32 BVD POISSONNIERE | C19: 75002 | D19: Puteaux | E19: Nouveau raccordement | F19: Création de branchement pour alimentation armoire SLT sur le départ 15S du PDP 75109P0105 EN au 6 rue FG MONTMARTRE. | G19: S02 | H19: Puteaux-7540 Puteaux-7539
H36: 5530291947 6004749238
B59: AC21/057086

Sheet FEV 2016 
A1: Numéro d'affaire | B1: Adresse | C1: ARRT | D1: AEE | E1: Objet | F1: TRX PREVUS | G1: Semaine | H1: N° DEVET | I1: Date Montage DATE IEP | J1: Heure TRX | K1: Identification | L1: AMEO PMEO DATE IEP | M1: TRX FAIT LE | N1: Montage | O1: TYPE TRX | P1: Interlocuteur EVESA | Q1: Observations
A2: AC21/062217 | B2: 94 rue Saint Maur | C2: 75011 | D2: Saint Maur | E2: Suppression de borne de rechargement électrique | F2: Suppression de borne de rechargement électrique sur le départ 1R du PDP 75111P0179IM au 94 rue Saint Maur | G2: S08 | H2: StMaur-7321 | P2: M.LEGAL 06 26 71 63 98
A3: AC21/062251 | B3: 13 AV PERE LACHAISE | C3: 75020 | D3: Saint Maur | E3: Suppression Borne elec véhicule | F3: Suppression Borne elec véhicule sur le départ 3R du PDP 75120P0118 IM au 6 rue EMIL LANDRIN | G3: S08 | H3: StMaur-7320 | P3: M.LEGAL 06 26 71 63 98
M8: 42355
H9: StMaur-7351 BEX-7497 Puteaux-7538 | Q9: SI DTE Puteaux-7538 VALIDEE, ANNULER StMaur-7351 BEX-7497
H11: Puteaux-7128 Puteaux 7130 | I11: 42015
I12: 42015
H13: Puteaux 7133
I14: 42033 | K14: 42396
A19: AC21/063319 | F19: Création de branchement pour alimentation armoire SLT sur le départ 15S du PDP 75109P0105 EN au 6 rue FG MONTMARTRE. | G19: S02 | H19: Puteaux-7540 Puteaux-7539
H36: 5530291947 6004749238
B59: AC21/057086

Sheet Suivi Chantier EVESA en cours
B1: Numéro d'affaire | C1: Adresse | D1: ARRT | E1: DEVIS PAYE | F1: Cde Entreprise APRES VAL DEVET | G1: Cde Matériel APRES VAL DEVET | H1: N° Cdes MATERIEL ENTREPRISE | I1: Retour Cde Val/Signée | J1: COURRIER: CLT + ENT | K1: PMEO + DATE IEP | L1: Ouverture Fouille | M1: Photo Fouille + PLAN Deroulage | N1: Envoie Plan au Bex + ATT TRX | O1: DATE IEP AMEO FACTURE FIN TRX | P1: AAT DATE IEP | Q1: IEP + Plan Recolement LE | R1: Carto Le | S1: RELEVE CONTRADICTOIRE | T1: FSS | U1: Rangement DOSSIER | V1: A ARCHIVER | X1: Portefeuille total | AD1: Nombre de cellules ne contenant pas la chaîne « point d'arret » en f | AF1: Nombre de cellules contenant la chaîne « point d'arret » en f
B2: AC21/060262 | C2: 53 rue de Meaux | D2: 75019 | E2: OUI | F2: OUI | G2: OUI | H2: 5530249686 | I2: Pas nécessaire | J2: OUI | K2: Pas nécessaire | L2: OUI | M2: OUI | N2: OUI | O2: OUI | P2: OUI | Q2: 42201 | R2: 42207 | S2: OUI | T2: OUI | U2: RECEPTIONNER LES TRX | V2: OUI | X2: =IF(ISNUMBER(D2),1,"") -> 1 | AD2: (NBVAL((F2:F500))-(NB.SI(F2:F500;"POINT D'ARRET"))) | AF2: =COUNTIF(F:F,"POINT D'ARRET") -> 1
B3: AC21/060247 | C3: 33 avenue Secretan | D3: 75019 | E3: OUI | F3: OUI | G3: S46 | H3: 5530249665 | I3: Pas nécessaire | J3: OUI | K3: Pas nécessaire | L3: OUI | M3: OUI | N3: OUI | O3: OUI | P3: OUI | Q3: 42201 | R3: 42207 | S3: OUI | T3: OUI | U3: RECEPTIONNER LES TRX | V3: OUI | X3: =IF(ISNUMBER(D3),1,"") -> 1
B4: AC21/060261 | C4: 21 rue Bouret | D4: 75019 | E4: OUI | F4: Pas nécessaire | G4: S46 | I4: Pas nécessaire | J4: OUI | K4: Pas nécessaire | L4: OUI | M4: OUI | N4: OUI | O4: OUI | P4: OUI | Q4: 42201 | R4: 42207 | S4: OUI | T4: OUI | U4: RECEPTIONNER LES TRX | V4: OUI | X4: =IF(ISNUMBER(D4),1,"") -> 1 | AD4: Dossiers en bonne voie
B5: AC21/060248 | C5: 3 rue Baste | D5: 75019 | E5: OUI | F5: Pas nécessaire | G5: OUI | I5: Pas nécessaire | J5: OUI | K5: Pas nécessaire | L5: OUI | M5: OUI | N5: Pas nécessaire | O5: OUI | P5: Montage AEE | S5: Pas nécessaire | T5: Pas nécessaire | U5: RECEPTIONNER LES TRX | V5: OUI | X5: =IF(ISNUMBER(D5),1,"") -> 1 | AD5: =COUNTA(F2:F155) -> 64
B6: AC21/061339 | C6: 1/2 bvd Montmartre | D6: 75002 | E6: OUI | F6: Pas nécessaire | G6: OUI | H6: 6004697127 | I6: Pas nécessaire | J6: OUI | K6: OUI | L6: OUI | M6: OUI | N6: Pas nécessaire | O6: OUI | P6: Montage AEE | S6: Pas nécessaire | T6: Pas nécessaire | U6: RECEPTIONNER LES TRX | V6: OUI | X6: =IF(ISNUMBER(D6),1,"") -> 1
B7: AC21/057426 | C7: F 118 Av Simon Bolivar | D7: 75019 | E7: OUI | F7: OUI | G7: OUI | H7: 5530259539 5530256922 | I7: OUI | J7: OUI | K7: Pas nécessaire | L7: OUI | M7: OUI | N7: Pas nécessaire | O7: OUI | P7: OUI | Q7: 42242 | R7: 42242 | S7: OUI | T7: OUI | U7: RECEPTIONNER LES TRX | V7: OUI | X7: =IF(ISNUMBER(D7),1,"") -> 1 | AE7: SI(OU(A1="x";A2="non");"";SI(A1<>B1;"Interdit";"Autorisé"))
B8: AC21/062092 | C8: 32 BVD Poissonniere | D8: 75002 | E8: OUI | F8: Pas nécessaire | G8: Pas nécessaire | I8: Pas nécessaire | J8: OUI | K8: Pas nécessaire | L8: OUI | M8: 42355 | N8: OUI | O8: OUI | P8: Montage AEE | S8: Pas nécessaire | T8: Pas nécessaire | U8: RECEPTIONNER LES TRX | V8: OUI | X8: =IF(ISNUMBER(D8),1,"") -> 1 | AD8: $H$4>0 | AE8: $F$4:$G$4
B9: AC21/062093 | C9: 32 BVD Poissonniere | D9: 75002 | E9: OUI | F9: Pas nécessaire | G9: Pas nécessaire | H9: StMaur-7351 BEX-7497 Puteaux-7538 | I9: Pas nécessaire | J9: OUI | K9: Pas nécessaire | L9: OUI | M9: OUI | N9: OUI | O9: OUI | P9: Montage AEE | Q9: SI DTE Puteaux-7538 VALIDEE, ANNULER StMaur-7351 BEX-7497 | S9: Pas nécessaire | T9: Pas nécessaire | U9: RECEPTIONNER LES TRX | V9: OUI | X9: =IF(ISNUMBER(D9),1,"") -> 1 | AD9: $E$4="oui" | AE9: $F$4:$G$4
B10: AC21/057698 | C10: 87 avenue Parmentier | D10: 75011 | E10: OUI | F10: Pas nécessaire | G10: Pas nécessaire | I10: Pas nécessaire | J10: Pas nécessaire | K10: Pas nécessaire | L10: OUI | M10: OUI | N10: OUI | O10: OUI | P10: Montage AEE | S10: Pas nécessaire | T10: Pas nécessaire | U10: RECEPTIONNER LES TRX | V10: OUI | X10: =IF(ISNUMBER(D10),1,"") -> 1
B11: AC21/060693 | C11: 7 boulevard de Magenta | D11: 75010 | E11: OUI | F11: OUI | G11: OUI | H11: Puteaux-7128 Puteaux 7130 | I11: 42015 | J11: OUI | K11: Pas nécessaire | L11: OUI | M11: OUI | N11: OUI | O11: OUI | P11: OUI | Q11: 42269 | R11: 42270 | S11: OUI | T11: A faire | U11: RECEPTIONNER LES TRX | X11: =IF(ISNUMBER(D11),1,"") -> 1
B12: AC21/060263 | C12: 33 Av Secretan | D12: 75019 | E12: OUI | F12: Pas nécessaire | G12: Pas nécessaire | I12: 42015 | J12: Pas nécessaire | K12: Pas nécessaire | L12: OUI | M12: OUI | N12: OUI | O12: A FAIRE | U12: TRX REALISES | X12: =IF(ISNUMBER(D12),1,"") -> 1
B13: AC21/060618 | C13: 19 bvd Saint Denis | D13: 75002 | E13: OUI | F13: OUI | G13: OUI | H13: Puteaux 7133 | I13: OUI | J13: OUI | K13: Pas nécessaire | M13: OUI | N13: OUI | O13: OUI | P13: OUI | Q13: 42242 | R13: 42242 | S13: OUI | T13: OUI | U13: RECEPTIONNER LES TRX | X13: =IF(ISNUMBER(D13),1,"") -> 1
B14: AC21/060630 | C14: 4 rue Saint Antoine | D14: 75004 | E14: OUI | F14: OUI | G14: OUI | H14: 6004702345 5530275793 | I14: 42033 | J14: OUI | K14: 42396 | L14: OUI | M14: OUI | N14: OUI | O14: OUI | P14: OUI | Q14: 42243 | R14: 42242 | S14: OUI | T14: OUI | U14: RECEPTIONNER LES TRX | X14: =IF(ISNUMBER(D14),1,"") -> 1
B15: AC21/061338 | C15: 29 BVD Poissonniere | D15: 75002 | E15: OUI | F15: OUI | G15: OUI | H15: 5530323339 6004703858 | I15: NON | J15: OUI | K15: OUI | L15: OUI | M15: OUI | N15: OUI | O15: OUI | P15: A FAIRE | U15: EN ATT PLANNIFICATION | X15: =IF(ISNUMBER(D15),1,"") -> 1
B16: AC21/061943 | C16: 69 avenue Georges Mandel | D16: 75016 | E16: OUI | F16: Pas nécessaire | G16: OUI | H16: 6004720481 | J16: OUI | K16: OUI | L16: OUI | M16: OUI | N16: OUI | O16: OUI | P16: Montage AEE | S16: Pas nécessaire | T16: Pas nécessaire | U16: RECEPTIONNER LES TRX | V16: OUI | X16: =IF(ISNUMBER(D16),1,"") -> 1
B17: AC21/061690 | C17: 22 rue Mondetour | D17: 75001 | E17: OUI | F17: Pas nécessaire | G17: OUI | H17: 6004734189 | I17: Pas nécessaire | J17: OUI | K17: Pas nécessaire | L17: OUI | M17: OUI | N17: OUI | O17: OUI | P17: Montage AEE | S17: Pas nécessaire | T17: Pas nécessaire | U17: RECEPTIONNER LES TRX | V17: OUI | X17: =IF(ISNUMBER(D17),1,"") -> 1
B18: AC21/060903 | C18: 10 avenue de Bouvines | D18: 75011 | E18: NON | F18: Pas nécessaire | G18: Pas nécessaire | I18: Pas nécessaire | J18: OUI | K18: Pas nécessaire | L18: OUI | M18: OUI | N18: OUI | O18: Pas nécessaire | P18: Montage AEE | S18: Pas nécessaire | T18: Pas nécessaire | U18: RECEPTIONNER LES TRX | V18: OUI | X18: =IF(ISNUMBER(D18),1,"") -> 1
B19: AC21/061958 | C19: 4 RUE DU PRE | D19: 75018 | E19: OUI | F19: Création de branchement pour alimentation armoire SLT sur le départ 15S du PDP 75109P0105 EN au 6 rue FG MONTMARTRE. | G19: S02 | H19: Puteaux-7540 Puteaux-7539 | O19: OUI | P19: Montage AEE | S19: Pas nécessaire | T19: Pas nécessaire | U19: RECEPTIONNER LES TRX | V19: OUI | X19: =IF(ISNUMBER(D19),1,"") -> 1
B20: AC21/062048 | C20: 3 RUE D'ALEXANDRIE | D20: 75002 | E20: OUI | F20: OUI | G20: OUI | H20: 5530291947 6004749238 | J20: OUI | K20: Pas nécessaire | L20: OUI | M20: OUI | O20: OUI | P20: A FAIRE | U20: RECEPTIONNER LES TRX | X20: =IF(ISNUMBER(D20),1,"") -> 1
B21: AC21/060915 | C21: rue Watt | D21: 75013 | E21: OUI | F21: Pas nécessaire | G21: Pas nécessaire | I21: Pas nécessaire | J21: OUI | K21: Pas nécessaire | L21: OUI | M21: OUI | O21: OUI | P21: Montage AEE | S21: Pas nécessaire | T21: Pas nécessaire | U21: RECEPTIONNER LES TRX | V21: OUI | X21: =IF(ISNUMBER(D21),1,"") -> 1
B22: AC21/061701 | C22: RUE DU COLONEL PIERRE AVIA | D22: 75015 | E22: OUI | F22: OUI | G22: OUI | H22: 5530306085 6004786194 | I22: NON | J22: OUI | K22: OUI | L22: OUI | M22: OUI | O22: A FAIRE | U22: ATT TRX EN COURS | X22: =IF(ISNUMBER(D22),1,"") -> 1
B23: AC21/060452 | C23: 1 avenue de Bouvines | D23: 75011 | E23: OUI | F23: OUI | G23: OUI | H23: 5530294139 6004754938 | I23: OUI | J23: OUI | K23: Pas nécessaire | L23: OUI | M23: OUI | N23: ATT TRX | O23: A FAIRE | U23: ATT TRX EN COURS | X23: =IF(ISNUMBER(D23),1,"") -> 1
B24: AC21/062212 | C24: PLACE SAINT GERVAIS | D24: 75004 | E24: OUI | F24: Att Validation | G24: OUI | H24: 5530313337 6004802544 | I24: NON | J24: OUI | K24: Pas nécessaire | L24: OUI | M24: OUI | N24: ATT TRX | O24: A FAIRE | U24: ATT TRX EN COURS | X24: =IF(ISNUMBER(D24),1,"") -> 1
B25: AC21/062112 | C25: Angle rue Froidevaux/ 2 Av du colonel Henri Roi-Tanguy dans la pl Denfert Rochereau | D25: 75014 | E25: Tolbiac | F25: OUI | G25: Pas nécessaire | I25: Pas nécessaire | J25: OUI | K25: Pas nécessaire | L25: OUI | M25: OUI | N25: OUI | O25: OUI | P25: Montage AEE | S25: Pas nécessaire | T25: Pas nécessaire | U25: RECEPTIONNER LES TRX | X25: =IF(ISNUMBER(D25),1,"") -> 1
