Workbook

Sheet Informations
A2: Responsable d'Opération
B5: ????
A6: Aurélien T
A9: Tél : | B9: 06.42. | M9: J'ai regroupé dans cette feuille toutes les informations qui doivent servir à la construction du quitus (feuille 3). Fonction des projets en cours, seule cette feuille sera amandée (dans l'idéal). Je cherche par exemple à intégrer les données details de l'opération de la façon suivante : si dans feuille quitus F12 = F19 dans "Informations", alors les informations annexes (F18;20; ligne 21) sont renvoyées dans le tableau de la feuille "quitus".
A10: Fax : | B10: 03.27
A13: Détails de l'Opération
A14: Intitulé du projet : | C14: A remplir
A17: 1
F18: =C14 -> A remplir
F19: Zone 1
F20: logements individuels PLUS CD
A21: Date de Mise en Location : | E21: 41624 | G21: Date demande d'intervention : | K21: =TODAY() -> 41785
A23: 2
F24: =C14 -> A remplir
F25: Zone 2
F26: logements individuels PLUS CD
A27: Date de Mise en Location : | E27: 41715 | G27: Date demande d'intervention : | K27: =TODAY() -> 41785
A29: 3
F30: =C14 -> A remplir
F31: Zone 3
F32: logements individuels PLUS CD
A33: Date de Mise en Location : | G33: Date demande d'intervention : | K33: =TODAY() -> 41785
A35: 4
F36: =C14 -> A remplir
F37: Collectif 1
F38: logements individuels PLUS CD
A39: Date de Mise en Location : | G39: Date demande d'intervention : | K39: =TODAY() -> 41785
A41: 5
F42: =C14 -> A remplir
F43: Collectif 2
F44: logements individuels PLUS CD
A45: Date de Mise en Location : | G45: Date demande d'intervention : | K45: =TODAY() -> 41785
A47: 6
F48: =C14 -> A remplir
F49: Titre
F50: Nb LOG et TYPE/CATEGORIE PRÊT
A51: Date de Mise en Location : | G51: Date demande d'intervention : | K51: =TODAY() -> 41785
A53: 7
F54: =C14 -> A remplir
F55: Titre
F56: Nb LOG et TYPE/CATEGORIE PRÊT
A57: Date de Mise en Location : | G57: Date demande d'intervention : | K57: =TODAY() -> 41785
A60: ENTREPRISES
A64: Contact | B64: Mr/Mme ???? | E64: Contact | F64: Mr/Mme | I64: Contact | J64: Mr/Mme | M64: Entreprise | N64: Colonne2 | O64: Adresse | P64: code po | Q64: ville | R64: Teléphone | S64: FAX
A65: ploumploum | E65: NOM | I65: NOM | M65: =A65 -> ploumploum | N65: =B64 -> Mr/Mme ???? | O65: =A66 -> ???? | P65: =A67 -> ???? | Q65: =B67 -> mantes | R65: =B68 -> 03.20 | S65: =B69 -> 03.20.
A66: ???? | E66: Adresse | I66: Adresse | M66: =A72 -> NOM | N66: =B71 -> Mr/Mme | O66: =A73 -> Adresse | P66: =A74 -> code po | Q66: =B74 -> VILLE | R66: =B75 -> 3 | S66: =B76 -> 3
A67: ???? | B67: mantes | F67: VILLE | I67: code po | J67: VILLE | M67: =A79 -> NOM | N67: =B78 -> Mr/Mme | O67: =A80 -> Adresse | P67: =A81 -> code po | Q67: =B81 -> VILLE | R67: =B82 -> 3 | S67: =B83 -> 3
A68: Tél: | B68: 03.20 | E68: Tél: | F68: 3 | I68: Tél: | J68: 3 | M68: =A86 -> NOM | N68: =B85 -> Mr/Mme | O68: =A87 -> Adresse | P68: =A88 -> code po | Q68: =B88 -> VILLE | R68: =B89 -> 3 | S68: =B90 -> 3
A69: Fax: | B69: 03.20. | E69: Fax: | F69: 3 | I69: Fax: | J69: 3 | M69: =A93 -> NOM | N69: =B92 -> Mr/Mme | O69: =A94 -> Adresse | P69: =A95 -> code po | Q69: =B95 -> VILLE | R69: =B96 -> 3 | S69: =B97 -> 3
M70: =E65 -> NOM | N70: =F64 -> Mr/Mme | O70: =E66 -> Adresse | P70: =E67 -> 0 | Q70: =F67 -> VILLE | R70: =F68 -> 3 | S70: =F69 -> 3
A71: Contact | B71: Mr/Mme | E71: Contact | F71: Mr/Mme | I71: Contact | J71: Mr/Mme | M71: =E72 -> NOM | N71: =F71 -> Mr/Mme | O71: =E73 -> Adresse | P71: =E74 -> code po | Q71: =F74 -> VILLE | R71: =F75 -> 3 | S71: =F76 -> 3
A72: NOM | E72: NOM | I72: NOM | M72: =E79 -> NOM | N72: =F78 -> Mr/Mme | O72: =E80 -> Adresse | P72: =E81 -> code po | Q72: =F81 -> VILLE | R72: =F82 -> 3 | S72: =F83 -> 3
A73: Adresse | E73: Adresse | I73: Adresse | M73: =E86 -> NOM | N73: =F85 -> Mr/Mme | O73: =E87 -> ADRESSE | P73: =E88 -> code po | Q73: =F88 -> VILLE | R73: =F89 -> 3 | S73: =F90 -> 3
A74: code po | B74: VILLE | E74: code po | F74: VILLE | I74: code po | J74: VILLE | M74: =E93 -> NOM | N74: =F92 -> Mr/Mme | O74: =E94 -> Adresse | P74: =E95 -> code po | Q74: =F95 -> VILLE | R74: =F96 -> 3 | S74: =F97 -> 3
A75: Tél: | B75: 3 | E75: Tél: | F75: 3 | I75: Tél: | J75: 3 | M75: =I65 -> NOM | N75: =J64 -> Mr/Mme | O75: =I66 -> Adresse | P75: =I67 -> code po | Q75: =J67 -> VILLE | R75: =J68 -> 3 | S75: =J69 -> 3
A76: Fax: | B76: 3 | E76: Fax: | F76: 3 | I76: Fax: | J76: 3 | M76: =I72 -> NOM | N76: =J71 -> Mr/Mme | O76: =I73 -> Adresse | P76: =I74 -> code po | Q76: =J74 -> VILLE | R76: =J75 -> 3 | S76: =J76 -> 3
M77: =I79 -> NOM | N77: =J78 -> Mr/Mme | O77: =I80 -> = | P77: =I81 -> code po | Q77: =J81 -> VILLE | R77: =J82 -> 3 | S77: =J83 -> 3
A78: Contact | B78: Mr/Mme | E78: Contact | F78: Mr/Mme | I78: Contact | J78: Mr/Mme | M78: =I86 -> NOM | N78: =J85 -> Mr/Mme | O78: =I87 -> Adresse | P78: =I88 -> code po | Q78: =J88 -> VILLE | R78: =J89 -> 3 | S78: =J90 -> 3
A79: NOM | E79: NOM | I79: NOM | M79: =I93 -> NOM | N79: =J92 -> Mr/Mme | O79: =I94 -> Adresse | P79: =I95 -> code po | Q79: =J95 -> VILLE | R79: =J96 -> 3 | S79: =J97 -> 3
A80: Adresse | E80: Adresse | I80: =
A81: code po | B81: VILLE | E81: code po | F81: VILLE | I81: code po | J81: VILLE
A82: Tél: | B82: 3 | E82: Tél: | F82: 3 | I82: Tél: | J82: 3
A83: Fax: | B83: 3 | E83: Fax: | F83: 3 | I83: Fax: | J83: 3
A85: Contact | B85: Mr/Mme | E85: Contact | F85: Mr/Mme | I85: Contact | J85: Mr/Mme
A86: NOM | E86: NOM | I86: NOM
A87: Adresse | E87: ADRESSE | I87: Adresse
A88: code po | B88: VILLE | E88: code po | F88: VILLE | I88: code po | J88: VILLE
A89: Tél: | B89: 3 | E89: Tél: | F89: 3 | I89: Tél: | J89: 3
A90: Fax: | B90: 3 | E90: Fax: | F90: 3 | I90: Fax: | J90: 3
A92: Contact | B92: Mr/Mme | E92: Contact | F92: Mr/Mme | I92: Contact | J92: Mr/Mme
A93: NOM | E93: NOM | I93: NOM
A94: Adresse | E94: Adresse | I94: Adresse
A95: code po | B95: VILLE | E95: code po | F95: VILLE | I95: code po | J95: VILLE
A96: Tél: | B96: 3 | E96: Tél: | F96: 3 | I96: Tél: | J96: 3
A97: Fax: | B97: 3 | E97: Fax: | F97: 3 | I97: Fax: | J97: 3

Sheet Réserves & GPA - Zone 1 (2)
J1: PA | K1: Parfait Achêvement | M1: T | N1: Transmis
J2: R | K2: Retour Agence | M2: A | N2: A envoyer
J3: VC | K3: Visite de courtoisie | M3: EA | N3: En Attente
A6: Log travaux | B6: Type | C6: Réserve | D6: Localisation | E6: Entreprise | F6: Etat
A7: 31 | B7: PA | C7: Engazonnement à réaliser | D7: Jardin | E7: b | F7: T
A8: 31 | B8: PA | C8: Appareillages, Sanitaires, miroir à poser | D8: 0 | E8: ploumploum | F8: A
A9: 31 | B9: PA | C9: Calfeutrer les travaersées EU et EP vers la gaine technique | D9: Sdploumploum | E9: ploumploum | F9: A
A10: 31 | B10: PA | C10: Calfeutrer les travaersées EU et EP vers la gaine technique | D10: Sdploumploum | E10: ploumploum | F10: A
A11: 31 | B11: PA | C11: Calfeutrer les tuyaux | D11: Garage | E11: ploumploum | F11: A
A12: 31 | B12: PA | C12: Joint à réaliser entre sol souple palier et garde corps | D12: 0 | E12: Du | F12: T
A13: 31 | B13: PA | C13: Visserie manquante sur ploumploumoite electrique | D13: Ch 1 | E13: He | F13: T
A14: 31 | B14: PA | C14: Vitrage griffé à remplacer | D14: Cuisine | E14: l | F14: T
A15: 31 | B15: PA | C15: Poser les sous faces des volets roulants | D15: 0 | E15: l | F15: EA
A16: 31 | B16: PA | C16: Revision d'une manivelle de volet roulant | D16: Ch 1 | E16: l | F16: T
A17: 31 | B17: PA | C17: Système de fixation des sous faces de VR inadapté - A revoir avec l | D17: 0 | E17: Lo | F17: A
A18: 31 | B18: PA | C18: Retouche de peinture | D18: WC | E18: ploumploum ploumploum | F18: T
A19: 31 | B19: PA | C19: Manque peinture sur tuyauterie | D19: Sdploumploum | E19: ploumploum ploumploum | F19: T
A20: 31 | B20: PA | C20: Reprise peinture sur escalier y compris main courante | D20: 0 | E20: ploumploum ploumploum | F20: T
A21: 31 | B21: VC | C21: Reprise ploumploumande calicot | D21: Hall d'entrée | E21: ploumploumploumploumI | F21: T
A22: 31 | B22: VC | C22: Radiateurs ne chauffent pas à l'étage | D22: 0 | E22: ploumploum | F22: EA
A23: 31 | B23: VC | C23: Réglage porte fenêtre côté jardin | D23: Cuisine | E23: l | F23: EA
A24: 31 | B24: VC | C24: Pas de réception téléphone - Fourreau ploumploumouché | D24: 0 | E24: Ma | F24: T
A25: 31 | B25: VC | C25: Réglage porte de garage | D25: Garage | E25: So | F25: T
A26: 31 | B26: VC | C26: Reprise peinture escalier | D26: 0 | E26: ploumploum ploumploum | F26: A
A27: 31 | D27: #N/A | E27: #N/A
A28: 31 | D28: #N/A | E28: #N/A
A29: 31 | D29: #N/A | E29: #N/A
A30: 31 | D30: #N/A | E30: #N/A
A31: 31 | D31: #N/A | E31: #N/A
A32: 32 | B32: PA | C32: Engazonnement à réaliser | D32: Jardin | E32: b | F32: T
A33: 32 | B33: PA | C33: Appareillages, Sanitaires, miroir à poser | D33: 0 | E33: ploumploum | F33: A
A34: 32 | B34: PA | C34: Calfeutrer les travaersées EU et EP vers la gaine technique | D34: Sdploumploum | E34: ploumploum | F34: A
A35: 32 | B35: PA | C35: Calfeutrer les travaersées EU et EP vers la gaine technique | D35: Sdploumploum | E35: ploumploum | F35: A
A36: 32 | B36: PA | C36: Calfeutrer les tuyaux | D36: Garage | E36: ploumploum | F36: A
A37: 32 | B37: PA | C37: Percer le meuploumploumle évier | D37: Cuisine | E37: ploumploum | F37: T
A38: 32 | B38: PA | C38: Poser les sous faces des volets roulants | D38: 0 | E38: l | F38: EA
A39: 32 | B39: PA | C39: Système de fixation des sous faces de VR inadapté - A revoir avec l | D39: 0 | E39: Lo | F39: EA
A40: 32 | B40: PA | C40: Reprise dallage au droit de la porte PCI | D40: Garage | E40: Ma | F40: T
A41: 32 | B41: VC | C41: Vérification + régalge VR | D41: 0 | E41: l | F41: EA
A42: 32 | B42: VC | C42: Reprise cloques peintures | D42: Ch 1 | E42: ploumploum ploumploum | F42: T
A43: 32 | B43: VC | C43: Reprise enduit (cloques) sur mur ploumplouméton | D43: Séjour | E43: ploumploum ploumploum | F43: T
A44: 32 | D44: #N/A | E44: #N/A
A45: 32 | D45: #N/A | E45: #N/A
A46: 32 | D46: #N/A | E46: #N/A
A47: 32 | D47: #N/A | E47: #N/A
A48: 32 | D48: #N/A | E48: #N/A
A49: 32 | D49: #N/A | E49: #N/A
A50: 32 | D50: #N/A | E50: #N/A
A51: #N/A | D51: #N/A | E51: #N/A
A52: #N/A | D52: #N/A | E52: #N/A
A53: #N/A | D53: #N/A | E53: #N/A
A54: #N/A | D54: #N/A | E54: #N/A
A55: #N/A | D55: #N/A | E55: #N/A
A56: #N/A | D56: #N/A | E56: #N/A
A57: #N/A | D57: #N/A | E57: #N/A
A58: #N/A | D58: #N/A | E58: #N/A
A59: #N/A | D59: #N/A | E59: #N/A
A60: #N/A | D60: #N/A | E60: #N/A
A61: #N/A | D61: #N/A | E61: #N/A
A62: #N/A | D62: #N/A | E62: #N/A
... A173: #N/A | D173: #N/A | E173: #N/A

Sheet Quitus
F1: DEMANDE D'INTERVENTION DANS LE CADRE DE L'ANNEE DE PARFAIT ACHEVEMENT
A3: Expéditeur : | G3: Destinataire : | J3: RICHE
C5: =Informations!B5 -> ???? | I5: ploumploum
B6: =Informations!A6 -> Aurélien T
B7: =Informations!A7 -> 0
B8: =Informations!A8 -> 0 | H8: Tel
B9: =Informations!A9 -> Tél : | C9: =Informations!B9 -> 06.42. | H9: Fax
B10: =Informations!A10 -> Fax : | C10: =Informations!B10 -> 03.27
A16: Date de Mise en Location : | G16: Date demande d'intervention :
A18: A réaliser : | D18: : sous 48 heures | G18: : sous Huitaine | J18: : sous Quinzaine | K18: : sous quinzaine
F21: OBJET DE L'INTERVENTION
A23: Nom du Locataire
A25: Adresse :
A27: Problèmes rencontrés :
F37: A REMPLIR ET A SIGNER PAR LE CLIENT LOCATAIRE
A39: Date d'intervention :
A41: Problème (s) réglé (s) : | F41: OUI | I41: NON
F45: A REMPLIR OBLIGATOIREMENT PAR L'ENTREPRISE QUI EST INTERVENUE
A47: Description précise de la ou des cause (s) du ou des problème (s) :
