Workbook

Sheet Informations
A2: Responsable d'Opération
B5: ????
A6: Aurélien T
A9: Tél : | B9: 06.42. | M9: J'ai regroupé dans cette feuille toutes les informations qui doivent servir à la construction du quitus (feuille 3). Fonction des projets en cours, seule cette feuille sera amandée (dans l'idéal). Je cherche par exemple à intégrer les données details de l'opération de la façon suivante : si dans feuille quitus F12 = F19 dans "Informations", alors les informations annexes (F18;20; ligne 21) sont renvoyées dans le tableau de la feuille "quitus".
A10: Fax : | B10: 03.27
A13: Détails de l'Opération
A14: Intitulé du projet : | C14: A remplir
A17: 1
F18: =C14 -> A remplir
F19: Zone 1
F20: logements individuels PLUS CD
A21: Date de Mise en Location : | E21: 41624 | G21: Date demande d'intervention : | K21: =TODAY() -> 41785
A23: 2
F24: =C14 -> A remplir
F25: Zone 2
F26: logements individuels PLUS CD
A27: Date de Mise en Location : | E27: 41715 | G27: Date demande d'intervention : | K27: =TODAY() -> 41785
A29: 3
F30: =C14 -> A remplir
F31: Zone 3
F32: logements individuels PLUS CD
A33: Date de Mise en Location : | G33: Date demande d'intervention : | K33: =TODAY() -> 41785
A35: 4
F36: =C14 -> A remplir
F37: Collectif 1
F38: logements individuels PLUS CD
A39: Date de Mise en Location : | G39: Date demande d'intervention : | K39: =TODAY() -> 41785
A41: 5
F42: =C14 -> A remplir
F43: Collectif 2
F44: logements individuels PLUS CD
A45: Date de Mise en Location : | G45: Date demande d'intervention : | K45: =TODAY() -> 41785
A47: 6
F48: =C14 -> A remplir
F49: Titre
F50: Nb LOG et TYPE/CATEGORIE PRÊT
A51: Date de Mise en Location : | G51: Date demande d'intervention : | K51: =TODAY() -> 41785
A53: 7
F54: =C14 -> A remplir
F55: Titre
...

Sheet Réserves & GPA - Zone 1 (2)
J1: PA | K1: Parfait Achêvement | M1: T | N1: Transmis
J2: R | K2: Retour Agence | M2: A | N2: A envoyer
J3: VC | K3: Visite de courtoisie | M3: EA | N3: En Attente
A6: Log travaux | B6: Type | C6: Réserve | D6: Localisation | E6: Entreprise | F6: Etat
A7: 31 | B7: PA | C7: Engazonnement à réaliser | D7: Jardin | E7: b | F7: T
A8: 31 | B8: PA | C8: Appareillages, Sanitaires, miroir à poser | D8: 0 | E8: ploumploum | F8: A
A9: 31 | B9: PA | C9: Calfeutrer les travaersées EU et EP vers la gaine technique | D9: Sdploumploum | E9: ploumploum | F9: A
A10: 31 | B10: PA | C10: Calfeutrer les travaersées EU et EP vers la gaine technique | D10: Sdploumploum | E10: ploumploum | F10: A
A11: 31 | B11: PA | C11: Calfeutrer les tuyaux | D11: Garage | E11: ploumploum | F11: A
A12: 31 | B12: PA | C12: Joint à réaliser entre sol souple palier et garde corps | D12: 0 | E12: Du | F12: T
A13: 31 | B13: PA | C13: Visserie manquante sur ploumploumoite electrique | D13: Ch 1 | E13: He | F13: T
A14: 31 | B14: PA | C14: Vitrage griffé à remplacer | D14: Cuisine | E14: l | F14: T
A15: 31 | B15: PA | C15: Poser les sous faces des volets roulants | D15: 0 | E15: l | F15: EA
A16: 31 | B16: PA | C16: Revision d'une manivelle de volet roulant | D16: Ch 1 | E16: l | F16: T
A17: 31 | B17: PA | C17: Système de fixation des sous faces de VR inadapté - A revoir avec l | D17: 0 | E17: Lo | F17: A
A18: 31 | B18: PA | C18: Retouche de peinture | D18: WC | E18: ploumploum ploumploum | F18: T
A19: 31 | B19: PA | C19: Manque peinture sur tuyauterie | D19: Sdploumploum | E19: ploumploum ploumploum | F19: T
A20: 31 | B20: PA | C20: Reprise peinture sur escalier y compris main courante | D20: 0 | E20: ploumploum ploumploum | F20: T
A21: 31 | B21: VC | C21: Reprise ploumploumande calicot | D21: Hall d'entrée | E21: ploumploumploumploumI | F21: T
A22: 31 | B22: VC | C22: Radiateurs ne chauffent pas à l'étage | D22: 0 | E22: ploumploum | F22: EA
A23: 31 | B23: VC | C23: Réglage porte fenêtre côté jardin | D23: Cuisine | E23: l | F23: EA
A24: 31 | B24: VC | C24: Pas de réception téléphone - Fourreau ploumploumouché | D24: 0 | E24: Ma | F24: T
A25: 31 | B25: VC | C25: Réglage porte de garage | D25: Garage | E25: So | F25: T
A26: 31 | B26: VC | C26: Reprise peinture escalier | D26: 0 | E26: ploumploum ploumploum | F26: A
A27: 31 | D27: #N/A | E27: #N/A
A28: 31 | D28: #N/A | E28: #N/A
A29: 31 | D29: #N/A | E29: #N/A
A30: 31 | D30: #N/A | E30: #N/A
A31: 31 | D31: #N/A | E31: #N/A
A32: 32 | B32: PA | C32: Engazonnement à réaliser | D32: Jardin | E32: b | F32: T
A33: 32 | B33: PA | C33: Appareillages, Sanitaires, miroir à poser | D33: 0 | E33: ploumploum | F33: A
A34: 32 | B34: PA | C34: Calfeutrer les travaersées EU et EP vers la gaine technique | D34: Sdploumploum | E34: ploumploum | F34: A
A35: 32 | B35: PA | C35: Calfeutrer les travaersées EU et EP vers la gaine technique | D35: Sdploumploum | E35: ploumploum | F35: A
A36: 32 | B36: PA | C36: Calfeutrer les tuyaux | D36: Garage | E36: ploumploum | F36: A
A37: 32 | B37: PA | C37: Percer le meuploumploumle évier | D37: Cuisine | E37: ploumploum | F37: T
A38: 32 | B38: PA | C38: Poser les sous faces des volets roulants | D38: 0 | E38: l | F38: EA
A39: 32 | B39: PA | C39: Système de fixation des sous faces de VR inadapté - A revoir avec l | D39: 0 | E39: Lo | F39: EA
A40: 32 | B40: PA | C40: Reprise dallage au droit de la porte PCI | D40: Garage | E40: Ma | F40: T
A41: 32 | B41: VC | C41: Vérification + régalge VR | D41: 0 | E41: l | F41: EA
A42: 32 | B42: VC | C42: Reprise cloques peintures | D42: Ch 1 | E42: ploumploum ploumploum | F42: T
...

Sheet Quitus
F1: DEMANDE D'INTERVENTION DANS LE CADRE DE L'ANNEE DE PARFAIT ACHEVEMENT
A3: Expéditeur : | G3: Destinataire : | J3: RICHE
C5: =Informations!B5 -> ???? | I5: ploumploum
B6: =Informations!A6 -> Aurélien T
B7: =Informations!A7 -> 0
B8: =Informations!A8 -> 0 | H8: Tel
B9: =Informations!A9 -> Tél : | C9: =Informations!B9 -> 06.42. | H9: Fax
B10: =Informations!A10 -> Fax : | C10: =Informations!B10 -> 03.27
A16: Date de Mise en Location : | G16: Date demande d'intervention :
A18: A réaliser : | D18: : sous 48 heures | G18: : sous Huitaine | J18: : sous Quinzaine | K18: : sous quinzaine
F21: OBJET DE L'INTERVENTION
A23: Nom du Locataire
A25: Adresse :
A27: Problèmes rencontrés :
F37: A REMPLIR ET A SIGNER PAR LE CLIENT LOCATAIRE
A39: Date d'intervention :
A41: Problème (s) réglé (s) : | F41: OUI | I41: NON
F45: A REMPLIR OBLIGATOIREMENT PAR L'ENTREPRISE QUI EST INTERVENUE
A47: Description précise de la ou des cause (s) du ou des problème (s) :
