Workbook

Sheet RO et Descriptif
B2: ????
A3: Aurélien T
A6: Tél : | B6: 06.42.
A7: Fax : | B7: 03.27
A9: 1
F10: M
F11: Zone 1
F12: logements individuels PLUS CD
A13: Date de Mise en Location : | E13: 41624 | G13: Date demande d'intervention : | K13: =TODAY() -> 41779
A15: 2
F16: M
F17: Zone 2
F18: logements individuels PLUS CD
A19: Date de Mise en Location : | E19: 41715 | G19: Date demande d'intervention : | K19: =TODAY() -> 41779
A21: 3
F22: M
F23: Zone 3
F24: logements individuels PLUS CD
A25: Date de Mise en Location : | G25: Date demande d'intervention : | K25: =TODAY() -> 41779
A27: 4
F28: M
F29: Collectif 1
F30: logements individuels PLUS CD
A31: Date de Mise en Location : | G31: Date demande d'intervention : | K31: =TODAY() -> 41779
A33: 5
F34: M
F35: Collectif 2
F36: logements individuels PLUS CD
A37: Date de Mise en Location : | G37: Date demande d'intervention : | K37: =TODAY() -> 41779
A39: 6
F40: VILLE
F41: RUE/ ZONAGE
F42: Nb LOG et TYPE/CATEGORIE PRÊT
A43: Date de Mise en Location : | G43: Date demande d'intervention : | K43: =TODAY() -> 41779
A45: 7
F46: VILLE
F47: RUE/ ZONAGE
F48: Nb LOG et TYPE/CATEGORIE PRÊT
A49: Date de Mise en Location : | G49: Date demande d'intervention : | K49: =TODAY() -> 41779

Sheet Entreprises
A5: Contact | B5: Mr/Mme ???? | E5: Contact | F5: Mr/Mme | I5: Contact | J5: Mr/Mme | M5: Entreprise | N5: Colonne2 | O5: Adresse | P5: code po | Q5: ville | R5: Teléphone | S5: FAX
A6: ploumploum | E6: NOM | I6: NOM | M6: =A6 -> ploumploum | N6: =B5 -> Mr/Mme ???? | O6: =A7 -> ???? | P6: =A8 -> ???? | Q6: =B8 -> mantes | R6: =B9 -> 03.20 | S6: =B10 -> 03.20.
A7: ???? | E7: Adresse | I7: Adresse | M7: =A13 -> NOM | N7: =B12 -> Mr/Mme | O7: =A14 -> Adresse | P7: =A15 -> code po | Q7: =B15 -> VILLE | R7: =B16 -> 3 | S7: =B17 -> 3
A8: ???? | B8: mantes | F8: VILLE | I8: code po | J8: VILLE | M8: =A20 -> NOM | N8: =B19 -> Mr/Mme | O8: =A21 -> Adresse | P8: =A22 -> code po | Q8: =B22 -> VILLE | R8: =B23 -> 3 | S8: =B24 -> 3
A9: Tél: | B9: 03.20 | E9: Tél: | F9: 3 | I9: Tél: | J9: 3 | M9: =A27 -> NOM | N9: =B26 -> Mr/Mme | O9: =A28 -> Adresse | P9: =A29 -> code po | Q9: =B29 -> VILLE | R9: =B30 -> 3 | S9: =B31 -> 3
A10: Fax: | B10: 03.20. | E10: Fax: | F10: 3 | I10: Fax: | J10: 3 | M10: =A34 -> NOM | N10: =B33 -> Mr/Mme | O10: =A35 -> Adresse | P10: =A36 -> code po | Q10: =B36 -> VILLE | R10: =B37 -> 3 | S10: =B38 -> 3
M11: =E6 -> NOM | N11: =F5 -> Mr/Mme | O11: =E7 -> Adresse | P11: =E8 -> 0 | Q11: =F8 -> VILLE | R11: =F9 -> 3 | S11: =F10 -> 3
A12: Contact | B12: Mr/Mme | E12: Contact | F12: Mr/Mme | I12: Contact | J12: Mr/Mme | M12: =E13 -> NOM | N12: =F12 -> Mr/Mme | O12: =E14 -> Adresse | P12: =E15 -> code po | Q12: =F15 -> VILLE | R12: =F16 -> 3 | S12: =F17 -> 3
A13: NOM | E13: NOM | I13: NOM | M13: =E20 -> NOM | N13: =F19 -> Mr/Mme | O13: =E21 -> Adresse | P13: =E22 -> code po | Q13: =F22 -> VILLE | R13: =F23 -> 3 | S13: =F24 -> 3
A14: Adresse | E14: Adresse | I14: Adresse | M14: =E27 -> NOM | N14: =F26 -> Mr/Mme | O14: =E28 -> ADRESSE | P14: =E29 -> code po | Q14: =F29 -> VILLE | R14: =F30 -> 3 | S14: =F31 -> 3
A15: code po | B15: VILLE | E15: code po | F15: VILLE | I15: code po | J15: VILLE | M15: =E34 -> NOM | N15: =F33 -> Mr/Mme | O15: =E35 -> Adresse | P15: =E36 -> code po | Q15: =F36 -> VILLE | R15: =F37 -> 3 | S15: =F38 -> 3
A16: Tél: | B16: 3 | E16: Tél: | F16: 3 | I16: Tél: | J16: 3 | M16: =I6 -> NOM | N16: =J5 -> Mr/Mme | O16: =I7 -> Adresse | P16: =I8 -> code po | Q16: =J8 -> VILLE | R16: =J9 -> 3 | S16: =J10 -> 3
A17: Fax: | B17: 3 | E17: Fax: | F17: 3 | I17: Fax: | J17: 3 | M17: =I13 -> NOM | N17: =J12 -> Mr/Mme | O17: =I14 -> Adresse | P17: =I15 -> code po | Q17: =J15 -> VILLE | R17: =J16 -> 3 | S17: =J17 -> 3
M18: =I20 -> NOM | N18: =J19 -> Mr/Mme | O18: =I21 -> = | P18: =I22 -> code po | Q18: =J22 -> VILLE | R18: =J23 -> 3 | S18: =J24 -> 3
A19: Contact | B19: Mr/Mme | E19: Contact | F19: Mr/Mme | I19: Contact | J19: Mr/Mme | M19: =I27 -> NOM | N19: =J26 -> Mr/Mme | O19: =I28 -> Adresse | P19: =I29 -> code po | Q19: =J29 -> VILLE | R19: =J30 -> 3 | S19: =J31 -> 3
A20: NOM | E20: NOM | I20: NOM | M20: =I34 -> NOM | N20: =J33 -> Mr/Mme | O20: =I35 -> Adresse | P20: =I36 -> code po | Q20: =J36 -> VILLE | R20: =J37 -> 3 | S20: =J38 -> 3
A21: Adresse | E21: Adresse | I21: =
A22: code po | B22: VILLE | E22: code po | F22: VILLE | I22: code po | J22: VILLE
A23: Tél: | B23: 3 | E23: Tél: | F23: 3 | I23: Tél: | J23: 3
A24: Fax: | B24: 3 | E24: Fax: | F24: 3 | I24: Fax: | J24: 3
A26: Contact | B26: Mr/Mme | E26: Contact | F26: Mr/Mme | I26: Contact | J26: Mr/Mme
A27: NOM | E27: NOM | I27: NOM
A28: Adresse | E28: ADRESSE | I28: Adresse
A29: code po | B29: VILLE | E29: code po | F29: VILLE | I29: code po | J29: VILLE
A30: Tél: | B30: 3 | E30: Tél: | F30: 3 | I30: Tél: | J30: 3
A31: Fax: | B31: 3 | E31: Fax: | F31: 3 | I31: Fax: | J31: 3
A33: Contact | B33: Mr/Mme | E33: Contact | F33: Mr/Mme | I33: Contact | J33: Mr/Mme
A34: NOM | E34: NOM | I34: NOM
A35: Adresse | E35: Adresse | I35: Adresse
A36: code po | B36: VILLE | E36: code po | F36: VILLE | I36: code po | J36: VILLE
A37: Tél: | B37: 3 | E37: Tél: | F37: 3 | I37: Tél: | J37: 3
A38: Fax: | B38: 3 | E38: Fax: | F38: 3 | I38: Fax: | J38: 3

Sheet LAURENGE (2)
F1: DEMANDE D'INTERVENTION DANS LE CADRE DE L'ANNEE DE PARFAIT ACHEVEMENT
A3: Expéditeur : | G3: Destinataire : | J3: RICHE
C5: ='RO et Descriptif'!B2 -> ???? | I5: LAURENGE
B6: ='RO et Descriptif'!A3 -> Aurélien T
B7: ='RO et Descriptif'!A4 -> 0
B8: ='RO et Descriptif'!A5 -> 0 | H8: Tel
B9: ='RO et Descriptif'!A6 -> Tél : | C9: ='RO et Descriptif'!B6 -> 06.42. | H9: Fax
B10: ='RO et Descriptif'!A7 -> Fax : | C10: ='RO et Descriptif'!B7 -> 03.27
A16: Date de Mise en Location : | G16: Date demande d'intervention :
A18: A réaliser : | D18: : sous 48 heures | G18: : sous Huitaine | J18: : sous Quinzaine | K18: : sous quinzaine
F21: OBJET DE L'INTERVENTION
A23: Nom du Locataire
A25: Adresse :
A27: Problèmes rencontrés :
F37: A REMPLIR ET A SIGNER PAR LE CLIENT LOCATAIRE
A39: Date d'intervention :
A41: Problème (s) réglé (s) : | F41: OUI | I41: NON
F45: A REMPLIR OBLIGATOIREMENT PAR L'ENTREPRISE QUI EST INTERVENUE
A47: Description précise de la ou des cause (s) du ou des problème (s) :
