Workbook
Name Listing: 'Tableau de bord'!$B$3:$B$10
Name Régions: 'Tableau de bord'!$C$3:$C$10

Sheet Tableau de bord
B2: Clients | C2: Région | D2: Dernière visite
B3: Client1 | C3: Alsace
B4: Client2 | C4: Franche-Comté
B5: Client3 | C5: Ile-de-France
B6: Client4 | C6: Lorraine
B7: Client5 | C7: Ile-de-France
B8: Client6 | C8: Rhône-Alpes
B9: Client7 | C9: Bretagne
B10: Client8 | C10: Aquitaine

Sheet Suivi des visites
A1: N°Client | B1: Région | C1: Date de visite
A2: Client3 | B2: =VLOOKUP(A2,'Tableau de bord'!$B$3:$C$10,2,FALSE) -> Ile-de-France | C2: 42370
A3: Client6 | B3: =VLOOKUP(A3,'Tableau de bord'!$B$3:$C$10,2,FALSE) -> Rhône-Alpes | C3: 42381
A4: Client5 | B4: =VLOOKUP(A4,'Tableau de bord'!$B$3:$C$10,2,FALSE) -> Ile-de-France | C4: 42387
A5: Client1 | B5: =VLOOKUP(A5,'Tableau de bord'!$B$3:$C$10,2,FALSE) -> Alsace | C5: 42412
A6: Client7 | B6: =VLOOKUP(A6,'Tableau de bord'!$B$3:$C$10,2,FALSE) -> Bretagne | C6: 42416
A7: Client2 | B7: =VLOOKUP(A7,'Tableau de bord'!$B$3:$C$10,2,FALSE) -> Franche-Comté | C7: 42462
A8: Client4 | B8: =VLOOKUP(A8,'Tableau de bord'!$B$3:$C$10,2,FALSE) -> Lorraine | C8: 42467
A9: Client5 | B9: =VLOOKUP(A9,'Tableau de bord'!$B$3:$C$10,2,FALSE) -> Ile-de-France | C9: 42469
A10: Client8 | B10: =VLOOKUP(A10,'Tableau de bord'!$B$3:$C$10,2,FALSE) -> Aquitaine | C10: 42478
A11: Client1 | B11: =VLOOKUP(A11,'Tableau de bord'!$B$3:$C$10,2,FALSE) -> Alsace | C11: 42482
A12: Client4 | B12: =VLOOKUP(A12,'Tableau de bord'!$B$3:$C$10,2,FALSE) -> Lorraine | C12: 42500
A13: Client7 | B13: =VLOOKUP(A13,'Tableau de bord'!$B$3:$C$10,2,FALSE) -> Bretagne | C13: 42509
... A30: Client5 | B30: =VLOOKUP(A30,'Tableau de bord'!$B$3:$C$10,2,FALSE) -> Ile-de-France | C30: 42705
