Workbook
Name V_DATA: VIEW!$C$9
Name V_DATES: VIEW!$C$5
Name V_NAME: VIEW!$C$2
Name V_TITLE: VIEW!$C$3

Sheet Bilan
J2: {=MATCH(6,VIEW!C13:AV79)} -> #N/A
J3: =INDEX(IF(NOT(ISBLANK(VIEW!D13:D22)),ROW(VIEW!D13:D22),"Faux"),,1) -> 13
J4: =INDEX(IF(VIEW!D13:D69<>0,SMALL(ROW(VIEW!D13:D69),1)),,4) -> #VALUE!
A5: Nom | B5: Date | J5: =LARGE(VIEW!V:V,1) -> 6
A6: TDO Divers | B6: =VIEW!C13 -> 41729.333 | C6: =DATEVALUE(DAY(B$6)+1&"/"&MONTH($B$6)&"/"&YEAR($B$6)) -> #VALUE! | D6: =DATEVALUE(DAY(C$6)+1&"/"&MONTH($B$6)&"/"&YEAR($B$6)) -> #VALUE! | E6: =DATEVALUE(DAY(D$6)+1&"/"&MONTH($B$6)&"/"&YEAR($B$6)) -> #VALUE! | F6: =DATEVALUE(DAY(E$6)+1&"/"&MONTH($B$6)&"/"&YEAR($B$6)) -> #VALUE! | G6: =DATEVALUE(DAY(F$6)+1&"/"&MONTH($B$6)&"/"&YEAR($B$6)) -> #VALUE! | H6: =DATEVALUE(DAY(G$6)+1&"/"&MONTH($B$6)&"/"&YEAR($B$6)) -> #VALUE! | J6: {=LOOKUP(SMALL(VIEW!V13:V69,1),VIEW!V13:V69,1)} -> #N/A
A7: Max I1 | B7: =VLOOKUP(B6,Feuil1!C13:AZ200,2) -> 0 | C7: =VLOOKUP(C$6,VIEW!$C$13:$FF$3000,4) -> #VALUE! | D7: =VLOOKUP(D$6,VIEW!$C$13:$FF$3000,4) -> #VALUE! | E7: =VLOOKUP(E$6,VIEW!$C$13:$FF$3000,4) -> #VALUE! | F7: =VLOOKUP(F$6,VIEW!$C$13:$FF$3000,4) -> #VALUE! | G7: =VLOOKUP(G$6,VIEW!$C$13:$FF$3000,4) -> #VALUE! | H7: =VLOOKUP(H$6,VIEW!$C$13:$FF$3000,4) -> #VALUE! | J7: {=INDEX(J10:J66,MATCH(TRUE,J10:J66<>0,0))} -> #N/A | K7: CTRl MAJ Enter
A8: Max I2 | B8: =VLOOKUP(B$6,VIEW!$C$13:$FF$3000,5) -> 0 | C8: =VLOOKUP(C$6,VIEW!$C$13:$FF$3000,5) -> #VALUE! | D8: =VLOOKUP(D$6,VIEW!$C$13:$FF$3000,5) -> #VALUE! | E8: =VLOOKUP(E$6,VIEW!$C$13:$FF$3000,5) -> #VALUE! | F8: =VLOOKUP(F$6,VIEW!$C$13:$FF$3000,5) -> #VALUE! | G8: =VLOOKUP(G$6,VIEW!$C$13:$FF$3000,5) -> #VALUE! | H8: =VLOOKUP(H$6,VIEW!$C$13:$FF$3000,5) -> #VALUE! | J8: {=VLOOKUP(B$6,VIEW!$C$13:$FF$3000,20)} -> 0
A9: Max I3 | B9: =VLOOKUP(B$6,VIEW!$C$13:$FF$3000,6) -> 0 | C9: =VLOOKUP(C$6,VIEW!$C$13:$FF$3000,6) -> #VALUE! | D9: =VLOOKUP(D$6,VIEW!$C$13:$FF$3000,6) -> #VALUE! | E9: =VLOOKUP(E$6,VIEW!$C$13:$FF$3000,6) -> #VALUE! | F9: =VLOOKUP(F$6,VIEW!$C$13:$FF$3000,6) -> #VALUE! | G9: =VLOOKUP(G$6,VIEW!$C$13:$FF$3000,6) -> #VALUE! | H9: =VLOOKUP(H$6,VIEW!$C$13:$FF$3000,6) -> #VALUE!
A10: Max IN | B10: =VLOOKUP(B$6,VIEW!$C$13:$FF$3000,7) -> 0 | C10: =VLOOKUP(C$6,VIEW!$C$13:$FF$3000,7) -> #VALUE! | D10: =VLOOKUP(D$6,VIEW!$C$13:$FF$3000,7) -> #VALUE! | E10: =VLOOKUP(E$6,VIEW!$C$13:$FF$3000,7) -> #VALUE! | F10: =VLOOKUP(F$6,VIEW!$C$13:$FF$3000,7) -> #VALUE! | G10: =VLOOKUP(G$6,VIEW!$C$13:$FF$3000,7) -> #VALUE! | H10: =VLOOKUP(H$6,VIEW!$C$13:$FF$3000,7) -> #VALUE!
A11: TDO DR1
A12: Max I1 | B12: =VLOOKUP(B$6,VIEW!$C$13:$FF$3000,8) -> 0 | C12: =VLOOKUP(C$6,VIEW!$C$13:$FF$3000,8) -> #VALUE! | D12: =VLOOKUP(D$6,VIEW!$C$13:$FF$3000,8) -> #VALUE! | E12: =VLOOKUP(E$6,VIEW!$C$13:$FF$3000,8) -> #VALUE! | F12: =VLOOKUP(F$6,VIEW!$C$13:$FF$3000,8) -> #VALUE! | G12: =VLOOKUP(G$6,VIEW!$C$13:$FF$3000,8) -> #VALUE! | H12: =VLOOKUP(H$6,VIEW!$C$13:$FF$3000,8) -> #VALUE!
A13: Max I2 | B13: =VLOOKUP(B$6,VIEW!$C$13:$FF$3000,9) -> 0 | C13: =VLOOKUP(C$6,VIEW!$C$13:$FF$3000,9) -> #VALUE! | D13: =VLOOKUP(D$6,VIEW!$C$13:$FF$3000,9) -> #VALUE! | E13: =VLOOKUP(E$6,VIEW!$C$13:$FF$3000,9) -> #VALUE! | F13: =VLOOKUP(F$6,VIEW!$C$13:$FF$3000,9) -> #VALUE! | G13: =VLOOKUP(G$6,VIEW!$C$13:$FF$3000,9) -> #VALUE! | H13: =VLOOKUP(H$6,VIEW!$C$13:$FF$3000,9) -> #VALUE!
A14: Max I3 | B14: =VLOOKUP(B$6,VIEW!$C$13:$FF$3000,10) -> 0 | C14: =VLOOKUP(C$6,VIEW!$C$13:$FF$3000,10) -> #VALUE! | D14: =VLOOKUP(D$6,VIEW!$C$13:$FF$3000,10) -> #VALUE! | E14: =VLOOKUP(E$6,VIEW!$C$13:$FF$3000,10) -> #VALUE! | F14: =VLOOKUP(F$6,VIEW!$C$13:$FF$3000,10) -> #VALUE! | G14: =VLOOKUP(G$6,VIEW!$C$13:$FF$3000,10) -> #VALUE! | H14: =VLOOKUP(H$6,VIEW!$C$13:$FF$3000,10) -> #VALUE!
A15: Max IN | B15: =VLOOKUP(B$6,VIEW!$C$13:$FF$3000,11) -> 0 | C15: =VLOOKUP(C$6,VIEW!$C$13:$FF$3000,11) -> #VALUE! | D15: =VLOOKUP(D$6,VIEW!$C$13:$FF$3000,11) -> #VALUE! | E15: =VLOOKUP(E$6,VIEW!$C$13:$FF$3000,11) -> #VALUE! | F15: =VLOOKUP(F$6,VIEW!$C$13:$FF$3000,11) -> #VALUE! | G15: =VLOOKUP(G$6,VIEW!$C$13:$FF$3000,11) -> #VALUE! | H15: =VLOOKUP(H$6,VIEW!$C$13:$FF$3000,11) -> #VALUE!
A16: TDO DR2
A17: Max I1 | B17: =VLOOKUP(B$6,VIEW!$C$13:$FF$3000,12) -> 0 | C17: =VLOOKUP(C$6,VIEW!$C$13:$FF$3000,12) -> #VALUE! | D17: =VLOOKUP(D$6,VIEW!$C$13:$FF$3000,12) -> #VALUE! | E17: =VLOOKUP(E$6,VIEW!$C$13:$FF$3000,12) -> #VALUE! | F17: =VLOOKUP(F$6,VIEW!$C$13:$FF$3000,12) -> #VALUE! | G17: =VLOOKUP(G$6,VIEW!$C$13:$FF$3000,12) -> #VALUE! | H17: =VLOOKUP(H$6,VIEW!$C$13:$FF$3000,12) -> #VALUE!
A18: Max I2 | B18: =VLOOKUP(B$6,VIEW!$C$13:$FF$3000,13) -> 0 | C18: =VLOOKUP(C$6,VIEW!$C$13:$FF$3000,12) -> #VALUE! | D18: =VLOOKUP(D$6,VIEW!$C$13:$FF$3000,13) -> #VALUE! | E18: =VLOOKUP(E$6,VIEW!$C$13:$FF$3000,13) -> #VALUE! | F18: =VLOOKUP(F$6,VIEW!$C$13:$FF$3000,13) -> #VALUE! | G18: =VLOOKUP(G$6,VIEW!$C$13:$FF$3000,13) -> #VALUE! | H18: =VLOOKUP(H$6,VIEW!$C$13:$FF$3000,13) -> #VALUE!
A19: Max I3 | B19: =VLOOKUP(B$6,VIEW!$C$13:$FF$3000,14) -> 0 | C19: =VLOOKUP(C$6,VIEW!$C$13:$FF$3000,14) -> #VALUE! | D19: =VLOOKUP(D$6,VIEW!$C$13:$FF$3000,14) -> #VALUE! | E19: =VLOOKUP(E$6,VIEW!$C$13:$FF$3000,14) -> #VALUE! | F19: =VLOOKUP(F$6,VIEW!$C$13:$FF$3000,14) -> #VALUE! | G19: =VLOOKUP(G$6,VIEW!$C$13:$FF$3000,14) -> #VALUE! | H19: =VLOOKUP(H$6,VIEW!$C$13:$FF$3000,14) -> #VALUE!
A20: Max IN | B20: =VLOOKUP(B$6,VIEW!$C$13:$FF$3000,15) -> 8 | C20: =VLOOKUP(C$6,VIEW!$C$13:$FF$3000,15) -> #VALUE! | D20: =VLOOKUP(D$6,VIEW!$C$13:$FF$3000,15) -> #VALUE! | E20: =VLOOKUP(E$6,VIEW!$C$13:$FF$3000,15) -> #VALUE! | F20: =VLOOKUP(F$6,VIEW!$C$13:$FF$3000,15) -> #VALUE! | G20: =VLOOKUP(G$6,VIEW!$C$13:$FF$3000,15) -> #VALUE! | H20: =VLOOKUP(H$6,VIEW!$C$13:$FF$3000,15) -> #VALUE!
A21: TDO LR1
A22: Max I1 | B22: =VLOOKUP(B$6,VIEW!$C$13:$FF$3000,16) -> 7 | C22: =VLOOKUP(C$6,VIEW!$C$13:$FF$3000,16) -> #VALUE! | D22: =VLOOKUP(D$6,VIEW!$C$13:$FF$3000,16) -> #VALUE! | E22: =VLOOKUP(E$6,VIEW!$C$13:$FF$3000,16) -> #VALUE! | F22: =VLOOKUP(F$6,VIEW!$C$13:$FF$3000,16) -> #VALUE! | G22: =VLOOKUP(G$6,VIEW!$C$13:$FF$3000,16) -> #VALUE! | H22: =VLOOKUP(H$6,VIEW!$C$13:$FF$3000,16) -> #VALUE!
A23: Max I2 | B23: =VLOOKUP(B$6,VIEW!$C$13:$FF$3000,17) -> 0 | C23: =VLOOKUP(C$6,VIEW!$C$13:$FF$3000,17) -> #VALUE! | D23: =VLOOKUP(D$6,VIEW!$C$13:$FF$3000,17) -> #VALUE! | E23: =VLOOKUP(E$6,VIEW!$C$13:$FF$3000,17) -> #VALUE! | F23: =VLOOKUP(F$6,VIEW!$C$13:$FF$3000,17) -> #VALUE! | G23: =VLOOKUP(G$6,VIEW!$C$13:$FF$3000,17) -> #VALUE! | H23: =VLOOKUP(H$6,VIEW!$C$13:$FF$3000,17) -> #VALUE!
A24: Max I3 | B24: =VLOOKUP(B$6,VIEW!$C$13:$FF$3000,18) -> 0 | C24: =VLOOKUP(C$6,VIEW!$C$13:$FF$3000,18) -> #VALUE! | D24: =VLOOKUP(D$6,VIEW!$C$13:$FF$3000,18) -> #VALUE! | E24: =VLOOKUP(E$6,VIEW!$C$13:$FF$3000,18) -> #VALUE! | F24: =VLOOKUP(F$6,VIEW!$C$13:$FF$3000,18) -> #VALUE! | G24: =VLOOKUP(G$6,VIEW!$C$13:$FF$3000,18) -> #VALUE! | H24: =VLOOKUP(H$6,VIEW!$C$13:$FF$3000,18) -> #VALUE!
A25: Max IN | B25: =VLOOKUP(B$6,VIEW!$C$13:$FF$3000,19) -> 7 | C25: =VLOOKUP(C$6,VIEW!$C$13:$FF$3000,19) -> #VALUE! | D25: =VLOOKUP(D$6,VIEW!$C$13:$FF$3000,19) -> #VALUE! | E25: =VLOOKUP(E$6,VIEW!$C$13:$FF$3000,19) -> #VALUE! | F25: =VLOOKUP(F$6,VIEW!$C$13:$FF$3000,19) -> #VALUE! | G25: =VLOOKUP(G$6,VIEW!$C$13:$FF$3000,19) -> #VALUE! | H25: =VLOOKUP(H$6,VIEW!$C$13:$FF$3000,19) -> #VALUE!
A26: TDO LR2
A27: Max I1 | B27: =VLOOKUP(B$6,VIEW!$C$13:$FF$3000,20) -> 0 | C27: =VLOOKUP(C$6,VIEW!$C$13:$FF$3000,20) -> #VALUE! | D27: =VLOOKUP(D$6,VIEW!$C$13:$FF$3000,20) -> #VALUE! | E27: =VLOOKUP(E$6,VIEW!$C$13:$FF$3000,20) -> #VALUE! | F27: =VLOOKUP(F$6,VIEW!$C$13:$FF$3000,20) -> #VALUE! | G27: =VLOOKUP(G$6,VIEW!$C$13:$FF$3000,20) -> #VALUE! | H27: =VLOOKUP(H$6,VIEW!$C$13:$FF$3000,20) -> #VALUE!
A28: Max I2 | B28: =VLOOKUP(B$6,VIEW!$C$13:$FF$3000,21) -> 7 | C28: =VLOOKUP(C$6,VIEW!$C$13:$FF$3000,21) -> #VALUE! | D28: =VLOOKUP(D$6,VIEW!$C$13:$FF$3000,21) -> #VALUE! | E28: =VLOOKUP(E$6,VIEW!$C$13:$FF$3000,21) -> #VALUE! | F28: =VLOOKUP(F$6,VIEW!$C$13:$FF$3000,21) -> #VALUE! | G28: =VLOOKUP(G$6,VIEW!$C$13:$FF$3000,21) -> #VALUE! | H28: =VLOOKUP(H$6,VIEW!$C$13:$FF$3000,21) -> #VALUE!
A29: Max I3 | B29: =VLOOKUP(B$6,VIEW!$C$13:$FF$3000,22) -> 0 | C29: =VLOOKUP(C$6,VIEW!$C$13:$FF$3000,22) -> #VALUE! | D29: =VLOOKUP(D$6,VIEW!$C$13:$FF$3000,22) -> #VALUE! | E29: =VLOOKUP(E$6,VIEW!$C$13:$FF$3000,22) -> #VALUE! | F29: =VLOOKUP(F$6,VIEW!$C$13:$FF$3000,22) -> #VALUE! | G29: =VLOOKUP(G$6,VIEW!$C$13:$FF$3000,22) -> #VALUE! | H29: =VLOOKUP(H$6,VIEW!$C$13:$FF$3000,22) -> #VALUE!
A30: Max IN | B30: =VLOOKUP(B$6,VIEW!$C$13:$FF$3000,23) -> 0 | C30: =VLOOKUP(C$6,VIEW!$C$13:$FF$3000,23) -> #VALUE! | D30: =VLOOKUP(D$6,VIEW!$C$13:$FF$3000,23) -> #VALUE! | E30: =VLOOKUP(E$6,VIEW!$C$13:$FF$3000,23) -> #VALUE! | F30: =VLOOKUP(F$6,VIEW!$C$13:$FF$3000,23) -> #VALUE! | G30: =VLOOKUP(G$6,VIEW!$C$13:$FF$3000,23) -> #VALUE! | H30: =VLOOKUP(H$6,VIEW!$C$13:$FF$3000,23) -> #VALUE!
A31: TDO 11
A32: Max I1 | B32: =VLOOKUP(B$6,VIEW!$C$13:$FF$3000,24) -> 16 | C32: =VLOOKUP(C$6,VIEW!$C$13:$FF$3000,24) -> #VALUE! | D32: =VLOOKUP(D$6,VIEW!$C$13:$FF$3000,24) -> #VALUE! | E32: =VLOOKUP(E$6,VIEW!$C$13:$FF$3000,24) -> #VALUE! | F32: =VLOOKUP(F$6,VIEW!$C$13:$FF$3000,24) -> #VALUE! | G32: =VLOOKUP(G$6,VIEW!$C$13:$FF$3000,24) -> #VALUE! | H32: =VLOOKUP(H$6,VIEW!$C$13:$FF$3000,24) -> #VALUE!
A33: Max I2 | B33: =VLOOKUP(B$6,VIEW!$C$13:$FF$3000,25) -> 0 | C33: =VLOOKUP(C$6,VIEW!$C$13:$FF$3000,25) -> #VALUE! | D33: =VLOOKUP(D$6,VIEW!$C$13:$FF$3000,25) -> #VALUE! | E33: =VLOOKUP(E$6,VIEW!$C$13:$FF$3000,25) -> #VALUE! | F33: =VLOOKUP(F$6,VIEW!$C$13:$FF$3000,25) -> #VALUE! | G33: =VLOOKUP(G$6,VIEW!$C$13:$FF$3000,25) -> #VALUE! | H33: =VLOOKUP(H$6,VIEW!$C$13:$FF$3000,25) -> #VALUE!
A34: Max I3 | B34: =VLOOKUP(B$6,VIEW!$C$13:$FF$3000,26) -> 0 | C34: =VLOOKUP(C$6,VIEW!$C$13:$FF$3000,26) -> #VALUE! | D34: =VLOOKUP(D$6,VIEW!$C$13:$FF$3000,26) -> #VALUE! | E34: =VLOOKUP(E$6,VIEW!$C$13:$FF$3000,26) -> #VALUE! | F34: =VLOOKUP(F$6,VIEW!$C$13:$FF$3000,26) -> #VALUE! | G34: =VLOOKUP(G$6,VIEW!$C$13:$FF$3000,26) -> #VALUE! | H34: =VLOOKUP(H$6,VIEW!$C$13:$FF$3000,26) -> #VALUE!
A35: Max IN | B35: =VLOOKUP(B$6,VIEW!$C$13:$FF$3000,27) -> 0 | C35: =VLOOKUP(C$6,VIEW!$C$13:$FF$3000,27) -> #VALUE! | D35: =VLOOKUP(D$6,VIEW!$C$13:$FF$3000,27) -> #VALUE! | E35: =VLOOKUP(E$6,VIEW!$C$13:$FF$3000,27) -> #VALUE! | F35: =VLOOKUP(F$6,VIEW!$C$13:$FF$3000,27) -> #VALUE! | G35: =VLOOKUP(G$6,VIEW!$C$13:$FF$3000,27) -> #VALUE! | H35: =VLOOKUP(H$6,VIEW!$C$13:$FF$3000,27) -> #VALUE!
A36: TDO 12
A37: Max I1 | B37: =VLOOKUP(B$6,VIEW!$C$13:$FF$3000,28) -> 8 | C37: =VLOOKUP(C$6,VIEW!$C$13:$FF$3000,28) -> #VALUE! | D37: =VLOOKUP(D$6,VIEW!$C$13:$FF$3000,28) -> #VALUE! | E37: =VLOOKUP(E$6,VIEW!$C$13:$FF$3000,28) -> #VALUE! | F37: =VLOOKUP(F$6,VIEW!$C$13:$FF$3000,28) -> #VALUE! | G37: =VLOOKUP(G$6,VIEW!$C$13:$FF$3000,28) -> #VALUE! | H37: =VLOOKUP(H$6,VIEW!$C$13:$FF$3000,28) -> #VALUE!
A38: Max I2 | B38: =VLOOKUP(B$6,VIEW!$C$13:$FF$3000,29) -> 13 | C38: =VLOOKUP(C$6,VIEW!$C$13:$FF$3000,29) -> #VALUE! | D38: =VLOOKUP(D$6,VIEW!$C$13:$FF$3000,29) -> #VALUE! | E38: =VLOOKUP(E$6,VIEW!$C$13:$FF$3000,29) -> #VALUE! | F38: =VLOOKUP(F$6,VIEW!$C$13:$FF$3000,29) -> #VALUE! | G38: =VLOOKUP(G$6,VIEW!$C$13:$FF$3000,29) -> #VALUE! | H38: =VLOOKUP(H$6,VIEW!$C$13:$FF$3000,29) -> #VALUE!
A39: Max I3 | B39: =VLOOKUP(B$6,VIEW!$C$13:$FF$3000,30) -> 7 | C39: =VLOOKUP(C$6,VIEW!$C$13:$FF$3000,30) -> #VALUE! | D39: =VLOOKUP(D$6,VIEW!$C$13:$FF$3000,30) -> #VALUE! | E39: =VLOOKUP(E$6,VIEW!$C$13:$FF$3000,30) -> #VALUE! | F39: =VLOOKUP(F$6,VIEW!$C$13:$FF$3000,30) -> #VALUE! | G39: =VLOOKUP(G$6,VIEW!$C$13:$FF$3000,30) -> #VALUE! | H39: =VLOOKUP(H$6,VIEW!$C$13:$FF$3000,30) -> #VALUE!
A40: Max IN | B40: =VLOOKUP(B$6,VIEW!$C$13:$FF$3000,31) -> 0 | C40: =VLOOKUP(C$6,VIEW!$C$13:$FF$3000,31) -> #VALUE! | D40: =VLOOKUP(D$6,VIEW!$C$13:$FF$3000,31) -> #VALUE! | E40: =VLOOKUP(E$6,VIEW!$C$13:$FF$3000,31) -> #VALUE! | F40: =VLOOKUP(F$6,VIEW!$C$13:$FF$3000,31) -> #VALUE! | G40: =VLOOKUP(G$6,VIEW!$C$13:$FF$3000,31) -> #VALUE! | H40: =VLOOKUP(H$6,VIEW!$C$13:$FF$3000,31) -> #VALUE!
A41: TDO 13
...

Sheet Feuil1
C13: =DATEVALUE(VIEW!C13) -> #VALUE! | D13: =VIEW!D13 -> 5 | E13: =VIEW!E13 -> 0 | F13: =VIEW!F13 -> 0 | G13: =VIEW!G13 -> 0 | H13: =VIEW!H13 -> 0 | I13: =VIEW!I13 -> 0 | J13: =VIEW!J13 -> 0 | K13: =VIEW!K13 -> 0 | ... AZ13: =VIEW!AZ13 -> 0
C14: =VIEW!C14 -> 41729.344 | D14: =VIEW!D14 -> 0 | E14: =VIEW!E14 -> 0 | F14: =VIEW!F14 -> 0 | G14: =VIEW!G14 -> 0 | H14: =VIEW!H14 -> 0 | I14: =VIEW!I14 -> 0 | J14: =VIEW!J14 -> 0 | ... AZ14: =VIEW!AZ14 -> 0
C15: =VIEW!C15 -> 41729.365 | D15: =VIEW!D15 -> 0 | E15: =VIEW!E15 -> 0 | F15: =VIEW!F15 -> 0 | G15: =VIEW!G15 -> 0 | H15: =VIEW!H15 -> 0 | I15: =VIEW!I15 -> 0 | J15: =VIEW!J15 -> 0 | ... AZ15: =VIEW!AZ15 -> 0
C16: =VIEW!C16 -> 41729.469 | D16: =VIEW!D16 -> 0 | E16: =VIEW!E16 -> 0 | F16: =VIEW!F16 -> 0 | G16: =VIEW!G16 -> 0 | H16: =VIEW!H16 -> 0 | I16: =VIEW!I16 -> 0 | J16: =VIEW!J16 -> 0 | ... AZ16: =VIEW!AZ16 -> 0
C17: =VIEW!C17 -> 41729.479 | D17: =VIEW!D17 -> 0 | E17: =VIEW!E17 -> 0 | F17: =VIEW!F17 -> 0 | G17: =VIEW!G17 -> 0 | H17: =VIEW!H17 -> 0 | I17: =VIEW!I17 -> 0 | J17: =VIEW!J17 -> 0 | ... AZ17: =VIEW!AZ17 -> 0
C18: =VIEW!C18 -> 41729.49 | D18: =VIEW!D18 -> 0 | E18: =VIEW!E18 -> 0 | F18: =VIEW!F18 -> 0 | G18: =VIEW!G18 -> 0 | H18: =VIEW!H18 -> 0 | I18: =VIEW!I18 -> 0 | J18: =VIEW!J18 -> 0 | ... AZ18: =VIEW!AZ18 -> 0
C19: =VIEW!C19 -> 41729.51 | D19: =VIEW!D19 -> 0 | E19: =VIEW!E19 -> 0 | F19: =VIEW!F19 -> 0 | G19: =VIEW!G19 -> 0 | H19: =VIEW!H19 -> 0 | I19: =VIEW!I19 -> 0 | J19: =VIEW!J19 -> 0 | ... AZ19: =VIEW!AZ19 -> 0
C20: =VIEW!C20 -> 41729.521 | D20: =VIEW!D20 -> 0 | E20: =VIEW!E20 -> 0 | F20: =VIEW!F20 -> 0 | G20: =VIEW!G20 -> 0 | H20: =VIEW!H20 -> 0 | I20: =VIEW!I20 -> 0 | J20: =VIEW!J20 -> 0 | ... AZ20: =VIEW!AZ20 -> 0
C21: =VIEW!C21 -> 41729.542 | D21: =VIEW!D21 -> 0 | E21: =VIEW!E21 -> 0 | F21: =VIEW!F21 -> 0 | G21: =VIEW!G21 -> 0 | H21: =VIEW!H21 -> 0 | I21: =VIEW!I21 -> 0 | J21: =VIEW!J21 -> 0 | ... AZ21: =VIEW!AZ21 -> 0
C22: =VIEW!C22 -> 41729.833 | D22: =VIEW!D22 -> 0 | E22: =VIEW!E22 -> 0 | F22: =VIEW!F22 -> 0 | G22: =VIEW!G22 -> 0 | H22: =VIEW!H22 -> 0 | I22: =VIEW!I22 -> 0 | J22: =VIEW!J22 -> 0 | ... AZ22: =VIEW!AZ22 -> 0
C23: =VIEW!C23 -> 41730.333 | D23: =VIEW!D23 -> 5 | E23: =VIEW!E23 -> 0 | F23: =VIEW!F23 -> 0 | G23: =VIEW!G23 -> 0 | H23: =VIEW!H23 -> 0 | I23: =VIEW!I23 -> 0 | J23: =VIEW!J23 -> 0 | ... AZ23: =VIEW!AZ23 -> 0
C24: =VIEW!C24 -> 41730.344 | D24: =VIEW!D24 -> 0 | E24: =VIEW!E24 -> 0 | F24: =VIEW!F24 -> 0 | G24: =VIEW!G24 -> 0 | H24: =VIEW!H24 -> 0 | I24: =VIEW!I24 -> 0 | J24: =VIEW!J24 -> 0 | ... AZ24: =VIEW!AZ24 -> 0
C25: =VIEW!C25 -> 41730.354 | D25: =VIEW!D25 -> 0 | E25: =VIEW!E25 -> 0 | F25: =VIEW!F25 -> 0 | G25: =VIEW!G25 -> 0 | H25: =VIEW!H25 -> 0 | I25: =VIEW!I25 -> 0 | J25: =VIEW!J25 -> 0 | ... AZ25: =VIEW!AZ25 -> 0
... C200: =VIEW!C200 -> 0 | D200: =VIEW!D200 -> 0 | E200: =VIEW!E200 -> 0 | F200: =VIEW!F200 -> 0 | G200: =VIEW!G200 -> 0 | H200: =VIEW!H200 -> 0 | I200: =VIEW!I200 -> 0 | J200: =VIEW!J200 -> 0 | ... AZ200: =VIEW!AZ200 -> 0

Sheet Feuil2
A1: date | B1: value | C1: rank

Sheet Feuil3
A1: date | B1: value | C1: rank

Sheet VIEW
C2: PCWIN 2 LabRoom GE
C3: Hebdo - TC66 - TDO - Max Intensité
B5: Du | C5: 41729
B6: Au | C6: 41736.999
B7: Le | C7: 41736.001
C9: Date | D9: Max Jour TDO Divers : I1 | E9: Max Jour TDO Divers : I2 | F9: Max Jour TDO Divers : I3 | G9: Max Jour TDO Divers : IN | H9: Max Jour TDO DR1 : I1 | I9: Max Jour TDO DR1 : I2 | J9: Max Jour TDO DR1 : I3 | K9: Max Jour TDO DR1 : IN | L9: Max Jour TDO DR2 : I1 | M9: Max Jour TDO DR2 : I2 | N9: Max Jour TDO DR2 : I3 | O9: Max Jour TDO DR2 : IN | P9: Max Jour TDO LR1 : I1 | Q9: Max Jour TDO LR1 : I2 | R9: Max Jour TDO LR1 : I3 | S9: Max Jour TDO LR1 : IN | T9: Max Jour TDO LR2 : I1 | U9: Max Jour TDO LR2 : I2 | V9: Max Jour TDO LR2 : I3 | W9: Max Jour TDO LR2 : IN | X9: Max Jour TDO11 : I1 | Y9: Max Jour TDO11 : I2 | Z9: Max Jour TDO11 : I3 | AA9: Max Jour TDO11 : IN | AB9: Max Jour TDO12 : I1 | AC9: Max Jour TDO12 : I2 | AD9: Max Jour TDO12 : I3 | AE9: Max Jour TDO12 : IN | AF9: Max Jour TDO13 : I1 | AG9: Max Jour TDO13 : I2 | AH9: Max Jour TDO13 : I3 | AI9: Max Jour TDO13 : IN | AJ9: Max Jour TDO21 : I1 | AK9: Max Jour TDO21 : I2 | AL9: Max Jour TDO21 : I3 | AM9: Max Jour TDO21 : IN | AN9: Max Jour TDO22 : I1 | AO9: Max Jour TDO22 : I2 | AP9: Max Jour TDO22 : I3 | AQ9: Max Jour TDO22 : IN | AR9: Max Jour TDO23 : I1 | AS9: Max Jour TDO23 : I2 | AT9: Max Jour TDO23 : I3 | AU9: Max Jour TDO23 : IN
D10: A | E10: A | F10: A | G10: A | H10: A | I10: A | J10: A | K10: A | L10: A | M10: A | N10: A | O10: A | P10: A | Q10: A | R10: A | S10: A | T10: A | U10: A | V10: A | W10: A | X10: A | Y10: A | Z10: A | AA10: A | AB10: A | AC10: A | AD10: A | AE10: A | AF10: A | AG10: A | AH10: A | AI10: A | AJ10: A | AK10: A | AL10: A | AM10: A | AN10: A | AO10: A | AP10: A | AQ10: A | AR10: A | AS10: A | AT10: A | AU10: A
D12: A10Max Jour TDO Divers : I1 | E12: A11Max Jour TDO Divers : I2 | F12: A12Max Jour TDO Divers : I3 | G12: A13Max Jour TDO Divers : IN | H12: A14Max Jour TDO DR1 : I1 | I12: A15Max Jour TDO DR1 : I2 | J12: A16Max Jour TDO DR1 : I3 | K12: A17Max Jour TDO DR1 : IN | L12: A18Max Jour TDO DR2 : I1 | M12: A19Max Jour TDO DR2 : I2 | N12: A20Max Jour TDO DR2 : I3 | O12: A21Max Jour TDO DR2 : IN | P12: A22Max Jour TDO LR1 : I1 | Q12: A23Max Jour TDO LR1 : I2 | R12: A24Max Jour TDO LR1 : I3 | S12: A25Max Jour TDO LR1 : IN | T12: A26Max Jour TDO LR2 : I1 | U12: A27Max Jour TDO LR2 : I2 | V12: A28Max Jour TDO LR2 : I3 | W12: A29Max Jour TDO LR2 : IN | X12: A30Max Jour TDO11 : I1 | Y12: A31Max Jour TDO11 : I2 | Z12: A32Max Jour TDO11 : I3 | AA12: A33Max Jour TDO11 : IN | AB12: A34Max Jour TDO12 : I1 | AC12: A35Max Jour TDO12 : I2 | AD12: A36Max Jour TDO12 : I3 | AE12: A37Max Jour TDO12 : IN | AF12: A38Max Jour TDO13 : I1 | AG12: A39Max Jour TDO13 : I2 | AH12: A40Max Jour TDO13 : I3 | AI12: A41Max Jour TDO13 : IN | AJ12: A42Max Jour TDO21 : I1 | AK12: A43Max Jour TDO21 : I2 | AL12: A44Max Jour TDO21 : I3 | AM12: A45Max Jour TDO21 : IN | AN12: A46Max Jour TDO22 : I1 | AO12: A47Max Jour TDO22 : I2 | AP12: A48Max Jour TDO22 : I3 | AQ12: A49Max Jour TDO22 : IN | AR12: A50Max Jour TDO23 : I1 | AS12: A51Max Jour TDO23 : I2 | AT12: A52Max Jour TDO23 : I3 | AU12: A53Max Jour TDO23 : IN
C13: 41729.333 | D13: 5 | E13: 0 | F13: 0 | G13: 0 | H13: 0 | I13: 0 | J13: 0 | K13: 0 | L13: 0 | M13: 0 | N13: 0 | O13: 0 | P13: 0 | Q13: 8 | R13: 7 | S13: 0 | T13: 0 | U13: 7 | W13: 7 | Z13: 16 | AD13: 8 | AE13: 13 | AF13: 7 | AH13: 7 | AI13: 7 | AJ13: 11 | AK13: 16 | AL13: 12 | AM13: 13 | AO13: 23 | AP13: 8 | AS13: 11 | AT13: 7
C14: 41729.344 | AG14: 11
C15: 41729.365 | AU15: 7
C16: 41729.469 | AB16: 12
C17: 41729.479 | AR17: 8
C18: 41729.49 | X18: 15
C19: 41729.51 | AN19: 15 | AQ19: 18
C20: 41729.521 | AA20: 13
C21: 41729.542 | V21: 6 | Y21: 17
C22: 41729.833 | AC22: 19
C23: 41730.333 | D23: 5 | E23: 0 | F23: 0 | G23: 0 | H23: 0 | I23: 0 | J23: 0 | K23: 0 | L23: 0 | M23: 0 | N23: 0 | O23: 0 | P23: 0 | Q23: 8 | R23: 7 | S23: 0 | T23: 0 | U23: 7 | W23: 7 | AD23: 8 | AE23: 13 | AF23: 7 | AG23: 11 | AH23: 7 | AI23: 7 | AJ23: 11 | AK23: 16 | AL23: 12 | AP23: 8 | AS23: 11 | AT23: 7
C24: 41730.344 | AM24: 13
C25: 41730.354 | AQ25: 18 | AU25: 7
C26: 41730.365 | X26: 15
C27: 41730.385 | AC27: 19
C28: 41730.427 | AB28: 12
C29: 41730.458 | AN29: 15
C30: 41730.562 | V30: 6
C31: 41730.583 | Z31: 17 | AA31: 13
C32: 41730.625 | AR32: 8
C33: 41730.917 | AO33: 24
C34: 41730.958 | Y34: 17
C35: 41731.333 | D35: 5 | E35: 0 | F35: 0 | G35: 0 | H35: 0 | I35: 0 | J35: 0 | K35: 0 | L35: 0 | M35: 0 | N35: 0 | O35: 0 | P35: 0 | Q35: 8 | R35: 7 | S35: 0 | T35: 0 | U35: 7 | W35: 7 | X35: 15 | AD35: 8 | AE35: 13 | AF35: 7 | AG35: 11 | AH35: 7 | AI35: 7 | AJ35: 11 | AK35: 16 | AL35: 12 | AP35: 8 | AQ35: 18 | AS35: 11 | AT35: 7 | AU35: 7
C36: 41731.344 | AN36: 15
C37: 41731.365 | AC37: 19 | AM37: 13
C38: 41731.427 | AA38: 13 | AB38: 12
C39: 41731.552 | V39: 6
C40: 41731.75 | AR40: 8
C41: 41731.865 | Z41: 17
C42: 41731.885 | AO42: 24
C43: 41731.927 | Y43: 17
C44: 41732.333 | D44: 5 | E44: 0 | F44: 0 | G44: 0 | H44: 0 | I44: 0 | J44: 0 | K44: 0 | L44: 0 | M44: 0 | N44: 0 | O44: 0 | P44: 0 | Q44: 8 | R44: 7 | S44: 0 | T44: 0 | U44: 7 | W44: 7 | X44: 15 | AD44: 8 | AE44: 13 | AF44: 7 | AG44: 11 | AH44: 7 | AI44: 7 | AJ44: 11 | AK44: 16 | AL44: 12 | AM44: 13 | AN44: 15 | AP44: 8 | AQ44: 18 | AS44: 11 | AT44: 7
...

Sheet DATA
A1: date | B1: value | C1: rank
A2: 41729.333 | B2: 5 | C2: A10Max Jour TDO Divers : I1
A3: 41730.333 | B3: 5 | C3: A10Max Jour TDO Divers : I1
A4: 41731.333 | B4: 5 | C4: A10Max Jour TDO Divers : I1
A5: 41732.333 | B5: 5 | C5: A10Max Jour TDO Divers : I1
A6: 41733.333 | B6: 5 | C6: A10Max Jour TDO Divers : I1
A7: 41734.333 | B7: 5 | C7: A10Max Jour TDO Divers : I1
A8: 41729.333 | B8: 0 | C8: A11Max Jour TDO Divers : I2
A9: 41730.333 | B9: 0 | C9: A11Max Jour TDO Divers : I2
A10: 41731.333 | B10: 0 | C10: A11Max Jour TDO Divers : I2
A11: 41732.333 | B11: 0 | C11: A11Max Jour TDO Divers : I2
A12: 41733.333 | B12: 0 | C12: A11Max Jour TDO Divers : I2
A13: 41734.333 | B13: 0 | C13: A11Max Jour TDO Divers : I2
... A265: 41734.333 | B265: 7 | C265: A53Max Jour TDO23 : IN
