Workbook
Name Catégories: Liste!$A$2:$A$15

Sheet Janvier
A1: Dossier | B1: Dates mvts validés | C1: Type Mouvement | D1: Catégories
A2: Client A | B2: 41640 | C2: AERD | D2: =IF(OR(A2="CLIENT B",A2="CLIENT D"),VLOOKUP(C2,Index!$A$4:$D$10,3,0),VLOOKUP(C2,Index!$A$4:$D$10,2,0)) -> Exploitation
A3: Client A | B3: 41641 | C3: AERD | D3: =IF(OR(A3="CLIENT B",A3="CLIENT D"),VLOOKUP(C3,Index!$A$4:$D$10,3,0),VLOOKUP(C3,Index!$A$4:$D$10,2,0)) -> Exploitation
A4: Client A | B4: 41642 | C4: AERD | D4: =IF(OR(A4="CLIENT B",A4="CLIENT D"),VLOOKUP(C4,Index!$A$4:$D$10,3,0),VLOOKUP(C4,Index!$A$4:$D$10,2,0)) -> Exploitation
A5: Client A | B5: 41643 | C5: AERD | D5: =IF(OR(A5="CLIENT B",A5="CLIENT D"),VLOOKUP(C5,Index!$A$4:$D$10,3,0),VLOOKUP(C5,Index!$A$4:$D$10,2,0)) -> Exploitation
A6: Client A | B6: 41644 | C6: AERD | D6: =IF(OR(A6="CLIENT B",A6="CLIENT D"),VLOOKUP(C6,Index!$A$4:$D$10,3,0),VLOOKUP(C6,Index!$A$4:$D$10,2,0)) -> Exploitation
A7: Client A | B7: 41645 | C7: AERD | D7: =IF(OR(A7="CLIENT B",A7="CLIENT D"),VLOOKUP(C7,Index!$A$4:$D$10,3,0),VLOOKUP(C7,Index!$A$4:$D$10,2,0)) -> Exploitation
A8: Client A | B8: 41646 | C8: AERD | D8: =IF(OR(A8="CLIENT B",A8="CLIENT D"),VLOOKUP(C8,Index!$A$4:$D$10,3,0),VLOOKUP(C8,Index!$A$4:$D$10,2,0)) -> Exploitation
A9: Client A | B9: 41647 | C9: CORE | D9: =IF(OR(A9="CLIENT B",A9="CLIENT D"),VLOOKUP(C9,Index!$A$4:$D$10,3,0),VLOOKUP(C9,Index!$A$4:$D$10,2,0)) -> Anomalie_Process
A10: Client A | B10: 41648 | C10: CORE | D10: =IF(OR(A10="CLIENT B",A10="CLIENT D"),VLOOKUP(C10,Index!$A$4:$D$10,3,0),VLOOKUP(C10,Index!$A$4:$D$10,2,0)) -> Anomalie_Process
A11: Client A | B11: 41649 | C11: CORE | D11: =IF(OR(A11="CLIENT B",A11="CLIENT D"),VLOOKUP(C11,Index!$A$4:$D$10,3,0),VLOOKUP(C11,Index!$A$4:$D$10,2,0)) -> Anomalie_Process
A12: Client A | B12: 41650 | C12: CORE | D12: =IF(OR(A12="CLIENT B",A12="CLIENT D"),VLOOKUP(C12,Index!$A$4:$D$10,3,0),VLOOKUP(C12,Index!$A$4:$D$10,2,0)) -> Anomalie_Process
A13: Client A | B13: 41651 | C13: CORE | D13: =IF(OR(A13="CLIENT B",A13="CLIENT D"),VLOOKUP(C13,Index!$A$4:$D$10,3,0),VLOOKUP(C13,Index!$A$4:$D$10,2,0)) -> Anomalie_Process
... A59: Client D | B59: 41649 | C59: CORE | D59: =IF(OR(A59="CLIENT B",A59="CLIENT D"),VLOOKUP(C59,Index!$A$4:$D$10,3,0),VLOOKUP(C59,Index!$A$4:$D$10,2,0)) -> Exploitation

Sheet Février
A1: Dossier | B1: Dates mvts validés | C1: Type Mouvement | D1: Catégories
A2: Client A | B2: 41671 | C2: AERD | D2: =IF(OR(A2="CLIENT B",A2="CLIENT D"),VLOOKUP(C2,Index!$A$4:$D$10,3,0),VLOOKUP(C2,Index!$A$4:$D$10,2,0)) -> Exploitation
A3: Client A | B3: 41672 | C3: AERD | D3: =IF(OR(A3="CLIENT B",A3="CLIENT D"),VLOOKUP(C3,Index!$A$4:$D$10,3,0),VLOOKUP(C3,Index!$A$4:$D$10,2,0)) -> Exploitation
A4: Client A | B4: 41673 | C4: AERD | D4: =IF(OR(A4="CLIENT B",A4="CLIENT D"),VLOOKUP(C4,Index!$A$4:$D$10,3,0),VLOOKUP(C4,Index!$A$4:$D$10,2,0)) -> Exploitation
A5: Client A | B5: 41674 | C5: AERD | D5: =IF(OR(A5="CLIENT B",A5="CLIENT D"),VLOOKUP(C5,Index!$A$4:$D$10,3,0),VLOOKUP(C5,Index!$A$4:$D$10,2,0)) -> Exploitation
A6: Client A | B6: 41675 | C6: AERD | D6: =IF(OR(A6="CLIENT B",A6="CLIENT D"),VLOOKUP(C6,Index!$A$4:$D$10,3,0),VLOOKUP(C6,Index!$A$4:$D$10,2,0)) -> Exploitation
A7: Client A | B7: 41676 | C7: AERD | D7: =IF(OR(A7="CLIENT B",A7="CLIENT D"),VLOOKUP(C7,Index!$A$4:$D$10,3,0),VLOOKUP(C7,Index!$A$4:$D$10,2,0)) -> Exploitation
A8: Client A | B8: 41677 | C8: AERD | D8: =IF(OR(A8="CLIENT B",A8="CLIENT D"),VLOOKUP(C8,Index!$A$4:$D$10,3,0),VLOOKUP(C8,Index!$A$4:$D$10,2,0)) -> Exploitation
A9: Client A | B9: 41678 | C9: CORE | D9: =IF(OR(A9="CLIENT B",A9="CLIENT D"),VLOOKUP(C9,Index!$A$4:$D$10,3,0),VLOOKUP(C9,Index!$A$4:$D$10,2,0)) -> Anomalie_Process
A10: Client A | B10: 41679 | C10: CORE | D10: =IF(OR(A10="CLIENT B",A10="CLIENT D"),VLOOKUP(C10,Index!$A$4:$D$10,3,0),VLOOKUP(C10,Index!$A$4:$D$10,2,0)) -> Anomalie_Process
A11: Client A | B11: 41680 | C11: CORE | D11: =IF(OR(A11="CLIENT B",A11="CLIENT D"),VLOOKUP(C11,Index!$A$4:$D$10,3,0),VLOOKUP(C11,Index!$A$4:$D$10,2,0)) -> Anomalie_Process
A12: Client A | B12: 41681 | C12: CORE | D12: =IF(OR(A12="CLIENT B",A12="CLIENT D"),VLOOKUP(C12,Index!$A$4:$D$10,3,0),VLOOKUP(C12,Index!$A$4:$D$10,2,0)) -> Anomalie_Process
A13: Client A | B13: 41682 | C13: CORE | D13: =IF(OR(A13="CLIENT B",A13="CLIENT D"),VLOOKUP(C13,Index!$A$4:$D$10,3,0),VLOOKUP(C13,Index!$A$4:$D$10,2,0)) -> Anomalie_Process
... A59: Client D | B59: 41696 | C59: CORE | D59: =IF(OR(A59="CLIENT B",A59="CLIENT D"),VLOOKUP(C59,Index!$A$4:$D$10,3,0),VLOOKUP(C59,Index!$A$4:$D$10,2,0)) -> Exploitation

Sheet Mars
A1: Dossier | B1: Dates mvts validés | C1: Type Mouvement | D1: Catégories
A2: Client A | B2: 41699 | C2: AERD | D2: =IF(OR(A2="CLIENT B",A2="CLIENT D"),VLOOKUP(C2,Index!$A$4:$D$10,3,0),VLOOKUP(C2,Index!$A$4:$D$10,2,0)) -> Exploitation
A3: Client A | B3: 41700 | C3: AERD | D3: =IF(OR(A3="CLIENT B",A3="CLIENT D"),VLOOKUP(C3,Index!$A$4:$D$10,3,0),VLOOKUP(C3,Index!$A$4:$D$10,2,0)) -> Exploitation
A4: Client A | B4: 41701 | C4: AERD | D4: =IF(OR(A4="CLIENT B",A4="CLIENT D"),VLOOKUP(C4,Index!$A$4:$D$10,3,0),VLOOKUP(C4,Index!$A$4:$D$10,2,0)) -> Exploitation
A5: Client A | B5: 41702 | C5: AERD | D5: =IF(OR(A5="CLIENT B",A5="CLIENT D"),VLOOKUP(C5,Index!$A$4:$D$10,3,0),VLOOKUP(C5,Index!$A$4:$D$10,2,0)) -> Exploitation
A6: Client A | B6: 41703 | C6: AERD | D6: =IF(OR(A6="CLIENT B",A6="CLIENT D"),VLOOKUP(C6,Index!$A$4:$D$10,3,0),VLOOKUP(C6,Index!$A$4:$D$10,2,0)) -> Exploitation
A7: Client A | B7: 41704 | C7: AERD | D7: =IF(OR(A7="CLIENT B",A7="CLIENT D"),VLOOKUP(C7,Index!$A$4:$D$10,3,0),VLOOKUP(C7,Index!$A$4:$D$10,2,0)) -> Exploitation
A8: Client A | B8: 41705 | C8: AERD | D8: =IF(OR(A8="CLIENT B",A8="CLIENT D"),VLOOKUP(C8,Index!$A$4:$D$10,3,0),VLOOKUP(C8,Index!$A$4:$D$10,2,0)) -> Exploitation
A9: Client A | B9: 41706 | C9: CORE | D9: =IF(OR(A9="CLIENT B",A9="CLIENT D"),VLOOKUP(C9,Index!$A$4:$D$10,3,0),VLOOKUP(C9,Index!$A$4:$D$10,2,0)) -> Anomalie_Process
A10: Client A | B10: 41707 | C10: CORE | D10: =IF(OR(A10="CLIENT B",A10="CLIENT D"),VLOOKUP(C10,Index!$A$4:$D$10,3,0),VLOOKUP(C10,Index!$A$4:$D$10,2,0)) -> Anomalie_Process
A11: Client A | B11: 41708 | C11: CORE | D11: =IF(OR(A11="CLIENT B",A11="CLIENT D"),VLOOKUP(C11,Index!$A$4:$D$10,3,0),VLOOKUP(C11,Index!$A$4:$D$10,2,0)) -> Anomalie_Process
A12: Client A | B12: 41709 | C12: CORE | D12: =IF(OR(A12="CLIENT B",A12="CLIENT D"),VLOOKUP(C12,Index!$A$4:$D$10,3,0),VLOOKUP(C12,Index!$A$4:$D$10,2,0)) -> Anomalie_Process
A13: Client A | B13: 41710 | C13: CORE | D13: =IF(OR(A13="CLIENT B",A13="CLIENT D"),VLOOKUP(C13,Index!$A$4:$D$10,3,0),VLOOKUP(C13,Index!$A$4:$D$10,2,0)) -> Anomalie_Process
... A59: Client D | B59: 41729 | C59: CORE | D59: =IF(OR(A59="CLIENT B",A59="CLIENT D"),VLOOKUP(C59,Index!$A$4:$D$10,3,0),VLOOKUP(C59,Index!$A$4:$D$10,2,0)) -> Exploitation

Sheet Avril
A1: Dossier | B1: Dates mvts validés | C1: Type Mouvement | D1: Catégories
A2: Client A | B2: 41730 | C2: AERD | D2: =IF(OR(A2="CLIENT B",A2="CLIENT D"),VLOOKUP(C2,Index!$A$4:$D$10,3,0),VLOOKUP(C2,Index!$A$4:$D$10,2,0)) -> Exploitation
A3: Client A | B3: 41731 | C3: AERD | D3: =IF(OR(A3="CLIENT B",A3="CLIENT D"),VLOOKUP(C3,Index!$A$4:$D$10,3,0),VLOOKUP(C3,Index!$A$4:$D$10,2,0)) -> Exploitation
A4: Client A | B4: 41732 | C4: AERD | D4: =IF(OR(A4="CLIENT B",A4="CLIENT D"),VLOOKUP(C4,Index!$A$4:$D$10,3,0),VLOOKUP(C4,Index!$A$4:$D$10,2,0)) -> Exploitation
A5: Client A | B5: 41733 | C5: AERD | D5: =IF(OR(A5="CLIENT B",A5="CLIENT D"),VLOOKUP(C5,Index!$A$4:$D$10,3,0),VLOOKUP(C5,Index!$A$4:$D$10,2,0)) -> Exploitation
A6: Client A | B6: 41734 | C6: AERD | D6: =IF(OR(A6="CLIENT B",A6="CLIENT D"),VLOOKUP(C6,Index!$A$4:$D$10,3,0),VLOOKUP(C6,Index!$A$4:$D$10,2,0)) -> Exploitation
A7: Client A | B7: 41735 | C7: AERD | D7: =IF(OR(A7="CLIENT B",A7="CLIENT D"),VLOOKUP(C7,Index!$A$4:$D$10,3,0),VLOOKUP(C7,Index!$A$4:$D$10,2,0)) -> Exploitation
A8: Client A | B8: 41736 | C8: AERD | D8: =IF(OR(A8="CLIENT B",A8="CLIENT D"),VLOOKUP(C8,Index!$A$4:$D$10,3,0),VLOOKUP(C8,Index!$A$4:$D$10,2,0)) -> Exploitation
A9: Client A | B9: 41737 | C9: CORE | D9: =IF(OR(A9="CLIENT B",A9="CLIENT D"),VLOOKUP(C9,Index!$A$4:$D$10,3,0),VLOOKUP(C9,Index!$A$4:$D$10,2,0)) -> Anomalie_Process
A10: Client A | B10: 41738 | C10: CORE | D10: =IF(OR(A10="CLIENT B",A10="CLIENT D"),VLOOKUP(C10,Index!$A$4:$D$10,3,0),VLOOKUP(C10,Index!$A$4:$D$10,2,0)) -> Anomalie_Process
A11: Client A | B11: 41739 | C11: CORE | D11: =IF(OR(A11="CLIENT B",A11="CLIENT D"),VLOOKUP(C11,Index!$A$4:$D$10,3,0),VLOOKUP(C11,Index!$A$4:$D$10,2,0)) -> Anomalie_Process
A12: Client A | B12: 41740 | C12: CORE | D12: =IF(OR(A12="CLIENT B",A12="CLIENT D"),VLOOKUP(C12,Index!$A$4:$D$10,3,0),VLOOKUP(C12,Index!$A$4:$D$10,2,0)) -> Anomalie_Process
A13: Client A | B13: 41741 | C13: CORE | D13: =IF(OR(A13="CLIENT B",A13="CLIENT D"),VLOOKUP(C13,Index!$A$4:$D$10,3,0),VLOOKUP(C13,Index!$A$4:$D$10,2,0)) -> Anomalie_Process
... A59: Client D | B59: 41759 | C59: CORE | D59: =IF(OR(A59="CLIENT B",A59="CLIENT D"),VLOOKUP(C59,Index!$A$4:$D$10,3,0),VLOOKUP(C59,Index!$A$4:$D$10,2,0)) -> Exploitation

Sheet Index
A3: Type Mouvement | B3: Catégories | C3: Client B | D3: Client D
A4: AERD | B4: Exploitation | C4: Exploitation | D4: Exploitation
A5: CORE | B5: Anomalie_Process | C5: Exploitation | D5: Exploitation
A6: CORS | B6: Anomalie_Process | C6: Exploitation | D6: Exploitation
A7: DBLO | B7: Exploitation | C7: Exploitation | D7: Exploitation
A8: GTER | B8: Exploitation | C8: Exploitation | D8: Exploitation
A9: PERS | B9: Ecart_Stock | C9: Ecart_Stock | D9: Ecart_Stock
A10: ZERT | B10: Ecart_Stock | C10: Ecart_Stock | D10: Ecart_Stock

Sheet Liste
A1: Catégories
A2: Exploitation
A3: Anomalie_Process
A4: Ecart_Stock

Sheet Suivi Exploitation
A1: Dossier | B1: Dates mvts validés | C1: Type Mouvement | D1: Catégories | G1: Critères
G2: Catégories
G3: Exploitation

Sheet Suivi Anomalie_Process
A1: Dossier | B1: Dates mvts validés | C1: Type Mouvement | D1: Catégories | G1: Critères
G2: Catégories
G3: Anomalie_Process

Sheet Suivi Ecart_Stock
A1: Dossier | B1: Dates mvts validés | C1: Type Mouvement | D1: Catégories | G1: Critères
G2: Catégories
G3: Ecart_Stock
