Workbook

Sheet Sommaire mois commun
B2: Total achat 2013 | C2: Nourriture | D2: Resto | E2: Loisirs | F2: Achat appart | G2: Divers | H2: Autres | I2: TOTAL DÉPENSES MOIS | J2: Différence X | K2: Différence Y
B3: Novembre | C3: ='Achat mois commun'!$K$5 -> 500 | D3: ='Achat mois commun'!$K$6 -> 200 | E3: ='Achat mois commun'!$K$7 -> 200 | F3: ='Achat mois commun'!$K$8 -> 0 | G3: ='Achat mois commun'!$K$9 -> 0 | H3: 0 | I3: =SUM(C3:H3) -> 900 | J3: ='Achat mois commun'!K17 -> -110 | K3: ='Achat mois commun'!K23 -> 110
B4: Décembre | C4: ='Achat mois commun'!$K$35 -> 550 | D4: ='Achat mois commun'!$K$36 -> 400 | E4: ='Achat mois commun'!$K$37 -> 0 | F4: ='Achat mois commun'!$K$38 -> 0 | G4: ='Achat mois commun'!$K$39 -> 0 | H4: 0 | I4: =SUM(C4:H4) -> 950 | J4: ='Achat mois commun'!K47 -> -135 | K4: ='Achat mois commun'!K53 -> 135
B5: Total 2013 | C5: =SUM(C3:C4) -> 1050 | D5: =SUM(D3:D4) -> 600 | E5: =SUM(E3:E4) -> 200 | F5: =SUM(F3:F4) -> 0 | G5: =SUM(G3:G4) -> 0 | H5: =SUM(H3:H4) -> 0 | I5: =SUM(I3:I4) -> 1850 | J5: =SUM(J3:J4) -> -245 | K5: =SUM(K3:K4) -> 245
B8: Total achat 2013 | C8: Nourriture | D8: Resto | E8: Loisirs | F8: Achat appart | G8: Divers | H8: Autres | I8: TOTAL DÉPENSES MOIS | J8: Différence X | K8: Différence Y
B9: Janvier | C9: ='Achat mois commun'!$K$65 -> 500 | D9: ='Achat mois commun'!$K$66 -> 400 | E9: ='Achat mois commun'!$K$67 -> 0 | F9: ='Achat mois commun'!$K$68 -> 0 | J9: ='Achat mois commun'!K77 -> 46 | K9: ='Achat mois commun'!K83 -> -46
B10: Février | C10: ='Achat mois commun'!$K$95 -> 0 | D10: ='Achat mois commun'!$K$96 -> 0 | E10: ='Achat mois commun'!$K$97 -> 0 | F10: ='Achat mois commun'!$K$98 -> 0 | J10: ='Achat mois commun'!K107 -> -460 | K10: ='Achat mois commun'!K113 -> 460
B11: Mars | C11: ='Achat mois commun'!$K$65 -> 500 | D11: ='Achat mois commun'!$K$96 -> 0 | E11: ='Achat mois commun'!$K$97 -> 0 | F11: ='Achat mois commun'!$K$98 -> 0 | K11: ='Achat mois commun'!K114 -> 0
B12: Avril | C12: ='Achat mois commun'!$K$95 -> 0 | D12: ='Achat mois commun'!$K$96 -> 0 | E12: ='Achat mois commun'!$K$97 -> 0 | F12: ='Achat mois commun'!$K$98 -> 0 | K12: ='Achat mois commun'!K115 -> 0
B13: Mai | C13: ='Achat mois commun'!$K$65 -> 500 | D13: ='Achat mois commun'!$K$96 -> 0 | E13: ='Achat mois commun'!$K$97 -> 0 | F13: ='Achat mois commun'!$K$98 -> 0 | K13: ='Achat mois commun'!K116 -> 0
B14: Juin | C14: ='Achat mois commun'!$K$95 -> 0 | D14: ='Achat mois commun'!$K$96 -> 0 | E14: ='Achat mois commun'!$K$97 -> 0 | F14: ='Achat mois commun'!$K$98 -> 0 | K14: ='Achat mois commun'!K117 -> 0
B15: Juillet | C15: ='Achat mois commun'!$K$95 -> 0 | D15: ='Achat mois commun'!$K$96 -> 0 | E15: ='Achat mois commun'!$K$97 -> 0
B16: Août
B17: Septembre
B18: Octobre
B19: Novembre
B20: Décembre
B21: Total 2013 | C21: =SUM(C9:C20) -> 1500 | D21: =SUM(D9:D20) -> 400 | E21: =SUM(E9:E20) -> 0 | F21: =SUM(F9:F20) -> 0 | G21: =SUM(G9:G20) -> 0 | H21: =SUM(H9:H20) -> 0 | I21: =SUM(I9:I20) -> 0 | J21: =SUM(J9:J20) -> -414 | K21: =SUM(K9:K20) -> 414

Sheet Achat mois commun
B1: 41579
B3: Coût logement
B4: Loyer : | C4: 1000 | F4: % alloué par partie pour logement | H4: Coût | J4: ACHAT TOTAL
B5: Électricité : | C5: 100 | F5: X : | G5: 0.6 | H5: =(C7*G5) -> 690 | J5: Nourriture total | K5: =C10+C20 -> 500
B6: Assurance appart | C6: 50 | F6: Y : | G6: =SUM(100%-G5) -> 0.4 | H6: =(C7*(100%-G5)) -> 460 | J6: Resto Total | K6: =C11+C21 -> 200
B7: Total : | C7: =SUM(C4:C6) -> 1150 | H7: =SUM(H5:H6) -> 1150 | J7: Loisir total | K7: =C12+C22 -> 200
J8: Achat appart total | K8: =C14+C24 -> 0
B9: Achats Communs X | C9: Coût total | D9: Coût communs | F9: % achats communs | H9: Coût | J9: Divers total | K9: =C15+C25 -> 0
B10: Nourriture : | C10: 100 | D10: =C10*G10 -> 50 | F10: X | G10: 0.5 | H10: =D16+(C26*G10) -> 450 | J10: ACHAT TOTAL MOIS | K10: =SUM(K5:K9) -> 900
B11: Resto : | C11: 0 | D11: =C11*G10 -> 0 | F11: Y | G11: =100%-G10 -> 0.5 | H11: =D26+(C16*G11) -> 450
B12: Sorties/Loisirs : | C12: 0 | D12: =C12*G10 -> 0 | H12: =SUM(H10:H11) -> 900
B13: Achat appart : | C13: 0 | D13: =C13*G10 -> 0
B14: Divers : | C14: 0 | D14: =C14*G10 -> 0 | F14: Total mois X | J14: Ce que X doit payé ou recevoir
D15: =C15*G10 -> 0 | F15: Logement : | G15: =H5 -> 690 | J15: Total part : | K15: =G17 -> 1140
B16: Total : | C16: =SUM(C10:C15) -> 100 | D16: =SUM(D10:D15) -> 50 | F16: achat commun : | G16: =D16+(C26*G10) -> 450 | J16: Total achat fait : | K16: =C17 -> 1250
B17: Total payé avec logment : | C17: =C7+C16 -> 1250 | F17: Total part : | G17: =SUM(G15:G16) -> 1140 | J17: Différence | K17: =K15-K16 -> -110 | L17: Si négatif, doit recevoir, si possitif doit payer
B19: Achats Communs Y | C19: Coût total | D19: Coût communs
B20: Nourriture : | C20: 400 | D20: =C20*G11 -> 200 | F20: Coût mois Y | J20: Ce que Y doit payé ou recevoir
B21: Resto : | C21: 200 | D21: =C21*G11 -> 100 | F21: Logement : | G21: =H6 -> 460 | J21: Total part : | K21: =G23 -> 910
B22: Sorties/Loisirs : | C22: 200 | D22: =C22*G11 -> 100 | F22: achat commun : | G22: =D26+(C16*G11) -> 450 | J22: Total achat fait : | K22: =C26 -> 800
B23: Achat appart : | D23: =C23*G11 -> 0 | F23: Total part : | G23: =SUM(G21:G22) -> 910 | J23: Différence | K23: =K21-K22 -> 110
B24: Divers : | D24: =C24*G11 -> 0
D25: =C25*G11 -> 0
B26: Total : | C26: =SUM(C20:C25) -> 800 | D26: =SUM(D20:D25) -> 400
B31: 41609
B33: Coût logement
B34: Loyer : | C34: 1000 | F34: % alloué par partie pour logement | H34: Coût | J34: ACHAT TOTAL
B35: Électricité : | C35: 100 | F35: X : | G35: 0.6 | H35: =(C37*G35) -> 690 | J35: Nourriture total | K35: =C40+C50 -> 550
B36: Assurance appart | C36: 50 | F36: Y : | G36: =SUM(100%-G35) -> 0.4 | H36: =(C37*(100%-G35)) -> 460 | J36: Resto Total | K36: =C41+C51 -> 400
B37: Total : | C37: =SUM(C34:C36) -> 1150 | H37: =SUM(H35:H36) -> 1150 | J37: Loisir total | K37: =C42+C52 -> 0
J38: Achat appart total | K38: =C44+C54 -> 0
B39: Achats Communs X | C39: Coût total | D39: Coût communs | F39: % achats communs | H39: Coût | J39: Divers total | K39: =C45+C55 -> 0
B40: Nourriture : | C40: 50 | D40: =C40*G40 -> 25 | F40: X : | G40: 0.5 | H40: =D46+(C56*G40) -> 475 | J40: ACHAT TOTAL MOIS | K40: =SUM(K35:K39) -> 950
B41: Resto : | C41: 100 | D41: =C41*G40 -> 50 | F41: Y : | G41: =100%-G40 -> 0.5 | H41: =D56+(C46*G41) -> 475
B42: Sorties/Loisirs : | D42: =C42*G40 -> 0 | H42: =SUM(H40:H41) -> 950
B43: Achat appart : | D43: =C43*G40 -> 0
B44: Divers : | D44: =C44*G40 -> 0 | F44: Total mois X | J44: Ce que X doit payé ou recevoir
D45: =C45*G40 -> 0 | F45: Logement : | G45: =H35 -> 690 | J45: Total part : | K45: =G47 -> 1165
B46: Total : | C46: =SUM(C40:C45) -> 150 | D46: =SUM(D40:D45) -> 75 | F46: achat commun : | G46: =D46+(C56*G40) -> 475 | J46: Total achat fait : | K46: =C47 -> 1300
B47: Total payé avec logment : | C47: =C37+C46 -> 1300 | F47: Total part : | G47: =SUM(G45:G46) -> 1165 | J47: Différence | K47: =K45-K46 -> -135
...

Sheet Feuil1
