Workbook

Sheet Sommaire mois commun
B2: Total achat 2013 | C2: Nourriture | D2: Resto | E2: Loisirs | F2: Achat appart | G2: Divers | H2: Autres | I2: TOTAL DÉPENSES MOIS | J2: Différence X | K2: Différence Y
B3: Novembre | C3: ='Achat mois commun'!$K$5 -> 500 | D3: ='Achat mois commun'!$K$6 -> 200 | E3: ='Achat mois commun'!$K$7 -> 200 | F3: ='Achat mois commun'!$K$8 -> 0 | G3: ='Achat mois commun'!$K$9 -> 0 | H3: 0 | I3: =SUM(C3:H3) -> 900 | J3: ='Achat mois commun'!K17 -> -110 | K3: ='Achat mois commun'!K23 -> 110
B4: Décembre | C4: ='Achat mois commun'!$K$35 -> 550 | D4: ='Achat mois commun'!$K$36 -> 400 | E4: ='Achat mois commun'!$K$37 -> 0 | F4: ='Achat mois commun'!$K$38 -> 0 | G4: ='Achat mois commun'!$K$39 -> 0 | H4: 0 | I4: =SUM(C4:H4) -> 950 | J4: ='Achat mois commun'!K47 -> -135 | K4: ='Achat mois commun'!K53 -> 135
B5: Total 2013 | C5: =SUM(C3:C4) -> 1050 | D5: =SUM(D3:D4) -> 600 | E5: =SUM(E3:E4) -> 200 | F5: =SUM(F3:F4) -> 0 | G5: =SUM(G3:G4) -> 0 | H5: =SUM(H3:H4) -> 0 | I5: =SUM(I3:I4) -> 1850 | J5: =SUM(J3:J4) -> -245 | K5: =SUM(K3:K4) -> 245
B8: Total achat 2013 | C8: Nourriture | D8: Resto | E8: Loisirs | F8: Achat appart | G8: Divers | H8: Autres | I8: TOTAL DÉPENSES MOIS | J8: Différence X | K8: Différence Y
B9: Janvier | C9: ='Achat mois commun'!$K$65 -> 500 | D9: ='Achat mois commun'!$K$66 -> 400 | E9: ='Achat mois commun'!$K$67 -> 0 | F9: ='Achat mois commun'!$K$68 -> 0 | J9: ='Achat mois commun'!K77 -> 46 | K9: ='Achat mois commun'!K83 -> -46
B10: Février | C10: ='Achat mois commun'!$K$95 -> 0 | D10: ='Achat mois commun'!$K$96 -> 0 | E10: ='Achat mois commun'!$K$97 -> 0 | F10: ='Achat mois commun'!$K$98 -> 0 | J10: ='Achat mois commun'!K107 -> -460 | K10: ='Achat mois commun'!K113 -> 460
B11: Mars | C11: ='Achat mois commun'!$K$65 -> 500 | D11: ='Achat mois commun'!$K$96 -> 0 | E11: ='Achat mois commun'!$K$97 -> 0 | F11: ='Achat mois commun'!$K$98 -> 0 | K11: ='Achat mois commun'!K114 -> 0
B12: Avril | C12: ='Achat mois commun'!$K$95 -> 0 | D12: ='Achat mois commun'!$K$96 -> 0 | E12: ='Achat mois commun'!$K$97 -> 0 | F12: ='Achat mois commun'!$K$98 -> 0 | K12: ='Achat mois commun'!K115 -> 0
B13: Mai | C13: ='Achat mois commun'!$K$65 -> 500 | D13: ='Achat mois commun'!$K$96 -> 0 | E13: ='Achat mois commun'!$K$97 -> 0 | F13: ='Achat mois commun'!$K$98 -> 0 | K13: ='Achat mois commun'!K116 -> 0
B14: Juin | C14: ='Achat mois commun'!$K$95 -> 0 | D14: ='Achat mois commun'!$K$96 -> 0 | E14: ='Achat mois commun'!$K$97 -> 0 | F14: ='Achat mois commun'!$K$98 -> 0 | K14: ='Achat mois commun'!K117 -> 0
B15: Juillet | C15: ='Achat mois commun'!$K$95 -> 0 | D15: ='Achat mois commun'!$K$96 -> 0 | E15: ='Achat mois commun'!$K$97 -> 0
B16: Août
B17: Septembre
B18: Octobre
B19: Novembre
B20: Décembre
B21: Total 2013 | C21: =SUM(C9:C20) -> 1500 | D21: =SUM(D9:D20) -> 400 | E21: =SUM(E9:E20) -> 0 | F21: =SUM(F9:F20) -> 0 | G21: =SUM(G9:G20) -> 0 | H21: =SUM(H9:H20) -> 0 | I21: =SUM(I9:I20) -> 0 | J21: =SUM(J9:J20) -> -414 | K21: =SUM(K9:K20) -> 414

Sheet Achat mois commun
B1: 41579
B3: Coût logement
B4: Loyer : | C4: 1000 | F4: % alloué par partie pour logement | H4: Coût | J4: ACHAT TOTAL
B5: Électricité : | C5: 100 | F5: X : | G5: 0.6 | H5: =(C7*G5) -> 690 | J5: Nourriture total | K5: =C10+C20 -> 500
B6: Assurance appart | C6: 50 | F6: Y : | G6: =SUM(100%-G5) -> 0.4 | H6: =(C7*(100%-G5)) -> 460 | J6: Resto Total | K6: =C11+C21 -> 200
B7: Total : | C7: =SUM(C4:C6) -> 1150 | H7: =SUM(H5:H6) -> 1150 | J7: Loisir total | K7: =C12+C22 -> 200
J8: Achat appart total | K8: =C14+C24 -> 0
B9: Achats Communs X | C9: Coût total | D9: Coût communs | F9: % achats communs | H9: Coût | J9: Divers total | K9: =C15+C25 -> 0
B10: Nourriture : | C10: 100 | D10: =C10*G10 -> 50 | F10: X | G10: 0.5 | H10: =D16+(C26*G10) -> 450 | J10: ACHAT TOTAL MOIS | K10: =SUM(K5:K9) -> 900
B11: Resto : | C11: 0 | D11: =C11*G10 -> 0 | F11: Y | G11: =100%-G10 -> 0.5 | H11: =D26+(C16*G11) -> 450
B12: Sorties/Loisirs : | C12: 0 | D12: =C12*G10 -> 0 | H12: =SUM(H10:H11) -> 900
B13: Achat appart : | C13: 0 | D13: =C13*G10 -> 0
B14: Divers : | C14: 0 | D14: =C14*G10 -> 0 | F14: Total mois X | J14: Ce que X doit payé ou recevoir
D15: =C15*G10 -> 0 | F15: Logement : | G15: =H5 -> 690 | J15: Total part : | K15: =G17 -> 1140
B16: Total : | C16: =SUM(C10:C15) -> 100 | D16: =SUM(D10:D15) -> 50 | F16: achat commun : | G16: =D16+(C26*G10) -> 450 | J16: Total achat fait : | K16: =C17 -> 1250
B17: Total payé avec logment : | C17: =C7+C16 -> 1250 | F17: Total part : | G17: =SUM(G15:G16) -> 1140 | J17: Différence | K17: =K15-K16 -> -110 | L17: Si négatif, doit recevoir, si possitif doit payer
B19: Achats Communs Y | C19: Coût total | D19: Coût communs
B20: Nourriture : | C20: 400 | D20: =C20*G11 -> 200 | F20: Coût mois Y | J20: Ce que Y doit payé ou recevoir
B21: Resto : | C21: 200 | D21: =C21*G11 -> 100 | F21: Logement : | G21: =H6 -> 460 | J21: Total part : | K21: =G23 -> 910
B22: Sorties/Loisirs : | C22: 200 | D22: =C22*G11 -> 100 | F22: achat commun : | G22: =D26+(C16*G11) -> 450 | J22: Total achat fait : | K22: =C26 -> 800
B23: Achat appart : | D23: =C23*G11 -> 0 | F23: Total part : | G23: =SUM(G21:G22) -> 910 | J23: Différence | K23: =K21-K22 -> 110
B24: Divers : | D24: =C24*G11 -> 0
D25: =C25*G11 -> 0
B26: Total : | C26: =SUM(C20:C25) -> 800 | D26: =SUM(D20:D25) -> 400
B31: 41609
B33: Coût logement
B34: Loyer : | C34: 1000 | F34: % alloué par partie pour logement | H34: Coût | J34: ACHAT TOTAL
B35: Électricité : | C35: 100 | F35: X : | G35: 0.6 | H35: =(C37*G35) -> 690 | J35: Nourriture total | K35: =C40+C50 -> 550
B36: Assurance appart | C36: 50 | F36: Y : | G36: =SUM(100%-G35) -> 0.4 | H36: =(C37*(100%-G35)) -> 460 | J36: Resto Total | K36: =C41+C51 -> 400
B37: Total : | C37: =SUM(C34:C36) -> 1150 | H37: =SUM(H35:H36) -> 1150 | J37: Loisir total | K37: =C42+C52 -> 0
J38: Achat appart total | K38: =C44+C54 -> 0
B39: Achats Communs X | C39: Coût total | D39: Coût communs | F39: % achats communs | H39: Coût | J39: Divers total | K39: =C45+C55 -> 0
B40: Nourriture : | C40: 50 | D40: =C40*G40 -> 25 | F40: X : | G40: 0.5 | H40: =D46+(C56*G40) -> 475 | J40: ACHAT TOTAL MOIS | K40: =SUM(K35:K39) -> 950
B41: Resto : | C41: 100 | D41: =C41*G40 -> 50 | F41: Y : | G41: =100%-G40 -> 0.5 | H41: =D56+(C46*G41) -> 475
B42: Sorties/Loisirs : | D42: =C42*G40 -> 0 | H42: =SUM(H40:H41) -> 950
B43: Achat appart : | D43: =C43*G40 -> 0
B44: Divers : | D44: =C44*G40 -> 0 | F44: Total mois X | J44: Ce que X doit payé ou recevoir
D45: =C45*G40 -> 0 | F45: Logement : | G45: =H35 -> 690 | J45: Total part : | K45: =G47 -> 1165
B46: Total : | C46: =SUM(C40:C45) -> 150 | D46: =SUM(D40:D45) -> 75 | F46: achat commun : | G46: =D46+(C56*G40) -> 475 | J46: Total achat fait : | K46: =C47 -> 1300
B47: Total payé avec logment : | C47: =C37+C46 -> 1300 | F47: Total part : | G47: =SUM(G45:G46) -> 1165 | J47: Différence | K47: =K45-K46 -> -135
B49: Achats Communs Y | C49: Coût total | D49: Coût communs
B50: Nourriture : | C50: 500 | D50: =C50*G41 -> 250 | F50: Coût mois Y | J50: Ce que Y doit payé ou recevoir
B51: Resto : | C51: 300 | D51: =C51*G41 -> 150 | F51: Logement : | G51: =H36 -> 460 | J51: Total part : | K51: =G53 -> 935
B52: Sorties/Loisirs : | D52: =C52*G41 -> 0 | F52: achat commun : | G52: =D56+(C46*G41) -> 475 | J52: Total achat fait : | K52: =C56 -> 800
B53: Achat appart : | D53: =C53*G41 -> 0 | F53: Total part : | G53: =SUM(G51:G52) -> 935 | J53: Différence | K53: =K51-K52 -> 135
B54: Divers : | D54: =C54*G41 -> 0
D55: =C55*G41 -> 0
B56: Total : | C56: =SUM(C50:C55) -> 800 | D56: =SUM(D50:D55) -> 400
B61: 41275
B63: Coût logement
B64: Loyer : | C64: 650 | F64: % alloué par partie pour logement | H64: Coût | J64: ACHAT TOTAL
B65: Électricité : | C65: 85 | F65: X : | G65: 0.6 | H65: =(C67*G65) -> 456 | J65: Nourriture total | K65: =C70+C80 -> 500
B66: Assurance appart | C66: 25 | F66: Y : | G66: =SUM(100%-G65) -> 0.4 | H66: =(C67*(100%-G65)) -> 304 | J66: Resto Total | K66: =C71+C81 -> 400
B67: Total : | C67: =SUM(C64:C66) -> 760 | H67: =SUM(H65:H66) -> 760 | J67: Loisir total | K67: =C72+C82 -> 0
J68: Achat appart total | K68: =C73+C83 -> 0
B69: Achats Communs X | C69: Coût total | D69: Coût communs | F69: % achats communs | H69: Coût | J69: Divers total | K69: =C74+C84 -> 0
B70: Nourriture : | C70: 100 | D70: =C70*G70 -> 50 | F70: X : | G70: 0.5 | H70: =D76+(C86*G70) -> 450 | J70: ACHAT TOTAL MOIS | K70: =SUM(K65:K69) -> 900
B71: Resto : | D71: =C71*G70 -> 0 | F71: Y : | G71: =100%-G70 -> 0.5 | H71: =D86+(C76*G71) -> 450
B72: Sorties/Loisirs : | D72: =C72*G70 -> 0 | H72: =SUM(H70:H71) -> 900
B73: Achat appart : | D73: =C73*G70 -> 0
B74: Divers : | D74: =C74*G70 -> 0 | F74: Total mois X | J74: Ce que X doit payé ou recevoir
D75: =C75*G70 -> 0 | F75: Logement : | G75: =H65 -> 456 | J75: Total part : | K75: =G77 -> 906
B76: Total : | C76: =SUM(C70:C75) -> 100 | D76: =SUM(D70:D75) -> 50 | F76: achat commun : | G76: =D76+(C86*G70) -> 450 | J76: Total achat fait : | K76: =C77 -> 860
B77: Total payé avec logment : | C77: =C67+C76 -> 860 | F77: Total part : | G77: =SUM(G75:G76) -> 906 | J77: Différence | K77: =K75-K76 -> 46
B79: Achats Communs Y | C79: Coût total | D79: Coût communs
B80: Nourriture : | C80: 400 | D80: =C80*G71 -> 200 | F80: Coût mois Y | J80: Ce que Y doit payé ou recevoir
B81: Resto : | C81: 400 | D81: =C81*G71 -> 200 | F81: Logement : | G81: =H66 -> 304 | J81: Total part : | K81: =G83 -> 754
B82: Sorties/Loisirs : | D82: =C82*G71 -> 0 | F82: achat commun : | G82: =D86+(C76*G71) -> 450 | J82: Total achat fait : | K82: =C86 -> 800
B83: Achat appart : | D83: =C83*G71 -> 0 | F83: Total part : | G83: =SUM(G81:G82) -> 754 | J83: Différence | K83: =K81-K82 -> -46
B84: Divers : | D84: =C84*G71 -> 0
D85: =C85*G71 -> 0
B86: Total : | C86: =SUM(C80:C85) -> 800 | D86: =SUM(D80:D85) -> 400
B91: 41306
B93: Coût logement
B94: Loyer : | C94: 1000 | F94: % alloué par partie pour logement | H94: Coût | J94: ACHAT TOTAL
B95: Électricité : | C95: 100 | F95: X : | G95: 0.6 | H95: =(C97*G95) -> 690 | J95: Nourriture total | K95: =C100+C110 -> 0
B96: Assurance appart | C96: 50 | F96: Y : | G96: =SUM(100%-G95) -> 0.4 | H96: =(C97*(100%-G95)) -> 460 | J96: Resto Total | K96: =C101+C111 -> 0
B97: Total : | C97: =SUM(C94:C96) -> 1150 | H97: =SUM(H95:H96) -> 1150 | J97: Loisir total | K97: =C102+C112 -> 0
J98: Achat appart total | K98: =C103+C113 -> 0
B99: Achats Communs X | C99: Coût total | D99: Coût communs | F99: % achats communs | H99: Coût | J99: Divers total | K99: =C104+C114 -> 0
B100: Nourriture : | D100: =C100*G100 -> 0 | F100: X : | G100: 0.6 | H100: =D106+(C116*G100) -> 0 | J100: ACHAT TOTAL MOIS | K100: =SUM(K95:K99) -> 0
B101: Resto : | D101: =C101*G100 -> 0 | F101: Y : | G101: =100%-G100 -> 0.4 | H101: =D116+(C106*G101) -> 0
B102: Sorties/Loisirs : | D102: =C102*G100 -> 0 | H102: =SUM(H100:H101) -> 0
B103: Achat appart : | D103: =C103*G100 -> 0
B104: Divers : | D104: =C104*G100 -> 0 | F104: Total mois X | J104: Ce que X doit payé ou recevoir
D105: =C105*G100 -> 0 | F105: Logement : | G105: =H95 -> 690 | J105: Total part : | K105: =G107 -> 690
B106: Total : | C106: =SUM(C100:C105) -> 0 | D106: =SUM(D100:D105) -> 0 | F106: achat commun : | G106: =D106+(C116*G100) -> 0 | J106: Total achat fait : | K106: =C107 -> 1150
B107: Total payé avec logment : | C107: =C97+C106 -> 1150 | F107: Total part : | G107: =SUM(G105:G106) -> 690 | J107: Différence | K107: =K105-K106 -> -460
B109: Achats Communs Y | C109: Coût total | D109: Coût communs
B110: Nourriture : | D110: =C110*G101 -> 0 | F110: Coût mois Y | J110: Ce que Y doit payé ou recevoir
B111: Resto : | D111: =C111*G101 -> 0 | F111: Logement : | G111: =H96 -> 460 | J111: Total part : | K111: =G113 -> 460
B112: Sorties/Loisirs : | D112: =C112*G101 -> 0 | F112: achat commun : | G112: =D116+(C106*G101) -> 0 | J112: Total achat fait : | K112: =C116 -> 0
B113: Achat appart : | D113: =C113*G101 -> 0 | F113: Total part : | G113: =SUM(G111:G112) -> 460 | J113: Différence | K113: =K111-K112 -> 460
B114: Divers : | D114: =C114*G101 -> 0
D115: =C115*G101 -> 0
B116: Total : | C116: =SUM(C110:C115) -> 0 | D116: =SUM(D110:D115) -> 0
B121: 41334
B123: Coût logement
B124: Loyer : | C124: 1000 | F124: % alloué par partie pour logement | H124: Coût | J124: ACHAT TOTAL
B125: Électricité : | C125: 100 | F125: X : | G125: 0.6 | H125: =(C127*G125) -> 690 | J125: Nourriture total | K125: =C130+C140 -> 0
...

Sheet Feuil1
