Workbook

Sheet CALCULATEUR
U6: Mettre linéaire par produit
B9: A | C9: B | E9: C | F9: D | G9: E | H9: F | I9: G | K9: H | L9: I | N9: J | P9: K | R9: L | S9: M
B10: PRODUIT
B11: DESIGNATION | C11: Quantite | E11: Quantite/ PAR COUCHE | F11: Quantite/ palette | G11: Hauteur (cm) | H11: Longueur (cm) | I11: Largeur (cm) | K11: COUCHE | L11: Hauteur PLT | N11: Nbr de produits/ palette | P11: Nbr de palettes | R11: Support | S11: Metre lineaire | V11: Support utiliser | W11: Qtte palette | X11: MPL par support

Sheet Info produit
A1: Model | B1: PCB | C1: Hauteur colis (cm) | D1: Largeur colis (cm) | E1: Profondeur colis (cm) | F1: Poids (Kgs) | G1: Volume m3 UC | H1: Pallet Efficiency | I1: Nb Colis /couche | J1: Nb couches | K1: PICTO MAX GERBAGE | L1: Hauteur pal ( cm ) | M1: Colis / Palette | N1: Support | O1: Larg_PLT | P1: Long_Plt
A2: AA-01--AA-1 | B2: 1 | C2: 10 | D2: 51 | E2: 36 | G2: =(C2*D2*E2)/1000000/B2 -> 0.01836 | I2: 6 | J2: 20 | K2: 22 | L2: =C2*J2+15 -> 215 | N2: 100 x 110 | O2: =IFERROR(IF(N2="VRAC",D2,IF(ROUNDUP(LEFT(N2,3),0)=0,"",ROUNDUP(LEFT(N2,3),0))),"") -> 100 | P2: =IFERROR(IF(ROUND(RIGHT(N2,3),0)="VRAC",E2,ROUND(RIGHT(N2,3),0)),"") -> 110
A3: AA-01--AA-2 | B3: 50 | C3: 24 | D3: 45.5 | E3: 38 | F3: 4.9 | G3: =(C3*D3*E3)/1000000/B3 -> 0.00082992 | H3: =((C3*D3*E3)/1000000*M3)/1.2 -> 1.45236 | I3: 6 | J3: 7 | K3: 10 | L3: =C3*J3+15 -> 183 | M3: 42 | N3: 100 x 120 | O3: =IFERROR(IF(N3="VRAC",D3,IF(ROUNDUP(LEFT(N3,3),0)=0,"",ROUNDUP(LEFT(N3,3),0))),"") -> 100 | P3: =IFERROR(IF(ROUND(RIGHT(N3,3),0)="VRAC",E3,ROUND(RIGHT(N3,3),0)),"") -> 120
A4: AA-01--AA-3 | B4: 10 | C4: 22.5 | D4: 38 | E4: 33 | F4: 8 | G4: =(C4*D4*E4)/1000000/B4 -> 0.0028215 | H4: =((C4*D4*E4)/1000000*M4)/1.2 -> 1.4812875 | I4: 9 | J4: 7 | L4: =C4*J4+15 -> 172.5 | M4: 63 | N4: 100 x 120 | O4: =IFERROR(IF(N4="VRAC",D4,IF(ROUNDUP(LEFT(N4,3),0)=0,"",ROUNDUP(LEFT(N4,3),0))),"") -> 100 | P4: =IFERROR(IF(ROUND(RIGHT(N4,3),0)="VRAC",E4,ROUND(RIGHT(N4,3),0)),"") -> 120
A5: AA-01--AA-4 | B5: 1 | C5: 8 | D5: 47.5 | E5: 26 | F5: 1.95 | G5: =(C5*D5*E5)/1000000/B5 -> 0.00988 | H5: =((C5*D5*E5)/1000000*M5)/1.2 -> 1.3173333 | I5: 8 | J5: 20 | L5: =C5*J5+15 -> 175 | M5: 160 | N5: 100 x 120 | O5: =IFERROR(IF(N5="VRAC",D5,IF(ROUNDUP(LEFT(N5,3),0)=0,"",ROUNDUP(LEFT(N5,3),0))),"") -> 100 | P5: =IFERROR(IF(ROUND(RIGHT(N5,3),0)="VRAC",E5,ROUND(RIGHT(N5,3),0)),"") -> 120
A6: AA-01--AA-5 | B6: 1 | C6: 8 | D6: 47 | E6: 26 | F6: 2.25 | G6: =(C6*D6*E6)/1000000/B6 -> 0.009776 | H6: =((C6*D6*E6)/1000000*M6)/1.2 -> 1.3034667 | I6: 8 | J6: 20 | L6: =C6*J6+15 -> 175 | M6: 160 | N6: 100 x 120 | O6: =IFERROR(IF(N6="VRAC",D6,IF(ROUNDUP(LEFT(N6,3),0)=0,"",ROUNDUP(LEFT(N6,3),0))),"") -> 100 | P6: =IFERROR(IF(ROUND(RIGHT(N6,3),0)="VRAC",E6,ROUND(RIGHT(N6,3),0)),"") -> 120
A7: AA-01--AA-6 | B7: 5 | C7: 22 | D7: 48.5 | E7: 23.5 | F7: 5 | G7: =(C7*D7*E7)/1000000/B7 -> 0.0050149 | H7: =((C7*D7*E7)/1000000*M7)/1.2 -> 1.253725 | I7: 10 | J7: 6 | L7: =C7*J7+15 -> 147 | M7: 60 | N7: 100 x 120 | O7: =IFERROR(IF(N7="VRAC",D7,IF(ROUNDUP(LEFT(N7,3),0)=0,"",ROUNDUP(LEFT(N7,3),0))),"") -> 100 | P7: =IFERROR(IF(ROUND(RIGHT(N7,3),0)="VRAC",E7,ROUND(RIGHT(N7,3),0)),"") -> 120
A8: AA-01--AA-7 | B8: 10 | C8: 23 | D8: 38.5 | E8: 34 | F8: 8 | G8: =(C8*D8*E8)/1000000/B8 -> 0.0030107 | H8: =((C8*D8*E8)/1000000*M8)/1.2 -> 1.5806175 | I8: 9 | J8: 7 | L8: =C8*J8+15 -> 176 | M8: 63 | N8: 100 x 120 | O8: =IFERROR(IF(N8="VRAC",D8,IF(ROUNDUP(LEFT(N8,3),0)=0,"",ROUNDUP(LEFT(N8,3),0))),"") -> 100 | P8: =IFERROR(IF(ROUND(RIGHT(N8,3),0)="VRAC",E8,ROUND(RIGHT(N8,3),0)),"") -> 120
A9: AA-01--AA-8 | B9: 10 | C9: 24 | D9: 19 | E9: 48 | F9: 5 | G9: =(C9*D9*E9)/1000000/B9 -> 0.0021888 | H9: =((C9*D9*E9)/1000000*M9)/1.2 -> 4.81536 | I9: 10 | J9: 7 | K9: 15 | L9: =C9*J9+15 -> 183 | M9: 264 | N9: 100 x 120 | O9: =IFERROR(IF(N9="VRAC",D9,IF(ROUNDUP(LEFT(N9,3),0)=0,"",ROUNDUP(LEFT(N9,3),0))),"") -> 100 | P9: =IFERROR(IF(ROUND(RIGHT(N9,3),0)="VRAC",E9,ROUND(RIGHT(N9,3),0)),"") -> 120
A10: AA-01--AA-9 | B10: 1 | C10: 10.5 | D10: 50 | E10: 40.5 | F10: 4 | G10: =(C10*D10*E10)/1000000/B10 -> 0.0212625 | H10: =((C10*D10*E10)/1000000*M10)/1.2 -> 1.5946875 | I10: 6 | J10: 15 | L10: =C10*J10+15 -> 172.5 | M10: 90 | N10: 100 x 120 | O10: =IFERROR(IF(N10="VRAC",D10,IF(ROUNDUP(LEFT(N10,3),0)=0,"",ROUNDUP(LEFT(N10,3),0))),"") -> 100 | P10: =IFERROR(IF(ROUND(RIGHT(N10,3),0)="VRAC",E10,ROUND(RIGHT(N10,3),0)),"") -> 120
A11: AA-01--AA-10 | B11: 1 | C11: 11 | D11: 50 | E11: 40.5 | F11: 4.15 | G11: =(C11*D11*E11)/1000000/B11 -> 0.022275 | H11: =((C11*D11*E11)/1000000*M11)/1.2 -> 1.670625 | I11: 6 | J11: 15 | L11: =C11*J11+15 -> 180 | M11: 90 | N11: 100 x 120 | O11: =IFERROR(IF(N11="VRAC",D11,IF(ROUNDUP(LEFT(N11,3),0)=0,"",ROUNDUP(LEFT(N11,3),0))),"") -> 100 | P11: =IFERROR(IF(ROUND(RIGHT(N11,3),0)="VRAC",E11,ROUND(RIGHT(N11,3),0)),"") -> 120
A12: AA-01--AA-11 | B12: 1 | C12: 43 | D12: 46 | E12: 106 | F12: 41 | G12: =(C12*D12*E12)/1000000/B12 -> 0.209668 | H12: =((C12*D12*E12)/1000000*M12)/1.2 -> 1.04834 | I12: 2 | J12: 3 | L12: =C12*J12+15 -> 144 | M12: 6 | N12: 100 x 120 | O12: =IFERROR(IF(N12="VRAC",D12,IF(ROUNDUP(LEFT(N12,3),0)=0,"",ROUNDUP(LEFT(N12,3),0))),"") -> 100 | P12: =IFERROR(IF(ROUND(RIGHT(N12,3),0)="VRAC",E12,ROUND(RIGHT(N12,3),0)),"") -> 120
A13: AA-01--AA-12 | B13: 1 | C13: 42.5 | D13: 45 | E13: 37 | F13: 12 | G13: =(C13*D13*E13)/1000000/B13 -> 0.0707625 | H13: =((C13*D13*E13)/1000000*M13)/1.2 -> 1.41525 | I13: 6 | J13: 4 | L13: =C13*J13+15 -> 185 | M13: 24 | N13: 100 x 120 | O13: =IFERROR(IF(N13="VRAC",D13,IF(ROUNDUP(LEFT(N13,3),0)=0,"",ROUNDUP(LEFT(N13,3),0))),"") -> 100 | P13: =IFERROR(IF(ROUND(RIGHT(N13,3),0)="VRAC",E13,ROUND(RIGHT(N13,3),0)),"") -> 120
A14: AA-01--AA-13 | B14: 1 | C14: 36.5 | D14: 74 | E14: 44 | F14: 20 | G14: =(C14*D14*E14)/1000000/B14 -> 0.118844 | H14: =((C14*D14*E14)/1000000*M14)/1.2 -> 1.18844 | I14: 3 | J14: 4 | L14: =C14*J14+15 -> 161 | M14: 12 | N14: 100 x 120 | O14: =IFERROR(IF(N14="VRAC",D14,IF(ROUNDUP(LEFT(N14,3),0)=0,"",ROUNDUP(LEFT(N14,3),0))),"") -> 100 | P14: =IFERROR(IF(ROUND(RIGHT(N14,3),0)="VRAC",E14,ROUND(RIGHT(N14,3),0)),"") -> 120
A15: AA-01--AA-14 | B15: 1 | C15: 32 | D15: 44.5 | E15: 98 | F15: 27.5 | G15: =(C15*D15*E15)/1000000/B15 -> 0.139552 | H15: =((C15*D15*E15)/1000000*M15)/1.2 -> 1.1629333 | I15: 2 | J15: 5 | K15: 8 | L15: =C15*J15+15 -> 175 | M15: 10 | N15: 100 x 120 | O15: =IFERROR(IF(N15="VRAC",D15,IF(ROUNDUP(LEFT(N15,3),0)=0,"",ROUNDUP(LEFT(N15,3),0))),"") -> 100 | P15: =IFERROR(IF(ROUND(RIGHT(N15,3),0)="VRAC",E15,ROUND(RIGHT(N15,3),0)),"") -> 120
A16: AA-01--AA-15 | B16: 1 | C16: 43 | D16: 45 | E16: 96 | F16: 31.5 | G16: =(C16*D16*E16)/1000000/B16 -> 0.18576 | H16: =((C16*D16*E16)/1000000*M16)/1.2 -> 1.2384 | I16: 2 | J16: 4 | L16: =C16*J16+15 -> 187 | M16: 8 | N16: 100 x 120 | O16: =IFERROR(IF(N16="VRAC",D16,IF(ROUNDUP(LEFT(N16,3),0)=0,"",ROUNDUP(LEFT(N16,3),0))),"") -> 100 | P16: =IFERROR(IF(ROUND(RIGHT(N16,3),0)="VRAC",E16,ROUND(RIGHT(N16,3),0)),"") -> 120
A17: AA-01--AA-16 | B17: 1 | C17: 12,5 | D17: 60 | E17: 40,5 | F17: 7 | G17: =(C17*D17*E17)/1000000/B17 -> 0.030375 | H17: =((C17*D17*E17)/1000000*M17)/0.96 -> 1.7402344 | I17: 5 | J17: 11 | K17: 18 | L17: =C17*J17+15 -> 152.5 | M17: 55 | N17: 100 x 123 | O17: =IFERROR(IF(N17="VRAC",D17,IF(ROUNDUP(LEFT(N17,3),0)=0,"",ROUNDUP(LEFT(N17,3),0))),"") -> 100 | P17: =IFERROR(IF(ROUND(RIGHT(N17,3),0)="VRAC",E17,ROUND(RIGHT(N17,3),0)),"") -> 123
A18: AA-01--AA-17 | B18: 1 | C18: 16 | D18: 33.5 | E18: 20.5 | F18: 1.08 | G18: =(C18*D18*E18)/1000000/B18 -> 0.010988 | H18: =((C18*D18*E18)/1000000*M18)/1.2 -> 1.6482 | I18: 18 | J18: 10 | L18: =C18*J18+15 -> 175 | M18: 180 | N18: 100 x 120 | O18: =IFERROR(IF(N18="VRAC",D18,IF(ROUNDUP(LEFT(N18,3),0)=0,"",ROUNDUP(LEFT(N18,3),0))),"") -> 100 | P18: =IFERROR(IF(ROUND(RIGHT(N18,3),0)="VRAC",E18,ROUND(RIGHT(N18,3),0)),"") -> 120
A19: AA-01--AA-18 | B19: 1 | C19: 13.5 | D19: 20 | E19: 33.5 | F19: 1.1 | G19: =(C19*D19*E19)/1000000/B19 -> 0.009045 | H19: =((C19*D19*E19)/1000000*M19)/1.2 -> 1.35675 | I19: 18 | J19: 10 | L19: =C19*J19+15 -> 150 | M19: 180 | N19: 100 x 120 | O19: =IFERROR(IF(N19="VRAC",D19,IF(ROUNDUP(LEFT(N19,3),0)=0,"",ROUNDUP(LEFT(N19,3),0))),"") -> 100 | P19: =IFERROR(IF(ROUND(RIGHT(N19,3),0)="VRAC",E19,ROUND(RIGHT(N19,3),0)),"") -> 120
A20: AA-01--AA-19 | B20: 1 | C20: 60 | D20: 107 | E20: 15.5 | F20: 13 | G20: =(C20*D20*E20)/1000000/B20 -> 0.09951 | H20: =((C20*D20*E20)/1000000*M20)/1.2 -> 1.3268 | I20: 8 | J20: 2 | K20: 6 | L20: =C20*J20+15 -> 135 | M20: =I20*J20 -> 16 | N20: 106 x 123 | O20: =IFERROR(IF(N20="VRAC",D20,IF(ROUNDUP(LEFT(N20,3),0)=0,"",ROUNDUP(LEFT(N20,3),0))),"") -> 106 | P20: =IFERROR(IF(ROUND(RIGHT(N20,3),0)="VRAC",E20,ROUND(RIGHT(N20,3),0)),"") -> 123
A21: AA-01--AA-20 | B21: 1 | C21: 61 | D21: 16 | E21: 106.5 | F21: 12 | G21: =(C21*D21*E21)/1000000/B21 -> 0.103944 | H21: =((C21*D21*E21)/1000000*M21)/1.2 -> 1.38592 | I21: 8 | J21: 2 | L21: =C21*J21+15 -> 137 | M21: =I21*J21 -> 16 | N21: 100 x 120 | O21: =IFERROR(IF(N21="VRAC",D21,IF(ROUNDUP(LEFT(N21,3),0)=0,"",ROUNDUP(LEFT(N21,3),0))),"") -> 100 | P21: =IFERROR(IF(ROUND(RIGHT(N21,3),0)="VRAC",E21,ROUND(RIGHT(N21,3),0)),"") -> 120
A22: AA-01--AA-21 | B22: 1 | C22: 75 | D22: 24.5 | E22: 118 | I22: 4 | J22: 2 | K22: 6 | L22: =C22*J22+15 -> 165 | N22: 100 x 120 | O22: =IFERROR(IF(N22="VRAC",D22,IF(ROUNDUP(LEFT(N22,3),0)=0,"",ROUNDUP(LEFT(N22,3),0))),"") -> 100 | P22: =IFERROR(IF(ROUND(RIGHT(N22,3),0)="VRAC",E22,ROUND(RIGHT(N22,3),0)),"") -> 120
A23: AA-01--AA-22 | B23: 1 | C23: 11.5 | D23: 57 | E23: 36 | F23: 5 | G23: =(C23*D23*E23)/1000000/B23 -> 0.023598 | H23: =((C23*D23*E23)/1000000*M23)/1.33 -> 1.3307143 | I23: 5 | J23: 15 | K23: 19 | L23: =C23*J23+15 -> 187.5 | M23: =J23*I23 -> 75 | N23: 120 x 120 | O23: =IFERROR(IF(N23="VRAC",D23,IF(ROUNDUP(LEFT(N23,3),0)=0,"",ROUNDUP(LEFT(N23,3),0))),"") -> 120 | P23: =IFERROR(IF(ROUND(RIGHT(N23,3),0)="VRAC",E23,ROUND(RIGHT(N23,3),0)),"") -> 120
A24: AA-01--AA-23 | B24: 1 | C24: 64 | D24: 103 | E24: 12 | F24: 17?5 | G24: =(C24*D24*E24)/1000000/B24 -> 0.079104 | H24: =((C24*D24*E24)/1000000*M24)/1.2 -> 1.18656 | I24: 9 | J24: 2 | K24: 4 | L24: =C24*J24+15 -> 143 | M24: 18 | N24: 100 x 120 | O24: =IFERROR(IF(N24="VRAC",D24,IF(ROUNDUP(LEFT(N24,3),0)=0,"",ROUNDUP(LEFT(N24,3),0))),"") -> 100 | P24: =IFERROR(IF(ROUND(RIGHT(N24,3),0)="VRAC",E24,ROUND(RIGHT(N24,3),0)),"") -> 120
A25: AA-01--AA-24 | B25: 1 | C25: 74 | D25: 108 | E25: 12.5 | F25: 17 | G25: =(C25*D25*E25)/1000000/B25 -> 0.0999 | H25: =((C25*D25*E25)/1000000*M25)/1.2 -> 1.665 | I25: 9 | J25: 2 | K25: 4 | L25: =C25*J25+15 -> 163 | M25: 20 | N25: 100 x 120 | O25: =IFERROR(IF(N25="VRAC",D25,IF(ROUNDUP(LEFT(N25,3),0)=0,"",ROUNDUP(LEFT(N25,3),0))),"") -> 100 | P25: =IFERROR(IF(ROUND(RIGHT(N25,3),0)="VRAC",E25,ROUND(RIGHT(N25,3),0)),"") -> 120
A26: AA-01--AA-25 | B26: 1 | C26: 74 | D26: 12 | E26: 108 | F26: 17 | G26: =(C26*D26*E26)/1000000/B26 -> 0.095904 | H26: =((C26*D26*E26)/1000000*M26)/1.2 -> 1.43856 | I26: 9 | J26: 2 | L26: =C26*J26+15 -> 163 | M26: 18 | N26: 100 x 120 | O26: =IFERROR(IF(N26="VRAC",D26,IF(ROUNDUP(LEFT(N26,3),0)=0,"",ROUNDUP(LEFT(N26,3),0))),"") -> 100 | P26: =IFERROR(IF(ROUND(RIGHT(N26,3),0)="VRAC",E26,ROUND(RIGHT(N26,3),0)),"") -> 120
A27: AA-01--AA-26 | B27: 1 | C27: 65 | D27: 104 | E27: 11.5 | F27: 12.5 | G27: =(C27*D27*E27)/1000000/B27 -> 0.07774 | H27: =((C27*D27*E27)/1000000*M27)/1.2 -> 1.2956667 | I27: 10 | J27: 2 | L27: =C27*J27+15 -> 145 | M27: 20 | N27: 100 x 120 | O27: =IFERROR(IF(N27="VRAC",D27,IF(ROUNDUP(LEFT(N27,3),0)=0,"",ROUNDUP(LEFT(N27,3),0))),"") -> 100 | P27: =IFERROR(IF(ROUND(RIGHT(N27,3),0)="VRAC",E27,ROUND(RIGHT(N27,3),0)),"") -> 120
A28: AA-01--AA-27 | B28: 1 | C28: 64 | D28: 105 | E28: 11.5 | F28: 15 | G28: =(C28*D28*E28)/1000000/B28 -> 0.07728 | H28: =((C28*D28*E28)/1000000*M28)/1.2 -> 1.288 | I28: 10 | J28: 2 | L28: =C28*J28+15 -> 143 | M28: 20 | N28: 100 x 120 | O28: =IFERROR(IF(N28="VRAC",D28,IF(ROUNDUP(LEFT(N28,3),0)=0,"",ROUNDUP(LEFT(N28,3),0))),"") -> 100 | P28: =IFERROR(IF(ROUND(RIGHT(N28,3),0)="VRAC",E28,ROUND(RIGHT(N28,3),0)),"") -> 120
A29: AA-01--AA-28 | B29: 1 | C29: 65 | D29: 104 | E29: 11.5 | F29: 13 | G29: =(C29*D29*E29)/1000000/B29 -> 0.07774 | H29: =((C29*D29*E29)/1000000*M29)/1.2 -> 1.2956667 | I29: 10 | J29: 2 | K29: 6 | L29: =C29*J29+15 -> 145 | M29: 20 | N29: 106 x 120 | O29: =IFERROR(IF(N29="VRAC",D29,IF(ROUNDUP(LEFT(N29,3),0)=0,"",ROUNDUP(LEFT(N29,3),0))),"") -> 106 | P29: =IFERROR(IF(ROUND(RIGHT(N29,3),0)="VRAC",E29,ROUND(RIGHT(N29,3),0)),"") -> 120
A30: AA-01--AA-29 | B30: 1 | C30: 84 | D30: 104 | E30: 12 | F30: 12 | G30: =(C30*D30*E30)/1000000/B30 -> 0.104832 | H30: =((C30*D30*E30)/1000000*M30)/1.2 -> 1.7472 | I30: 10 | J30: 2 | L30: =C30*J30+15 -> 183 | M30: 20 | N30: 100 x 120 | O30: =IFERROR(IF(N30="VRAC",D30,IF(ROUNDUP(LEFT(N30,3),0)=0,"",ROUNDUP(LEFT(N30,3),0))),"") -> 100 | P30: =IFERROR(IF(ROUND(RIGHT(N30,3),0)="VRAC",E30,ROUND(RIGHT(N30,3),0)),"") -> 120
A31: AA-01--AA-30 | B31: 1 | C31: 65 | D31: 103 | E31: 11 | F31: 14 | G31: =(C31*D31*E31)/1000000/B31 -> 0.073645 | H31: =((C31*D31*E31)/1000000*M31)/1.2 -> 1.2274167 | I31: 10 | J31: 2 | K31: 6 | L31: =C31*J31+15 -> 145 | M31: 20 | N31: 106 x 120 | O31: =IFERROR(IF(N31="VRAC",D31,IF(ROUNDUP(LEFT(N31,3),0)=0,"",ROUNDUP(LEFT(N31,3),0))),"") -> 106 | P31: =IFERROR(IF(ROUND(RIGHT(N31,3),0)="VRAC",E31,ROUND(RIGHT(N31,3),0)),"") -> 120
A32: AA-01--AA-31 | B32: 1 | C32: 75 | D32: 12 | E32: 118 | F32: 10 | G32: =(C32*D32*E32)/1000000/B32 -> 0.1062 | H32: =((C32*D32*E32)/1000000*M32)/1.2 -> 1.416 | I32: 8 | J32: 2 | L32: =C32*J32+15 -> 165 | M32: 16 | N32: 100 x 120 | O32: =IFERROR(IF(N32="VRAC",D32,IF(ROUNDUP(LEFT(N32,3),0)=0,"",ROUNDUP(LEFT(N32,3),0))),"") -> 100 | P32: =IFERROR(IF(ROUND(RIGHT(N32,3),0)="VRAC",E32,ROUND(RIGHT(N32,3),0)),"") -> 120
A33: AA-01--AA-32 | B33: 1 | C33: 76 | D33: 27.5 | E33: 118 | F33: 27 | G33: =(C33*D33*E33)/1000000/B33 -> 0.24662 | H33: =((C33*D33*E33)/1000000*M33)/1.2 -> 1.2331 | I33: 4 | J33: 3 | K33: 4 | L33: =C33*J33+15 -> 243 | M33: 6 | N33: 116 x 122 | O33: =IFERROR(IF(N33="VRAC",D33,IF(ROUNDUP(LEFT(N33,3),0)=0,"",ROUNDUP(LEFT(N33,3),0))),"") -> 116 | P33: =IFERROR(IF(ROUND(RIGHT(N33,3),0)="VRAC",E33,ROUND(RIGHT(N33,3),0)),"") -> 122
A34: AA-01--AA-33 | B34: 1 | C34: 76 | D34: 12.5 | E34: 119 | F34: 17 | G34: =(C34*D34*E34)/1000000/B34 -> 0.11305 | H34: =((C34*D34*E34)/1000000*M34)/1.2 -> 1.5073333 | I34: 8 | J34: 2 | L34: =C34*J34+15 -> 167 | M34: 16 | N34: 100 x 110 | O34: =IFERROR(IF(N34="VRAC",D34,IF(ROUNDUP(LEFT(N34,3),0)=0,"",ROUNDUP(LEFT(N34,3),0))),"") -> 100 | P34: =IFERROR(IF(ROUND(RIGHT(N34,3),0)="VRAC",E34,ROUND(RIGHT(N34,3),0)),"") -> 110
A35: AA-01--AA-34 | B35: 1 | C35: 76 | D35: 119 | E35: 13 | F35: 19 | G35: =(C35*D35*E35)/1000000/B35 -> 0.117572 | H35: =((C35*D35*E35)/1000000*M35)/1.2 -> 1.3716733 | I35: 7 | J35: 2 | K35: 4 | L35: =C35*J35+15 -> 167 | M35: 14 | N35: 100 x 120 | O35: =IFERROR(IF(N35="VRAC",D35,IF(ROUNDUP(LEFT(N35,3),0)=0,"",ROUNDUP(LEFT(N35,3),0))),"") -> 100 | P35: =IFERROR(IF(ROUND(RIGHT(N35,3),0)="VRAC",E35,ROUND(RIGHT(N35,3),0)),"") -> 120
A36: AA-01--AA-35 | B36: 1 | C36: 75 | D36: 12.5 | E36: 119 | F36: 20 | G36: =(C36*D36*E36)/1000000/B36 -> 0.1115625 | H36: =((C36*D36*E36)/1000000*M36)/1.2 -> 1.4875 | I36: 8 | J36: 2 | L36: =C36*J36+15 -> 165 | M36: 16 | N36: 120 x 140 | O36: =IFERROR(IF(N36="VRAC",D36,IF(ROUNDUP(LEFT(N36,3),0)=0,"",ROUNDUP(LEFT(N36,3),0))),"") -> 120 | P36: =IFERROR(IF(ROUND(RIGHT(N36,3),0)="VRAC",E36,ROUND(RIGHT(N36,3),0)),"") -> 140
A37: AA-01--AA-36 | B37: 1 | C37: 75 | D37: 24.5 | E37: 118 | G37: =(C37*D37*E37)/1000000/B37 -> 0.216825 | I37: 4 | J37: 2 | K37: 6 | L37: =C37*J37+15 -> 165 | N37: 100 x 120 | O37: =IFERROR(IF(N37="VRAC",D37,IF(ROUNDUP(LEFT(N37,3),0)=0,"",ROUNDUP(LEFT(N37,3),0))),"") -> 100 | P37: =IFERROR(IF(ROUND(RIGHT(N37,3),0)="VRAC",E37,ROUND(RIGHT(N37,3),0)),"") -> 120
A38: AA-01--AA-37 | B38: 1 | C38: 75.5 | D38: 13 | E38: 118.5 | F38: 25 | G38: =(C38*D38*E38)/1000000/B38 -> 0.11630775 | H38: =((C38*D38*E38)/1000000*M38)/1.2 -> 2.0353856 | I38: 7 | J38: 2 | L38: =C38*J38+15 -> 166 | M38: 21 | N38: 100 x 120 | O38: =IFERROR(IF(N38="VRAC",D38,IF(ROUNDUP(LEFT(N38,3),0)=0,"",ROUNDUP(LEFT(N38,3),0))),"") -> 100 | P38: =IFERROR(IF(ROUND(RIGHT(N38,3),0)="VRAC",E38,ROUND(RIGHT(N38,3),0)),"") -> 120
A39: AA-01--AA-38 | B39: 1 | C39: 75 | D39: 118 | E39: 13 | F39: 19 | G39: =(C39*D39*E39)/1000000/B39 -> 0.11505 | H39: =((C39*D39*E39)/1000000*M39)/1.2 -> 1.534 | I39: 8 | J39: 2 | K39: 6 | L39: =C39*J39+15 -> 165 | M39: 16 | N39: 100 x 120 | O39: =IFERROR(IF(N39="VRAC",D39,IF(ROUNDUP(LEFT(N39,3),0)=0,"",ROUNDUP(LEFT(N39,3),0))),"") -> 100 | P39: =IFERROR(IF(ROUND(RIGHT(N39,3),0)="VRAC",E39,ROUND(RIGHT(N39,3),0)),"") -> 120
A40: AA-01--AA-39 | B40: 1 | C40: 75.5 | D40: 13 | E40: 118.5 | F40: 20 | G40: =(C40*D40*E40)/1000000/B40 -> 0.11630775 | H40: =((C40*D40*E40)/1000000*M40)/1.2 -> 1.7446162 | I40: 9 | J40: 2 | L40: =C40*J40+15 -> 166 | M40: 18 | N40: 100 x 120 | O40: =IFERROR(IF(N40="VRAC",D40,IF(ROUNDUP(LEFT(N40,3),0)=0,"",ROUNDUP(LEFT(N40,3),0))),"") -> 100 | P40: =IFERROR(IF(ROUND(RIGHT(N40,3),0)="VRAC",E40,ROUND(RIGHT(N40,3),0)),"") -> 120
A41: AA-01--AA-40 | B41: 1 | C41: 76 | D41: 13 | E41: 119 | F41: 17.4 | G41: =(C41*D41*E41)/1000000/B41 -> 0.117572 | H41: =((C41*D41*E41)/1000000*M41)/1.2 -> 1.3716733 | I41: 7 | J41: 2 | K41: 6 | L41: =C41*J41+15 -> 167 | M41: 14 | N41: 100 x 120 | O41: =IFERROR(IF(N41="VRAC",D41,IF(ROUNDUP(LEFT(N41,3),0)=0,"",ROUNDUP(LEFT(N41,3),0))),"") -> 100 | P41: =IFERROR(IF(ROUND(RIGHT(N41,3),0)="VRAC",E41,ROUND(RIGHT(N41,3),0)),"") -> 120
A42: AA-01--AA-41 | B42: 1 | C42: 76 | D42: 16 | E42: 119 | F42: 16 | G42: =(C42*D42*E42)/1000000/B42 -> 0.144704 | H42: =((C42*D42*E42)/1000000*M42)/1.2 -> 1.6882133 | I42: 7 | J42: 2 | K42: 6 | L42: =C42*J42+15 -> 167 | M42: 14 | N42: 120 x 140 | O42: =IFERROR(IF(N42="VRAC",D42,IF(ROUNDUP(LEFT(N42,3),0)=0,"",ROUNDUP(LEFT(N42,3),0))),"") -> 120 | P42: =IFERROR(IF(ROUND(RIGHT(N42,3),0)="VRAC",E42,ROUND(RIGHT(N42,3),0)),"") -> 140
A43: AA-01--AA-42 | B43: 1 | C43: 81 | D43: 16.5 | E43: 132 | F43: 22 | G43: =(C43*D43*E43)/1000000/B43 -> 0.176418 | H43: =((C43*D43*E43)/1000000*M43)/1.2 -> 1.76418 | I43: 6 | J43: 2 | L43: =C43*J43+15 -> 177 | M43: 12 | N43: 100 x 120 | O43: =IFERROR(IF(N43="VRAC",D43,IF(ROUNDUP(LEFT(N43,3),0)=0,"",ROUNDUP(LEFT(N43,3),0))),"") -> 100 | P43: =IFERROR(IF(ROUND(RIGHT(N43,3),0)="VRAC",E43,ROUND(RIGHT(N43,3),0)),"") -> 120
A44: AA-01--AA-43 | B44: 1 | C44: 81 | D44: 17 | E44: 132 | F44: 11.6 | G44: =(C44*D44*E44)/1000000/B44 -> 0.181764 | H44: =((C44*D44*E44)/1000000*M44)/1.2 -> 1.81764 | I44: 6 | J44: 2 | K44: 3 | L44: =C44*J44+15 -> 177 | M44: 12 | N44: 100 x 135 | O44: =IFERROR(IF(N44="VRAC",D44,IF(ROUNDUP(LEFT(N44,3),0)=0,"",ROUNDUP(LEFT(N44,3),0))),"") -> 100 | P44: =IFERROR(IF(ROUND(RIGHT(N44,3),0)="VRAC",E44,ROUND(RIGHT(N44,3),0)),"") -> 135
A45: AA-01--AA-44 | B45: 1 | C45: 84 | D45: 25 | E45: 134.5 | F45: 20 | G45: =(C45*D45*E45)/1000000/B45 -> 0.28245 | H45: =((C45*D45*E45)/1000000*M45)/1.2 -> 1.883 | I45: 4 | J45: 2 | K45: 3 | L45: =C45*J45+15 -> 183 | M45: 8 | N45: 100 x 120 | O45: =IFERROR(IF(N45="VRAC",D45,IF(ROUNDUP(LEFT(N45,3),0)=0,"",ROUNDUP(LEFT(N45,3),0))),"") -> 100 | P45: =IFERROR(IF(ROUND(RIGHT(N45,3),0)="VRAC",E45,ROUND(RIGHT(N45,3),0)),"") -> 120
A46: AA-01--AA-45 | B46: 1 | C46: 65 | D46: 105 | E46: 14.5 | F46: 11 | G46: =(C46*D46*E46)/1000000/B46 -> 0.0989625 | H46: =((C46*D46*E46)/1000000*M46)/1.2 -> 1.97925 | I46: 8 | J46: 3 | L46: =C46*J46+15 -> 210 | M46: 24 | N46: 100 x 120 | O46: =IFERROR(IF(N46="VRAC",D46,IF(ROUNDUP(LEFT(N46,3),0)=0,"",ROUNDUP(LEFT(N46,3),0))),"") -> 100 | P46: =IFERROR(IF(ROUND(RIGHT(N46,3),0)="VRAC",E46,ROUND(RIGHT(N46,3),0)),"") -> 120
A47: AA-01--AA-46 | B47: 1 | C47: 65 | D47: 102 | E47: 13 | F47: 11 | G47: =(C47*D47*E47)/1000000/B47 -> 0.08619 | H47: =((C47*D47*E47)/1000000*M47)/1.2 -> 1.29285 | I47: 9 | J47: 2 | K47: 6 | L47: =C47*J47+15 -> 145 | M47: 18 | N47: 106 x 122 | O47: =IFERROR(IF(N47="VRAC",D47,IF(ROUNDUP(LEFT(N47,3),0)=0,"",ROUNDUP(LEFT(N47,3),0))),"") -> 106 | P47: =IFERROR(IF(ROUND(RIGHT(N47,3),0)="VRAC",E47,ROUND(RIGHT(N47,3),0)),"") -> 122
A48: AA-01--AA-47 | B48: 1 | C48: 72 | D48: 108 | E48: 16 | F48: 14 | G48: =(C48*D48*E48)/1000000/B48 -> 0.124416 | H48: =((C48*D48*E48)/1000000*M48)/1.2 -> 1.65888 | I48: 8 | J48: 2 | L48: =C48*J48+15 -> 159 | M48: 16 | N48: 100 x 120 | O48: =IFERROR(IF(N48="VRAC",D48,IF(ROUNDUP(LEFT(N48,3),0)=0,"",ROUNDUP(LEFT(N48,3),0))),"") -> 100 | P48: =IFERROR(IF(ROUND(RIGHT(N48,3),0)="VRAC",E48,ROUND(RIGHT(N48,3),0)),"") -> 120
A49: AA-01--AA-48 | B49: 1 | C49: 80 | D49: 14.5 | E49: 102 | F49: 25 | G49: =(C49*D49*E49)/1000000/B49 -> 0.11832 | H49: =((C49*D49*E49)/1000000*M49)/1.2 -> 1.5776 | I49: 8 | J49: 2 | K49: 6 | L49: =C49*J49+15 -> 175 | M49: 16 | N49: 102 x 135 | O49: =IFERROR(IF(N49="VRAC",D49,IF(ROUNDUP(LEFT(N49,3),0)=0,"",ROUNDUP(LEFT(N49,3),0))),"") -> 102 | P49: =IFERROR(IF(ROUND(RIGHT(N49,3),0)="VRAC",E49,ROUND(RIGHT(N49,3),0)),"") -> 135
A50: AA-01--AA-49 | B50: 1 | C50: 112 | D50: 176 | E50: 28 | F50: 65 | G50: =(C50*D50*E50)/1000000/B50 -> 0.551936 | H50: =((C50*D50*E50)/1000000*M50)/1.2 -> 2.75968 | I50: 3 | J50: 2 | L50: =C50*J50+15 -> 239 | M50: 6 | N50: 100 x 120 | O50: =IFERROR(IF(N50="VRAC",D50,IF(ROUNDUP(LEFT(N50,3),0)=0,"",ROUNDUP(LEFT(N50,3),0))),"") -> 100 | P50: =IFERROR(IF(ROUND(RIGHT(N50,3),0)="VRAC",E50,ROUND(RIGHT(N50,3),0)),"") -> 120
A51: AA-01--AA-50 | B51: 1 | C51: 12 | D51: 35 | E51: 31 | F51: 1.34 | G51: =(C51*D51*E51)/1000000/B51 -> 0.01302 | H51: =((C51*D51*E51)/1000000*M51)/1.2 -> 1.26945 | I51: 9 | J51: 13 | L51: =C51*J51+15 -> 171 | M51: 117 | N51: 100 x 120 | O51: =IFERROR(IF(N51="VRAC",D51,IF(ROUNDUP(LEFT(N51,3),0)=0,"",ROUNDUP(LEFT(N51,3),0))),"") -> 100 | P51: =IFERROR(IF(ROUND(RIGHT(N51,3),0)="VRAC",E51,ROUND(RIGHT(N51,3),0)),"") -> 120
A52: AA-01--AA-51 | B52: 1 | C52: 13.5 | D52: 33.5 | E52: 33 | F52: 2.08 | G52: =(C52*D52*E52)/1000000/B52 -> 0.01492425 | H52: =((C52*D52*E52)/1000000*M52)/0.96 -> 1.6789781 | I52: 9 | J52: 12 | L52: =C52*J52+15 -> 177 | M52: 108 | N52: 100 x 120 | O52: =IFERROR(IF(N52="VRAC",D52,IF(ROUNDUP(LEFT(N52,3),0)=0,"",ROUNDUP(LEFT(N52,3),0))),"") -> 100 | P52: =IFERROR(IF(ROUND(RIGHT(N52,3),0)="VRAC",E52,ROUND(RIGHT(N52,3),0)),"") -> 120
A53: AA-01--AA-52 | B53: 1 | C53: 12 | D53: 33.5 | E53: 32.5 | F53: 1.8 | G53: =(C53*D53*E53)/1000000/B53 -> 0.013065 | H53: =((C53*D53*E53)/1000000*M53)/1.2 -> 1.371825 | I53: 9 | J53: 14 | L53: =C53*J53+15 -> 183 | M53: 126 | N53: 100 x 120 | O53: =IFERROR(IF(N53="VRAC",D53,IF(ROUNDUP(LEFT(N53,3),0)=0,"",ROUNDUP(LEFT(N53,3),0))),"") -> 100 | P53: =IFERROR(IF(ROUND(RIGHT(N53,3),0)="VRAC",E53,ROUND(RIGHT(N53,3),0)),"") -> 120
A54: AA-01--AA-53 | B54: 1 | C54: 60 | D54: 17 | E54: 89 | F54: 9 | G54: =(C54*D54*E54)/1000000/B54 -> 0.09078 | H54: =((C54*D54*E54)/1000000*M54)/1.2 -> 0.7565 | I54: 5 | J54: 2 | K54: 3 | L54: =C54*J54+15 -> 135 | M54: 10 | N54: 80 x 135 | O54: =IFERROR(IF(N54="VRAC",D54,IF(ROUNDUP(LEFT(N54,3),0)=0,"",ROUNDUP(LEFT(N54,3),0))),"") -> 80 | P54: =IFERROR(IF(ROUND(RIGHT(N54,3),0)="VRAC",E54,ROUND(RIGHT(N54,3),0)),"") -> 135
A55: AA-01--AA-54 | B55: 1 | C55: 73 | D55: 113 | E55: 17.5 | F55: 7 | G55: =(C55*D55*E55)/1000000/B55 -> 0.1443575 | H55: =((C55*D55*E55)/1000000*M55)/1.2 -> 1.2029792 | I55: 5 | J55: 2 | L55: =C55*J55+15 -> 161 | M55: 10 | N55: 112 x 123 | O55: =IFERROR(IF(N55="VRAC",D55,IF(ROUNDUP(LEFT(N55,3),0)=0,"",ROUNDUP(LEFT(N55,3),0))),"") -> 112 | P55: =IFERROR(IF(ROUND(RIGHT(N55,3),0)="VRAC",E55,ROUND(RIGHT(N55,3),0)),"") -> 123
A56: AA-01--AA-55 | B56: 1 | C56: 17 | D56: 43 | E56: 56 | F56: 5 | G56: =(C56*D56*E56)/1000000/B56 -> 0.040936 | H56: =((C56*D56*E56)/1000000*M56)/1.2 -> 1.22808 | I56: 4 | J56: 9 | L56: =C56*J56+15 -> 168 | M56: 36 | N56: 100 x 120 | O56: =IFERROR(IF(N56="VRAC",D56,IF(ROUNDUP(LEFT(N56,3),0)=0,"",ROUNDUP(LEFT(N56,3),0))),"") -> 100 | P56: =IFERROR(IF(ROUND(RIGHT(N56,3),0)="VRAC",E56,ROUND(RIGHT(N56,3),0)),"") -> 120
A57: AA-01--AA-56 | B57: 1 | C57: 34 | D57: 61.5 | E57: 35.5 | F57: 13.4 | G57: =(C57*D57*E57)/1000000/B57 -> 0.0742305 | H57: =((C57*D57*E57)/1000000*M57)/1.2 -> 1.5464688 | I57: 5 | J57: 5 | K57: 8 | L57: =C57*J57+15 -> 185 | M57: 25 | N57: 100 x 120 | O57: =IFERROR(IF(N57="VRAC",D57,IF(ROUNDUP(LEFT(N57,3),0)=0,"",ROUNDUP(LEFT(N57,3),0))),"") -> 100 | P57: =IFERROR(IF(ROUND(RIGHT(N57,3),0)="VRAC",E57,ROUND(RIGHT(N57,3),0)),"") -> 120
A58: AA-01--AA-57 | B58: 1 | C58: 32 | D58: 59 | E58: 32 | F58: 10 | G58: =(C58*D58*E58)/1000000/B58 -> 0.060416 | H58: =((C58*D58*E58)/1000000*M58)/1.2 -> 1.5104 | I58: 6 | J58: 5 | L58: =C58*J58+15 -> 175 | M58: 30 | N58: 100 x 120 | O58: =IFERROR(IF(N58="VRAC",D58,IF(ROUNDUP(LEFT(N58,3),0)=0,"",ROUNDUP(LEFT(N58,3),0))),"") -> 100 | P58: =IFERROR(IF(ROUND(RIGHT(N58,3),0)="VRAC",E58,ROUND(RIGHT(N58,3),0)),"") -> 120
A59: AA-01--AA-58 | B59: 1 | C59: 7.5 | D59: 29.5 | E59: 27.5 | F59: 1.26 | G59: =(C59*D59*E59)/1000000/B59 -> 0.006084375 | H59: =((C59*D59*E59)/1000000*M59)/1.2 -> 1.216875 | I59: 12 | J59: 20 | K59: 32 | L59: =C59*J59+15 -> 165 | M59: =J59*I59 -> 240 | N59: 80 x 120 | O59: =IFERROR(IF(N59="VRAC",D59,IF(ROUNDUP(LEFT(N59,3),0)=0,"",ROUNDUP(LEFT(N59,3),0))),"") -> 80 | P59: =IFERROR(IF(ROUND(RIGHT(N59,3),0)="VRAC",E59,ROUND(RIGHT(N59,3),0)),"") -> 120
A60: AA-01--AA-59 | B60: 1 | C60: 32 | D60: 76 | E60: 43 | F60: 17 | G60: =(C60*D60*E60)/1000000/B60 -> 0.104576 | H60: =((C60*D60*E60)/1000000*M60)/1.2 -> 1.3072 | I60: 3 | J60: 5 | K60: 10 | L60: =C60*J60+15 -> 175 | M60: =J60*I60 -> 15 | N60: 100 x 120 | O60: =IFERROR(IF(N60="VRAC",D60,IF(ROUNDUP(LEFT(N60,3),0)=0,"",ROUNDUP(LEFT(N60,3),0))),"") -> 100 | P60: =IFERROR(IF(ROUND(RIGHT(N60,3),0)="VRAC",E60,ROUND(RIGHT(N60,3),0)),"") -> 120
A61: AA-01--AA-60 | B61: 10 | C61: 22 | D61: 34.5 | E61: 29 | F61: 6.8 | G61: =(C61*D61*E61)/1000000/B61 -> 0.0022011 | H61: =((C61*D61*E61)/1000000*M61)/1.2 -> 1.1555775 | I61: 9 | J61: 7 | K61: 10 | L61: =C61*J61+15 -> 169 | M61: 63 | N61: 110 x 120 | O61: =IFERROR(IF(N61="VRAC",D61,IF(ROUNDUP(LEFT(N61,3),0)=0,"",ROUNDUP(LEFT(N61,3),0))),"") -> 110 | P61: =IFERROR(IF(ROUND(RIGHT(N61,3),0)="VRAC",E61,ROUND(RIGHT(N61,3),0)),"") -> 120
A62: AA-01--AA-61 | B62: 1 | C62: 33 | D62: 56 | E62: 46 | F62: 15 | G62: =(C62*D62*E62)/1000000/B62 -> 0.085008 | H62: =((C62*D62*E62)/1000000*M62)/1.2 -> 1.13344 | I62: 4 | J62: 4 | K62: 8 | L62: =C62*J62+15 -> 147 | M62: 16 | N62: 100 x 120 | O62: =IFERROR(IF(N62="VRAC",D62,IF(ROUNDUP(LEFT(N62,3),0)=0,"",ROUNDUP(LEFT(N62,3),0))),"") -> 100 | P62: =IFERROR(IF(ROUND(RIGHT(N62,3),0)="VRAC",E62,ROUND(RIGHT(N62,3),0)),"") -> 120
A63: AA-01--AA-62 | B63: 1 | C63: 33.5 | D63: 45 | E63: 56.5 | F63: 14 | G63: =(C63*D63*E63)/1000000/B63 -> 0.08517375 | H63: =((C63*D63*E63)/1000000*M63)/1.2 -> 1.13565 | I63: 4 | J63: 4 | K63: 8 | L63: =C63*J63+15 -> 149 | M63: 16 | N63: 100 x 120 | O63: =IFERROR(IF(N63="VRAC",D63,IF(ROUNDUP(LEFT(N63,3),0)=0,"",ROUNDUP(LEFT(N63,3),0))),"") -> 100 | P63: =IFERROR(IF(ROUND(RIGHT(N63,3),0)="VRAC",E63,ROUND(RIGHT(N63,3),0)),"") -> 120
A64: AA-01--AA-63 | B64: 1 | C64: 35 | D64: 50.5 | E64: 60 | F64: 16 | G64: =(C64*D64*E64)/1000000/B64 -> 0.10605 | H64: =((C64*D64*E64)/1000000*M64)/1.2 -> 1.7675 | I64: 4 | J64: 5 | K64: 8 | L64: =C64*J64+15 -> 190 | M64: 20 | N64: 100 x 120 | O64: =IFERROR(IF(N64="VRAC",D64,IF(ROUNDUP(LEFT(N64,3),0)=0,"",ROUNDUP(LEFT(N64,3),0))),"") -> 100 | P64: =IFERROR(IF(ROUND(RIGHT(N64,3),0)="VRAC",E64,ROUND(RIGHT(N64,3),0)),"") -> 120
A65: AA-01--AA-64 | B65: 1 | C65: 35 | D65: 60 | E65: 50 | F65: 17 | G65: =(C65*D65*E65)/1000000/B65 -> 0.105 | H65: =((C65*D65*E65)/1000000*M65)/1.2 -> 1.4 | I65: 4 | J65: 4 | K65: 8 | L65: =C65*J65+15 -> 155 | M65: 16 | N65: 100 x 120 | O65: =IFERROR(IF(N65="VRAC",D65,IF(ROUNDUP(LEFT(N65,3),0)=0,"",ROUNDUP(LEFT(N65,3),0))),"") -> 100 | P65: =IFERROR(IF(ROUND(RIGHT(N65,3),0)="VRAC",E65,ROUND(RIGHT(N65,3),0)),"") -> 120
A66: AA-01--AA-65 | B66: 1 | C66: 35 | D66: 50.5 | E66: 59.5 | F66: 16 | G66: =(C66*D66*E66)/1000000/B66 -> 0.10516625 | H66: =((C66*D66*E66)/1000000*M66)/1.2 -> 1.7527708 | I66: 4 | J66: 5 | K66: 8 | L66: =C66*J66+15 -> 190 | M66: 20 | N66: 100 x 120 | O66: =IFERROR(IF(N66="VRAC",D66,IF(ROUNDUP(LEFT(N66,3),0)=0,"",ROUNDUP(LEFT(N66,3),0))),"") -> 100 | P66: =IFERROR(IF(ROUND(RIGHT(N66,3),0)="VRAC",E66,ROUND(RIGHT(N66,3),0)),"") -> 120
A67: AA-01--AA-66 | B67: 1 | C67: 35 | D67: 50.5 | E67: 60 | F67: 15 | G67: =(C67*D67*E67)/1000000/B67 -> 0.10605 | H67: =((C67*D67*E67)/1000000*M67)/1.2 -> 1.414 | I67: 4 | J67: 4 | L67: =C67*J67+15 -> 155 | M67: 16 | N67: 100 x 120 | O67: =IFERROR(IF(N67="VRAC",D67,IF(ROUNDUP(LEFT(N67,3),0)=0,"",ROUNDUP(LEFT(N67,3),0))),"") -> 100 | P67: =IFERROR(IF(ROUND(RIGHT(N67,3),0)="VRAC",E67,ROUND(RIGHT(N67,3),0)),"") -> 120
A68: AA-01--AA-67 | B68: 1 | C68: 16 | D68: 43.5 | E68: 52.5 | F68: 5.35 | G68: =(C68*D68*E68)/1000000/B68 -> 0.03654 | H68: =((C68*D68*E68)/1000000*M68)/1.2 -> 0.9744 | I68: 4 | J68: 8 | K68: 8 | L68: =C68*J68+15 -> 143 | M68: 32 | N68: 100 x 120 | O68: =IFERROR(IF(N68="VRAC",D68,IF(ROUNDUP(LEFT(N68,3),0)=0,"",ROUNDUP(LEFT(N68,3),0))),"") -> 100 | P68: =IFERROR(IF(ROUND(RIGHT(N68,3),0)="VRAC",E68,ROUND(RIGHT(N68,3),0)),"") -> 120
A69: AA-01--AA-68 | B69: 1 | C69: 16 | D69: 53 | E69: 53 | F69: 5 | G69: =(C69*D69*E69)/1000000/B69 -> 0.044944 | H69: =((C69*D69*E69)/1000000*M69)/1.2 -> 1.1985067 | I69: 4 | J69: 8 | L69: =C69*J69+15 -> 143 | M69: 32 | N69: 100 x 120 | O69: =IFERROR(IF(N69="VRAC",D69,IF(ROUNDUP(LEFT(N69,3),0)=0,"",ROUNDUP(LEFT(N69,3),0))),"") -> 100 | P69: =IFERROR(IF(ROUND(RIGHT(N69,3),0)="VRAC",E69,ROUND(RIGHT(N69,3),0)),"") -> 120
A70: AA-01--AA-69 | B70: 1 | C70: 15 | D70: 42,5 | E70: 37 | F70: 4 | G70: =(C70*D70*E70)/1000000/B70 -> 0.0235875 | H70: =((C70*D70*E70)/1000000*M70)/0.96 -> 1.6216406 | I70: 6 | J70: 11 | K70: 15 | L70: =C70*J70+15 -> 180 | M70: 66 | N70: 100 x 120 | O70: =IFERROR(IF(N70="VRAC",D70,IF(ROUNDUP(LEFT(N70,3),0)=0,"",ROUNDUP(LEFT(N70,3),0))),"") -> 100 | P70: =IFERROR(IF(ROUND(RIGHT(N70,3),0)="VRAC",E70,ROUND(RIGHT(N70,3),0)),"") -> 120
A71: AA-01--AA-70 | B71: 1 | C71: 42 | D71: 48 | E71: 21 | F71: 6 | G71: =(C71*D71*E71)/1000000/B71 -> 0.042336 | H71: =((C71*D71*E71)/1000000*M71)/0.96 -> 1.4112 | I71: 4 | J71: 8 | K71: 11 | L71: =C71*J71+15 -> 351 | M71: =I71*J71 -> 32 | N71: 83,5 x 106 | O71: =IFERROR(IF(N71="VRAC",D71,IF(ROUNDUP(LEFT(N71,3),0)=0,"",ROUNDUP(LEFT(N71,3),0))),"") -> 83 | P71: =IFERROR(IF(ROUND(RIGHT(N71,3),0)="VRAC",E71,ROUND(RIGHT(N71,3),0)),"") -> 106
A72: AA-01--AA-71 | B72: 1 | C72: 11 | D72: 33 | E72: 50 | F72: 2,5 | G72: =(C72*D72*E72)/1000000/B72 -> 0.01815 | H72: =((C72*D72*E72)/1000000*M72)/0.96 -> 2.646875 | I72: 7 | J72: 20 | L72: =C72*J72+15 -> 235 | M72: 140 | N72: 100 x 120 | O72: =IFERROR(IF(N72="VRAC",D72,IF(ROUNDUP(LEFT(N72,3),0)=0,"",ROUNDUP(LEFT(N72,3),0))),"") -> 100 | P72: =IFERROR(IF(ROUND(RIGHT(N72,3),0)="VRAC",E72,ROUND(RIGHT(N72,3),0)),"") -> 120
A73: AA-01--AA-72 | B73: 1 | C73: 11 | D73: 35 | E73: 54 | F73: 3 | G73: =(C73*D73*E73)/1000000/B73 -> 0.02079 | H73: =((C73*D73*E73)/1000000*M73)/0.96 -> 1.6242188 | I73: 5 | J73: 15 | K73: 20 | L73: =C73*J73+15 -> 180 | M73: 75 | N73: 100 x 120 | O73: =IFERROR(IF(N73="VRAC",D73,IF(ROUNDUP(LEFT(N73,3),0)=0,"",ROUNDUP(LEFT(N73,3),0))),"") -> 100 | P73: =IFERROR(IF(ROUND(RIGHT(N73,3),0)="VRAC",E73,ROUND(RIGHT(N73,3),0)),"") -> 120
A74: AA-01--AA-73 | B74: 1 | C74: 11 | D74: 50,5 | E74: 36 | F74: 3 | G74: =(C74*D74*E74)/1000000/B74 -> 0.019998 | H74: =((C74*D74*E74)/1000000*M74)/0.96 -> 2.6247375 | I74: 6 | J74: 21 | K74: 22 | L74: =C74*J74+15 -> 246 | M74: 126 | N74: 103 x 110 | O74: =IFERROR(IF(N74="VRAC",D74,IF(ROUNDUP(LEFT(N74,3),0)=0,"",ROUNDUP(LEFT(N74,3),0))),"") -> 103 | P74: =IFERROR(IF(ROUND(RIGHT(N74,3),0)="VRAC",E74,ROUND(RIGHT(N74,3),0)),"") -> 110
A75: AA-01--AA-74 | B75: 1 | C75: 12 | D75: 56 | E75: 40 | F75: 1.86 | G75: =(C75*D75*E75)/1000000/B75 -> 0.02688 | H75: =((C75*D75*E75)/1000000*M75)/1.33 -> 2.0210526 | I75: 5 | J75: 20 | L75: =C75*J75+15 -> 255 | M75: 100 | N75: 100 x 120 | O75: =IFERROR(IF(N75="VRAC",D75,IF(ROUNDUP(LEFT(N75,3),0)=0,"",ROUNDUP(LEFT(N75,3),0))),"") -> 100 | P75: =IFERROR(IF(ROUND(RIGHT(N75,3),0)="VRAC",E75,ROUND(RIGHT(N75,3),0)),"") -> 120
A76: AA-01--AA-75 | B76: 1 | C76: 11.5 | D76: 38 | E76: 58 | F76: 4 | G76: =(C76*D76*E76)/1000000/B76 -> 0.025346 | H76: =((C76*D76*E76)/1000000*M76)/1.33 -> 1.9057143 | I76: 5 | J76: 20 | K76: 20 | L76: =C76*J76+15 -> 245 | M76: 100 | N76: 100 x 120 | O76: =IFERROR(IF(N76="VRAC",D76,IF(ROUNDUP(LEFT(N76,3),0)=0,"",ROUNDUP(LEFT(N76,3),0))),"") -> 100 | P76: =IFERROR(IF(ROUND(RIGHT(N76,3),0)="VRAC",E76,ROUND(RIGHT(N76,3),0)),"") -> 120
A77: AA-01--AA-76 | B77: 1 | C77: 20 | D77: 40 | E77: 58 | F77: 7 | G77: =(C77*D77*E77)/1000000/B77 -> 0.0464 | H77: =((C77*D77*E77)/1000000*M77)/0.96 -> 2.175 | I77: 5 | J77: 12 | K77: 12 | L77: =C77*J77+15 -> 255 | M77: 45 | N77: 100 x 120 | O77: =IFERROR(IF(N77="VRAC",D77,IF(ROUNDUP(LEFT(N77,3),0)=0,"",ROUNDUP(LEFT(N77,3),0))),"") -> 100 | P77: =IFERROR(IF(ROUND(RIGHT(N77,3),0)="VRAC",E77,ROUND(RIGHT(N77,3),0)),"") -> 120
A78: AA-01--AA-77 | B78: 1 | C78: 11.5 | D78: 37.5 | E78: 57.5 | F78: 4 | G78: =(C78*D78*E78)/1000000/B78 -> 0.024796875 | H78: =((C78*D78*E78)/1000000*M78)/1.33 -> 1.39832 | I78: 5 | J78: 15 | L78: =C78*J78+15 -> 187.5 | M78: 75 | N78: 100 x 120 | O78: =IFERROR(IF(N78="VRAC",D78,IF(ROUNDUP(LEFT(N78,3),0)=0,"",ROUNDUP(LEFT(N78,3),0))),"") -> 100 | P78: =IFERROR(IF(ROUND(RIGHT(N78,3),0)="VRAC",E78,ROUND(RIGHT(N78,3),0)),"") -> 120
A79: AA-01--AA-78 | B79: 1 | C79: 11.5 | D79: 40 | E79: 61.5 | F79: 5 | G79: =(C79*D79*E79)/1000000/B79 -> 0.02829 | H79: =((C79*D79*E79)/1000000*M79)/1.33 -> 0.85082707 | I79: 4 | J79: 10 | K79: 11 | L79: =C79*J79+15 -> 130 | M79: =J79*I79 -> 40 | N79: 100 x 120 | O79: =IFERROR(IF(N79="VRAC",D79,IF(ROUNDUP(LEFT(N79,3),0)=0,"",ROUNDUP(LEFT(N79,3),0))),"") -> 100 | P79: =IFERROR(IF(ROUND(RIGHT(N79,3),0)="VRAC",E79,ROUND(RIGHT(N79,3),0)),"") -> 120
A80: AA-01--AA-79 | B80: 1 | C80: 20 | D80: 41.5 | E80: 62.5 | F80: 6 | G80: =(C80*D80*E80)/1000000/B80 -> 0.051875 | H80: =((C80*D80*E80)/1000000*M80)/1.33 -> 1.2481203 | I80: 4 | J80: 8 | K80: 11 | L80: =C80*J80+15 -> 175 | M80: =J80*I80 -> 32 | N80: 100 x 120 | O80: =IFERROR(IF(N80="VRAC",D80,IF(ROUNDUP(LEFT(N80,3),0)=0,"",ROUNDUP(LEFT(N80,3),0))),"") -> 100 | P80: =IFERROR(IF(ROUND(RIGHT(N80,3),0)="VRAC",E80,ROUND(RIGHT(N80,3),0)),"") -> 120
A81: AA-01--AA-80 | B81: 1 | C81: 12 | D81: 39.5 | E81: 61 | F81: 4 | G81: =(C81*D81*E81)/1000000/B81 -> 0.028914 | H81: =((C81*D81*E81)/1000000*M81)/1.33 -> 1.6304887 | I81: 5 | J81: 15 | L81: =C81*J81+15 -> 195 | M81: =J81*I81 -> 75 | N81: 100 x 120 | O81: =IFERROR(IF(N81="VRAC",D81,IF(ROUNDUP(LEFT(N81,3),0)=0,"",ROUNDUP(LEFT(N81,3),0))),"") -> 100 | P81: =IFERROR(IF(ROUND(RIGHT(N81,3),0)="VRAC",E81,ROUND(RIGHT(N81,3),0)),"") -> 120
A82: AA-01--AA-81 | B82: 1 | C82: 18.5 | D82: 44 | E82: 62.5 | F82: 7 | G82: =(C82*D82*E82)/1000000/B82 -> 0.050875 | H82: =((C82*D82*E82)/1000000*M82)/1.33 -> 1.0328008 | I82: 4 | J82: 12 | K82: 12 | L82: =C82*J82+15 -> 237 | M82: 27 | N82: 110 x 110 | O82: =IFERROR(IF(N82="VRAC",D82,IF(ROUNDUP(LEFT(N82,3),0)=0,"",ROUNDUP(LEFT(N82,3),0))),"") -> 110 | P82: =IFERROR(IF(ROUND(RIGHT(N82,3),0)="VRAC",E82,ROUND(RIGHT(N82,3),0)),"") -> 110
A83: AA-01--AA-82 | B83: 1 | C83: 12 | D83: 40 | E83: 62 | F83: 4 | G83: =(C83*D83*E83)/1000000/B83 -> 0.02976 | H83: =((C83*D83*E83)/1000000*M83)/1.33 -> 0.93978947 | I83: 3 | J83: 14 | L83: =C83*J83+15 -> 183 | M83: 42 | N83: 100 x 120 | O83: =IFERROR(IF(N83="VRAC",D83,IF(ROUNDUP(LEFT(N83,3),0)=0,"",ROUNDUP(LEFT(N83,3),0))),"") -> 100 | P83: =IFERROR(IF(ROUND(RIGHT(N83,3),0)="VRAC",E83,ROUND(RIGHT(N83,3),0)),"") -> 120
A84: AA-01--AA-83 | B84: 1 | C84: 46 | D84: 13 | E84: 70.5 | F84: 6 | G84: =(C84*D84*E84)/1000000/B84 -> 0.042159 | H84: =((C84*D84*E84)/1000000*M84)/0.96 -> 1.5809625 | I84: 12 | J84: 3 | K84: 5 | L84: =C84*J84+15 -> 153 | M84: 36 | N84: 100 x 120 | O84: =IFERROR(IF(N84="VRAC",D84,IF(ROUNDUP(LEFT(N84,3),0)=0,"",ROUNDUP(LEFT(N84,3),0))),"") -> 100 | P84: =IFERROR(IF(ROUND(RIGHT(N84,3),0)="VRAC",E84,ROUND(RIGHT(N84,3),0)),"") -> 120
A85: AA-01--AA-84 | B85: 1 | C85: 43.5 | D85: 15 | E85: 68 | F85: 6 | G85: =(C85*D85*E85)/1000000/B85 -> 0.04437 | H85: =((C85*D85*E85)/1000000*M85)/0.96 -> 1.84875 | I85: 10 | J85: 4 | L85: =C85*J85+15 -> 189 | M85: 40 | N85: 100 x 120 | O85: =IFERROR(IF(N85="VRAC",D85,IF(ROUNDUP(LEFT(N85,3),0)=0,"",ROUNDUP(LEFT(N85,3),0))),"") -> 100 | P85: =IFERROR(IF(ROUND(RIGHT(N85,3),0)="VRAC",E85,ROUND(RIGHT(N85,3),0)),"") -> 120
A86: AA-01--AA-85 | B86: 1 | C86: 43 | D86: 68 | E86: 15 | F86: 5 | G86: =(C86*D86*E86)/1000000/B86 -> 0.04386 | H86: =((C86*D86*E86)/1000000*M86)/0.96 -> 1.8275 | I86: 10 | J86: 4 | K86: 5 | L86: =C86*J86+15 -> 187 | M86: 40 | N86: 100 x 120 | O86: =IFERROR(IF(N86="VRAC",D86,IF(ROUNDUP(LEFT(N86,3),0)=0,"",ROUNDUP(LEFT(N86,3),0))),"") -> 100 | P86: =IFERROR(IF(ROUND(RIGHT(N86,3),0)="VRAC",E86,ROUND(RIGHT(N86,3),0)),"") -> 120
A87: AA-01--AA-86 | B87: 1 | C87: 44 | D87: 82.5 | E87: 17 | F87: 7 | G87: =(C87*D87*E87)/1000000/B87 -> 0.06171 | H87: =((C87*D87*E87)/1000000*M87)/0.96 -> 1.3499063 | I87: 7 | J87: 3 | L87: =C87*J87+15 -> 147 | M87: 21 | N87: 100 x 120 | O87: =IFERROR(IF(N87="VRAC",D87,IF(ROUNDUP(LEFT(N87,3),0)=0,"",ROUNDUP(LEFT(N87,3),0))),"") -> 100 | P87: =IFERROR(IF(ROUND(RIGHT(N87,3),0)="VRAC",E87,ROUND(RIGHT(N87,3),0)),"") -> 120
A88: AA-01--AA-87 | B88: 1 | C88: 46 | D88: 13 | E88: 70.5 | F88: 5 | G88: =(C88*D88*E88)/1000000/B88 -> 0.042159 | H88: =((C88*D88*E88)/1000000*M88)/0.96 -> 1.5809625 | I88: 12 | J88: 3 | L88: =C88*J88+15 -> 153 | M88: 36 | N88: 100 x 120 | O88: =IFERROR(IF(N88="VRAC",D88,IF(ROUNDUP(LEFT(N88,3),0)=0,"",ROUNDUP(LEFT(N88,3),0))),"") -> 100 | P88: =IFERROR(IF(ROUND(RIGHT(N88,3),0)="VRAC",E88,ROUND(RIGHT(N88,3),0)),"") -> 120
A89: AA-01--AA-88 | B89: 1 | C89: 37 | D89: 86 | E89: 18 | F89: 10 | G89: =(C89*D89*E89)/1000000/B89 -> 0.057276 | H89: =((C89*D89*E89)/1000000*M89)/0.96 -> 1.67055 | I89: 7 | J89: 4 | L89: =C89*J89+15 -> 163 | M89: 28 | N89: 100 x 120 | O89: =IFERROR(IF(N89="VRAC",D89,IF(ROUNDUP(LEFT(N89,3),0)=0,"",ROUNDUP(LEFT(N89,3),0))),"") -> 100 | P89: =IFERROR(IF(ROUND(RIGHT(N89,3),0)="VRAC",E89,ROUND(RIGHT(N89,3),0)),"") -> 120
A90: AA-01--AA-89 | B90: 1 | C90: 43 | D90: 15 | E90: 78 | F90: 8 | G90: =(C90*D90*E90)/1000000/B90 -> 0.05031 | H90: =((C90*D90*E90)/1000000*M90)/0.96 -> 2.09625 | I90: 8 | J90: 7 | K90: 10 | L90: =C90*J90+15 -> 316 | M90: 40 | N90: 90 x 115 | O90: =IFERROR(IF(N90="VRAC",D90,IF(ROUNDUP(LEFT(N90,3),0)=0,"",ROUNDUP(LEFT(N90,3),0))),"") -> 90 | P90: =IFERROR(IF(ROUND(RIGHT(N90,3),0)="VRAC",E90,ROUND(RIGHT(N90,3),0)),"") -> 115
A91: AA-01--AA-90 | B91: 1 | C91: 51 | D91: 96.5 | E91: 15 | F91: 12 | G91: =(C91*D91*E91)/1000000/B91 -> 0.0738225 | H91: =((C91*D91*E91)/1000000*M91)/0.96 -> 1.8455625 | I91: 8 | J91: 3 | L91: =C91*J91+15 -> 168 | M91: =I91*J91 -> 24 | N91: 100 x 120 | O91: =IFERROR(IF(N91="VRAC",D91,IF(ROUNDUP(LEFT(N91,3),0)=0,"",ROUNDUP(LEFT(N91,3),0))),"") -> 100 | P91: =IFERROR(IF(ROUND(RIGHT(N91,3),0)="VRAC",E91,ROUND(RIGHT(N91,3),0)),"") -> 120
A92: AA-01--AA-91 | B92: 1 | C92: 50 | D92: 90 | E92: 17.5 | F92: 12 | G92: =(C92*D92*E92)/1000000/B92 -> 0.07875 | H92: =((C92*D92*E92)/1000000*M92)/1.2 -> 1.18125 | I92: 6 | J92: 3 | K92: 8 | L92: =C92*J92+15 -> 165 | M92: =I92*J92 -> 18 | N92: 100 x 120 | O92: =IFERROR(IF(N92="VRAC",D92,IF(ROUNDUP(LEFT(N92,3),0)=0,"",ROUNDUP(LEFT(N92,3),0))),"") -> 100 | P92: =IFERROR(IF(ROUND(RIGHT(N92,3),0)="VRAC",E92,ROUND(RIGHT(N92,3),0)),"") -> 120
A93: AA-01--AA-92 | B93: 1 | C93: 51 | D93: 90 | E93: 17 | F93: 12 | G93: =(C93*D93*E93)/1000000/B93 -> 0.07803 | H93: =((C93*D93*E93)/1000000*M93)/1.2 -> 1.17045 | I93: 6 | J93: 3 | K93: 8 | L93: =C93*J93+15 -> 168 | M93: =I93*J93 -> 18 | N93: 100 x 120 | O93: =IFERROR(IF(N93="VRAC",D93,IF(ROUNDUP(LEFT(N93,3),0)=0,"",ROUNDUP(LEFT(N93,3),0))),"") -> 100 | P93: =IFERROR(IF(ROUND(RIGHT(N93,3),0)="VRAC",E93,ROUND(RIGHT(N93,3),0)),"") -> 120
A94: AA-01--AA-93 | B94: 1 | C94: 52 | D94: 13.5 | E94: 91 | F94: 10 | G94: =(C94*D94*E94)/1000000/B94 -> 0.063882 | H94: =((C94*D94*E94)/1000000*M94)/1.2 -> 1.27764 | I94: 8 | J94: 3 | L94: =C94*J94+15 -> 171 | M94: =I94*J94 -> 24 | N94: 100 x 120 | O94: =IFERROR(IF(N94="VRAC",D94,IF(ROUNDUP(LEFT(N94,3),0)=0,"",ROUNDUP(LEFT(N94,3),0))),"") -> 100 | P94: =IFERROR(IF(ROUND(RIGHT(N94,3),0)="VRAC",E94,ROUND(RIGHT(N94,3),0)),"") -> 120
A95: AA-01--AA-94 | B95: 1 | C95: 51 | D95: 90.5 | E95: 17.5 | F95: 10.8 | G95: =(C95*D95*E95)/1000000/B95 -> 0.08077125 | H95: =((C95*D95*E95)/1000000*M95)/1.2 -> 1.2115688 | I95: 6 | J95: 3 | K95: 8 | L95: =C95*J95+15 -> 168 | M95: =I95*J95 -> 18 | N95: 100 x 120 | O95: =IFERROR(IF(N95="VRAC",D95,IF(ROUNDUP(LEFT(N95,3),0)=0,"",ROUNDUP(LEFT(N95,3),0))),"") -> 100 | P95: =IFERROR(IF(ROUND(RIGHT(N95,3),0)="VRAC",E95,ROUND(RIGHT(N95,3),0)),"") -> 120
A96: AA-01--AA-95 | B96: 1 | C96: 51 | D96: 90 | E96: 17.5 | F96: 10 | G96: =(C96*D96*E96)/1000000/B96 -> 0.080325 | H96: =((C96*D96*E96)/1000000*M96)/1.2 -> 1.204875 | I96: 6 | J96: 3 | L96: =C96*J96+15 -> 168 | M96: =I96*J96 -> 18 | N96: 100 x 120 | O96: =IFERROR(IF(N96="VRAC",D96,IF(ROUNDUP(LEFT(N96,3),0)=0,"",ROUNDUP(LEFT(N96,3),0))),"") -> 100 | P96: =IFERROR(IF(ROUND(RIGHT(N96,3),0)="VRAC",E96,ROUND(RIGHT(N96,3),0)),"") -> 120
A97: AA-01--AA-96 | B97: 1 | C97: 50 | D97: 80 | E97: 14 | F97: 8 | G97: =(C97*D97*E97)/1000000/B97 -> 0.056 | H97: 1.151 | I97: 9 | J97: 3 | L97: =C97*J97+15 -> 165 | M97: =I97*J97 -> 27 | N97: 100 x 120 | O97: =IFERROR(IF(N97="VRAC",D97,IF(ROUNDUP(LEFT(N97,3),0)=0,"",ROUNDUP(LEFT(N97,3),0))),"") -> 100 | P97: =IFERROR(IF(ROUND(RIGHT(N97,3),0)="VRAC",E97,ROUND(RIGHT(N97,3),0)),"") -> 120
A98: AA-01--AA-97 | B98: 1 | C98: 60 | D98: 12.5 | E98: 98 | F98: 12 | G98: =(C98*D98*E98)/1000000/B98 -> 0.0735 | H98: =((C98*D98*E98)/1000000*M98)/1.2 -> 1.225 | I98: 10 | J98: 2 | L98: =C98*J98+15 -> 135 | M98: =I98*J98 -> 20 | N98: 100 x 120 | O98: =IFERROR(IF(N98="VRAC",D98,IF(ROUNDUP(LEFT(N98,3),0)=0,"",ROUNDUP(LEFT(N98,3),0))),"") -> 100 | P98: =IFERROR(IF(ROUND(RIGHT(N98,3),0)="VRAC",E98,ROUND(RIGHT(N98,3),0)),"") -> 120
A99: AA-01--AA-98 | B99: 1 | C99: 65 | D99: 106 | E99: 14 | F99: 12 | G99: =(C99*D99*E99)/1000000/B99 -> 0.09646 | H99: =((C99*D99*E99)/1000000*M99)/1.2 -> 1.4469 | I99: 9 | J99: 2 | K99: 6 | L99: =C99*J99+15 -> 145 | M99: =I99*J99 -> 18 | N99: 100 x 120 | O99: =IFERROR(IF(N99="VRAC",D99,IF(ROUNDUP(LEFT(N99,3),0)=0,"",ROUNDUP(LEFT(N99,3),0))),"") -> 100 | P99: =IFERROR(IF(ROUND(RIGHT(N99,3),0)="VRAC",E99,ROUND(RIGHT(N99,3),0)),"") -> 120
A100: AA-01--AA-99 | B100: 1 | C100: 65 | D100: 12 | E100: 104 | F100: 12 | G100: =(C100*D100*E100)/1000000/B100 -> 0.08112 | H100: =((C100*D100*E100)/1000000*M100)/0.96 -> 1.69 | I100: 10 | J100: 2 | L100: =C100*J100+15 -> 145 | M100: 20 | N100: 100 x 120 | O100: =IFERROR(IF(N100="VRAC",D100,IF(ROUNDUP(LEFT(N100,3),0)=0,"",ROUNDUP(LEFT(N100,3),0))),"") -> 100 | P100: =IFERROR(IF(ROUND(RIGHT(N100,3),0)="VRAC",E100,ROUND(RIGHT(N100,3),0)),"") -> 120
...

Sheet Base pivot
C1: 1 | D1: 2 | F1: 3 | G1: 4 | H1: 5 | I1: 6 | J1: 7 | K1: 8 | L1: 9 | M1: 10 | N1: 11 | O1: 12 | P1: 13 | Q1: 14 | V1: SOMME.SI.ENS('Calcul metre lineaire'!$T$17:$T$31;'Calcul metre lineaire'!$W$17:$W$31;C3)
A2: LARGEUR | B2: LONGUEUR | C2: PLT | D2: CAT | E2: Surf _PLT | F2: DISP _LAR | G2: REST_LAR | H2: SURF_LAR | I2: DISP_LON | J2: REST_LON | K2: SURF_LON | L2: Nb plt | M2: Nb_ligne _Larg | N2: reste _Long | O2: MPL_ Larg | P2: MPL_ Long | Q2: Choix_1 | S2: Sfc_pris camion | T2: Poss_Plt | W2: TEST qtte envoyé
A3: 29 | B3: 150 | C3: =CONCATENATE("Palette"&" "&A3&" x "&B3) -> Palette 29 x 150 | D3: =IF((AND(AND(A3>=65,A3<=80),B3<161)),$V$5,IF(AND(AND(A3>=100,A3<=120),B3<161),$V$6,IF(AND(AND(A3>80,A3<100),B3<161),$V$7,IF(AND(A3<65,B3<161),$V$8,$V$9)))) -> D | E3: =(A3*B3)/10000 -> 0.435 | F3: =IF(A3>120,1,IF(OR(A3<65,B3>160),0,ROUNDDOWN(240/A3,0))) -> 0 | G3: =IF(240-F3*A3<55,0,240-F3*A3) -> 240 | H3: =(A3*B3*F3)/10000 -> 0 | I3: =ROUNDDOWN(240/B3,0) -> 1 | J3: =IF(240-I3*B3<55,0,240-I3*B3) -> 90 | K3: =(A3*B3*I3)/10000 -> 0.435 | L3: =+SUMIFS(CALCULATEUR!$S$12:$S$26,CALCULATEUR!$V$12:$V$26,C3) -> 0 | M3: =IFERROR(INT(L3/F3),0) -> 0 | N3: =IFERROR(IF(L3<F3,ROUNDUP(F3/L3,0),ROUNDUP((L3-(M3*F3))/I3,0)),0) -> 0 | O3: =IF(L3=0,0,IF(L3<=I3,A3/100,((M3*B3)+(N3*A3))/100)) -> 0 | P3: =IF(F3=0,"",ROUNDUP(L3/I3,0)*A3/100) | Q3: =IF(OR(P3="",P3=0,O3="",O3=0),MAX(P3,O3),MIN(P3,O3)) -> 0 | S3: =Q3*2.4 -> 0 | T3: =IF(F3=0,0,ROUNDDOWN(S3/E3,0)-$X$2) -> 0
A4: 34 | B4: 134 | C4: =CONCATENATE("Palette"&" "&A4&" x "&B4) -> Palette 34 x 134 | D4: =IF((AND(AND(A4>=65,A4<=80),B4<161)),$V$5,IF(AND(AND(A4>=100,A4<=120),B4<161),$V$6,IF(AND(AND(A4>80,A4<100),B4<161),$V$7,IF(AND(A4<65,B4<161),$V$8,$V$9)))) -> D | E4: =(A4*B4)/10000 -> 0.4556 | F4: =IF(A4>120,1,IF(OR(A4<65,B4>160),0,ROUNDDOWN(240/A4,0))) -> 0 | G4: =IF(240-F4*A4<55,0,240-F4*A4) -> 240 | H4: =(A4*B4*F4)/10000 -> 0 | I4: =ROUNDDOWN(240/B4,0) -> 1 | J4: =IF(240-I4*B4<55,0,240-I4*B4) -> 106 | K4: =(A4*B4*I4)/10000 -> 0.4556 | L4: =+SUMIFS(CALCULATEUR!$S$12:$S$26,CALCULATEUR!$V$12:$V$26,C4) -> 0 | M4: =IFERROR(INT(L4/F4),0) -> 0 | N4: =IFERROR(IF(L4<F4,ROUNDUP(F4/L4,0),ROUNDUP((L4-(M4*F4))/I4,0)),0) -> 0 | O4: =IF(L4=0,0,IF(L4<=I4,A4/100,((M4*B4)+(N4*A4))/100)) -> 0 | P4: =IF(F4=0,"",ROUNDUP(L4/I4,0)*A4/100) | Q4: =IF(OR(P4="",P4=0,O4="",O4=0),MAX(P4,O4),MIN(P4,O4)) -> 0 | S4: =Q4*2.4 -> 0 | T4: =IF(F4=0,0,ROUNDDOWN(S4/E4,0)-$X$2) -> 0
A5: 46 | B5: 138 | C5: =CONCATENATE("Palette"&" "&A5&" x "&B5) -> Palette 46 x 138 | D5: =IF((AND(AND(A5>=65,A5<=80),B5<161)),$V$5,IF(AND(AND(A5>=100,A5<=120),B5<161),$V$6,IF(AND(AND(A5>80,A5<100),B5<161),$V$7,IF(AND(A5<65,B5<161),$V$8,$V$9)))) -> D | E5: =(A5*B5)/10000 -> 0.6348 | F5: =IF(A5>120,1,IF(OR(A5<65,B5>160),0,ROUNDDOWN(240/A5,0))) -> 0 | G5: =IF(240-F5*A5<55,0,240-F5*A5) -> 240 | H5: =(A5*B5*F5)/10000 -> 0 | I5: =ROUNDDOWN(240/B5,0) -> 1 | J5: =IF(240-I5*B5<55,0,240-I5*B5) -> 102 | K5: =(A5*B5*I5)/10000 -> 0.6348 | L5: =+SUMIFS(CALCULATEUR!$S$12:$S$26,CALCULATEUR!$V$12:$V$26,C5) -> 0 | M5: =IFERROR(INT(L5/F5),0) -> 0 | N5: =IFERROR(IF(L5<F5,ROUNDUP(F5/L5,0),ROUNDUP((L5-(M5*F5))/I5,0)),0) -> 0 | O5: =IF(L5=0,0,IF(L5<=I5,A5/100,((M5*B5)+(N5*A5))/100)) -> 0 | P5: =IF(F5=0,"",ROUNDUP(L5/I5,0)*A5/100) | Q5: =IF(OR(P5="",P5=0,O5="",O5=0),MAX(P5,O5),MIN(P5,O5)) -> 0 | S5: =Q5*2.4 -> 0 | T5: =IF(F5=0,0,ROUNDDOWN(S5/E5,0)-$X$2) -> 0 | V5: A
A6: 49 | B6: 134 | C6: =CONCATENATE("Palette"&" "&A6&" x "&B6) -> Palette 49 x 134 | D6: =IF((AND(AND(A6>=65,A6<=80),B6<161)),$V$5,IF(AND(AND(A6>=100,A6<=120),B6<161),$V$6,IF(AND(AND(A6>80,A6<100),B6<161),$V$7,IF(AND(A6<65,B6<161),$V$8,$V$9)))) -> D | E6: =(A6*B6)/10000 -> 0.6566 | F6: =IF(A6>120,1,IF(OR(A6<65,B6>160),0,ROUNDDOWN(240/A6,0))) -> 0 | G6: =IF(240-F6*A6<55,0,240-F6*A6) -> 240 | H6: =(A6*B6*F6)/10000 -> 0 | I6: =ROUNDDOWN(240/B6,0) -> 1 | J6: =IF(240-I6*B6<55,0,240-I6*B6) -> 106 | K6: =(A6*B6*I6)/10000 -> 0.6566 | L6: =+SUMIFS(CALCULATEUR!$S$12:$S$26,CALCULATEUR!$V$12:$V$26,C6) -> 0 | M6: =IFERROR(INT(L6/F6),0) -> 0 | N6: =IFERROR(IF(L6<F6,ROUNDUP(F6/L6,0),ROUNDUP((L6-(M6*F6))/I6,0)),0) -> 0 | O6: =IF(L6=0,0,IF(L6<=I6,A6/100,((M6*B6)+(N6*A6))/100)) -> 0 | P6: =IF(F6=0,"",ROUNDUP(L6/I6,0)*A6/100) | Q6: =IF(OR(P6="",P6=0,O6="",O6=0),MAX(P6,O6),MIN(P6,O6)) -> 0 | S6: =Q6*2.4 -> 0 | T6: =IF(F6=0,0,ROUNDDOWN(S6/E6,0)-$X$2) -> 0 | V6: B
A7: 60 | B7: 120 | C7: =CONCATENATE("Palette"&" "&A7&" x "&B7) -> Palette 60 x 120 | D7: =IF((AND(AND(A7>=65,A7<=80),B7<161)),$V$5,IF(AND(AND(A7>=100,A7<=120),B7<161),$V$6,IF(AND(AND(A7>80,A7<100),B7<161),$V$7,IF(AND(A7<65,B7<161),$V$8,$V$9)))) -> D | E7: =(A7*B7)/10000 -> 0.72 | F7: =IF(A7>120,1,IF(OR(A7<65,B7>160),0,ROUNDDOWN(240/A7,0))) -> 0 | G7: =IF(240-F7*A7<55,0,240-F7*A7) -> 240 | H7: =(A7*B7*F7)/10000 -> 0 | I7: =ROUNDDOWN(240/B7,0) -> 2 | J7: =IF(240-I7*B7<55,0,240-I7*B7) -> 0 | K7: =(A7*B7*I7)/10000 -> 1.44 | L7: =+SUMIFS(CALCULATEUR!$S$12:$S$26,CALCULATEUR!$V$12:$V$26,C7) -> 0 | M7: =IFERROR(INT(L7/F7),0) -> 0 | N7: =IFERROR(IF(L7<F7,ROUNDUP(F7/L7,0),ROUNDUP((L7-(M7*F7))/I7,0)),0) -> 0 | O7: =IF(L7=0,0,IF(L7<=I7,A7/100,((M7*B7)+(N7*A7))/100)) -> 0 | P7: =IF(F7=0,"",ROUNDUP(L7/I7,0)*A7/100) | Q7: =IF(OR(P7="",P7=0,O7="",O7=0),MAX(P7,O7),MIN(P7,O7)) -> 0 | S7: =Q7*2.4 -> 0 | T7: =IF(F7=0,0,ROUNDDOWN(S7/E7,0)-$X$2) -> 0 | V7: C
A8: 69 | B8: 180 | C8: =CONCATENATE("Palette"&" "&A8&" x "&B8) -> Palette 69 x 180 | D8: =IF((AND(AND(A8>=65,A8<=80),B8<161)),$V$5,IF(AND(AND(A8>=100,A8<=120),B8<161),$V$6,IF(AND(AND(A8>80,A8<100),B8<161),$V$7,IF(AND(A8<65,B8<161),$V$8,$V$9)))) -> E | E8: =(A8*B8)/10000 -> 1.242 | F8: =IF(A8>120,1,IF(OR(A8<65,B8>160),0,ROUNDDOWN(240/A8,0))) -> 0 | G8: =IF(240-F8*A8<55,0,240-F8*A8) -> 240 | H8: =(A8*B8*F8)/10000 -> 0 | I8: =ROUNDDOWN(240/B8,0) -> 1 | J8: =IF(240-I8*B8<55,0,240-I8*B8) -> 60 | K8: =(A8*B8*I8)/10000 -> 1.242 | L8: =+SUMIFS(CALCULATEUR!$S$12:$S$26,CALCULATEUR!$V$12:$V$26,C8) -> 0 | M8: =IFERROR(INT(L8/F8),0) -> 0 | N8: =IFERROR(IF(L8<F8,ROUNDUP(F8/L8,0),ROUNDUP((L8-(M8*F8))/I8,0)),0) -> 0 | O8: =IF(L8=0,0,IF(L8<=I8,A8/100,((M8*B8)+(N8*A8))/100)) -> 0 | P8: =IF(F8=0,"",ROUNDUP(L8/I8,0)*A8/100) | Q8: =IF(OR(P8="",P8=0,O8="",O8=0),MAX(P8,O8),MIN(P8,O8)) -> 0 | S8: =Q8*2.4 -> 0 | T8: =IF(F8=0,0,ROUNDDOWN(S8/E8,0)-$X$2) -> 0 | V8: D
A9: 76 | B9: 136 | C9: =CONCATENATE("Palette"&" "&A9&" x "&B9) -> Palette 76 x 136 | D9: =IF((AND(AND(A9>=65,A9<=80),B9<161)),$V$5,IF(AND(AND(A9>=100,A9<=120),B9<161),$V$6,IF(AND(AND(A9>80,A9<100),B9<161),$V$7,IF(AND(A9<65,B9<161),$V$8,$V$9)))) -> A | E9: =(A9*B9)/10000 -> 1.0336 | F9: =IF(A9>120,1,IF(OR(A9<65,B9>160),0,ROUNDDOWN(240/A9,0))) -> 3 | G9: =IF(240-F9*A9<55,0,240-F9*A9) -> 0 | H9: =(A9*B9*F9)/10000 -> 3.1008 | I9: =ROUNDDOWN(240/B9,0) -> 1 | J9: =IF(240-I9*B9<55,0,240-I9*B9) -> 104 | K9: =(A9*B9*I9)/10000 -> 1.0336 | L9: =+SUMIFS(CALCULATEUR!$S$12:$S$26,CALCULATEUR!$V$12:$V$26,C9) -> 0 | M9: =IFERROR(INT(L9/F9),0) -> 0 | N9: =IFERROR(IF(L9<F9,ROUNDUP(F9/L9,0),ROUNDUP((L9-(M9*F9))/I9,0)),0) -> 0 | O9: =IF(L9=0,0,IF(L9<=I9,A9/100,((M9*B9)+(N9*A9))/100)) -> 0 | P9: =IF(F9=0,"",ROUNDUP(L9/I9,0)*A9/100) -> 0 | Q9: =IF(OR(P9="",P9=0,O9="",O9=0),MAX(P9,O9),MIN(P9,O9)) -> 0 | S9: =Q9*2.4 -> 0 | T9: =IF(F9=0,0,ROUNDDOWN(S9/E9,0)-$X$2) -> 0 | V9: E
A10: 80 | B10: 120 | C10: =CONCATENATE("Palette"&" "&A10&" x "&B10) -> Palette 80 x 120 | D10: =IF((AND(AND(A10>=65,A10<=80),B10<161)),$V$5,IF(AND(AND(A10>=100,A10<=120),B10<161),$V$6,IF(AND(AND(A10>80,A10<100),B10<161),$V$7,IF(AND(A10<65,B10<161),$V$8,$V$9)))) -> A | E10: =(A10*B10)/10000 -> 0.96 | F10: =IF(A10>120,1,IF(OR(A10<65,B10>160),0,ROUNDDOWN(240/A10,0))) -> 3 | G10: =IF(240-F10*A10<55,0,240-F10*A10) -> 0 | H10: =(A10*B10*F10)/10000 -> 2.88 | I10: =ROUNDDOWN(240/B10,0) -> 2 | J10: =IF(240-I10*B10<55,0,240-I10*B10) -> 0 | K10: =(A10*B10*I10)/10000 -> 1.92 | L10: =+SUMIFS(CALCULATEUR!$S$12:$S$26,CALCULATEUR!$V$12:$V$26,C10) -> 0 | M10: =IFERROR(INT(L10/F10),0) -> 0 | N10: =IFERROR(IF(L10<F10,ROUNDUP(F10/L10,0),ROUNDUP((L10-(M10*F10))/I10,0)),0) -> 0 | O10: =IF(L10=0,0,IF(L10<=I10,A10/100,((M10*B10)+(N10*A10))/100)) -> 0 | P10: =IF(F10=0,"",ROUNDUP(L10/I10,0)*A10/100) -> 0 | Q10: =IF(OR(P10="",P10=0,O10="",O10=0),MAX(P10,O10),MIN(P10,O10)) -> 0 | S10: =Q10*2.4 -> 0 | T10: =IF(F10=0,0,ROUNDDOWN(S10/E10,0)-$X$2) -> 0
A11: 80 | B11: 127 | C11: =CONCATENATE("Palette"&" "&A11&" x "&B11) -> Palette 80 x 127 | D11: =IF((AND(AND(A11>=65,A11<=80),B11<161)),$V$5,IF(AND(AND(A11>=100,A11<=120),B11<161),$V$6,IF(AND(AND(A11>80,A11<100),B11<161),$V$7,IF(AND(A11<65,B11<161),$V$8,$V$9)))) -> A | E11: =(A11*B11)/10000 -> 1.016 | F11: =IF(A11>120,1,IF(OR(A11<65,B11>160),0,ROUNDDOWN(240/A11,0))) -> 3 | G11: =IF(240-F11*A11<55,0,240-F11*A11) -> 0 | H11: =(A11*B11*F11)/10000 -> 3.048 | I11: =ROUNDDOWN(240/B11,0) -> 1 | J11: =IF(240-I11*B11<55,0,240-I11*B11) -> 113 | K11: =(A11*B11*I11)/10000 -> 1.016 | L11: =+SUMIFS(CALCULATEUR!$S$12:$S$26,CALCULATEUR!$V$12:$V$26,C11) -> 0 | M11: =IFERROR(INT(L11/F11),0) -> 0 | N11: =IFERROR(IF(L11<F11,ROUNDUP(F11/L11,0),ROUNDUP((L11-(M11*F11))/I11,0)),0) -> 0 | O11: =IF(L11=0,0,IF(L11<=I11,A11/100,((M11*B11)+(N11*A11))/100)) -> 0 | P11: =IF(F11=0,"",ROUNDUP(L11/I11,0)*A11/100) -> 0 | Q11: =IF(OR(P11="",P11=0,O11="",O11=0),MAX(P11,O11),MIN(P11,O11)) -> 0 | S11: =Q11*2.4 -> 0 | T11: =IF(F11=0,0,ROUNDDOWN(S11/E11,0)-$X$2) -> 0
A12: 80 | B12: 130 | C12: =CONCATENATE("Palette"&" "&A12&" x "&B12) -> Palette 80 x 130 | D12: =IF((AND(AND(A12>=65,A12<=80),B12<161)),$V$5,IF(AND(AND(A12>=100,A12<=120),B12<161),$V$6,IF(AND(AND(A12>80,A12<100),B12<161),$V$7,IF(AND(A12<65,B12<161),$V$8,$V$9)))) -> A | E12: =(A12*B12)/10000 -> 1.04 | F12: =IF(A12>120,1,IF(OR(A12<65,B12>160),0,ROUNDDOWN(240/A12,0))) -> 3 | G12: =IF(240-F12*A12<55,0,240-F12*A12) -> 0 | H12: =(A12*B12*F12)/10000 -> 3.12 | I12: =ROUNDDOWN(240/B12,0) -> 1 | J12: =IF(240-I12*B12<55,0,240-I12*B12) -> 110 | K12: =(A12*B12*I12)/10000 -> 1.04 | L12: =+SUMIFS(CALCULATEUR!$S$12:$S$26,CALCULATEUR!$V$12:$V$26,C12) -> 0 | M12: =IFERROR(INT(L12/F12),0) -> 0 | N12: =IFERROR(IF(L12<F12,ROUNDUP(F12/L12,0),ROUNDUP((L12-(M12*F12))/I12,0)),0) -> 0 | O12: =IF(L12=0,0,IF(L12<=I12,A12/100,((M12*B12)+(N12*A12))/100)) -> 0 | P12: =IF(F12=0,"",ROUNDUP(L12/I12,0)*A12/100) -> 0 | Q12: =IF(OR(P12="",P12=0,O12="",O12=0),MAX(P12,O12),MIN(P12,O12)) -> 0 | S12: =Q12*2.4 -> 0 | T12: =IF(F12=0,0,ROUNDDOWN(S12/E12,0)-$X$2) -> 0
A13: 80 | B13: 145 | C13: =CONCATENATE("Palette"&" "&A13&" x "&B13) -> Palette 80 x 145 | D13: =IF((AND(AND(A13>=65,A13<=80),B13<161)),$V$5,IF(AND(AND(A13>=100,A13<=120),B13<161),$V$6,IF(AND(AND(A13>80,A13<100),B13<161),$V$7,IF(AND(A13<65,B13<161),$V$8,$V$9)))) -> A | E13: =(A13*B13)/10000 -> 1.16 | F13: =IF(A13>120,1,IF(OR(A13<65,B13>160),0,ROUNDDOWN(240/A13,0))) -> 3 | G13: =IF(240-F13*A13<55,0,240-F13*A13) -> 0 | H13: =(A13*B13*F13)/10000 -> 3.48 | I13: =ROUNDDOWN(240/B13,0) -> 1 | J13: =IF(240-I13*B13<55,0,240-I13*B13) -> 95 | K13: =(A13*B13*I13)/10000 -> 1.16 | L13: =+SUMIFS(CALCULATEUR!$S$12:$S$26,CALCULATEUR!$V$12:$V$26,C13) -> 0 | M13: =IFERROR(INT(L13/F13),0) -> 0 | N13: =IFERROR(IF(L13<F13,ROUNDUP(F13/L13,0),ROUNDUP((L13-(M13*F13))/I13,0)),0) -> 0 | O13: =IF(L13=0,0,IF(L13<=I13,A13/100,((M13*B13)+(N13*A13))/100)) -> 0 | P13: =IF(F13=0,"",ROUNDUP(L13/I13,0)*A13/100) -> 0 | Q13: =IF(OR(P13="",P13=0,O13="",O13=0),MAX(P13,O13),MIN(P13,O13)) -> 0 | S13: =Q13*2.4 -> 0 | T13: =IF(F13=0,0,ROUNDDOWN(S13/E13,0)-$X$2) -> 0
A14: 80 | B14: 150 | C14: =CONCATENATE("Palette"&" "&A14&" x "&B14) -> Palette 80 x 150 | D14: =IF((AND(AND(A14>=65,A14<=80),B14<161)),$V$5,IF(AND(AND(A14>=100,A14<=120),B14<161),$V$6,IF(AND(AND(A14>80,A14<100),B14<161),$V$7,IF(AND(A14<65,B14<161),$V$8,$V$9)))) -> A | E14: =(A14*B14)/10000 -> 1.2 | F14: =IF(A14>120,1,IF(OR(A14<65,B14>160),0,ROUNDDOWN(240/A14,0))) -> 3 | G14: =IF(240-F14*A14<55,0,240-F14*A14) -> 0 | H14: =(A14*B14*F14)/10000 -> 3.6 | I14: =ROUNDDOWN(240/B14,0) -> 1 | J14: =IF(240-I14*B14<55,0,240-I14*B14) -> 90 | K14: =(A14*B14*I14)/10000 -> 1.2 | L14: =+SUMIFS(CALCULATEUR!$S$12:$S$26,CALCULATEUR!$V$12:$V$26,C14) -> 0 | M14: =IFERROR(INT(L14/F14),0) -> 0 | N14: =IFERROR(IF(L14<F14,ROUNDUP(F14/L14,0),ROUNDUP((L14-(M14*F14))/I14,0)),0) -> 0 | O14: =IF(L14=0,0,IF(L14<=I14,A14/100,((M14*B14)+(N14*A14))/100)) -> 0 | P14: =IF(F14=0,"",ROUNDUP(L14/I14,0)*A14/100) -> 0 | Q14: =IF(OR(P14="",P14=0,O14="",O14=0),MAX(P14,O14),MIN(P14,O14)) -> 0 | S14: =Q14*2.4 -> 0 | T14: =IF(F14=0,0,ROUNDDOWN(S14/E14,0)-$X$2) -> 0
A15: 80 | B15: 150 | C15: =CONCATENATE("Palette"&" "&A15&" x "&B15) -> Palette 80 x 150 | D15: =IF((AND(AND(A15>=65,A15<=80),B15<161)),$V$5,IF(AND(AND(A15>=100,A15<=120),B15<161),$V$6,IF(AND(AND(A15>80,A15<100),B15<161),$V$7,IF(AND(A15<65,B15<161),$V$8,$V$9)))) -> A | E15: =(A15*B15)/10000 -> 1.2 | F15: =IF(A15>120,1,IF(OR(A15<65,B15>160),0,ROUNDDOWN(240/A15,0))) -> 3 | G15: =IF(240-F15*A15<55,0,240-F15*A15) -> 0 | H15: =(A15*B15*F15)/10000 -> 3.6 | I15: =ROUNDDOWN(240/B15,0) -> 1 | J15: =IF(240-I15*B15<55,0,240-I15*B15) -> 90 | K15: =(A15*B15*I15)/10000 -> 1.2 | L15: =+SUMIFS(CALCULATEUR!$S$12:$S$26,CALCULATEUR!$V$12:$V$26,C15) -> 0 | M15: =IFERROR(INT(L15/F15),0) -> 0 | N15: =IFERROR(IF(L15<F15,ROUNDUP(F15/L15,0),ROUNDUP((L15-(M15*F15))/I15,0)),0) -> 0 | O15: =IF(L15=0,0,IF(L15<=I15,A15/100,((M15*B15)+(N15*A15))/100)) -> 0 | P15: =IF(F15=0,"",ROUNDUP(L15/I15,0)*A15/100) -> 0 | Q15: =IF(OR(P15="",P15=0,O15="",O15=0),MAX(P15,O15),MIN(P15,O15)) -> 0 | S15: =Q15*2.4 -> 0 | T15: =IF(F15=0,0,ROUNDDOWN(S15/E15,0)-$X$2) -> 0
A16: 80 | B16: 180 | C16: =CONCATENATE("Palette"&" "&A16&" x "&B16) -> Palette 80 x 180 | D16: =IF((AND(AND(A16>=65,A16<=80),B16<161)),$V$5,IF(AND(AND(A16>=100,A16<=120),B16<161),$V$6,IF(AND(AND(A16>80,A16<100),B16<161),$V$7,IF(AND(A16<65,B16<161),$V$8,$V$9)))) -> E | E16: =(A16*B16)/10000 -> 1.44 | F16: =IF(A16>120,1,IF(OR(A16<65,B16>160),0,ROUNDDOWN(240/A16,0))) -> 0 | G16: =IF(240-F16*A16<55,0,240-F16*A16) -> 240 | H16: =(A16*B16*F16)/10000 -> 0 | I16: =ROUNDDOWN(240/B16,0) -> 1 | J16: =IF(240-I16*B16<55,0,240-I16*B16) -> 60 | K16: =(A16*B16*I16)/10000 -> 1.44 | L16: =+SUMIFS(CALCULATEUR!$S$12:$S$26,CALCULATEUR!$V$12:$V$26,C16) -> 0 | M16: =IFERROR(INT(L16/F16),0) -> 0 | N16: =IFERROR(IF(L16<F16,ROUNDUP(F16/L16,0),ROUNDUP((L16-(M16*F16))/I16,0)),0) -> 0 | O16: =IF(L16=0,0,IF(L16<=I16,A16/100,((M16*B16)+(N16*A16))/100)) -> 0 | P16: =IF(F16=0,"",ROUNDUP(L16/I16,0)*A16/100) | Q16: =IF(OR(P16="",P16=0,O16="",O16=0),MAX(P16,O16),MIN(P16,O16)) -> 0 | S16: =Q16*2.4 -> 0 | T16: =IF(F16=0,0,ROUNDDOWN(S16/E16,0)-$X$2) -> 0
A17: 84 | B17: 120 | C17: =CONCATENATE("Palette"&" "&A17&" x "&B17) -> Palette 84 x 120 | D17: =IF((AND(AND(A17>=65,A17<=80),B17<161)),$V$5,IF(AND(AND(A17>=100,A17<=120),B17<161),$V$6,IF(AND(AND(A17>80,A17<100),B17<161),$V$7,IF(AND(A17<65,B17<161),$V$8,$V$9)))) -> C | E17: =(A17*B17)/10000 -> 1.008 | F17: =IF(A17>120,1,IF(OR(A17<65,B17>160),0,ROUNDDOWN(240/A17,0))) -> 2 | G17: =IF(240-F17*A17<55,0,240-F17*A17) -> 72 | H17: =(A17*B17*F17)/10000 -> 2.016 | I17: =ROUNDDOWN(240/B17,0) -> 2 | J17: =IF(240-I17*B17<55,0,240-I17*B17) -> 0 | K17: =(A17*B17*I17)/10000 -> 2.016 | L17: =+SUMIFS(CALCULATEUR!$S$12:$S$26,CALCULATEUR!$V$12:$V$26,C17) -> 0 | M17: =IFERROR(INT(L17/F17),0) -> 0 | N17: =IFERROR(IF(L17<F17,ROUNDUP(F17/L17,0),ROUNDUP((L17-(M17*F17))/I17,0)),0) -> 0 | O17: =IF(L17=0,0,IF(L17<=I17,A17/100,((M17*B17)+(N17*A17))/100)) -> 0 | P17: =IF(F17=0,"",ROUNDUP(L17/I17,0)*A17/100) -> 0 | Q17: =IF(OR(P17="",P17=0,O17="",O17=0),MAX(P17,O17),MIN(P17,O17)) -> 0 | S17: =Q17*2.4 -> 0 | T17: =IF(F17=0,0,ROUNDDOWN(S17/E17,0)-$X$2) -> 0
A18: 84 | B18: 133 | C18: =CONCATENATE("Palette"&" "&A18&" x "&B18) -> Palette 84 x 133 | D18: =IF((AND(AND(A18>=65,A18<=80),B18<161)),$V$5,IF(AND(AND(A18>=100,A18<=120),B18<161),$V$6,IF(AND(AND(A18>80,A18<100),B18<161),$V$7,IF(AND(A18<65,B18<161),$V$8,$V$9)))) -> C | E18: =(A18*B18)/10000 -> 1.1172 | F18: =IF(A18>120,1,IF(OR(A18<65,B18>160),0,ROUNDDOWN(240/A18,0))) -> 2 | G18: =IF(240-F18*A18<55,0,240-F18*A18) -> 72 | H18: =(A18*B18*F18)/10000 -> 2.2344 | I18: =ROUNDDOWN(240/B18,0) -> 1 | J18: =IF(240-I18*B18<55,0,240-I18*B18) -> 107 | K18: =(A18*B18*I18)/10000 -> 1.1172 | L18: =+SUMIFS(CALCULATEUR!$S$12:$S$26,CALCULATEUR!$V$12:$V$26,C18) -> 0 | M18: =IFERROR(INT(L18/F18),0) -> 0 | N18: =IFERROR(IF(L18<F18,ROUNDUP(F18/L18,0),ROUNDUP((L18-(M18*F18))/I18,0)),0) -> 0 | O18: =IF(L18=0,0,IF(L18<=I18,A18/100,((M18*B18)+(N18*A18))/100)) -> 0 | P18: =IF(F18=0,"",ROUNDUP(L18/I18,0)*A18/100) -> 0 | Q18: =IF(OR(P18="",P18=0,O18="",O18=0),MAX(P18,O18),MIN(P18,O18)) -> 0 | S18: =Q18*2.4 -> 0 | T18: =IF(F18=0,0,ROUNDDOWN(S18/E18,0)-$X$2) -> 0
A19: 85 | B19: 120 | C19: =CONCATENATE("Palette"&" "&A19&" x "&B19) -> Palette 85 x 120 | D19: =IF((AND(AND(A19>=65,A19<=80),B19<161)),$V$5,IF(AND(AND(A19>=100,A19<=120),B19<161),$V$6,IF(AND(AND(A19>80,A19<100),B19<161),$V$7,IF(AND(A19<65,B19<161),$V$8,$V$9)))) -> C | E19: =(A19*B19)/10000 -> 1.02 | F19: =IF(A19>120,1,IF(OR(A19<65,B19>160),0,ROUNDDOWN(240/A19,0))) -> 2 | G19: =IF(240-F19*A19<55,0,240-F19*A19) -> 70 | H19: =(A19*B19*F19)/10000 -> 2.04 | I19: =ROUNDDOWN(240/B19,0) -> 2 | J19: =IF(240-I19*B19<55,0,240-I19*B19) -> 0 | K19: =(A19*B19*I19)/10000 -> 2.04 | L19: =+SUMIFS(CALCULATEUR!$S$12:$S$26,CALCULATEUR!$V$12:$V$26,C19) -> 0 | M19: =IFERROR(INT(L19/F19),0) -> 0 | N19: =IFERROR(IF(L19<F19,ROUNDUP(F19/L19,0),ROUNDUP((L19-(M19*F19))/I19,0)),0) -> 0 | O19: =IF(L19=0,0,IF(L19<=I19,A19/100,((M19*B19)+(N19*A19))/100)) -> 0 | P19: =IF(F19=0,"",ROUNDUP(L19/I19,0)*A19/100) -> 0 | Q19: =IF(OR(P19="",P19=0,O19="",O19=0),MAX(P19,O19),MIN(P19,O19)) -> 0 | S19: =Q19*2.4 -> 0 | T19: =IF(F19=0,0,ROUNDDOWN(S19/E19,0)-$X$2) -> 0
A20: 86 | B20: 120 | C20: =CONCATENATE("Palette"&" "&A20&" x "&B20) -> Palette 86 x 120 | D20: =IF((AND(AND(A20>=65,A20<=80),B20<161)),$V$5,IF(AND(AND(A20>=100,A20<=120),B20<161),$V$6,IF(AND(AND(A20>80,A20<100),B20<161),$V$7,IF(AND(A20<65,B20<161),$V$8,$V$9)))) -> C | E20: =(A20*B20)/10000 -> 1.032 | F20: =IF(A20>120,1,IF(OR(A20<65,B20>160),0,ROUNDDOWN(240/A20,0))) -> 2 | G20: =IF(240-F20*A20<55,0,240-F20*A20) -> 68 | H20: =(A20*B20*F20)/10000 -> 2.064 | I20: =ROUNDDOWN(240/B20,0) -> 2 | J20: =IF(240-I20*B20<55,0,240-I20*B20) -> 0 | K20: =(A20*B20*I20)/10000 -> 2.064 | L20: =+SUMIFS(CALCULATEUR!$S$12:$S$26,CALCULATEUR!$V$12:$V$26,C20) -> 0 | M20: =IFERROR(INT(L20/F20),0) -> 0 | N20: =IFERROR(IF(L20<F20,ROUNDUP(F20/L20,0),ROUNDUP((L20-(M20*F20))/I20,0)),0) -> 0 | O20: =IF(L20=0,0,IF(L20<=I20,A20/100,((M20*B20)+(N20*A20))/100)) -> 0 | P20: =IF(F20=0,"",ROUNDUP(L20/I20,0)*A20/100) -> 0 | Q20: =IF(OR(P20="",P20=0,O20="",O20=0),MAX(P20,O20),MIN(P20,O20)) -> 0 | S20: =Q20*2.4 -> 0 | T20: =IF(F20=0,0,ROUNDDOWN(S20/E20,0)-$X$2) -> 0
A21: 90 | B21: 110 | C21: =CONCATENATE("Palette"&" "&A21&" x "&B21) -> Palette 90 x 110 | D21: =IF((AND(AND(A21>=65,A21<=80),B21<161)),$V$5,IF(AND(AND(A21>=100,A21<=120),B21<161),$V$6,IF(AND(AND(A21>80,A21<100),B21<161),$V$7,IF(AND(A21<65,B21<161),$V$8,$V$9)))) -> C | E21: =(A21*B21)/10000 -> 0.99 | F21: =IF(A21>120,1,IF(OR(A21<65,B21>160),0,ROUNDDOWN(240/A21,0))) -> 2 | G21: =IF(240-F21*A21<55,0,240-F21*A21) -> 60 | H21: =(A21*B21*F21)/10000 -> 1.98 | I21: =ROUNDDOWN(240/B21,0) -> 2 | J21: =IF(240-I21*B21<55,0,240-I21*B21) -> 0 | K21: =(A21*B21*I21)/10000 -> 1.98 | L21: =+SUMIFS(CALCULATEUR!$S$12:$S$26,CALCULATEUR!$V$12:$V$26,C21) -> 0 | M21: =IFERROR(INT(L21/F21),0) -> 0 | N21: =IFERROR(IF(L21<F21,ROUNDUP(F21/L21,0),ROUNDUP((L21-(M21*F21))/I21,0)),0) -> 0 | O21: =IF(L21=0,0,IF(L21<=I21,A21/100,((M21*B21)+(N21*A21))/100)) -> 0 | P21: =IF(F21=0,"",ROUNDUP(L21/I21,0)*A21/100) -> 0 | Q21: =IF(OR(P21="",P21=0,O21="",O21=0),MAX(P21,O21),MIN(P21,O21)) -> 0 | S21: =Q21*2.4 -> 0 | T21: =IF(F21=0,0,ROUNDDOWN(S21/E21,0)-$X$2) -> 0
... A94: 121 | B94: 121 | C94: =CONCATENATE("Palette"&" "&A94&" x "&B94) -> Palette 121 x 121 | D94: =IF((AND(AND(A94>=65,A94<=80),B94<161)),$V$5,IF(AND(AND(A94>=100,A94<=120),B94<161),$V$6,IF(AND(AND(A94>80,A94<100),B94<161),$V$7,IF(AND(A94<65,B94<161),$V$8,$V$9)))) -> E | E94: =(A94*B94)/10000 -> 1.4641 | F94: =IF(A94>120,1,IF(OR(A94<65,B94>160),0,ROUNDDOWN(240/A94,0))) -> 1 | G94: =IF(240-F94*A94<55,0,240-F94*A94) -> 119 | H94: =(A94*B94*F94)/10000 -> 1.4641 | I94: =ROUNDDOWN(240/B94,0) -> 1 | J94: =IF(240-I94*B94<55,0,240-I94*B94) -> 119 | K94: =(A94*B94*I94)/10000 -> 1.4641 | L94: =+SUMIFS(CALCULATEUR!$S$12:$S$26,CALCULATEUR!$V$12:$V$26,C94) -> 0 | M94: =IFERROR(INT(L94/F94),0) -> 0 | N94: =IFERROR(IF(L94<F94,ROUNDUP(F94/L94,0),ROUNDUP((L94-(M94*F94))/I94,0)),0) -> 0 | O94: =IF(L94=0,0,IF(L94<=I94,A94/100,((M94*B94)+(N94*A94))/100)) -> 0 | P94: =IF(F94=0,"",ROUNDUP(L94/I94,0)*A94/100) -> 0 | Q94: =IF(OR(P94="",P94=0,O94="",O94=0),MAX(P94,O94),MIN(P94,O94)) -> 0 | S94: =Q94*2.4 -> 0 | T94: =IF(F94=0,0,ROUNDDOWN(S94/E94,0)-$X$2) -> 0
