Workbook

Sheet CALCULATEUR
U6: Mettre linéaire par produit
B9: A | C9: B | E9: C | F9: D | G9: E | H9: F | I9: G | K9: H | L9: I | N9: J | P9: K | R9: L | S9: M
B10: PRODUIT
B11: DESIGNATION | C11: Quantite | E11: Quantite/ PAR COUCHE | F11: Quantite/ palette | G11: Hauteur (cm) | H11: Longueur (cm) | I11: Largeur (cm) | K11: COUCHE | L11: Hauteur PLT | N11: Nbr de produits/ palette | P11: Nbr de palettes | R11: Support | S11: Metre lineaire | V11: Support utiliser | W11: Qtte palette | X11: MPL par support

Sheet Info produit
A1: Model | B1: PCB | C1: Hauteur colis (cm) | D1: Largeur colis (cm) | E1: Profondeur colis (cm) | F1: Poids (Kgs) | G1: Volume m3 UC | H1: Pallet Efficiency | I1: Nb Colis /couche | J1: Nb couches | K1: PICTO MAX GERBAGE | L1: Hauteur pal ( cm ) | M1: Colis / Palette | N1: Support | O1: Larg_PLT | P1: Long_Plt
A2: AA-01--AA-1 | B2: 1 | C2: 10 | D2: 51 | E2: 36 | G2: =(C2*D2*E2)/1000000/B2 -> 0.01836 | I2: 6 | J2: 20 | K2: 22 | L2: =C2*J2+15 -> 215 | N2: 100 x 110 | O2: =IFERROR(IF(N2="VRAC",D2,IF(ROUNDUP(LEFT(N2,3),0)=0,"",ROUNDUP(LEFT(N2,3),0))),"") -> 100 | P2: =IFERROR(IF(ROUND(RIGHT(N2,3),0)="VRAC",E2,ROUND(RIGHT(N2,3),0)),"") -> 110
A3: AA-01--AA-2 | B3: 50 | C3: 24 | D3: 45.5 | E3: 38 | F3: 4.9 | G3: =(C3*D3*E3)/1000000/B3 -> 0.00082992 | H3: =((C3*D3*E3)/1000000*M3)/1.2 -> 1.45236 | I3: 6 | J3: 7 | K3: 10 | L3: =C3*J3+15 -> 183 | M3: 42 | N3: 100 x 120 | O3: =IFERROR(IF(N3="VRAC",D3,IF(ROUNDUP(LEFT(N3,3),0)=0,"",ROUNDUP(LEFT(N3,3),0))),"") -> 100 | P3: =IFERROR(IF(ROUND(RIGHT(N3,3),0)="VRAC",E3,ROUND(RIGHT(N3,3),0)),"") -> 120
A4: AA-01--AA-3 | B4: 10 | C4: 22.5 | D4: 38 | E4: 33 | F4: 8 | G4: =(C4*D4*E4)/1000000/B4 -> 0.0028215 | H4: =((C4*D4*E4)/1000000*M4)/1.2 -> 1.4812875 | I4: 9 | J4: 7 | L4: =C4*J4+15 -> 172.5 | M4: 63 | N4: 100 x 120 | O4: =IFERROR(IF(N4="VRAC",D4,IF(ROUNDUP(LEFT(N4,3),0)=0,"",ROUNDUP(LEFT(N4,3),0))),"") -> 100 | P4: =IFERROR(IF(ROUND(RIGHT(N4,3),0)="VRAC",E4,ROUND(RIGHT(N4,3),0)),"") -> 120
A5: AA-01--AA-4 | B5: 1 | C5: 8 | D5: 47.5 | E5: 26 | F5: 1.95 | G5: =(C5*D5*E5)/1000000/B5 -> 0.00988 | H5: =((C5*D5*E5)/1000000*M5)/1.2 -> 1.3173333 | I5: 8 | J5: 20 | L5: =C5*J5+15 -> 175 | M5: 160 | N5: 100 x 120 | O5: =IFERROR(IF(N5="VRAC",D5,IF(ROUNDUP(LEFT(N5,3),0)=0,"",ROUNDUP(LEFT(N5,3),0))),"") -> 100 | P5: =IFERROR(IF(ROUND(RIGHT(N5,3),0)="VRAC",E5,ROUND(RIGHT(N5,3),0)),"") -> 120
A6: AA-01--AA-5 | B6: 1 | C6: 8 | D6: 47 | E6: 26 | F6: 2.25 | G6: =(C6*D6*E6)/1000000/B6 -> 0.009776 | H6: =((C6*D6*E6)/1000000*M6)/1.2 -> 1.3034667 | I6: 8 | J6: 20 | L6: =C6*J6+15 -> 175 | M6: 160 | N6: 100 x 120 | O6: =IFERROR(IF(N6="VRAC",D6,IF(ROUNDUP(LEFT(N6,3),0)=0,"",ROUNDUP(LEFT(N6,3),0))),"") -> 100 | P6: =IFERROR(IF(ROUND(RIGHT(N6,3),0)="VRAC",E6,ROUND(RIGHT(N6,3),0)),"") -> 120
A7: AA-01--AA-6 | B7: 5 | C7: 22 | D7: 48.5 | E7: 23.5 | F7: 5 | G7: =(C7*D7*E7)/1000000/B7 -> 0.0050149 | H7: =((C7*D7*E7)/1000000*M7)/1.2 -> 1.253725 | I7: 10 | J7: 6 | L7: =C7*J7+15 -> 147 | M7: 60 | N7: 100 x 120 | O7: =IFERROR(IF(N7="VRAC",D7,IF(ROUNDUP(LEFT(N7,3),0)=0,"",ROUNDUP(LEFT(N7,3),0))),"") -> 100 | P7: =IFERROR(IF(ROUND(RIGHT(N7,3),0)="VRAC",E7,ROUND(RIGHT(N7,3),0)),"") -> 120
A8: AA-01--AA-7 | B8: 10 | C8: 23 | D8: 38.5 | E8: 34 | F8: 8 | G8: =(C8*D8*E8)/1000000/B8 -> 0.0030107 | H8: =((C8*D8*E8)/1000000*M8)/1.2 -> 1.5806175 | I8: 9 | J8: 7 | L8: =C8*J8+15 -> 176 | M8: 63 | N8: 100 x 120 | O8: =IFERROR(IF(N8="VRAC",D8,IF(ROUNDUP(LEFT(N8,3),0)=0,"",ROUNDUP(LEFT(N8,3),0))),"") -> 100 | P8: =IFERROR(IF(ROUND(RIGHT(N8,3),0)="VRAC",E8,ROUND(RIGHT(N8,3),0)),"") -> 120
A9: AA-01--AA-8 | B9: 10 | C9: 24 | D9: 19 | E9: 48 | F9: 5 | G9: =(C9*D9*E9)/1000000/B9 -> 0.0021888 | H9: =((C9*D9*E9)/1000000*M9)/1.2 -> 4.81536 | I9: 10 | J9: 7 | K9: 15 | L9: =C9*J9+15 -> 183 | M9: 264 | N9: 100 x 120 | O9: =IFERROR(IF(N9="VRAC",D9,IF(ROUNDUP(LEFT(N9,3),0)=0,"",ROUNDUP(LEFT(N9,3),0))),"") -> 100 | P9: =IFERROR(IF(ROUND(RIGHT(N9,3),0)="VRAC",E9,ROUND(RIGHT(N9,3),0)),"") -> 120
A10: AA-01--AA-9 | B10: 1 | C10: 10.5 | D10: 50 | E10: 40.5 | F10: 4 | G10: =(C10*D10*E10)/1000000/B10 -> 0.0212625 | H10: =((C10*D10*E10)/1000000*M10)/1.2 -> 1.5946875 | I10: 6 | J10: 15 | L10: =C10*J10+15 -> 172.5 | M10: 90 | N10: 100 x 120 | O10: =IFERROR(IF(N10="VRAC",D10,IF(ROUNDUP(LEFT(N10,3),0)=0,"",ROUNDUP(LEFT(N10,3),0))),"") -> 100 | P10: =IFERROR(IF(ROUND(RIGHT(N10,3),0)="VRAC",E10,ROUND(RIGHT(N10,3),0)),"") -> 120
A11: AA-01--AA-10 | B11: 1 | C11: 11 | D11: 50 | E11: 40.5 | F11: 4.15 | G11: =(C11*D11*E11)/1000000/B11 -> 0.022275 | H11: =((C11*D11*E11)/1000000*M11)/1.2 -> 1.670625 | I11: 6 | J11: 15 | L11: =C11*J11+15 -> 180 | M11: 90 | N11: 100 x 120 | O11: =IFERROR(IF(N11="VRAC",D11,IF(ROUNDUP(LEFT(N11,3),0)=0,"",ROUNDUP(LEFT(N11,3),0))),"") -> 100 | P11: =IFERROR(IF(ROUND(RIGHT(N11,3),0)="VRAC",E11,ROUND(RIGHT(N11,3),0)),"") -> 120
A12: AA-01--AA-11 | B12: 1 | C12: 43 | D12: 46 | E12: 106 | F12: 41 | G12: =(C12*D12*E12)/1000000/B12 -> 0.209668 | H12: =((C12*D12*E12)/1000000*M12)/1.2 -> 1.04834 | I12: 2 | J12: 3 | L12: =C12*J12+15 -> 144 | M12: 6 | N12: 100 x 120 | O12: =IFERROR(IF(N12="VRAC",D12,IF(ROUNDUP(LEFT(N12,3),0)=0,"",ROUNDUP(LEFT(N12,3),0))),"") -> 100 | P12: =IFERROR(IF(ROUND(RIGHT(N12,3),0)="VRAC",E12,ROUND(RIGHT(N12,3),0)),"") -> 120
A13: AA-01--AA-12 | B13: 1 | C13: 42.5 | D13: 45 | E13: 37 | F13: 12 | G13: =(C13*D13*E13)/1000000/B13 -> 0.0707625 | H13: =((C13*D13*E13)/1000000*M13)/1.2 -> 1.41525 | I13: 6 | J13: 4 | L13: =C13*J13+15 -> 185 | M13: 24 | N13: 100 x 120 | O13: =IFERROR(IF(N13="VRAC",D13,IF(ROUNDUP(LEFT(N13,3),0)=0,"",ROUNDUP(LEFT(N13,3),0))),"") -> 100 | P13: =IFERROR(IF(ROUND(RIGHT(N13,3),0)="VRAC",E13,ROUND(RIGHT(N13,3),0)),"") -> 120
A14: AA-01--AA-13 | B14: 1 | C14: 36.5 | D14: 74 | E14: 44 | F14: 20 | G14: =(C14*D14*E14)/1000000/B14 -> 0.118844 | H14: =((C14*D14*E14)/1000000*M14)/1.2 -> 1.18844 | I14: 3 | J14: 4 | L14: =C14*J14+15 -> 161 | M14: 12 | N14: 100 x 120 | O14: =IFERROR(IF(N14="VRAC",D14,IF(ROUNDUP(LEFT(N14,3),0)=0,"",ROUNDUP(LEFT(N14,3),0))),"") -> 100 | P14: =IFERROR(IF(ROUND(RIGHT(N14,3),0)="VRAC",E14,ROUND(RIGHT(N14,3),0)),"") -> 120
A15: AA-01--AA-14 | B15: 1 | C15: 32 | D15: 44.5 | E15: 98 | F15: 27.5 | G15: =(C15*D15*E15)/1000000/B15 -> 0.139552 | H15: =((C15*D15*E15)/1000000*M15)/1.2 -> 1.1629333 | I15: 2 | J15: 5 | K15: 8 | L15: =C15*J15+15 -> 175 | M15: 10 | N15: 100 x 120 | O15: =IFERROR(IF(N15="VRAC",D15,IF(ROUNDUP(LEFT(N15,3),0)=0,"",ROUNDUP(LEFT(N15,3),0))),"") -> 100 | P15: =IFERROR(IF(ROUND(RIGHT(N15,3),0)="VRAC",E15,ROUND(RIGHT(N15,3),0)),"") -> 120
A16: AA-01--AA-15 | B16: 1 | C16: 43 | D16: 45 | E16: 96 | F16: 31.5 | G16: =(C16*D16*E16)/1000000/B16 -> 0.18576 | H16: =((C16*D16*E16)/1000000*M16)/1.2 -> 1.2384 | I16: 2 | J16: 4 | L16: =C16*J16+15 -> 187 | M16: 8 | N16: 100 x 120 | O16: =IFERROR(IF(N16="VRAC",D16,IF(ROUNDUP(LEFT(N16,3),0)=0,"",ROUNDUP(LEFT(N16,3),0))),"") -> 100 | P16: =IFERROR(IF(ROUND(RIGHT(N16,3),0)="VRAC",E16,ROUND(RIGHT(N16,3),0)),"") -> 120
A17: AA-01--AA-16 | B17: 1 | C17: 12,5 | D17: 60 | E17: 40,5 | F17: 7 | G17: =(C17*D17*E17)/1000000/B17 -> 0.030375 | H17: =((C17*D17*E17)/1000000*M17)/0.96 -> 1.7402344 | I17: 5 | J17: 11 | K17: 18 | L17: =C17*J17+15 -> 152.5 | M17: 55 | N17: 100 x 123 | O17: =IFERROR(IF(N17="VRAC",D17,IF(ROUNDUP(LEFT(N17,3),0)=0,"",ROUNDUP(LEFT(N17,3),0))),"") -> 100 | P17: =IFERROR(IF(ROUND(RIGHT(N17,3),0)="VRAC",E17,ROUND(RIGHT(N17,3),0)),"") -> 123
A18: AA-01--AA-17 | B18: 1 | C18: 16 | D18: 33.5 | E18: 20.5 | F18: 1.08 | G18: =(C18*D18*E18)/1000000/B18 -> 0.010988 | H18: =((C18*D18*E18)/1000000*M18)/1.2 -> 1.6482 | I18: 18 | J18: 10 | L18: =C18*J18+15 -> 175 | M18: 180 | N18: 100 x 120 | O18: =IFERROR(IF(N18="VRAC",D18,IF(ROUNDUP(LEFT(N18,3),0)=0,"",ROUNDUP(LEFT(N18,3),0))),"") -> 100 | P18: =IFERROR(IF(ROUND(RIGHT(N18,3),0)="VRAC",E18,ROUND(RIGHT(N18,3),0)),"") -> 120
A19: AA-01--AA-18 | B19: 1 | C19: 13.5 | D19: 20 | E19: 33.5 | F19: 1.1 | G19: =(C19*D19*E19)/1000000/B19 -> 0.009045 | H19: =((C19*D19*E19)/1000000*M19)/1.2 -> 1.35675 | I19: 18 | J19: 10 | L19: =C19*J19+15 -> 150 | M19: 180 | N19: 100 x 120 | O19: =IFERROR(IF(N19="VRAC",D19,IF(ROUNDUP(LEFT(N19,3),0)=0,"",ROUNDUP(LEFT(N19,3),0))),"") -> 100 | P19: =IFERROR(IF(ROUND(RIGHT(N19,3),0)="VRAC",E19,ROUND(RIGHT(N19,3),0)),"") -> 120
A20: AA-01--AA-19 | B20: 1 | C20: 60 | D20: 107 | E20: 15.5 | F20: 13 | G20: =(C20*D20*E20)/1000000/B20 -> 0.09951 | H20: =((C20*D20*E20)/1000000*M20)/1.2 -> 1.3268 | I20: 8 | J20: 2 | K20: 6 | L20: =C20*J20+15 -> 135 | M20: =I20*J20 -> 16 | N20: 106 x 123 | O20: =IFERROR(IF(N20="VRAC",D20,IF(ROUNDUP(LEFT(N20,3),0)=0,"",ROUNDUP(LEFT(N20,3),0))),"") -> 106 | P20: =IFERROR(IF(ROUND(RIGHT(N20,3),0)="VRAC",E20,ROUND(RIGHT(N20,3),0)),"") -> 123
A21: AA-01--AA-20 | B21: 1 | C21: 61 | D21: 16 | E21: 106.5 | F21: 12 | G21: =(C21*D21*E21)/1000000/B21 -> 0.103944 | H21: =((C21*D21*E21)/1000000*M21)/1.2 -> 1.38592 | I21: 8 | J21: 2 | L21: =C21*J21+15 -> 137 | M21: =I21*J21 -> 16 | N21: 100 x 120 | O21: =IFERROR(IF(N21="VRAC",D21,IF(ROUNDUP(LEFT(N21,3),0)=0,"",ROUNDUP(LEFT(N21,3),0))),"") -> 100 | P21: =IFERROR(IF(ROUND(RIGHT(N21,3),0)="VRAC",E21,ROUND(RIGHT(N21,3),0)),"") -> 120
A22: AA-01--AA-21 | B22: 1 | C22: 75 | D22: 24.5 | E22: 118 | I22: 4 | J22: 2 | K22: 6 | L22: =C22*J22+15 -> 165 | N22: 100 x 120 | O22: =IFERROR(IF(N22="VRAC",D22,IF(ROUNDUP(LEFT(N22,3),0)=0,"",ROUNDUP(LEFT(N22,3),0))),"") -> 100 | P22: =IFERROR(IF(ROUND(RIGHT(N22,3),0)="VRAC",E22,ROUND(RIGHT(N22,3),0)),"") -> 120
A23: AA-01--AA-22 | B23: 1 | C23: 11.5 | D23: 57 | E23: 36 | F23: 5 | G23: =(C23*D23*E23)/1000000/B23 -> 0.023598 | H23: =((C23*D23*E23)/1000000*M23)/1.33 -> 1.3307143 | I23: 5 | J23: 15 | K23: 19 | L23: =C23*J23+15 -> 187.5 | M23: =J23*I23 -> 75 | N23: 120 x 120 | O23: =IFERROR(IF(N23="VRAC",D23,IF(ROUNDUP(LEFT(N23,3),0)=0,"",ROUNDUP(LEFT(N23,3),0))),"") -> 120 | P23: =IFERROR(IF(ROUND(RIGHT(N23,3),0)="VRAC",E23,ROUND(RIGHT(N23,3),0)),"") -> 120
A24: AA-01--AA-23 | B24: 1 | C24: 64 | D24: 103 | E24: 12 | F24: 17?5 | G24: =(C24*D24*E24)/1000000/B24 -> 0.079104 | H24: =((C24*D24*E24)/1000000*M24)/1.2 -> 1.18656 | I24: 9 | J24: 2 | K24: 4 | L24: =C24*J24+15 -> 143 | M24: 18 | N24: 100 x 120 | O24: =IFERROR(IF(N24="VRAC",D24,IF(ROUNDUP(LEFT(N24,3),0)=0,"",ROUNDUP(LEFT(N24,3),0))),"") -> 100 | P24: =IFERROR(IF(ROUND(RIGHT(N24,3),0)="VRAC",E24,ROUND(RIGHT(N24,3),0)),"") -> 120
A25: AA-01--AA-24 | B25: 1 | C25: 74 | D25: 108 | E25: 12.5 | F25: 17 | G25: =(C25*D25*E25)/1000000/B25 -> 0.0999 | H25: =((C25*D25*E25)/1000000*M25)/1.2 -> 1.665 | I25: 9 | J25: 2 | K25: 4 | L25: =C25*J25+15 -> 163 | M25: 20 | N25: 100 x 120 | O25: =IFERROR(IF(N25="VRAC",D25,IF(ROUNDUP(LEFT(N25,3),0)=0,"",ROUNDUP(LEFT(N25,3),0))),"") -> 100 | P25: =IFERROR(IF(ROUND(RIGHT(N25,3),0)="VRAC",E25,ROUND(RIGHT(N25,3),0)),"") -> 120
A26: AA-01--AA-25 | B26: 1 | C26: 74 | D26: 12 | E26: 108 | F26: 17 | G26: =(C26*D26*E26)/1000000/B26 -> 0.095904 | H26: =((C26*D26*E26)/1000000*M26)/1.2 -> 1.43856 | I26: 9 | J26: 2 | L26: =C26*J26+15 -> 163 | M26: 18 | N26: 100 x 120 | O26: =IFERROR(IF(N26="VRAC",D26,IF(ROUNDUP(LEFT(N26,3),0)=0,"",ROUNDUP(LEFT(N26,3),0))),"") -> 100 | P26: =IFERROR(IF(ROUND(RIGHT(N26,3),0)="VRAC",E26,ROUND(RIGHT(N26,3),0)),"") -> 120
A27: AA-01--AA-26 | B27: 1 | C27: 65 | D27: 104 | E27: 11.5 | F27: 12.5 | G27: =(C27*D27*E27)/1000000/B27 -> 0.07774 | H27: =((C27*D27*E27)/1000000*M27)/1.2 -> 1.2956667 | I27: 10 | J27: 2 | L27: =C27*J27+15 -> 145 | M27: 20 | N27: 100 x 120 | O27: =IFERROR(IF(N27="VRAC",D27,IF(ROUNDUP(LEFT(N27,3),0)=0,"",ROUNDUP(LEFT(N27,3),0))),"") -> 100 | P27: =IFERROR(IF(ROUND(RIGHT(N27,3),0)="VRAC",E27,ROUND(RIGHT(N27,3),0)),"") -> 120
A28: AA-01--AA-27 | B28: 1 | C28: 64 | D28: 105 | E28: 11.5 | F28: 15 | G28: =(C28*D28*E28)/1000000/B28 -> 0.07728 | H28: =((C28*D28*E28)/1000000*M28)/1.2 -> 1.288 | I28: 10 | J28: 2 | L28: =C28*J28+15 -> 143 | M28: 20 | N28: 100 x 120 | O28: =IFERROR(IF(N28="VRAC",D28,IF(ROUNDUP(LEFT(N28,3),0)=0,"",ROUNDUP(LEFT(N28,3),0))),"") -> 100 | P28: =IFERROR(IF(ROUND(RIGHT(N28,3),0)="VRAC",E28,ROUND(RIGHT(N28,3),0)),"") -> 120
A29: AA-01--AA-28 | B29: 1 | C29: 65 | D29: 104 | E29: 11.5 | F29: 13 | G29: =(C29*D29*E29)/1000000/B29 -> 0.07774 | H29: =((C29*D29*E29)/1000000*M29)/1.2 -> 1.2956667 | I29: 10 | J29: 2 | K29: 6 | L29: =C29*J29+15 -> 145 | M29: 20 | N29: 106 x 120 | O29: =IFERROR(IF(N29="VRAC",D29,IF(ROUNDUP(LEFT(N29,3),0)=0,"",ROUNDUP(LEFT(N29,3),0))),"") -> 106 | P29: =IFERROR(IF(ROUND(RIGHT(N29,3),0)="VRAC",E29,ROUND(RIGHT(N29,3),0)),"") -> 120
A30: AA-01--AA-29 | B30: 1 | C30: 84 | D30: 104 | E30: 12 | F30: 12 | G30: =(C30*D30*E30)/1000000/B30 -> 0.104832 | H30: =((C30*D30*E30)/1000000*M30)/1.2 -> 1.7472 | I30: 10 | J30: 2 | L30: =C30*J30+15 -> 183 | M30: 20 | N30: 100 x 120 | O30: =IFERROR(IF(N30="VRAC",D30,IF(ROUNDUP(LEFT(N30,3),0)=0,"",ROUNDUP(LEFT(N30,3),0))),"") -> 100 | P30: =IFERROR(IF(ROUND(RIGHT(N30,3),0)="VRAC",E30,ROUND(RIGHT(N30,3),0)),"") -> 120
A31: AA-01--AA-30 | B31: 1 | C31: 65 | D31: 103 | E31: 11 | F31: 14 | G31: =(C31*D31*E31)/1000000/B31 -> 0.073645 | H31: =((C31*D31*E31)/1000000*M31)/1.2 -> 1.2274167 | I31: 10 | J31: 2 | K31: 6 | L31: =C31*J31+15 -> 145 | M31: 20 | N31: 106 x 120 | O31: =IFERROR(IF(N31="VRAC",D31,IF(ROUNDUP(LEFT(N31,3),0)=0,"",ROUNDUP(LEFT(N31,3),0))),"") -> 106 | P31: =IFERROR(IF(ROUND(RIGHT(N31,3),0)="VRAC",E31,ROUND(RIGHT(N31,3),0)),"") -> 120
A32: AA-01--AA-31 | B32: 1 | C32: 75 | D32: 12 | E32: 118 | F32: 10 | G32: =(C32*D32*E32)/1000000/B32 -> 0.1062 | H32: =((C32*D32*E32)/1000000*M32)/1.2 -> 1.416 | I32: 8 | J32: 2 | L32: =C32*J32+15 -> 165 | M32: 16 | N32: 100 x 120 | O32: =IFERROR(IF(N32="VRAC",D32,IF(ROUNDUP(LEFT(N32,3),0)=0,"",ROUNDUP(LEFT(N32,3),0))),"") -> 100 | P32: =IFERROR(IF(ROUND(RIGHT(N32,3),0)="VRAC",E32,ROUND(RIGHT(N32,3),0)),"") -> 120
A33: AA-01--AA-32 | B33: 1 | C33: 76 | D33: 27.5 | E33: 118 | F33: 27 | G33: =(C33*D33*E33)/1000000/B33 -> 0.24662 | H33: =((C33*D33*E33)/1000000*M33)/1.2 -> 1.2331 | I33: 4 | J33: 3 | K33: 4 | L33: =C33*J33+15 -> 243 | M33: 6 | N33: 116 x 122 | O33: =IFERROR(IF(N33="VRAC",D33,IF(ROUNDUP(LEFT(N33,3),0)=0,"",ROUNDUP(LEFT(N33,3),0))),"") -> 116 | P33: =IFERROR(IF(ROUND(RIGHT(N33,3),0)="VRAC",E33,ROUND(RIGHT(N33,3),0)),"") -> 122
A34: AA-01--AA-33 | B34: 1 | C34: 76 | D34: 12.5 | E34: 119 | F34: 17 | G34: =(C34*D34*E34)/1000000/B34 -> 0.11305 | H34: =((C34*D34*E34)/1000000*M34)/1.2 -> 1.5073333 | I34: 8 | J34: 2 | L34: =C34*J34+15 -> 167 | M34: 16 | N34: 100 x 110 | O34: =IFERROR(IF(N34="VRAC",D34,IF(ROUNDUP(LEFT(N34,3),0)=0,"",ROUNDUP(LEFT(N34,3),0))),"") -> 100 | P34: =IFERROR(IF(ROUND(RIGHT(N34,3),0)="VRAC",E34,ROUND(RIGHT(N34,3),0)),"") -> 110
A35: AA-01--AA-34 | B35: 1 | C35: 76 | D35: 119 | E35: 13 | F35: 19 | G35: =(C35*D35*E35)/1000000/B35 -> 0.117572 | H35: =((C35*D35*E35)/1000000*M35)/1.2 -> 1.3716733 | I35: 7 | J35: 2 | K35: 4 | L35: =C35*J35+15 -> 167 | M35: 14 | N35: 100 x 120 | O35: =IFERROR(IF(N35="VRAC",D35,IF(ROUNDUP(LEFT(N35,3),0)=0,"",ROUNDUP(LEFT(N35,3),0))),"") -> 100 | P35: =IFERROR(IF(ROUND(RIGHT(N35,3),0)="VRAC",E35,ROUND(RIGHT(N35,3),0)),"") -> 120
A36: AA-01--AA-35 | B36: 1 | C36: 75 | D36: 12.5 | E36: 119 | F36: 20 | G36: =(C36*D36*E36)/1000000/B36 -> 0.1115625 | H36: =((C36*D36*E36)/1000000*M36)/1.2 -> 1.4875 | I36: 8 | J36: 2 | L36: =C36*J36+15 -> 165 | M36: 16 | N36: 120 x 140 | O36: =IFERROR(IF(N36="VRAC",D36,IF(ROUNDUP(LEFT(N36,3),0)=0,"",ROUNDUP(LEFT(N36,3),0))),"") -> 120 | P36: =IFERROR(IF(ROUND(RIGHT(N36,3),0)="VRAC",E36,ROUND(RIGHT(N36,3),0)),"") -> 140
A37: AA-01--AA-36 | B37: 1 | C37: 75 | D37: 24.5 | E37: 118 | G37: =(C37*D37*E37)/1000000/B37 -> 0.216825 | I37: 4 | J37: 2 | K37: 6 | L37: =C37*J37+15 -> 165 | N37: 100 x 120 | O37: =IFERROR(IF(N37="VRAC",D37,IF(ROUNDUP(LEFT(N37,3),0)=0,"",ROUNDUP(LEFT(N37,3),0))),"") -> 100 | P37: =IFERROR(IF(ROUND(RIGHT(N37,3),0)="VRAC",E37,ROUND(RIGHT(N37,3),0)),"") -> 120
A38: AA-01--AA-37 | B38: 1 | C38: 75.5 | D38: 13 | E38: 118.5 | F38: 25 | G38: =(C38*D38*E38)/1000000/B38 -> 0.11630775 | H38: =((C38*D38*E38)/1000000*M38)/1.2 -> 2.0353856 | I38: 7 | J38: 2 | L38: =C38*J38+15 -> 166 | M38: 21 | N38: 100 x 120 | O38: =IFERROR(IF(N38="VRAC",D38,IF(ROUNDUP(LEFT(N38,3),0)=0,"",ROUNDUP(LEFT(N38,3),0))),"") -> 100 | P38: =IFERROR(IF(ROUND(RIGHT(N38,3),0)="VRAC",E38,ROUND(RIGHT(N38,3),0)),"") -> 120
A39: AA-01--AA-38 | B39: 1 | C39: 75 | D39: 118 | E39: 13 | F39: 19 | G39: =(C39*D39*E39)/1000000/B39 -> 0.11505 | H39: =((C39*D39*E39)/1000000*M39)/1.2 -> 1.534 | I39: 8 | J39: 2 | K39: 6 | L39: =C39*J39+15 -> 165 | M39: 16 | N39: 100 x 120 | O39: =IFERROR(IF(N39="VRAC",D39,IF(ROUNDUP(LEFT(N39,3),0)=0,"",ROUNDUP(LEFT(N39,3),0))),"") -> 100 | P39: =IFERROR(IF(ROUND(RIGHT(N39,3),0)="VRAC",E39,ROUND(RIGHT(N39,3),0)),"") -> 120
A40: AA-01--AA-39 | B40: 1 | C40: 75.5 | D40: 13 | E40: 118.5 | F40: 20 | G40: =(C40*D40*E40)/1000000/B40 -> 0.11630775 | H40: =((C40*D40*E40)/1000000*M40)/1.2 -> 1.7446162 | I40: 9 | J40: 2 | L40: =C40*J40+15 -> 166 | M40: 18 | N40: 100 x 120 | O40: =IFERROR(IF(N40="VRAC",D40,IF(ROUNDUP(LEFT(N40,3),0)=0,"",ROUNDUP(LEFT(N40,3),0))),"") -> 100 | P40: =IFERROR(IF(ROUND(RIGHT(N40,3),0)="VRAC",E40,ROUND(RIGHT(N40,3),0)),"") -> 120
...

Sheet Base pivot
C1: 1 | D1: 2 | F1: 3 | G1: 4 | H1: 5 | I1: 6 | J1: 7 | K1: 8 | L1: 9 | M1: 10 | N1: 11 | O1: 12 | P1: 13 | Q1: 14 | V1: SOMME.SI.ENS('Calcul metre lineaire'!$T$17:$T$31;'Calcul metre lineaire'!$W$17:$W$31;C3)
A2: LARGEUR | B2: LONGUEUR | C2: PLT | D2: CAT | E2: Surf _PLT | F2: DISP _LAR | G2: REST_LAR | H2: SURF_LAR | I2: DISP_LON | J2: REST_LON | K2: SURF_LON | L2: Nb plt | M2: Nb_ligne _Larg | N2: reste _Long | O2: MPL_ Larg | P2: MPL_ Long | Q2: Choix_1 | S2: Sfc_pris camion | T2: Poss_Plt | W2: TEST qtte envoyé
A3: 29 | B3: 150 | C3: =CONCATENATE("Palette"&" "&A3&" x "&B3) -> Palette 29 x 150 | D3: =IF((AND(AND(A3>=65,A3<=80),B3<161)),$V$5,IF(AND(AND(A3>=100,A3<=120),B3<161),$V$6,IF(AND(AND(A3>80,A3<100),B3<161),$V$7,IF(AND(A3<65,B3<161),$V$8,$V$9)))) -> D | E3: =(A3*B3)/10000 -> 0.435 | F3: =IF(A3>120,1,IF(OR(A3<65,B3>160),0,ROUNDDOWN(240/A3,0))) -> 0 | G3: =IF(240-F3*A3<55,0,240-F3*A3) -> 240 | H3: =(A3*B3*F3)/10000 -> 0 | I3: =ROUNDDOWN(240/B3,0) -> 1 | J3: =IF(240-I3*B3<55,0,240-I3*B3) -> 90 | K3: =(A3*B3*I3)/10000 -> 0.435 | L3: =+SUMIFS(CALCULATEUR!$S$12:$S$26,CALCULATEUR!$V$12:$V$26,C3) -> 0 | M3: =IFERROR(INT(L3/F3),0) -> 0 | N3: =IFERROR(IF(L3<F3,ROUNDUP(F3/L3,0),ROUNDUP((L3-(M3*F3))/I3,0)),0) -> 0 | O3: =IF(L3=0,0,IF(L3<=I3,A3/100,((M3*B3)+(N3*A3))/100)) -> 0 | P3: =IF(F3=0,"",ROUNDUP(L3/I3,0)*A3/100) | Q3: =IF(OR(P3="",P3=0,O3="",O3=0),MAX(P3,O3),MIN(P3,O3)) -> 0 | S3: =Q3*2.4 -> 0 | T3: =IF(F3=0,0,ROUNDDOWN(S3/E3,0)-$X$2) -> 0
A4: 34 | B4: 134 | C4: =CONCATENATE("Palette"&" "&A4&" x "&B4) -> Palette 34 x 134 | D4: =IF((AND(AND(A4>=65,A4<=80),B4<161)),$V$5,IF(AND(AND(A4>=100,A4<=120),B4<161),$V$6,IF(AND(AND(A4>80,A4<100),B4<161),$V$7,IF(AND(A4<65,B4<161),$V$8,$V$9)))) -> D | E4: =(A4*B4)/10000 -> 0.4556 | F4: =IF(A4>120,1,IF(OR(A4<65,B4>160),0,ROUNDDOWN(240/A4,0))) -> 0 | G4: =IF(240-F4*A4<55,0,240-F4*A4) -> 240 | H4: =(A4*B4*F4)/10000 -> 0 | I4: =ROUNDDOWN(240/B4,0) -> 1 | J4: =IF(240-I4*B4<55,0,240-I4*B4) -> 106 | K4: =(A4*B4*I4)/10000 -> 0.4556 | L4: =+SUMIFS(CALCULATEUR!$S$12:$S$26,CALCULATEUR!$V$12:$V$26,C4) -> 0 | M4: =IFERROR(INT(L4/F4),0) -> 0 | N4: =IFERROR(IF(L4<F4,ROUNDUP(F4/L4,0),ROUNDUP((L4-(M4*F4))/I4,0)),0) -> 0 | O4: =IF(L4=0,0,IF(L4<=I4,A4/100,((M4*B4)+(N4*A4))/100)) -> 0 | P4: =IF(F4=0,"",ROUNDUP(L4/I4,0)*A4/100) | Q4: =IF(OR(P4="",P4=0,O4="",O4=0),MAX(P4,O4),MIN(P4,O4)) -> 0 | S4: =Q4*2.4 -> 0 | T4: =IF(F4=0,0,ROUNDDOWN(S4/E4,0)-$X$2) -> 0
A5: 46 | B5: 138 | C5: =CONCATENATE("Palette"&" "&A5&" x "&B5) -> Palette 46 x 138 | D5: =IF((AND(AND(A5>=65,A5<=80),B5<161)),$V$5,IF(AND(AND(A5>=100,A5<=120),B5<161),$V$6,IF(AND(AND(A5>80,A5<100),B5<161),$V$7,IF(AND(A5<65,B5<161),$V$8,$V$9)))) -> D | E5: =(A5*B5)/10000 -> 0.6348 | F5: =IF(A5>120,1,IF(OR(A5<65,B5>160),0,ROUNDDOWN(240/A5,0))) -> 0 | G5: =IF(240-F5*A5<55,0,240-F5*A5) -> 240 | H5: =(A5*B5*F5)/10000 -> 0 | I5: =ROUNDDOWN(240/B5,0) -> 1 | J5: =IF(240-I5*B5<55,0,240-I5*B5) -> 102 | K5: =(A5*B5*I5)/10000 -> 0.6348 | L5: =+SUMIFS(CALCULATEUR!$S$12:$S$26,CALCULATEUR!$V$12:$V$26,C5) -> 0 | M5: =IFERROR(INT(L5/F5),0) -> 0 | N5: =IFERROR(IF(L5<F5,ROUNDUP(F5/L5,0),ROUNDUP((L5-(M5*F5))/I5,0)),0) -> 0 | O5: =IF(L5=0,0,IF(L5<=I5,A5/100,((M5*B5)+(N5*A5))/100)) -> 0 | P5: =IF(F5=0,"",ROUNDUP(L5/I5,0)*A5/100) | Q5: =IF(OR(P5="",P5=0,O5="",O5=0),MAX(P5,O5),MIN(P5,O5)) -> 0 | S5: =Q5*2.4 -> 0 | T5: =IF(F5=0,0,ROUNDDOWN(S5/E5,0)-$X$2) -> 0 | V5: A
A6: 49 | B6: 134 | C6: =CONCATENATE("Palette"&" "&A6&" x "&B6) -> Palette 49 x 134 | D6: =IF((AND(AND(A6>=65,A6<=80),B6<161)),$V$5,IF(AND(AND(A6>=100,A6<=120),B6<161),$V$6,IF(AND(AND(A6>80,A6<100),B6<161),$V$7,IF(AND(A6<65,B6<161),$V$8,$V$9)))) -> D | E6: =(A6*B6)/10000 -> 0.6566 | F6: =IF(A6>120,1,IF(OR(A6<65,B6>160),0,ROUNDDOWN(240/A6,0))) -> 0 | G6: =IF(240-F6*A6<55,0,240-F6*A6) -> 240 | H6: =(A6*B6*F6)/10000 -> 0 | I6: =ROUNDDOWN(240/B6,0) -> 1 | J6: =IF(240-I6*B6<55,0,240-I6*B6) -> 106 | K6: =(A6*B6*I6)/10000 -> 0.6566 | L6: =+SUMIFS(CALCULATEUR!$S$12:$S$26,CALCULATEUR!$V$12:$V$26,C6) -> 0 | M6: =IFERROR(INT(L6/F6),0) -> 0 | N6: =IFERROR(IF(L6<F6,ROUNDUP(F6/L6,0),ROUNDUP((L6-(M6*F6))/I6,0)),0) -> 0 | O6: =IF(L6=0,0,IF(L6<=I6,A6/100,((M6*B6)+(N6*A6))/100)) -> 0 | P6: =IF(F6=0,"",ROUNDUP(L6/I6,0)*A6/100) | Q6: =IF(OR(P6="",P6=0,O6="",O6=0),MAX(P6,O6),MIN(P6,O6)) -> 0 | S6: =Q6*2.4 -> 0 | T6: =IF(F6=0,0,ROUNDDOWN(S6/E6,0)-$X$2) -> 0 | V6: B
A7: 60 | B7: 120 | C7: =CONCATENATE("Palette"&" "&A7&" x "&B7) -> Palette 60 x 120 | D7: =IF((AND(AND(A7>=65,A7<=80),B7<161)),$V$5,IF(AND(AND(A7>=100,A7<=120),B7<161),$V$6,IF(AND(AND(A7>80,A7<100),B7<161),$V$7,IF(AND(A7<65,B7<161),$V$8,$V$9)))) -> D | E7: =(A7*B7)/10000 -> 0.72 | F7: =IF(A7>120,1,IF(OR(A7<65,B7>160),0,ROUNDDOWN(240/A7,0))) -> 0 | G7: =IF(240-F7*A7<55,0,240-F7*A7) -> 240 | H7: =(A7*B7*F7)/10000 -> 0 | I7: =ROUNDDOWN(240/B7,0) -> 2 | J7: =IF(240-I7*B7<55,0,240-I7*B7) -> 0 | K7: =(A7*B7*I7)/10000 -> 1.44 | L7: =+SUMIFS(CALCULATEUR!$S$12:$S$26,CALCULATEUR!$V$12:$V$26,C7) -> 0 | M7: =IFERROR(INT(L7/F7),0) -> 0 | N7: =IFERROR(IF(L7<F7,ROUNDUP(F7/L7,0),ROUNDUP((L7-(M7*F7))/I7,0)),0) -> 0 | O7: =IF(L7=0,0,IF(L7<=I7,A7/100,((M7*B7)+(N7*A7))/100)) -> 0 | P7: =IF(F7=0,"",ROUNDUP(L7/I7,0)*A7/100) | Q7: =IF(OR(P7="",P7=0,O7="",O7=0),MAX(P7,O7),MIN(P7,O7)) -> 0 | S7: =Q7*2.4 -> 0 | T7: =IF(F7=0,0,ROUNDDOWN(S7/E7,0)-$X$2) -> 0 | V7: C
A8: 69 | B8: 180 | C8: =CONCATENATE("Palette"&" "&A8&" x "&B8) -> Palette 69 x 180 | D8: =IF((AND(AND(A8>=65,A8<=80),B8<161)),$V$5,IF(AND(AND(A8>=100,A8<=120),B8<161),$V$6,IF(AND(AND(A8>80,A8<100),B8<161),$V$7,IF(AND(A8<65,B8<161),$V$8,$V$9)))) -> E | E8: =(A8*B8)/10000 -> 1.242 | F8: =IF(A8>120,1,IF(OR(A8<65,B8>160),0,ROUNDDOWN(240/A8,0))) -> 0 | G8: =IF(240-F8*A8<55,0,240-F8*A8) -> 240 | H8: =(A8*B8*F8)/10000 -> 0 | I8: =ROUNDDOWN(240/B8,0) -> 1 | J8: =IF(240-I8*B8<55,0,240-I8*B8) -> 60 | K8: =(A8*B8*I8)/10000 -> 1.242 | L8: =+SUMIFS(CALCULATEUR!$S$12:$S$26,CALCULATEUR!$V$12:$V$26,C8) -> 0 | M8: =IFERROR(INT(L8/F8),0) -> 0 | N8: =IFERROR(IF(L8<F8,ROUNDUP(F8/L8,0),ROUNDUP((L8-(M8*F8))/I8,0)),0) -> 0 | O8: =IF(L8=0,0,IF(L8<=I8,A8/100,((M8*B8)+(N8*A8))/100)) -> 0 | P8: =IF(F8=0,"",ROUNDUP(L8/I8,0)*A8/100) | Q8: =IF(OR(P8="",P8=0,O8="",O8=0),MAX(P8,O8),MIN(P8,O8)) -> 0 | S8: =Q8*2.4 -> 0 | T8: =IF(F8=0,0,ROUNDDOWN(S8/E8,0)-$X$2) -> 0 | V8: D
A9: 76 | B9: 136 | C9: =CONCATENATE("Palette"&" "&A9&" x "&B9) -> Palette 76 x 136 | D9: =IF((AND(AND(A9>=65,A9<=80),B9<161)),$V$5,IF(AND(AND(A9>=100,A9<=120),B9<161),$V$6,IF(AND(AND(A9>80,A9<100),B9<161),$V$7,IF(AND(A9<65,B9<161),$V$8,$V$9)))) -> A | E9: =(A9*B9)/10000 -> 1.0336 | F9: =IF(A9>120,1,IF(OR(A9<65,B9>160),0,ROUNDDOWN(240/A9,0))) -> 3 | G9: =IF(240-F9*A9<55,0,240-F9*A9) -> 0 | H9: =(A9*B9*F9)/10000 -> 3.1008 | I9: =ROUNDDOWN(240/B9,0) -> 1 | J9: =IF(240-I9*B9<55,0,240-I9*B9) -> 104 | K9: =(A9*B9*I9)/10000 -> 1.0336 | L9: =+SUMIFS(CALCULATEUR!$S$12:$S$26,CALCULATEUR!$V$12:$V$26,C9) -> 0 | M9: =IFERROR(INT(L9/F9),0) -> 0 | N9: =IFERROR(IF(L9<F9,ROUNDUP(F9/L9,0),ROUNDUP((L9-(M9*F9))/I9,0)),0) -> 0 | O9: =IF(L9=0,0,IF(L9<=I9,A9/100,((M9*B9)+(N9*A9))/100)) -> 0 | P9: =IF(F9=0,"",ROUNDUP(L9/I9,0)*A9/100) -> 0 | Q9: =IF(OR(P9="",P9=0,O9="",O9=0),MAX(P9,O9),MIN(P9,O9)) -> 0 | S9: =Q9*2.4 -> 0 | T9: =IF(F9=0,0,ROUNDDOWN(S9/E9,0)-$X$2) -> 0 | V9: E
A10: 80 | B10: 120 | C10: =CONCATENATE("Palette"&" "&A10&" x "&B10) -> Palette 80 x 120 | D10: =IF((AND(AND(A10>=65,A10<=80),B10<161)),$V$5,IF(AND(AND(A10>=100,A10<=120),B10<161),$V$6,IF(AND(AND(A10>80,A10<100),B10<161),$V$7,IF(AND(A10<65,B10<161),$V$8,$V$9)))) -> A | E10: =(A10*B10)/10000 -> 0.96 | F10: =IF(A10>120,1,IF(OR(A10<65,B10>160),0,ROUNDDOWN(240/A10,0))) -> 3 | G10: =IF(240-F10*A10<55,0,240-F10*A10) -> 0 | H10: =(A10*B10*F10)/10000 -> 2.88 | I10: =ROUNDDOWN(240/B10,0) -> 2 | J10: =IF(240-I10*B10<55,0,240-I10*B10) -> 0 | K10: =(A10*B10*I10)/10000 -> 1.92 | L10: =+SUMIFS(CALCULATEUR!$S$12:$S$26,CALCULATEUR!$V$12:$V$26,C10) -> 0 | M10: =IFERROR(INT(L10/F10),0) -> 0 | N10: =IFERROR(IF(L10<F10,ROUNDUP(F10/L10,0),ROUNDUP((L10-(M10*F10))/I10,0)),0) -> 0 | O10: =IF(L10=0,0,IF(L10<=I10,A10/100,((M10*B10)+(N10*A10))/100)) -> 0 | P10: =IF(F10=0,"",ROUNDUP(L10/I10,0)*A10/100) -> 0 | Q10: =IF(OR(P10="",P10=0,O10="",O10=0),MAX(P10,O10),MIN(P10,O10)) -> 0 | S10: =Q10*2.4 -> 0 | T10: =IF(F10=0,0,ROUNDDOWN(S10/E10,0)-$X$2) -> 0
A11: 80 | B11: 127 | C11: =CONCATENATE("Palette"&" "&A11&" x "&B11) -> Palette 80 x 127 | D11: =IF((AND(AND(A11>=65,A11<=80),B11<161)),$V$5,IF(AND(AND(A11>=100,A11<=120),B11<161),$V$6,IF(AND(AND(A11>80,A11<100),B11<161),$V$7,IF(AND(A11<65,B11<161),$V$8,$V$9)))) -> A | E11: =(A11*B11)/10000 -> 1.016 | F11: =IF(A11>120,1,IF(OR(A11<65,B11>160),0,ROUNDDOWN(240/A11,0))) -> 3 | G11: =IF(240-F11*A11<55,0,240-F11*A11) -> 0 | H11: =(A11*B11*F11)/10000 -> 3.048 | I11: =ROUNDDOWN(240/B11,0) -> 1 | J11: =IF(240-I11*B11<55,0,240-I11*B11) -> 113 | K11: =(A11*B11*I11)/10000 -> 1.016 | L11: =+SUMIFS(CALCULATEUR!$S$12:$S$26,CALCULATEUR!$V$12:$V$26,C11) -> 0 | M11: =IFERROR(INT(L11/F11),0) -> 0 | N11: =IFERROR(IF(L11<F11,ROUNDUP(F11/L11,0),ROUNDUP((L11-(M11*F11))/I11,0)),0) -> 0 | O11: =IF(L11=0,0,IF(L11<=I11,A11/100,((M11*B11)+(N11*A11))/100)) -> 0 | P11: =IF(F11=0,"",ROUNDUP(L11/I11,0)*A11/100) -> 0 | Q11: =IF(OR(P11="",P11=0,O11="",O11=0),MAX(P11,O11),MIN(P11,O11)) -> 0 | S11: =Q11*2.4 -> 0 | T11: =IF(F11=0,0,ROUNDDOWN(S11/E11,0)-$X$2) -> 0
A12: 80 | B12: 130 | C12: =CONCATENATE("Palette"&" "&A12&" x "&B12) -> Palette 80 x 130 | D12: =IF((AND(AND(A12>=65,A12<=80),B12<161)),$V$5,IF(AND(AND(A12>=100,A12<=120),B12<161),$V$6,IF(AND(AND(A12>80,A12<100),B12<161),$V$7,IF(AND(A12<65,B12<161),$V$8,$V$9)))) -> A | E12: =(A12*B12)/10000 -> 1.04 | F12: =IF(A12>120,1,IF(OR(A12<65,B12>160),0,ROUNDDOWN(240/A12,0))) -> 3 | G12: =IF(240-F12*A12<55,0,240-F12*A12) -> 0 | H12: =(A12*B12*F12)/10000 -> 3.12 | I12: =ROUNDDOWN(240/B12,0) -> 1 | J12: =IF(240-I12*B12<55,0,240-I12*B12) -> 110 | K12: =(A12*B12*I12)/10000 -> 1.04 | L12: =+SUMIFS(CALCULATEUR!$S$12:$S$26,CALCULATEUR!$V$12:$V$26,C12) -> 0 | M12: =IFERROR(INT(L12/F12),0) -> 0 | N12: =IFERROR(IF(L12<F12,ROUNDUP(F12/L12,0),ROUNDUP((L12-(M12*F12))/I12,0)),0) -> 0 | O12: =IF(L12=0,0,IF(L12<=I12,A12/100,((M12*B12)+(N12*A12))/100)) -> 0 | P12: =IF(F12=0,"",ROUNDUP(L12/I12,0)*A12/100) -> 0 | Q12: =IF(OR(P12="",P12=0,O12="",O12=0),MAX(P12,O12),MIN(P12,O12)) -> 0 | S12: =Q12*2.4 -> 0 | T12: =IF(F12=0,0,ROUNDDOWN(S12/E12,0)-$X$2) -> 0
A13: 80 | B13: 145 | C13: =CONCATENATE("Palette"&" "&A13&" x "&B13) -> Palette 80 x 145 | D13: =IF((AND(AND(A13>=65,A13<=80),B13<161)),$V$5,IF(AND(AND(A13>=100,A13<=120),B13<161),$V$6,IF(AND(AND(A13>80,A13<100),B13<161),$V$7,IF(AND(A13<65,B13<161),$V$8,$V$9)))) -> A | E13: =(A13*B13)/10000 -> 1.16 | F13: =IF(A13>120,1,IF(OR(A13<65,B13>160),0,ROUNDDOWN(240/A13,0))) -> 3 | G13: =IF(240-F13*A13<55,0,240-F13*A13) -> 0 | H13: =(A13*B13*F13)/10000 -> 3.48 | I13: =ROUNDDOWN(240/B13,0) -> 1 | J13: =IF(240-I13*B13<55,0,240-I13*B13) -> 95 | K13: =(A13*B13*I13)/10000 -> 1.16 | L13: =+SUMIFS(CALCULATEUR!$S$12:$S$26,CALCULATEUR!$V$12:$V$26,C13) -> 0 | M13: =IFERROR(INT(L13/F13),0) -> 0 | N13: =IFERROR(IF(L13<F13,ROUNDUP(F13/L13,0),ROUNDUP((L13-(M13*F13))/I13,0)),0) -> 0 | O13: =IF(L13=0,0,IF(L13<=I13,A13/100,((M13*B13)+(N13*A13))/100)) -> 0 | P13: =IF(F13=0,"",ROUNDUP(L13/I13,0)*A13/100) -> 0 | Q13: =IF(OR(P13="",P13=0,O13="",O13=0),MAX(P13,O13),MIN(P13,O13)) -> 0 | S13: =Q13*2.4 -> 0 | T13: =IF(F13=0,0,ROUNDDOWN(S13/E13,0)-$X$2) -> 0
A14: 80 | B14: 150 | C14: =CONCATENATE("Palette"&" "&A14&" x "&B14) -> Palette 80 x 150 | D14: =IF((AND(AND(A14>=65,A14<=80),B14<161)),$V$5,IF(AND(AND(A14>=100,A14<=120),B14<161),$V$6,IF(AND(AND(A14>80,A14<100),B14<161),$V$7,IF(AND(A14<65,B14<161),$V$8,$V$9)))) -> A | E14: =(A14*B14)/10000 -> 1.2 | F14: =IF(A14>120,1,IF(OR(A14<65,B14>160),0,ROUNDDOWN(240/A14,0))) -> 3 | G14: =IF(240-F14*A14<55,0,240-F14*A14) -> 0 | H14: =(A14*B14*F14)/10000 -> 3.6 | I14: =ROUNDDOWN(240/B14,0) -> 1 | J14: =IF(240-I14*B14<55,0,240-I14*B14) -> 90 | K14: =(A14*B14*I14)/10000 -> 1.2 | L14: =+SUMIFS(CALCULATEUR!$S$12:$S$26,CALCULATEUR!$V$12:$V$26,C14) -> 0 | M14: =IFERROR(INT(L14/F14),0) -> 0 | N14: =IFERROR(IF(L14<F14,ROUNDUP(F14/L14,0),ROUNDUP((L14-(M14*F14))/I14,0)),0) -> 0 | O14: =IF(L14=0,0,IF(L14<=I14,A14/100,((M14*B14)+(N14*A14))/100)) -> 0 | P14: =IF(F14=0,"",ROUNDUP(L14/I14,0)*A14/100) -> 0 | Q14: =IF(OR(P14="",P14=0,O14="",O14=0),MAX(P14,O14),MIN(P14,O14)) -> 0 | S14: =Q14*2.4 -> 0 | T14: =IF(F14=0,0,ROUNDDOWN(S14/E14,0)-$X$2) -> 0
A15: 80 | B15: 150 | C15: =CONCATENATE("Palette"&" "&A15&" x "&B15) -> Palette 80 x 150 | D15: =IF((AND(AND(A15>=65,A15<=80),B15<161)),$V$5,IF(AND(AND(A15>=100,A15<=120),B15<161),$V$6,IF(AND(AND(A15>80,A15<100),B15<161),$V$7,IF(AND(A15<65,B15<161),$V$8,$V$9)))) -> A | E15: =(A15*B15)/10000 -> 1.2 | F15: =IF(A15>120,1,IF(OR(A15<65,B15>160),0,ROUNDDOWN(240/A15,0))) -> 3 | G15: =IF(240-F15*A15<55,0,240-F15*A15) -> 0 | H15: =(A15*B15*F15)/10000 -> 3.6 | I15: =ROUNDDOWN(240/B15,0) -> 1 | J15: =IF(240-I15*B15<55,0,240-I15*B15) -> 90 | K15: =(A15*B15*I15)/10000 -> 1.2 | L15: =+SUMIFS(CALCULATEUR!$S$12:$S$26,CALCULATEUR!$V$12:$V$26,C15) -> 0 | M15: =IFERROR(INT(L15/F15),0) -> 0 | N15: =IFERROR(IF(L15<F15,ROUNDUP(F15/L15,0),ROUNDUP((L15-(M15*F15))/I15,0)),0) -> 0 | O15: =IF(L15=0,0,IF(L15<=I15,A15/100,((M15*B15)+(N15*A15))/100)) -> 0 | P15: =IF(F15=0,"",ROUNDUP(L15/I15,0)*A15/100) -> 0 | Q15: =IF(OR(P15="",P15=0,O15="",O15=0),MAX(P15,O15),MIN(P15,O15)) -> 0 | S15: =Q15*2.4 -> 0 | T15: =IF(F15=0,0,ROUNDDOWN(S15/E15,0)-$X$2) -> 0
A16: 80 | B16: 180 | C16: =CONCATENATE("Palette"&" "&A16&" x "&B16) -> Palette 80 x 180 | D16: =IF((AND(AND(A16>=65,A16<=80),B16<161)),$V$5,IF(AND(AND(A16>=100,A16<=120),B16<161),$V$6,IF(AND(AND(A16>80,A16<100),B16<161),$V$7,IF(AND(A16<65,B16<161),$V$8,$V$9)))) -> E | E16: =(A16*B16)/10000 -> 1.44 | F16: =IF(A16>120,1,IF(OR(A16<65,B16>160),0,ROUNDDOWN(240/A16,0))) -> 0 | G16: =IF(240-F16*A16<55,0,240-F16*A16) -> 240 | H16: =(A16*B16*F16)/10000 -> 0 | I16: =ROUNDDOWN(240/B16,0) -> 1 | J16: =IF(240-I16*B16<55,0,240-I16*B16) -> 60 | K16: =(A16*B16*I16)/10000 -> 1.44 | L16: =+SUMIFS(CALCULATEUR!$S$12:$S$26,CALCULATEUR!$V$12:$V$26,C16) -> 0 | M16: =IFERROR(INT(L16/F16),0) -> 0 | N16: =IFERROR(IF(L16<F16,ROUNDUP(F16/L16,0),ROUNDUP((L16-(M16*F16))/I16,0)),0) -> 0 | O16: =IF(L16=0,0,IF(L16<=I16,A16/100,((M16*B16)+(N16*A16))/100)) -> 0 | P16: =IF(F16=0,"",ROUNDUP(L16/I16,0)*A16/100) | Q16: =IF(OR(P16="",P16=0,O16="",O16=0),MAX(P16,O16),MIN(P16,O16)) -> 0 | S16: =Q16*2.4 -> 0 | T16: =IF(F16=0,0,ROUNDDOWN(S16/E16,0)-$X$2) -> 0
A17: 84 | B17: 120 | C17: =CONCATENATE("Palette"&" "&A17&" x "&B17) -> Palette 84 x 120 | D17: =IF((AND(AND(A17>=65,A17<=80),B17<161)),$V$5,IF(AND(AND(A17>=100,A17<=120),B17<161),$V$6,IF(AND(AND(A17>80,A17<100),B17<161),$V$7,IF(AND(A17<65,B17<161),$V$8,$V$9)))) -> C | E17: =(A17*B17)/10000 -> 1.008 | F17: =IF(A17>120,1,IF(OR(A17<65,B17>160),0,ROUNDDOWN(240/A17,0))) -> 2 | G17: =IF(240-F17*A17<55,0,240-F17*A17) -> 72 | H17: =(A17*B17*F17)/10000 -> 2.016 | I17: =ROUNDDOWN(240/B17,0) -> 2 | J17: =IF(240-I17*B17<55,0,240-I17*B17) -> 0 | K17: =(A17*B17*I17)/10000 -> 2.016 | L17: =+SUMIFS(CALCULATEUR!$S$12:$S$26,CALCULATEUR!$V$12:$V$26,C17) -> 0 | M17: =IFERROR(INT(L17/F17),0) -> 0 | N17: =IFERROR(IF(L17<F17,ROUNDUP(F17/L17,0),ROUNDUP((L17-(M17*F17))/I17,0)),0) -> 0 | O17: =IF(L17=0,0,IF(L17<=I17,A17/100,((M17*B17)+(N17*A17))/100)) -> 0 | P17: =IF(F17=0,"",ROUNDUP(L17/I17,0)*A17/100) -> 0 | Q17: =IF(OR(P17="",P17=0,O17="",O17=0),MAX(P17,O17),MIN(P17,O17)) -> 0 | S17: =Q17*2.4 -> 0 | T17: =IF(F17=0,0,ROUNDDOWN(S17/E17,0)-$X$2) -> 0
A18: 84 | B18: 133 | C18: =CONCATENATE("Palette"&" "&A18&" x "&B18) -> Palette 84 x 133 | D18: =IF((AND(AND(A18>=65,A18<=80),B18<161)),$V$5,IF(AND(AND(A18>=100,A18<=120),B18<161),$V$6,IF(AND(AND(A18>80,A18<100),B18<161),$V$7,IF(AND(A18<65,B18<161),$V$8,$V$9)))) -> C | E18: =(A18*B18)/10000 -> 1.1172 | F18: =IF(A18>120,1,IF(OR(A18<65,B18>160),0,ROUNDDOWN(240/A18,0))) -> 2 | G18: =IF(240-F18*A18<55,0,240-F18*A18) -> 72 | H18: =(A18*B18*F18)/10000 -> 2.2344 | I18: =ROUNDDOWN(240/B18,0) -> 1 | J18: =IF(240-I18*B18<55,0,240-I18*B18) -> 107 | K18: =(A18*B18*I18)/10000 -> 1.1172 | L18: =+SUMIFS(CALCULATEUR!$S$12:$S$26,CALCULATEUR!$V$12:$V$26,C18) -> 0 | M18: =IFERROR(INT(L18/F18),0) -> 0 | N18: =IFERROR(IF(L18<F18,ROUNDUP(F18/L18,0),ROUNDUP((L18-(M18*F18))/I18,0)),0) -> 0 | O18: =IF(L18=0,0,IF(L18<=I18,A18/100,((M18*B18)+(N18*A18))/100)) -> 0 | P18: =IF(F18=0,"",ROUNDUP(L18/I18,0)*A18/100) -> 0 | Q18: =IF(OR(P18="",P18=0,O18="",O18=0),MAX(P18,O18),MIN(P18,O18)) -> 0 | S18: =Q18*2.4 -> 0 | T18: =IF(F18=0,0,ROUNDDOWN(S18/E18,0)-$X$2) -> 0
A19: 85 | B19: 120 | C19: =CONCATENATE("Palette"&" "&A19&" x "&B19) -> Palette 85 x 120 | D19: =IF((AND(AND(A19>=65,A19<=80),B19<161)),$V$5,IF(AND(AND(A19>=100,A19<=120),B19<161),$V$6,IF(AND(AND(A19>80,A19<100),B19<161),$V$7,IF(AND(A19<65,B19<161),$V$8,$V$9)))) -> C | E19: =(A19*B19)/10000 -> 1.02 | F19: =IF(A19>120,1,IF(OR(A19<65,B19>160),0,ROUNDDOWN(240/A19,0))) -> 2 | G19: =IF(240-F19*A19<55,0,240-F19*A19) -> 70 | H19: =(A19*B19*F19)/10000 -> 2.04 | I19: =ROUNDDOWN(240/B19,0) -> 2 | J19: =IF(240-I19*B19<55,0,240-I19*B19) -> 0 | K19: =(A19*B19*I19)/10000 -> 2.04 | L19: =+SUMIFS(CALCULATEUR!$S$12:$S$26,CALCULATEUR!$V$12:$V$26,C19) -> 0 | M19: =IFERROR(INT(L19/F19),0) -> 0 | N19: =IFERROR(IF(L19<F19,ROUNDUP(F19/L19,0),ROUNDUP((L19-(M19*F19))/I19,0)),0) -> 0 | O19: =IF(L19=0,0,IF(L19<=I19,A19/100,((M19*B19)+(N19*A19))/100)) -> 0 | P19: =IF(F19=0,"",ROUNDUP(L19/I19,0)*A19/100) -> 0 | Q19: =IF(OR(P19="",P19=0,O19="",O19=0),MAX(P19,O19),MIN(P19,O19)) -> 0 | S19: =Q19*2.4 -> 0 | T19: =IF(F19=0,0,ROUNDDOWN(S19/E19,0)-$X$2) -> 0
A20: 86 | B20: 120 | C20: =CONCATENATE("Palette"&" "&A20&" x "&B20) -> Palette 86 x 120 | D20: =IF((AND(AND(A20>=65,A20<=80),B20<161)),$V$5,IF(AND(AND(A20>=100,A20<=120),B20<161),$V$6,IF(AND(AND(A20>80,A20<100),B20<161),$V$7,IF(AND(A20<65,B20<161),$V$8,$V$9)))) -> C | E20: =(A20*B20)/10000 -> 1.032 | F20: =IF(A20>120,1,IF(OR(A20<65,B20>160),0,ROUNDDOWN(240/A20,0))) -> 2 | G20: =IF(240-F20*A20<55,0,240-F20*A20) -> 68 | H20: =(A20*B20*F20)/10000 -> 2.064 | I20: =ROUNDDOWN(240/B20,0) -> 2 | J20: =IF(240-I20*B20<55,0,240-I20*B20) -> 0 | K20: =(A20*B20*I20)/10000 -> 2.064 | L20: =+SUMIFS(CALCULATEUR!$S$12:$S$26,CALCULATEUR!$V$12:$V$26,C20) -> 0 | M20: =IFERROR(INT(L20/F20),0) -> 0 | N20: =IFERROR(IF(L20<F20,ROUNDUP(F20/L20,0),ROUNDUP((L20-(M20*F20))/I20,0)),0) -> 0 | O20: =IF(L20=0,0,IF(L20<=I20,A20/100,((M20*B20)+(N20*A20))/100)) -> 0 | P20: =IF(F20=0,"",ROUNDUP(L20/I20,0)*A20/100) -> 0 | Q20: =IF(OR(P20="",P20=0,O20="",O20=0),MAX(P20,O20),MIN(P20,O20)) -> 0 | S20: =Q20*2.4 -> 0 | T20: =IF(F20=0,0,ROUNDDOWN(S20/E20,0)-$X$2) -> 0
A21: 90 | B21: 110 | C21: =CONCATENATE("Palette"&" "&A21&" x "&B21) -> Palette 90 x 110 | D21: =IF((AND(AND(A21>=65,A21<=80),B21<161)),$V$5,IF(AND(AND(A21>=100,A21<=120),B21<161),$V$6,IF(AND(AND(A21>80,A21<100),B21<161),$V$7,IF(AND(A21<65,B21<161),$V$8,$V$9)))) -> C | E21: =(A21*B21)/10000 -> 0.99 | F21: =IF(A21>120,1,IF(OR(A21<65,B21>160),0,ROUNDDOWN(240/A21,0))) -> 2 | G21: =IF(240-F21*A21<55,0,240-F21*A21) -> 60 | H21: =(A21*B21*F21)/10000 -> 1.98 | I21: =ROUNDDOWN(240/B21,0) -> 2 | J21: =IF(240-I21*B21<55,0,240-I21*B21) -> 0 | K21: =(A21*B21*I21)/10000 -> 1.98 | L21: =+SUMIFS(CALCULATEUR!$S$12:$S$26,CALCULATEUR!$V$12:$V$26,C21) -> 0 | M21: =IFERROR(INT(L21/F21),0) -> 0 | N21: =IFERROR(IF(L21<F21,ROUNDUP(F21/L21,0),ROUNDUP((L21-(M21*F21))/I21,0)),0) -> 0 | O21: =IF(L21=0,0,IF(L21<=I21,A21/100,((M21*B21)+(N21*A21))/100)) -> 0 | P21: =IF(F21=0,"",ROUNDUP(L21/I21,0)*A21/100) -> 0 | Q21: =IF(OR(P21="",P21=0,O21="",O21=0),MAX(P21,O21),MIN(P21,O21)) -> 0 | S21: =Q21*2.4 -> 0 | T21: =IF(F21=0,0,ROUNDDOWN(S21/E21,0)-$X$2) -> 0
... A94: 121 | B94: 121 | C94: =CONCATENATE("Palette"&" "&A94&" x "&B94) -> Palette 121 x 121 | D94: =IF((AND(AND(A94>=65,A94<=80),B94<161)),$V$5,IF(AND(AND(A94>=100,A94<=120),B94<161),$V$6,IF(AND(AND(A94>80,A94<100),B94<161),$V$7,IF(AND(A94<65,B94<161),$V$8,$V$9)))) -> E | E94: =(A94*B94)/10000 -> 1.4641 | F94: =IF(A94>120,1,IF(OR(A94<65,B94>160),0,ROUNDDOWN(240/A94,0))) -> 1 | G94: =IF(240-F94*A94<55,0,240-F94*A94) -> 119 | H94: =(A94*B94*F94)/10000 -> 1.4641 | I94: =ROUNDDOWN(240/B94,0) -> 1 | J94: =IF(240-I94*B94<55,0,240-I94*B94) -> 119 | K94: =(A94*B94*I94)/10000 -> 1.4641 | L94: =+SUMIFS(CALCULATEUR!$S$12:$S$26,CALCULATEUR!$V$12:$V$26,C94) -> 0 | M94: =IFERROR(INT(L94/F94),0) -> 0 | N94: =IFERROR(IF(L94<F94,ROUNDUP(F94/L94,0),ROUNDUP((L94-(M94*F94))/I94,0)),0) -> 0 | O94: =IF(L94=0,0,IF(L94<=I94,A94/100,((M94*B94)+(N94*A94))/100)) -> 0 | P94: =IF(F94=0,"",ROUNDUP(L94/I94,0)*A94/100) -> 0 | Q94: =IF(OR(P94="",P94=0,O94="",O94=0),MAX(P94,O94),MIN(P94,O94)) -> 0 | S94: =Q94*2.4 -> 0 | T94: =IF(F94=0,0,ROUNDDOWN(S94/E94,0)-$X$2) -> 0
