Workbook

Sheet RECAP
A1: CANAL0 | B1: CANAL1 | C1: CANAL2 | D1: CANAL3 | E1: CANAL4 | F1: CANAL5 | G1: CANAL6 | H1: CANAL7 | I1: CANAL8 | J1: CANAL9 | K1: CANAL10 | L1: CANAL11 | M1: CANAL12
B2: 1 | C2: 2 | D2: 3 | E2: 4 | F2: 5 | G2: 6 | H2: 7 | I2: 8 | J2: 9 | K2: 10 | L2: 11 | M2: 12
A3: STATUT | B3: =IF(AND(B4="",B5="",B6=""),"DISPONIBLE","EN COURS") -> EN COURS | C3: =IF(AND(C4="",C5="",C6=""),"DISPONIBLE","EN COURS") -> EN COURS | D3: =IF(AND(D4="",D5="",D6=""),"DISPONIBLE","EN COURS") -> EN COURS | E3: =IF(AND(E4="",E5="",E6=""),"DISPONIBLE","EN COURS") -> EN COURS | F3: =IF(AND(F4="",F5="",F6=""),"DISPONIBLE","EN COURS") -> DISPONIBLE | G3: =IF(AND(G4="",G5="",G6=""),"DISPONIBLE","EN COURS") -> EN COURS | H3: =IF(AND(H4="",H5="",H6=""),"DISPONIBLE","EN COURS") -> DISPONIBLE | I3: =IF(AND(I4="",I5="",I6=""),"DISPONIBLE","EN COURS") -> EN COURS | ... M3: =IF(AND(M4="",M5="",M6=""),"DISPONIBLE","EN COURS") -> DISPONIBLE
A4: SALON 1 | B4: {=IF(ISNA(MATCH(RECAP!B2&Feuil3!$A$2,BDD!$B$3:$B$20&BDD!$C$2:'BDD'!$C$3:$C$20,0)),"",INDEX(BDD!$A$2:'BDD'!$A$3:$A$20,MATCH(RECAP!B2&Feuil3!$A$2,BDD!$B$3:$B$20&BDD!$C$2:'BDD'!$C$3:$C$20,0)))} -> DYNAMO - GALATASARAY | C4: {=IF(ISNA(MATCH(RECAP!C2&Feuil3!$A$2,BDD!$B$3:$B$20&BDD!$C$2:'BDD'!$C$3:$C$20,0)),"",INDEX(BDD!$A$2:'BDD'!$A$3:$A$20,MATCH(RECAP!C2&Feuil3!$A$2,BDD!$B$3:$B$20&BDD!$C$2:'BDD'!$C$3:$C$20,0)))} | D4: {=IF(ISNA(MATCH(RECAP!D2&Feuil3!$A$2,BDD!$B$3:$B$20&BDD!$C$2:'BDD'!$C$3:$C$20,0)),"",INDEX(BDD!$A$2:'BDD'!$A$3:$A$20,MATCH(RECAP!D2&Feuil3!$A$2,BDD!$B$3:$B$20&BDD!$C$2:'BDD'!$C$3:$C$20,0)))} -> REAL - DORTMUND | E4: {=IF(ISNA(MATCH(RECAP!E2&Feuil3!$A$2,BDD!$B$3:$B$20&BDD!$C$2:'BDD'!$C$3:$C$20,0)),"",INDEX(BDD!$A$2:'BDD'!$A$3:$A$20,MATCH(RECAP!E2&Feuil3!$A$2,BDD!$B$3:$B$20&BDD!$C$2:'BDD'!$C$3:$C$20,0)))} -> PSG - INTER | F4: {=IF(ISNA(MATCH(RECAP!F2&Feuil3!$A$2,BDD!$B$3:$B$20&BDD!$C$2:'BDD'!$C$3:$C$20,0)),"",INDEX(BDD!$A$2:'BDD'!$A$3:$A$20,MATCH(RECAP!F2&Feuil3!$A$2,BDD!$B$3:$B$20&BDD!$C$2:'BDD'!$C$3:$C$20,0)))} | G4: {=IF(ISNA(MATCH(RECAP!G2&Feuil3!$A$2,BDD!$B$3:$B$20&BDD!$C$2:'BDD'!$C$3:$C$20,0)),"",INDEX(BDD!$A$2:'BDD'!$A$3:$A$20,MATCH(RECAP!G2&Feuil3!$A$2,BDD!$B$3:$B$20&BDD!$C$2:'BDD'!$C$3:$C$20,0)))} -> BARCA - REAL | H4: {=IF(ISNA(MATCH(RECAP!H2&Feuil3!$A$2,BDD!$B$3:$B$20&BDD!$C$2:'BDD'!$C$3:$C$20,0)),"",INDEX(BDD!$A$2:'BDD'!$A$3:$A$20,MATCH(RECAP!H2&Feuil3!$A$2,BDD!$B$3:$B$20&BDD!$C$2:'BDD'!$C$3:$C$20,0)))} | I4: {=IF(ISNA(MATCH(RECAP!I2&Feuil3!$A$2,BDD!$B$3:$B$20&BDD!$C$2:'BDD'!$C$3:$C$20,0)),"",INDEX(BDD!$A$2:'BDD'!$A$3:$A$20,MATCH(RECAP!I2&Feuil3!$A$2,BDD!$B$3:$B$20&BDD!$C$2:'BDD'!$C$3:$C$20,0)))} -> CHELSEA -BAYERN | ... M4: {=IF(ISNA(MATCH(RECAP!M2&Feuil3!$A$2,BDD!$B$3:$B$20&BDD!$C$2:'BDD'!$C$3:$C$20,0)),"",INDEX(BDD!$A$2:'BDD'!$A$3:$A$20,MATCH(RECAP!M2&Feuil3!$A$2,BDD!$B$3:$B$20&BDD!$C$2:'BDD'!$C$3:$C$20,0)))}
A5: SALON 2 | C5: FILM 1
A6: SALON 3 | K6: REPORTAGE

Sheet BDD
A1: Match | B1: Canal | C1: statut
A2: PSG - INTER | B2: 1 | C2: NC
A3: BARCA - REAL | B3: 4 | C3: NC
A4: CHELSEA -BAYERN | B4: 6 | C4: NC
A5: M CITY - SEVILLE | B5: 8 | C5: NC
A6: REAL - DORTMUND | B6: 11 | C6: NC
A7: DYNAMO - GALATASARAY | B7: 3 | C7: NC
A8: NANTES - LE HAVRE | B8: 1 | C8: F
A9: CRETEIL - RED STAR
A10: …

Sheet Feuil3
A1: Si tableau | B1: Affiche
A2: NC | B2: EN COURS
A3: F | B3: PAS DE MATCH
B4: PAS DE MATCH
