Workbook
Name Article: articles!$A$2:$A$138

Sheet Base
A1: IPTDAT_0 | B1: Mois | C1: ITMREF_0 | D1: STA_0 | E1: STU_0 | F1: ACTQTY_0 | G1: LOC_0 | H1: STA_02 | I1: LOC_03 | J1: TCLCOD_0
A2: 41684 | B2: =VLOOKUP(MONTH(Tableau_changement[[#This Row],[IPTDAT_0]]),Mois!$A$1:$B$13,2,FALSE) -> Février | C2: EM0014 | D2: A | E2: UN | F2: -1800 | G2: ZPKEM | H2: A | I2: ZPKEM | J2: EM
A3: 41684 | B3: =VLOOKUP(MONTH(Tableau_changement[[#This Row],[IPTDAT_0]]),Mois!$A$1:$B$13,2,FALSE) -> Février | C3: EM0014 | D3: A | E3: UN | F3: 1800 | G3: CRIST | H3: AC | I3: ZPKEM | J3: EM
A4: 41684 | B4: =VLOOKUP(MONTH(Tableau_changement[[#This Row],[IPTDAT_0]]),Mois!$A$1:$B$13,2,FALSE) -> Février | C4: EM0068 | D4: A | E4: KG | F4: -368 | G4: ZPKEM | H4: A | I4: ZPKEM | J4: EM
A5: 41684 | B5: =VLOOKUP(MONTH(Tableau_changement[[#This Row],[IPTDAT_0]]),Mois!$A$1:$B$13,2,FALSE) -> Février | C5: EM0068 | D5: A | E5: KG | F5: 368 | G5: PET1 | H5: AC | I5: ZPKEM | J5: EM
A6: 41684 | B6: =VLOOKUP(MONTH(Tableau_changement[[#This Row],[IPTDAT_0]]),Mois!$A$1:$B$13,2,FALSE) -> Février | C6: EM0285 | D6: A | E6: UN | F6: -3000 | G6: ZPKEM | H6: A | I6: ZPKEM | J6: EM
A7: 41684 | B7: =VLOOKUP(MONTH(Tableau_changement[[#This Row],[IPTDAT_0]]),Mois!$A$1:$B$13,2,FALSE) -> Février | C7: EM0285 | D7: A | E7: UN | F7: 3000 | G7: PET1 | H7: AC | I7: ZPKEM | J7: EM
A8: 41684 | B8: =VLOOKUP(MONTH(Tableau_changement[[#This Row],[IPTDAT_0]]),Mois!$A$1:$B$13,2,FALSE) -> Février | C8: EM0393 | D8: A | E8: UN | F8: -14700 | G8: ZPKEM | H8: A | I8: ZPKEM | J8: EM
A9: 41684 | B9: =VLOOKUP(MONTH(Tableau_changement[[#This Row],[IPTDAT_0]]),Mois!$A$1:$B$13,2,FALSE) -> Février | C9: EM0393 | D9: A | E9: UN | F9: 14700 | G9: PET1 | H9: AC | I9: ZPKEM | J9: EM
A10: 41685 | B10: =VLOOKUP(MONTH(Tableau_changement[[#This Row],[IPTDAT_0]]),Mois!$A$1:$B$13,2,FALSE) -> Février | C10: EM0255 | D10: AC | E10: UN | F10: -46500 | G10: PET1 | H10: AC | I10: PET1 | J10: EM
A11: 41685 | B11: =VLOOKUP(MONTH(Tableau_changement[[#This Row],[IPTDAT_0]]),Mois!$A$1:$B$13,2,FALSE) -> Février | C11: EM0255 | D11: AC | E11: UN | F11: 46500 | G11: ZPKEM | H11: A | I11: PET1 | J11: EM
A12: 41685 | B12: =VLOOKUP(MONTH(Tableau_changement[[#This Row],[IPTDAT_0]]),Mois!$A$1:$B$13,2,FALSE) -> Février | C12: EM0387 | D12: AC | E12: UN | F12: -700 | G12: PET1 | H12: AC | I12: PET1 | J12: EM
A13: 41685 | B13: =VLOOKUP(MONTH(Tableau_changement[[#This Row],[IPTDAT_0]]),Mois!$A$1:$B$13,2,FALSE) -> Février | C13: EM0387 | D13: AC | E13: UN | F13: 700 | G13: ZPKEM | H13: A | I13: PET1 | J13: EM
... A2347: 41727 | B2347: =VLOOKUP(MONTH(Tableau_changement[[#This Row],[IPTDAT_0]]),Mois!$A$1:$B$13,2,FALSE) -> Mars | C2347: MC0103 | D2347: A | E2347: KG | F2347: 14 | G2347: PET1 | H2347: AC | I2347: ZPKEM | J2347: MC

Sheet Mois
A1: Code | B1: mois
A2: 1 | B2: Janvier
A3: 2 | B3: Février
A4: 3 | B4: Mars
A5: 4 | B5: Avril
A6: 5 | B6: Mai
A7: 6 | B7: Juin
A8: 7 | B8: Juillet
A9: 8 | B9: Août
A10: 9 | B10: Septembre
A11: 10 | B11: Octobre
A12: 11 | B12: Novembre
A13: 12 | B13: Décembre

Sheet articles
A1: ITMREF_0
A2: EM0001
A3: EM0002
A4: EM0005
A5: EM0007
A6: EM0008
A7: EM0011
A8: EM0014
A9: EM0016
A10: EM0019
A11: EM0022
A12: EM0023
... A138: MC0239

Sheet 1
A1: Code | B1: Us | C1: 41639 | D1: Janvier | E1: 41670 | F1: Cons janvier | G1: Février | H1: 41698 | I1: Cons Février | J1: Mars | K1: 41729 | L1: Cons Mars | M1: Avril | N1: 31/04/2014 | O1: Cons Avril | P1: Mai | Q1: 41790 | R1: Cons Mai | S1: Juin | T1: 41820 | U1: Cons Juin | V1: Juillet | W1: 41851 | X1: Cons Juillet | Y1: Août | Z1: 41882 | AA1: Cons Août | AB1: Septembre | AC1: 41912 | AD1: Cons Sept | AE1: Octobre | AF1: 41943 | AG1: Cons Oct | AH1: Novembre | AI1: 41973 | AJ1: Cons Nov | AK1: Décembre | AL1: 42004 | AM1: Cons Dec | AN1: Cons 2014
A2: =IF('2'!O2<>"",'2'!A2,"") | B2: =IFERROR(VLOOKUP(A2,'2'!A:B,3,FALSE),"") | D2: =IFERROR(VLOOKUP($A2,'2'!$1:$1048576,MATCH(D$1,'2'!$1:$1,0),FALSE),"") | F2: =IFERROR(+C2+D2-E2,"") | G2: =IFERROR(VLOOKUP($A2,'2'!$1:$1048576,MATCH(G$1,'2'!$1:$1,0),FALSE),"") | I2: =IFERROR(+F2+G2-H2,"") | J2: =IFERROR(VLOOKUP($A2,'2'!$1:$1048576,MATCH(J$1,'2'!$1:$1,0),FALSE),"") | L2: =IFERROR(+I2+J2-K2,"") | M2: =IFERROR(VLOOKUP($A2,'2'!$1:$1048576,MATCH(M$1,'2'!$1:$1,0),FALSE),"") | O2: =IFERROR(+L2+M2-N2,"") | P2: =IFERROR(VLOOKUP($A2,'2'!$1:$1048576,MATCH(P$1,'2'!$1:$1,0),FALSE),"") | R2: =IFERROR(+O2+P2-Q2,"") | S2: =IFERROR(VLOOKUP($A2,'2'!$1:$1048576,MATCH(S$1,'2'!$1:$1,0),FALSE),"") | U2: =IFERROR(+R2+S2-T2,"") | V2: =IFERROR(VLOOKUP($A2,'2'!$1:$1048576,MATCH(V$1,'2'!$1:$1,0),FALSE),"") | X2: =IFERROR(+U2+V2-W2,"") | Y2: =IFERROR(VLOOKUP($A2,'2'!$1:$1048576,MATCH(Y$1,'2'!$1:$1,0),FALSE),"") | AA2: =IFERROR(+X2+Y2-Z2,"") | AB2: =IFERROR(VLOOKUP($A2,'2'!$1:$1048576,MATCH(AB$1,'2'!$1:$1,0),FALSE),"") | AD2: =IFERROR(+AA2+AB2-AC2,"") | AE2: =IFERROR(VLOOKUP($A2,'2'!$1:$1048576,MATCH(AE$1,'2'!$1:$1,0),FALSE),"") | AG2: =IFERROR(+AD2+AE2-AF2,"") | AH2: =IFERROR(VLOOKUP($A2,'2'!$1:$1048576,MATCH(AH$1,'2'!$1:$1,0),FALSE),"") | AJ2: =IFERROR(+AG2+AH2-AI2,"") | AK2: =IFERROR(VLOOKUP($A2,'2'!$1:$1048576,MATCH(AK$1,'2'!$1:$1,0),FALSE),"") | AM2: =IFERROR(+AJ2+AK2-AL2,"") | AN2: =IFERROR(+F2+I2+L2+O2+R2+U2+X2+AA2+AD2+AG2+AJ2+AM2,"")
A3: =IF('2'!O3<>"",'2'!A3,"") | B3: =IFERROR(VLOOKUP(A3,'2'!A:B,3,FALSE),"") | D3: =IFERROR(VLOOKUP($A3,'2'!$1:$1048576,MATCH(D$1,'2'!$1:$1,0),FALSE),"") | F3: =IFERROR(+C3+D3-E3,"") | G3: =IFERROR(VLOOKUP($A3,'2'!$1:$1048576,MATCH(G$1,'2'!$1:$1,0),FALSE),"") | I3: =IFERROR(+F3+G3-H3,"") | J3: =IFERROR(VLOOKUP($A3,'2'!$1:$1048576,MATCH(J$1,'2'!$1:$1,0),FALSE),"") | L3: =IFERROR(+I3+J3-K3,"") | M3: =IFERROR(VLOOKUP($A3,'2'!$1:$1048576,MATCH(M$1,'2'!$1:$1,0),FALSE),"") | O3: =IFERROR(+L3+M3-N3,"") | P3: =IFERROR(VLOOKUP($A3,'2'!$1:$1048576,MATCH(P$1,'2'!$1:$1,0),FALSE),"") | R3: =IFERROR(+O3+P3-Q3,"") | S3: =IFERROR(VLOOKUP($A3,'2'!$1:$1048576,MATCH(S$1,'2'!$1:$1,0),FALSE),"") | U3: =IFERROR(+R3+S3-T3,"") | V3: =IFERROR(VLOOKUP($A3,'2'!$1:$1048576,MATCH(V$1,'2'!$1:$1,0),FALSE),"") | X3: =IFERROR(+U3+V3-W3,"") | Y3: =IFERROR(VLOOKUP($A3,'2'!$1:$1048576,MATCH(Y$1,'2'!$1:$1,0),FALSE),"") | AA3: =IFERROR(+X3+Y3-Z3,"") | AB3: =IFERROR(VLOOKUP($A3,'2'!$1:$1048576,MATCH(AB$1,'2'!$1:$1,0),FALSE),"") | AD3: =IFERROR(+AA3+AB3-AC3,"") | AE3: =IFERROR(VLOOKUP($A3,'2'!$1:$1048576,MATCH(AE$1,'2'!$1:$1,0),FALSE),"") | AG3: =IFERROR(+AD3+AE3-AF3,"") | AH3: =IFERROR(VLOOKUP($A3,'2'!$1:$1048576,MATCH(AH$1,'2'!$1:$1,0),FALSE),"") | AJ3: =IFERROR(+AG3+AH3-AI3,"") | AK3: =IFERROR(VLOOKUP($A3,'2'!$1:$1048576,MATCH(AK$1,'2'!$1:$1,0),FALSE),"") | AM3: =IFERROR(+AJ3+AK3-AL3,"") | AN3: =IFERROR(+F3+I3+L3+O3+R3+U3+X3+AA3+AD3+AG3+AJ3+AM3,"")
A4: =IF('2'!O4<>"",'2'!A4,"") | B4: =IFERROR(VLOOKUP(A4,'2'!A:B,3,FALSE),"") | D4: =IFERROR(VLOOKUP($A4,'2'!$1:$1048576,MATCH(D$1,'2'!$1:$1,0),FALSE),"") | F4: =IFERROR(+C4+D4-E4,"") | G4: =IFERROR(VLOOKUP($A4,'2'!$1:$1048576,MATCH(G$1,'2'!$1:$1,0),FALSE),"") | I4: =IFERROR(+F4+G4-H4,"") | J4: =IFERROR(VLOOKUP($A4,'2'!$1:$1048576,MATCH(J$1,'2'!$1:$1,0),FALSE),"") | L4: =IFERROR(+I4+J4-K4,"") | M4: =IFERROR(VLOOKUP($A4,'2'!$1:$1048576,MATCH(M$1,'2'!$1:$1,0),FALSE),"") | O4: =IFERROR(+L4+M4-N4,"") | P4: =IFERROR(VLOOKUP($A4,'2'!$1:$1048576,MATCH(P$1,'2'!$1:$1,0),FALSE),"") | R4: =IFERROR(+O4+P4-Q4,"") | S4: =IFERROR(VLOOKUP($A4,'2'!$1:$1048576,MATCH(S$1,'2'!$1:$1,0),FALSE),"") | U4: =IFERROR(+R4+S4-T4,"") | V4: =IFERROR(VLOOKUP($A4,'2'!$1:$1048576,MATCH(V$1,'2'!$1:$1,0),FALSE),"") | X4: =IFERROR(+U4+V4-W4,"") | Y4: =IFERROR(VLOOKUP($A4,'2'!$1:$1048576,MATCH(Y$1,'2'!$1:$1,0),FALSE),"") | AA4: =IFERROR(+X4+Y4-Z4,"") | AB4: =IFERROR(VLOOKUP($A4,'2'!$1:$1048576,MATCH(AB$1,'2'!$1:$1,0),FALSE),"") | AD4: =IFERROR(+AA4+AB4-AC4,"") | AE4: =IFERROR(VLOOKUP($A4,'2'!$1:$1048576,MATCH(AE$1,'2'!$1:$1,0),FALSE),"") | AG4: =IFERROR(+AD4+AE4-AF4,"") | AH4: =IFERROR(VLOOKUP($A4,'2'!$1:$1048576,MATCH(AH$1,'2'!$1:$1,0),FALSE),"") | AJ4: =IFERROR(+AG4+AH4-AI4,"") | AK4: =IFERROR(VLOOKUP($A4,'2'!$1:$1048576,MATCH(AK$1,'2'!$1:$1,0),FALSE),"") | AM4: =IFERROR(+AJ4+AK4-AL4,"") | AN4: =IFERROR(+F4+I4+L4+O4+R4+U4+X4+AA4+AD4+AG4+AJ4+AM4,"")
A5: =IF('2'!O5<>"",'2'!A5,"") | B5: =IFERROR(VLOOKUP(A5,'2'!A:B,3,FALSE),"") | D5: =IFERROR(VLOOKUP($A5,'2'!$1:$1048576,MATCH(D$1,'2'!$1:$1,0),FALSE),"") | F5: =IFERROR(+C5+D5-E5,"") | G5: =IFERROR(VLOOKUP($A5,'2'!$1:$1048576,MATCH(G$1,'2'!$1:$1,0),FALSE),"") | I5: =IFERROR(+F5+G5-H5,"") | J5: =IFERROR(VLOOKUP($A5,'2'!$1:$1048576,MATCH(J$1,'2'!$1:$1,0),FALSE),"") | L5: =IFERROR(+I5+J5-K5,"") | M5: =IFERROR(VLOOKUP($A5,'2'!$1:$1048576,MATCH(M$1,'2'!$1:$1,0),FALSE),"") | O5: =IFERROR(+L5+M5-N5,"") | P5: =IFERROR(VLOOKUP($A5,'2'!$1:$1048576,MATCH(P$1,'2'!$1:$1,0),FALSE),"") | R5: =IFERROR(+O5+P5-Q5,"") | S5: =IFERROR(VLOOKUP($A5,'2'!$1:$1048576,MATCH(S$1,'2'!$1:$1,0),FALSE),"") | U5: =IFERROR(+R5+S5-T5,"") | V5: =IFERROR(VLOOKUP($A5,'2'!$1:$1048576,MATCH(V$1,'2'!$1:$1,0),FALSE),"") | X5: =IFERROR(+U5+V5-W5,"") | Y5: =IFERROR(VLOOKUP($A5,'2'!$1:$1048576,MATCH(Y$1,'2'!$1:$1,0),FALSE),"") | AA5: =IFERROR(+X5+Y5-Z5,"") | AB5: =IFERROR(VLOOKUP($A5,'2'!$1:$1048576,MATCH(AB$1,'2'!$1:$1,0),FALSE),"") | AD5: =IFERROR(+AA5+AB5-AC5,"") | AE5: =IFERROR(VLOOKUP($A5,'2'!$1:$1048576,MATCH(AE$1,'2'!$1:$1,0),FALSE),"") | AG5: =IFERROR(+AD5+AE5-AF5,"") | AH5: =IFERROR(VLOOKUP($A5,'2'!$1:$1048576,MATCH(AH$1,'2'!$1:$1,0),FALSE),"") | AJ5: =IFERROR(+AG5+AH5-AI5,"") | AK5: =IFERROR(VLOOKUP($A5,'2'!$1:$1048576,MATCH(AK$1,'2'!$1:$1,0),FALSE),"") | AM5: =IFERROR(+AJ5+AK5-AL5,"") | AN5: =IFERROR(+F5+I5+L5+O5+R5+U5+X5+AA5+AD5+AG5+AJ5+AM5,"")
A6: =IF('2'!O6<>"",'2'!A6,"") | B6: =IFERROR(VLOOKUP(A6,'2'!A:B,3,FALSE),"") | D6: =IFERROR(VLOOKUP($A6,'2'!$1:$1048576,MATCH(D$1,'2'!$1:$1,0),FALSE),"") | F6: =IFERROR(+C6+D6-E6,"") | G6: =IFERROR(VLOOKUP($A6,'2'!$1:$1048576,MATCH(G$1,'2'!$1:$1,0),FALSE),"") | I6: =IFERROR(+F6+G6-H6,"") | J6: =IFERROR(VLOOKUP($A6,'2'!$1:$1048576,MATCH(J$1,'2'!$1:$1,0),FALSE),"") | L6: =IFERROR(+I6+J6-K6,"") | M6: =IFERROR(VLOOKUP($A6,'2'!$1:$1048576,MATCH(M$1,'2'!$1:$1,0),FALSE),"") | O6: =IFERROR(+L6+M6-N6,"") | P6: =IFERROR(VLOOKUP($A6,'2'!$1:$1048576,MATCH(P$1,'2'!$1:$1,0),FALSE),"") | R6: =IFERROR(+O6+P6-Q6,"") | S6: =IFERROR(VLOOKUP($A6,'2'!$1:$1048576,MATCH(S$1,'2'!$1:$1,0),FALSE),"") | U6: =IFERROR(+R6+S6-T6,"") | V6: =IFERROR(VLOOKUP($A6,'2'!$1:$1048576,MATCH(V$1,'2'!$1:$1,0),FALSE),"") | X6: =IFERROR(+U6+V6-W6,"") | Y6: =IFERROR(VLOOKUP($A6,'2'!$1:$1048576,MATCH(Y$1,'2'!$1:$1,0),FALSE),"") | AA6: =IFERROR(+X6+Y6-Z6,"") | AB6: =IFERROR(VLOOKUP($A6,'2'!$1:$1048576,MATCH(AB$1,'2'!$1:$1,0),FALSE),"") | AD6: =IFERROR(+AA6+AB6-AC6,"") | AE6: =IFERROR(VLOOKUP($A6,'2'!$1:$1048576,MATCH(AE$1,'2'!$1:$1,0),FALSE),"") | AG6: =IFERROR(+AD6+AE6-AF6,"") | AH6: =IFERROR(VLOOKUP($A6,'2'!$1:$1048576,MATCH(AH$1,'2'!$1:$1,0),FALSE),"") | AJ6: =IFERROR(+AG6+AH6-AI6,"") | AK6: =IFERROR(VLOOKUP($A6,'2'!$1:$1048576,MATCH(AK$1,'2'!$1:$1,0),FALSE),"") | AM6: =IFERROR(+AJ6+AK6-AL6,"") | AN6: =IFERROR(+F6+I6+L6+O6+R6+U6+X6+AA6+AD6+AG6+AJ6+AM6,"")
A7: =IF('2'!O7<>"",'2'!A7,"") | B7: =IFERROR(VLOOKUP(A7,'2'!A:B,3,FALSE),"") | D7: =IFERROR(VLOOKUP($A7,'2'!$1:$1048576,MATCH(D$1,'2'!$1:$1,0),FALSE),"") | F7: =IFERROR(+C7+D7-E7,"") | G7: =IFERROR(VLOOKUP($A7,'2'!$1:$1048576,MATCH(G$1,'2'!$1:$1,0),FALSE),"") | I7: =IFERROR(+F7+G7-H7,"") | J7: =IFERROR(VLOOKUP($A7,'2'!$1:$1048576,MATCH(J$1,'2'!$1:$1,0),FALSE),"") | L7: =IFERROR(+I7+J7-K7,"") | M7: =IFERROR(VLOOKUP($A7,'2'!$1:$1048576,MATCH(M$1,'2'!$1:$1,0),FALSE),"") | O7: =IFERROR(+L7+M7-N7,"") | P7: =IFERROR(VLOOKUP($A7,'2'!$1:$1048576,MATCH(P$1,'2'!$1:$1,0),FALSE),"") | R7: =IFERROR(+O7+P7-Q7,"") | S7: =IFERROR(VLOOKUP($A7,'2'!$1:$1048576,MATCH(S$1,'2'!$1:$1,0),FALSE),"") | U7: =IFERROR(+R7+S7-T7,"") | V7: =IFERROR(VLOOKUP($A7,'2'!$1:$1048576,MATCH(V$1,'2'!$1:$1,0),FALSE),"") | X7: =IFERROR(+U7+V7-W7,"") | Y7: =IFERROR(VLOOKUP($A7,'2'!$1:$1048576,MATCH(Y$1,'2'!$1:$1,0),FALSE),"") | AA7: =IFERROR(+X7+Y7-Z7,"") | AB7: =IFERROR(VLOOKUP($A7,'2'!$1:$1048576,MATCH(AB$1,'2'!$1:$1,0),FALSE),"") | AD7: =IFERROR(+AA7+AB7-AC7,"") | AE7: =IFERROR(VLOOKUP($A7,'2'!$1:$1048576,MATCH(AE$1,'2'!$1:$1,0),FALSE),"") | AG7: =IFERROR(+AD7+AE7-AF7,"") | AH7: =IFERROR(VLOOKUP($A7,'2'!$1:$1048576,MATCH(AH$1,'2'!$1:$1,0),FALSE),"") | AJ7: =IFERROR(+AG7+AH7-AI7,"") | AK7: =IFERROR(VLOOKUP($A7,'2'!$1:$1048576,MATCH(AK$1,'2'!$1:$1,0),FALSE),"") | AM7: =IFERROR(+AJ7+AK7-AL7,"") | AN7: =IFERROR(+F7+I7+L7+O7+R7+U7+X7+AA7+AD7+AG7+AJ7+AM7,"")
A8: =IF('2'!O8<>"",'2'!A8,"") | B8: =IFERROR(VLOOKUP(A8,'2'!A:B,3,FALSE),"") | D8: =IFERROR(VLOOKUP($A8,'2'!$1:$1048576,MATCH(D$1,'2'!$1:$1,0),FALSE),"") | F8: =IFERROR(+C8+D8-E8,"") | G8: =IFERROR(VLOOKUP($A8,'2'!$1:$1048576,MATCH(G$1,'2'!$1:$1,0),FALSE),"") | I8: =IFERROR(+F8+G8-H8,"") | J8: =IFERROR(VLOOKUP($A8,'2'!$1:$1048576,MATCH(J$1,'2'!$1:$1,0),FALSE),"") | L8: =IFERROR(+I8+J8-K8,"") | M8: =IFERROR(VLOOKUP($A8,'2'!$1:$1048576,MATCH(M$1,'2'!$1:$1,0),FALSE),"") | O8: =IFERROR(+L8+M8-N8,"") | P8: =IFERROR(VLOOKUP($A8,'2'!$1:$1048576,MATCH(P$1,'2'!$1:$1,0),FALSE),"") | R8: =IFERROR(+O8+P8-Q8,"") | S8: =IFERROR(VLOOKUP($A8,'2'!$1:$1048576,MATCH(S$1,'2'!$1:$1,0),FALSE),"") | U8: =IFERROR(+R8+S8-T8,"") | V8: =IFERROR(VLOOKUP($A8,'2'!$1:$1048576,MATCH(V$1,'2'!$1:$1,0),FALSE),"") | X8: =IFERROR(+U8+V8-W8,"") | Y8: =IFERROR(VLOOKUP($A8,'2'!$1:$1048576,MATCH(Y$1,'2'!$1:$1,0),FALSE),"") | AA8: =IFERROR(+X8+Y8-Z8,"") | AB8: =IFERROR(VLOOKUP($A8,'2'!$1:$1048576,MATCH(AB$1,'2'!$1:$1,0),FALSE),"") | AD8: =IFERROR(+AA8+AB8-AC8,"") | AE8: =IFERROR(VLOOKUP($A8,'2'!$1:$1048576,MATCH(AE$1,'2'!$1:$1,0),FALSE),"") | AG8: =IFERROR(+AD8+AE8-AF8,"") | AH8: =IFERROR(VLOOKUP($A8,'2'!$1:$1048576,MATCH(AH$1,'2'!$1:$1,0),FALSE),"") | AJ8: =IFERROR(+AG8+AH8-AI8,"") | AK8: =IFERROR(VLOOKUP($A8,'2'!$1:$1048576,MATCH(AK$1,'2'!$1:$1,0),FALSE),"") | AM8: =IFERROR(+AJ8+AK8-AL8,"") | AN8: =IFERROR(+F8+I8+L8+O8+R8+U8+X8+AA8+AD8+AG8+AJ8+AM8,"")
A9: =IF('2'!O9<>"",'2'!A9,"") | B9: =IFERROR(VLOOKUP(A9,'2'!A:B,3,FALSE),"") | D9: =IFERROR(VLOOKUP($A9,'2'!$1:$1048576,MATCH(D$1,'2'!$1:$1,0),FALSE),"") | F9: =IFERROR(+C9+D9-E9,"") | G9: =IFERROR(VLOOKUP($A9,'2'!$1:$1048576,MATCH(G$1,'2'!$1:$1,0),FALSE),"") | I9: =IFERROR(+F9+G9-H9,"") | J9: =IFERROR(VLOOKUP($A9,'2'!$1:$1048576,MATCH(J$1,'2'!$1:$1,0),FALSE),"") | L9: =IFERROR(+I9+J9-K9,"") | M9: =IFERROR(VLOOKUP($A9,'2'!$1:$1048576,MATCH(M$1,'2'!$1:$1,0),FALSE),"") | O9: =IFERROR(+L9+M9-N9,"") | P9: =IFERROR(VLOOKUP($A9,'2'!$1:$1048576,MATCH(P$1,'2'!$1:$1,0),FALSE),"") | R9: =IFERROR(+O9+P9-Q9,"") | S9: =IFERROR(VLOOKUP($A9,'2'!$1:$1048576,MATCH(S$1,'2'!$1:$1,0),FALSE),"") | U9: =IFERROR(+R9+S9-T9,"") | V9: =IFERROR(VLOOKUP($A9,'2'!$1:$1048576,MATCH(V$1,'2'!$1:$1,0),FALSE),"") | X9: =IFERROR(+U9+V9-W9,"") | Y9: =IFERROR(VLOOKUP($A9,'2'!$1:$1048576,MATCH(Y$1,'2'!$1:$1,0),FALSE),"") | AA9: =IFERROR(+X9+Y9-Z9,"") | AB9: =IFERROR(VLOOKUP($A9,'2'!$1:$1048576,MATCH(AB$1,'2'!$1:$1,0),FALSE),"") | AD9: =IFERROR(+AA9+AB9-AC9,"") | AE9: =IFERROR(VLOOKUP($A9,'2'!$1:$1048576,MATCH(AE$1,'2'!$1:$1,0),FALSE),"") | AG9: =IFERROR(+AD9+AE9-AF9,"") | AH9: =IFERROR(VLOOKUP($A9,'2'!$1:$1048576,MATCH(AH$1,'2'!$1:$1,0),FALSE),"") | AJ9: =IFERROR(+AG9+AH9-AI9,"") | AK9: =IFERROR(VLOOKUP($A9,'2'!$1:$1048576,MATCH(AK$1,'2'!$1:$1,0),FALSE),"") | AM9: =IFERROR(+AJ9+AK9-AL9,"") | AN9: =IFERROR(+F9+I9+L9+O9+R9+U9+X9+AA9+AD9+AG9+AJ9+AM9,"")
A10: =IF('2'!O10<>"",'2'!A10,"") | B10: =IFERROR(VLOOKUP(A10,'2'!A:B,3,FALSE),"") | D10: =IFERROR(VLOOKUP($A10,'2'!$1:$1048576,MATCH(D$1,'2'!$1:$1,0),FALSE),"") | F10: =IFERROR(+C10+D10-E10,"") | G10: =IFERROR(VLOOKUP($A10,'2'!$1:$1048576,MATCH(G$1,'2'!$1:$1,0),FALSE),"") | I10: =IFERROR(+F10+G10-H10,"") | J10: =IFERROR(VLOOKUP($A10,'2'!$1:$1048576,MATCH(J$1,'2'!$1:$1,0),FALSE),"") | L10: =IFERROR(+I10+J10-K10,"") | M10: =IFERROR(VLOOKUP($A10,'2'!$1:$1048576,MATCH(M$1,'2'!$1:$1,0),FALSE),"") | O10: =IFERROR(+L10+M10-N10,"") | P10: =IFERROR(VLOOKUP($A10,'2'!$1:$1048576,MATCH(P$1,'2'!$1:$1,0),FALSE),"") | R10: =IFERROR(+O10+P10-Q10,"") | S10: =IFERROR(VLOOKUP($A10,'2'!$1:$1048576,MATCH(S$1,'2'!$1:$1,0),FALSE),"") | U10: =IFERROR(+R10+S10-T10,"") | V10: =IFERROR(VLOOKUP($A10,'2'!$1:$1048576,MATCH(V$1,'2'!$1:$1,0),FALSE),"") | X10: =IFERROR(+U10+V10-W10,"") | Y10: =IFERROR(VLOOKUP($A10,'2'!$1:$1048576,MATCH(Y$1,'2'!$1:$1,0),FALSE),"") | AA10: =IFERROR(+X10+Y10-Z10,"") | AB10: =IFERROR(VLOOKUP($A10,'2'!$1:$1048576,MATCH(AB$1,'2'!$1:$1,0),FALSE),"") | AD10: =IFERROR(+AA10+AB10-AC10,"") | AE10: =IFERROR(VLOOKUP($A10,'2'!$1:$1048576,MATCH(AE$1,'2'!$1:$1,0),FALSE),"") | AG10: =IFERROR(+AD10+AE10-AF10,"") | AH10: =IFERROR(VLOOKUP($A10,'2'!$1:$1048576,MATCH(AH$1,'2'!$1:$1,0),FALSE),"") | AJ10: =IFERROR(+AG10+AH10-AI10,"") | AK10: =IFERROR(VLOOKUP($A10,'2'!$1:$1048576,MATCH(AK$1,'2'!$1:$1,0),FALSE),"") | AM10: =IFERROR(+AJ10+AK10-AL10,"") | AN10: =IFERROR(+F10+I10+L10+O10+R10+U10+X10+AA10+AD10+AG10+AJ10+AM10,"")
A11: =IF('2'!O11<>"",'2'!A11,"") | B11: =IFERROR(VLOOKUP(A11,'2'!A:B,3,FALSE),"") | D11: =IFERROR(VLOOKUP($A11,'2'!$1:$1048576,MATCH(D$1,'2'!$1:$1,0),FALSE),"") | F11: =IFERROR(+C11+D11-E11,"") | G11: =IFERROR(VLOOKUP($A11,'2'!$1:$1048576,MATCH(G$1,'2'!$1:$1,0),FALSE),"") | I11: =IFERROR(+F11+G11-H11,"") | J11: =IFERROR(VLOOKUP($A11,'2'!$1:$1048576,MATCH(J$1,'2'!$1:$1,0),FALSE),"") | L11: =IFERROR(+I11+J11-K11,"") | M11: =IFERROR(VLOOKUP($A11,'2'!$1:$1048576,MATCH(M$1,'2'!$1:$1,0),FALSE),"") | O11: =IFERROR(+L11+M11-N11,"") | P11: =IFERROR(VLOOKUP($A11,'2'!$1:$1048576,MATCH(P$1,'2'!$1:$1,0),FALSE),"") | R11: =IFERROR(+O11+P11-Q11,"") | S11: =IFERROR(VLOOKUP($A11,'2'!$1:$1048576,MATCH(S$1,'2'!$1:$1,0),FALSE),"") | U11: =IFERROR(+R11+S11-T11,"") | V11: =IFERROR(VLOOKUP($A11,'2'!$1:$1048576,MATCH(V$1,'2'!$1:$1,0),FALSE),"") | X11: =IFERROR(+U11+V11-W11,"") | Y11: =IFERROR(VLOOKUP($A11,'2'!$1:$1048576,MATCH(Y$1,'2'!$1:$1,0),FALSE),"") | AA11: =IFERROR(+X11+Y11-Z11,"") | AB11: =IFERROR(VLOOKUP($A11,'2'!$1:$1048576,MATCH(AB$1,'2'!$1:$1,0),FALSE),"") | AD11: =IFERROR(+AA11+AB11-AC11,"") | AE11: =IFERROR(VLOOKUP($A11,'2'!$1:$1048576,MATCH(AE$1,'2'!$1:$1,0),FALSE),"") | AG11: =IFERROR(+AD11+AE11-AF11,"") | AH11: =IFERROR(VLOOKUP($A11,'2'!$1:$1048576,MATCH(AH$1,'2'!$1:$1,0),FALSE),"") | AJ11: =IFERROR(+AG11+AH11-AI11,"") | AK11: =IFERROR(VLOOKUP($A11,'2'!$1:$1048576,MATCH(AK$1,'2'!$1:$1,0),FALSE),"") | AM11: =IFERROR(+AJ11+AK11-AL11,"") | AN11: =IFERROR(+F11+I11+L11+O11+R11+U11+X11+AA11+AD11+AG11+AJ11+AM11,"")
A12: =IF('2'!O12<>"",'2'!A12,"") | B12: =IFERROR(VLOOKUP(A12,'2'!A:B,3,FALSE),"") | D12: =IFERROR(VLOOKUP($A12,'2'!$1:$1048576,MATCH(D$1,'2'!$1:$1,0),FALSE),"") | F12: =IFERROR(+C12+D12-E12,"") | G12: =IFERROR(VLOOKUP($A12,'2'!$1:$1048576,MATCH(G$1,'2'!$1:$1,0),FALSE),"") | I12: =IFERROR(+F12+G12-H12,"") | J12: =IFERROR(VLOOKUP($A12,'2'!$1:$1048576,MATCH(J$1,'2'!$1:$1,0),FALSE),"") | L12: =IFERROR(+I12+J12-K12,"") | M12: =IFERROR(VLOOKUP($A12,'2'!$1:$1048576,MATCH(M$1,'2'!$1:$1,0),FALSE),"") | O12: =IFERROR(+L12+M12-N12,"") | P12: =IFERROR(VLOOKUP($A12,'2'!$1:$1048576,MATCH(P$1,'2'!$1:$1,0),FALSE),"") | R12: =IFERROR(+O12+P12-Q12,"") | S12: =IFERROR(VLOOKUP($A12,'2'!$1:$1048576,MATCH(S$1,'2'!$1:$1,0),FALSE),"") | U12: =IFERROR(+R12+S12-T12,"") | V12: =IFERROR(VLOOKUP($A12,'2'!$1:$1048576,MATCH(V$1,'2'!$1:$1,0),FALSE),"") | X12: =IFERROR(+U12+V12-W12,"") | Y12: =IFERROR(VLOOKUP($A12,'2'!$1:$1048576,MATCH(Y$1,'2'!$1:$1,0),FALSE),"") | AA12: =IFERROR(+X12+Y12-Z12,"") | AB12: =IFERROR(VLOOKUP($A12,'2'!$1:$1048576,MATCH(AB$1,'2'!$1:$1,0),FALSE),"") | AD12: =IFERROR(+AA12+AB12-AC12,"") | AE12: =IFERROR(VLOOKUP($A12,'2'!$1:$1048576,MATCH(AE$1,'2'!$1:$1,0),FALSE),"") | AG12: =IFERROR(+AD12+AE12-AF12,"") | AH12: =IFERROR(VLOOKUP($A12,'2'!$1:$1048576,MATCH(AH$1,'2'!$1:$1,0),FALSE),"") | AJ12: =IFERROR(+AG12+AH12-AI12,"") | AK12: =IFERROR(VLOOKUP($A12,'2'!$1:$1048576,MATCH(AK$1,'2'!$1:$1,0),FALSE),"") | AM12: =IFERROR(+AJ12+AK12-AL12,"") | AN12: =IFERROR(+F12+I12+L12+O12+R12+U12+X12+AA12+AD12+AG12+AJ12+AM12,"")
A13: =IF('2'!O13<>"",'2'!A13,"") | B13: =IFERROR(VLOOKUP(A13,'2'!A:B,3,FALSE),"") | D13: =IFERROR(VLOOKUP($A13,'2'!$1:$1048576,MATCH(D$1,'2'!$1:$1,0),FALSE),"") | F13: =IFERROR(+C13+D13-E13,"") | G13: =IFERROR(VLOOKUP($A13,'2'!$1:$1048576,MATCH(G$1,'2'!$1:$1,0),FALSE),"") | I13: =IFERROR(+F13+G13-H13,"") | J13: =IFERROR(VLOOKUP($A13,'2'!$1:$1048576,MATCH(J$1,'2'!$1:$1,0),FALSE),"") | L13: =IFERROR(+I13+J13-K13,"") | M13: =IFERROR(VLOOKUP($A13,'2'!$1:$1048576,MATCH(M$1,'2'!$1:$1,0),FALSE),"") | O13: =IFERROR(+L13+M13-N13,"") | P13: =IFERROR(VLOOKUP($A13,'2'!$1:$1048576,MATCH(P$1,'2'!$1:$1,0),FALSE),"") | R13: =IFERROR(+O13+P13-Q13,"") | S13: =IFERROR(VLOOKUP($A13,'2'!$1:$1048576,MATCH(S$1,'2'!$1:$1,0),FALSE),"") | U13: =IFERROR(+R13+S13-T13,"") | V13: =IFERROR(VLOOKUP($A13,'2'!$1:$1048576,MATCH(V$1,'2'!$1:$1,0),FALSE),"") | X13: =IFERROR(+U13+V13-W13,"") | Y13: =IFERROR(VLOOKUP($A13,'2'!$1:$1048576,MATCH(Y$1,'2'!$1:$1,0),FALSE),"") | AA13: =IFERROR(+X13+Y13-Z13,"") | AB13: =IFERROR(VLOOKUP($A13,'2'!$1:$1048576,MATCH(AB$1,'2'!$1:$1,0),FALSE),"") | AD13: =IFERROR(+AA13+AB13-AC13,"") | AE13: =IFERROR(VLOOKUP($A13,'2'!$1:$1048576,MATCH(AE$1,'2'!$1:$1,0),FALSE),"") | AG13: =IFERROR(+AD13+AE13-AF13,"") | AH13: =IFERROR(VLOOKUP($A13,'2'!$1:$1048576,MATCH(AH$1,'2'!$1:$1,0),FALSE),"") | AJ13: =IFERROR(+AG13+AH13-AI13,"") | AK13: =IFERROR(VLOOKUP($A13,'2'!$1:$1048576,MATCH(AK$1,'2'!$1:$1,0),FALSE),"") | AM13: =IFERROR(+AJ13+AK13-AL13,"") | AN13: =IFERROR(+F13+I13+L13+O13+R13+U13+X13+AA13+AD13+AG13+AJ13+AM13,"")
... A94: =IF('2'!O94<>"",'2'!A94,"") | B94: =IFERROR(VLOOKUP(A94,'2'!A:B,3,FALSE),"") | D94: =IFERROR(VLOOKUP($A94,'2'!$1:$1048576,MATCH(D$1,'2'!$1:$1,0),FALSE),"") | F94: =IFERROR(+C94+D94-E94,"") | G94: =IFERROR(VLOOKUP($A94,'2'!$1:$1048576,MATCH(G$1,'2'!$1:$1,0),FALSE),"") | I94: =IFERROR(+F94+G94-H94,"") | J94: =IFERROR(VLOOKUP($A94,'2'!$1:$1048576,MATCH(J$1,'2'!$1:$1,0),FALSE),"") | L94: =IFERROR(+I94+J94-K94,"") | M94: =IFERROR(VLOOKUP($A94,'2'!$1:$1048576,MATCH(M$1,'2'!$1:$1,0),FALSE),"") | O94: =IFERROR(+L94+M94-N94,"") | P94: =IFERROR(VLOOKUP($A94,'2'!$1:$1048576,MATCH(P$1,'2'!$1:$1,0),FALSE),"") | R94: =IFERROR(+O94+P94-Q94,"") | S94: =IFERROR(VLOOKUP($A94,'2'!$1:$1048576,MATCH(S$1,'2'!$1:$1,0),FALSE),"") | U94: =IFERROR(+R94+S94-T94,"") | V94: =IFERROR(VLOOKUP($A94,'2'!$1:$1048576,MATCH(V$1,'2'!$1:$1,0),FALSE),"") | X94: =IFERROR(+U94+V94-W94,"") | Y94: =IFERROR(VLOOKUP($A94,'2'!$1:$1048576,MATCH(Y$1,'2'!$1:$1,0),FALSE),"") | AA94: =IFERROR(+X94+Y94-Z94,"") | AB94: =IFERROR(VLOOKUP($A94,'2'!$1:$1048576,MATCH(AB$1,'2'!$1:$1,0),FALSE),"") | AD94: =IFERROR(+AA94+AB94-AC94,"") | AE94: =IFERROR(VLOOKUP($A94,'2'!$1:$1048576,MATCH(AE$1,'2'!$1:$1,0),FALSE),"") | AG94: =IFERROR(+AD94+AE94-AF94,"") | AH94: =IFERROR(VLOOKUP($A94,'2'!$1:$1048576,MATCH(AH$1,'2'!$1:$1,0),FALSE),"") | AJ94: =IFERROR(+AG94+AH94-AI94,"") | AK94: =IFERROR(VLOOKUP($A94,'2'!$1:$1048576,MATCH(AK$1,'2'!$1:$1,0),FALSE),"") | AM94: =IFERROR(+AJ94+AK94-AL94,"") | AN94: =IFERROR(+F94+I94+L94+O94+R94+U94+X94+AA94+AD94+AG94+AJ94+AM94,"")
A95: =IF('2'!O95<>"",'2'!A95,"") | B95: =IFERROR(VLOOKUP(A95,'2'!A:B,3,FALSE),"")
A96: =IF('2'!O96<>"",'2'!A96,"") | B96: =IFERROR(VLOOKUP(A96,'2'!A:B,3,FALSE),"")
A97: =IF('2'!O97<>"",'2'!A97,"") | B97: =IFERROR(VLOOKUP(A97,'2'!A:B,3,FALSE),"")
A98: =IF('2'!O98<>"",'2'!A98,"") -> EM0099 | B98: =IFERROR(VLOOKUP(A98,'2'!A:B,3,FALSE),"")
A99: =IF('2'!O99<>"",'2'!A99,"") | B99: =IFERROR(VLOOKUP(A99,'2'!A:B,3,FALSE),"")
A100: =IF('2'!O100<>"",'2'!A100,"") | B100: =IFERROR(VLOOKUP(A100,'2'!A:B,3,FALSE),"")
A101: =IF('2'!O101<>"",'2'!A101,"") | B101: =IFERROR(VLOOKUP(A101,'2'!A:B,3,FALSE),"")
A102: =IF('2'!O102<>"",'2'!A102,"") | B102: =IFERROR(VLOOKUP(A102,'2'!A:B,3,FALSE),"")
A103: =IF('2'!O103<>"",'2'!A103,"") | B103: =IFERROR(VLOOKUP(A103,'2'!A:B,3,FALSE),"")
A104: =IF('2'!O104<>"",'2'!A104,"") | B104: =IFERROR(VLOOKUP(A104,'2'!A:B,3,FALSE),"")
A105: =IF('2'!O105<>"",'2'!A105,"") | B105: =IFERROR(VLOOKUP(A105,'2'!A:B,3,FALSE),"")
A106: =IF('2'!O106<>"",'2'!A106,"") | B106: =IFERROR(VLOOKUP(A106,'2'!A:B,3,FALSE),"")
... A200: =IF('2'!O200<>"",'2'!A200,"") | B200: =IFERROR(VLOOKUP(A200,'2'!A:B,3,FALSE),"")

Sheet Article
A1: ITMREF_0 | B1: ITMDES1_0 | C1: STU_0 | D1: TCLCOD_0 | E1: TCLDES_0 | F1: ITMSTA_0 | G1: TSICOD_0
A2: EM0001 | B2: CARTON 1KG PF 25 370*370*205 | C2: UN | D2: EM | E2: Emballages | F2: 1 | G2: ROY
A3: EM0002 | B3: CARTON 400GR PF 24 295*227*165 | C3: UN | D3: EM | E3: Emballages | F3: 1 | G3: ROY
A4: EM0003 | B4: CARTON 500GR PF 18 250*245*169 | C4: UN | D4: EM | E4: Emballages | F4: 1 | G4: ROY
A5: EM0004 | B5: CARTON 1 KG N/PARF 25 | C5: UN | D5: EM | E5: Emballages | F5: 1 | G5: ROY
A6: EM0005 | B6: CARTON 400GR NPF24 295*227*165 | C6: UN | D6: EM | E6: Emballages | F6: 1 | G6: ROY
A7: EM0006 | B7: CARTON 500GR NPF18 250*245*169 | C7: UN | D7: EM | E7: Emballages | F7: 1 | G7: ROY
A8: EM0007 | B8: CARTON 1KG PF 12 295*227*205 | C8: UN | D8: EM | E8: Emballages | F8: 1 | G8: ROY
A9: EM0008 | B9: CARTON 1KG NPF 12 295*227*205 | C9: UN | D9: EM | E9: Emballages | F9: 1 | G9: ROY
A10: EM0009 | B10: CARTON 500 GR PARF 50 | C10: UN | D10: EM | E10: Emballages | F10: 1 | G10: ROY
A11: EM0010 | B11: CARTON 500 GR N/PARF 50 | C11: UN | D11: EM | E11: Emballages | F11: 1 | G11: ROY
A12: EM0011 | B12: CARTON 500GR PF24 295*227*205 | C12: UN | D12: EM | E12: Emballages | F12: 1 | G12: ROY
A13: EM0012 | B13: CART 500GR NPF24 295*227*205 | C13: UN | D13: EM | E13: Emballages | F13: 1 | G13: ROY
... A209: EM0210 | B209: CARTON BAITY MAÏS 1L | C209: UN | D209: EM | E209: Emballages | F209: 1 | G209: EXP
A210: EM0211 | B210: BIDON EN PLAS ALIMENTAIRE 20L | C210: UN | D210: EM | E210: Emballages | F210: 1
A211: EM0212 | B211: ETIQUETTE NEJMA PRO 20L | C211: UN | D211: EM | E211: Emballages | F211: 1 | G211: NEJ
A212: EM0213 | B212: ETIQUETTE NEJMA SOJA 20L | C212: UN | D212: EM | E212: Emballages | F212: 1 | G212: NEJ
A213: EM0214 | B213: ETIQUETTE GOLDINA MAÏS 1.8L | C213: UN | D213: EM | E213: Emballages | F213: 1 | G213: EXP
A214: EM0215 | B214: CARTON GOLDINA MAÏS 1.8L | C214: UN | D214: EM | E214: Emballages | F214: 1 | G214: EXP
A215: EM0216 | B215: CARTON GOLDINA MAÏS 3L | C215: UN | D215: EM | E215: Emballages | F215: 1 | G215: EXP
A216: EM0217 | B216: ETIQUETTE GOLDINA MAÏS 3L | C216: UN | D216: EM | E216: Emballages | F216: 1 | G216: EXP
A217: EM0218 | B217: CARTON HABIBA TOURNESOL 1.8L | C217: UN | D217: EM | E217: Emballages | F217: 1 | G217: EXP
A218: EM0219 | B218: ETIQUETTE HABIBA TOURNESOL1.8L | C218: UN | D218: EM | E218: Emballages | F218: 1 | G218: EXP
A219: EM0220 | B219: ETIQUETTE MITHALI TOURN 1.8L | C219: UN | D219: EM | E219: Emballages | F219: 1 | G219: EXP
A220: EM0221 | B220: CARTON MITHALI TOURNESOL 1.8L | C220: UN | D220: EM | E220: Emballages | F220: 1 | G220: EXP
A221: EM0222 | B221: ETIQUETTE MAÏS 2X2L+DOS CITROL | C221: UN | D221: EM | E221: Emballages | F221: 1 | G221: NEJ
A222: EM0223 | B222: CARTON BAITY MAÏS 3L | C222: UN | D222: EM | E222: Emballages | F222: 1 | G222: EXP
... A247: EM0248 | B247: CARTON NEJMA TOU 1L EXP | C247: UN | D247: EM | E247: Emballages | F247: 1 | G247: EXP
A248: EM0249 | B248: CARTON VIERGE | C248: UN | D248: EM | E248: Emballages | F248: 1
A249: EM0250 | B249: ETIQUETTE KAIRAOUANE | C249: UN | D249: EM | E249: Emballages | F249: 1
A250: EM0251 | B250: ETIQUETTE NEJMA M 2L EXPORT | C250: UN | D250: EM | E250: Emballages | F250: 1
A251: EM0252 | B251: ETIQUETTE SPINNEY TOURNESOL 5L | C251: UN | D251: EM | E251: Emballages | F251: 1 | G251: EXP
A252: EM0253 | B252: CARTON SPINNEYS TOURNESOL 5L | C252: UN | D252: EM | E252: Emballages | F252: 1 | G252: EXP
A253: EM0254 | B253: CARTON NEJMA MAÏS 5L LOCAL | C253: UN | D253: EM | E253: Emballages | F253: 1 | G253: NEJ
A254: EM0255 | B254: BOUCHON DE 1L/2PCS BLEU | C254: UN | D254: EM | E254: Emballages | F254: 1 | G254: NEJ
A255: EM0256 | B255: BOUCHON DE 2L/2PCS BLEU | C255: UN | D255: EM | E255: Emballages | F255: 1 | G255: NEJ
A256: EM0257 | B256: BOUCHON SK47-17 DE 5L BLEU | C256: UN | D256: EM | E256: Emballages | F256: 1 | G256: NEJ
A257: EM0258 | B257: POIGNEE TG 53-92 DE 5L BLEU | C257: UN | D257: EM | E257: Emballages | F257: 1 | G257: NEJ
A258: EM0259 | B258: POIGNET DE 3L BLEU | C258: UN | D258: EM | E258: Emballages | F258: 1 | G258: NEJ
A259: EM0260 | B259: ROULEAU FILM ETIRABLE DE12 | C259: UN | D259: EM | E259: Emballages | F259: 1 | G259: NEJ
...

Sheet 2
A1: Code | B1: Unité | C1: Janvier | D1: Février | E1: Mars | F1: Avril | G1: Mai | H1: Juin | I1: Juillet | J1: Août | K1: Septembre | L1: Octobre | M1: Novembre | N1: Décembre | O1: Total
A2: EM0001 | B2: UN | C2: =SUMIFS(Base!$F:$F,Base!$C:$C,$A2,Base!$B:$B,C$1,Base!$G:$G,"PET1") -> 0 | D2: =SUMIFS(Base!$F:$F,Base!$C:$C,$A2,Base!$B:$B,D$1,Base!$G:$G,"PET1") -> 0 | E2: =SUMIFS(Base!$F:$F,Base!$C:$C,$A2,Base!$B:$B,E$1,Base!$G:$G,"PET1") -> 0 | F2: =SUMIFS(Base!$F:$F,Base!$C:$C,$A2,Base!$B:$B,F$1,Base!$G:$G,"PET1") -> 0 | G2: =SUMIFS(Base!$F:$F,Base!$C:$C,$A2,Base!$B:$B,G$1,Base!$G:$G,"PET1") -> 0 | H2: =SUMIFS(Base!$F:$F,Base!$C:$C,$A2,Base!$B:$B,H$1,Base!$G:$G,"PET1") -> 0 | I2: =SUMIFS(Base!$F:$F,Base!$C:$C,$A2,Base!$B:$B,I$1,Base!$G:$G,"PET1") -> 0 | J2: =SUMIFS(Base!$F:$F,Base!$C:$C,$A2,Base!$B:$B,J$1,Base!$G:$G,"PET1") -> 0 | ... N2: =SUMIFS(Base!$F:$F,Base!$C:$C,$A2,Base!$B:$B,N$1,Base!$G:$G,"PET1") -> 0 | O2: =IF(SUM(C2:N2)<>0,SUM(C2:N2),"")
A3: EM0002 | B3: UN | C3: =SUMIFS(Base!$F:$F,Base!$C:$C,$A3,Base!$B:$B,C$1,Base!$G:$G,"PET1") -> 0 | D3: =SUMIFS(Base!$F:$F,Base!$C:$C,$A3,Base!$B:$B,D$1,Base!$G:$G,"PET1") -> 0 | E3: =SUMIFS(Base!$F:$F,Base!$C:$C,$A3,Base!$B:$B,E$1,Base!$G:$G,"PET1") -> 0 | F3: =SUMIFS(Base!$F:$F,Base!$C:$C,$A3,Base!$B:$B,F$1,Base!$G:$G,"PET1") -> 0 | G3: =SUMIFS(Base!$F:$F,Base!$C:$C,$A3,Base!$B:$B,G$1,Base!$G:$G,"PET1") -> 0 | H3: =SUMIFS(Base!$F:$F,Base!$C:$C,$A3,Base!$B:$B,H$1,Base!$G:$G,"PET1") -> 0 | I3: =SUMIFS(Base!$F:$F,Base!$C:$C,$A3,Base!$B:$B,I$1,Base!$G:$G,"PET1") -> 0 | J3: =SUMIFS(Base!$F:$F,Base!$C:$C,$A3,Base!$B:$B,J$1,Base!$G:$G,"PET1") -> 0 | ... N3: =SUMIFS(Base!$F:$F,Base!$C:$C,$A3,Base!$B:$B,N$1,Base!$G:$G,"PET1") -> 0 | O3: =IF(SUM(C3:N3)<>0,SUM(C3:N3),"")
A4: EM0003 | B4: UN | C4: =SUMIFS(Base!$F:$F,Base!$C:$C,$A4,Base!$B:$B,C$1,Base!$G:$G,"PET1") -> 0 | D4: =SUMIFS(Base!$F:$F,Base!$C:$C,$A4,Base!$B:$B,D$1,Base!$G:$G,"PET1") -> 0 | E4: =SUMIFS(Base!$F:$F,Base!$C:$C,$A4,Base!$B:$B,E$1,Base!$G:$G,"PET1") -> 0 | F4: =SUMIFS(Base!$F:$F,Base!$C:$C,$A4,Base!$B:$B,F$1,Base!$G:$G,"PET1") -> 0 | G4: =SUMIFS(Base!$F:$F,Base!$C:$C,$A4,Base!$B:$B,G$1,Base!$G:$G,"PET1") -> 0 | H4: =SUMIFS(Base!$F:$F,Base!$C:$C,$A4,Base!$B:$B,H$1,Base!$G:$G,"PET1") -> 0 | I4: =SUMIFS(Base!$F:$F,Base!$C:$C,$A4,Base!$B:$B,I$1,Base!$G:$G,"PET1") -> 0 | J4: =SUMIFS(Base!$F:$F,Base!$C:$C,$A4,Base!$B:$B,J$1,Base!$G:$G,"PET1") -> 0 | ... N4: =SUMIFS(Base!$F:$F,Base!$C:$C,$A4,Base!$B:$B,N$1,Base!$G:$G,"PET1") -> 0 | O4: =IF(SUM(C4:N4)<>0,SUM(C4:N4),"")
A5: EM0004 | B5: UN | C5: =SUMIFS(Base!$F:$F,Base!$C:$C,$A5,Base!$B:$B,C$1,Base!$G:$G,"PET1") -> 0 | D5: =SUMIFS(Base!$F:$F,Base!$C:$C,$A5,Base!$B:$B,D$1,Base!$G:$G,"PET1") -> 0 | E5: =SUMIFS(Base!$F:$F,Base!$C:$C,$A5,Base!$B:$B,E$1,Base!$G:$G,"PET1") -> 0 | F5: =SUMIFS(Base!$F:$F,Base!$C:$C,$A5,Base!$B:$B,F$1,Base!$G:$G,"PET1") -> 0 | G5: =SUMIFS(Base!$F:$F,Base!$C:$C,$A5,Base!$B:$B,G$1,Base!$G:$G,"PET1") -> 0 | H5: =SUMIFS(Base!$F:$F,Base!$C:$C,$A5,Base!$B:$B,H$1,Base!$G:$G,"PET1") -> 0 | I5: =SUMIFS(Base!$F:$F,Base!$C:$C,$A5,Base!$B:$B,I$1,Base!$G:$G,"PET1") -> 0 | J5: =SUMIFS(Base!$F:$F,Base!$C:$C,$A5,Base!$B:$B,J$1,Base!$G:$G,"PET1") -> 0 | ... N5: =SUMIFS(Base!$F:$F,Base!$C:$C,$A5,Base!$B:$B,N$1,Base!$G:$G,"PET1") -> 0 | O5: =IF(SUM(C5:N5)<>0,SUM(C5:N5),"")
A6: EM0005 | B6: UN | C6: =SUMIFS(Base!$F:$F,Base!$C:$C,$A6,Base!$B:$B,C$1,Base!$G:$G,"PET1") -> 0 | D6: =SUMIFS(Base!$F:$F,Base!$C:$C,$A6,Base!$B:$B,D$1,Base!$G:$G,"PET1") -> 0 | E6: =SUMIFS(Base!$F:$F,Base!$C:$C,$A6,Base!$B:$B,E$1,Base!$G:$G,"PET1") -> 0 | F6: =SUMIFS(Base!$F:$F,Base!$C:$C,$A6,Base!$B:$B,F$1,Base!$G:$G,"PET1") -> 0 | G6: =SUMIFS(Base!$F:$F,Base!$C:$C,$A6,Base!$B:$B,G$1,Base!$G:$G,"PET1") -> 0 | H6: =SUMIFS(Base!$F:$F,Base!$C:$C,$A6,Base!$B:$B,H$1,Base!$G:$G,"PET1") -> 0 | I6: =SUMIFS(Base!$F:$F,Base!$C:$C,$A6,Base!$B:$B,I$1,Base!$G:$G,"PET1") -> 0 | J6: =SUMIFS(Base!$F:$F,Base!$C:$C,$A6,Base!$B:$B,J$1,Base!$G:$G,"PET1") -> 0 | ... N6: =SUMIFS(Base!$F:$F,Base!$C:$C,$A6,Base!$B:$B,N$1,Base!$G:$G,"PET1") -> 0 | O6: =IF(SUM(C6:N6)<>0,SUM(C6:N6),"")
A7: EM0006 | B7: UN | C7: =SUMIFS(Base!$F:$F,Base!$C:$C,$A7,Base!$B:$B,C$1,Base!$G:$G,"PET1") -> 0 | D7: =SUMIFS(Base!$F:$F,Base!$C:$C,$A7,Base!$B:$B,D$1,Base!$G:$G,"PET1") -> 0 | E7: =SUMIFS(Base!$F:$F,Base!$C:$C,$A7,Base!$B:$B,E$1,Base!$G:$G,"PET1") -> 0 | F7: =SUMIFS(Base!$F:$F,Base!$C:$C,$A7,Base!$B:$B,F$1,Base!$G:$G,"PET1") -> 0 | G7: =SUMIFS(Base!$F:$F,Base!$C:$C,$A7,Base!$B:$B,G$1,Base!$G:$G,"PET1") -> 0 | H7: =SUMIFS(Base!$F:$F,Base!$C:$C,$A7,Base!$B:$B,H$1,Base!$G:$G,"PET1") -> 0 | I7: =SUMIFS(Base!$F:$F,Base!$C:$C,$A7,Base!$B:$B,I$1,Base!$G:$G,"PET1") -> 0 | J7: =SUMIFS(Base!$F:$F,Base!$C:$C,$A7,Base!$B:$B,J$1,Base!$G:$G,"PET1") -> 0 | ... N7: =SUMIFS(Base!$F:$F,Base!$C:$C,$A7,Base!$B:$B,N$1,Base!$G:$G,"PET1") -> 0 | O7: =IF(SUM(C7:N7)<>0,SUM(C7:N7),"")
A8: EM0007 | B8: UN | C8: =SUMIFS(Base!$F:$F,Base!$C:$C,$A8,Base!$B:$B,C$1,Base!$G:$G,"PET1") -> 0 | D8: =SUMIFS(Base!$F:$F,Base!$C:$C,$A8,Base!$B:$B,D$1,Base!$G:$G,"PET1") -> 0 | E8: =SUMIFS(Base!$F:$F,Base!$C:$C,$A8,Base!$B:$B,E$1,Base!$G:$G,"PET1") -> 0 | F8: =SUMIFS(Base!$F:$F,Base!$C:$C,$A8,Base!$B:$B,F$1,Base!$G:$G,"PET1") -> 0 | G8: =SUMIFS(Base!$F:$F,Base!$C:$C,$A8,Base!$B:$B,G$1,Base!$G:$G,"PET1") -> 0 | H8: =SUMIFS(Base!$F:$F,Base!$C:$C,$A8,Base!$B:$B,H$1,Base!$G:$G,"PET1") -> 0 | I8: =SUMIFS(Base!$F:$F,Base!$C:$C,$A8,Base!$B:$B,I$1,Base!$G:$G,"PET1") -> 0 | J8: =SUMIFS(Base!$F:$F,Base!$C:$C,$A8,Base!$B:$B,J$1,Base!$G:$G,"PET1") -> 0 | ... N8: =SUMIFS(Base!$F:$F,Base!$C:$C,$A8,Base!$B:$B,N$1,Base!$G:$G,"PET1") -> 0 | O8: =IF(SUM(C8:N8)<>0,SUM(C8:N8),"")
A9: EM0008 | B9: UN | C9: =SUMIFS(Base!$F:$F,Base!$C:$C,$A9,Base!$B:$B,C$1,Base!$G:$G,"PET1") -> 0 | D9: =SUMIFS(Base!$F:$F,Base!$C:$C,$A9,Base!$B:$B,D$1,Base!$G:$G,"PET1") -> 0 | E9: =SUMIFS(Base!$F:$F,Base!$C:$C,$A9,Base!$B:$B,E$1,Base!$G:$G,"PET1") -> 0 | F9: =SUMIFS(Base!$F:$F,Base!$C:$C,$A9,Base!$B:$B,F$1,Base!$G:$G,"PET1") -> 0 | G9: =SUMIFS(Base!$F:$F,Base!$C:$C,$A9,Base!$B:$B,G$1,Base!$G:$G,"PET1") -> 0 | H9: =SUMIFS(Base!$F:$F,Base!$C:$C,$A9,Base!$B:$B,H$1,Base!$G:$G,"PET1") -> 0 | I9: =SUMIFS(Base!$F:$F,Base!$C:$C,$A9,Base!$B:$B,I$1,Base!$G:$G,"PET1") -> 0 | J9: =SUMIFS(Base!$F:$F,Base!$C:$C,$A9,Base!$B:$B,J$1,Base!$G:$G,"PET1") -> 0 | ... N9: =SUMIFS(Base!$F:$F,Base!$C:$C,$A9,Base!$B:$B,N$1,Base!$G:$G,"PET1") -> 0 | O9: =IF(SUM(C9:N9)<>0,SUM(C9:N9),"")
A10: EM0009 | B10: UN | C10: =SUMIFS(Base!$F:$F,Base!$C:$C,$A10,Base!$B:$B,C$1,Base!$G:$G,"PET1") -> 0 | D10: =SUMIFS(Base!$F:$F,Base!$C:$C,$A10,Base!$B:$B,D$1,Base!$G:$G,"PET1") -> 0 | E10: =SUMIFS(Base!$F:$F,Base!$C:$C,$A10,Base!$B:$B,E$1,Base!$G:$G,"PET1") -> 0 | F10: =SUMIFS(Base!$F:$F,Base!$C:$C,$A10,Base!$B:$B,F$1,Base!$G:$G,"PET1") -> 0 | G10: =SUMIFS(Base!$F:$F,Base!$C:$C,$A10,Base!$B:$B,G$1,Base!$G:$G,"PET1") -> 0 | H10: =SUMIFS(Base!$F:$F,Base!$C:$C,$A10,Base!$B:$B,H$1,Base!$G:$G,"PET1") -> 0 | I10: =SUMIFS(Base!$F:$F,Base!$C:$C,$A10,Base!$B:$B,I$1,Base!$G:$G,"PET1") -> 0 | J10: =SUMIFS(Base!$F:$F,Base!$C:$C,$A10,Base!$B:$B,J$1,Base!$G:$G,"PET1") -> 0 | ... N10: =SUMIFS(Base!$F:$F,Base!$C:$C,$A10,Base!$B:$B,N$1,Base!$G:$G,"PET1") -> 0 | O10: =IF(SUM(C10:N10)<>0,SUM(C10:N10),"")
A11: EM0010 | B11: UN | C11: =SUMIFS(Base!$F:$F,Base!$C:$C,$A11,Base!$B:$B,C$1,Base!$G:$G,"PET1") -> 0 | D11: =SUMIFS(Base!$F:$F,Base!$C:$C,$A11,Base!$B:$B,D$1,Base!$G:$G,"PET1") -> 0 | E11: =SUMIFS(Base!$F:$F,Base!$C:$C,$A11,Base!$B:$B,E$1,Base!$G:$G,"PET1") -> 0 | F11: =SUMIFS(Base!$F:$F,Base!$C:$C,$A11,Base!$B:$B,F$1,Base!$G:$G,"PET1") -> 0 | G11: =SUMIFS(Base!$F:$F,Base!$C:$C,$A11,Base!$B:$B,G$1,Base!$G:$G,"PET1") -> 0 | H11: =SUMIFS(Base!$F:$F,Base!$C:$C,$A11,Base!$B:$B,H$1,Base!$G:$G,"PET1") -> 0 | I11: =SUMIFS(Base!$F:$F,Base!$C:$C,$A11,Base!$B:$B,I$1,Base!$G:$G,"PET1") -> 0 | J11: =SUMIFS(Base!$F:$F,Base!$C:$C,$A11,Base!$B:$B,J$1,Base!$G:$G,"PET1") -> 0 | ... N11: =SUMIFS(Base!$F:$F,Base!$C:$C,$A11,Base!$B:$B,N$1,Base!$G:$G,"PET1") -> 0 | O11: =IF(SUM(C11:N11)<>0,SUM(C11:N11),"")
A12: EM0011 | B12: UN | C12: =SUMIFS(Base!$F:$F,Base!$C:$C,$A12,Base!$B:$B,C$1,Base!$G:$G,"PET1") -> 0 | D12: =SUMIFS(Base!$F:$F,Base!$C:$C,$A12,Base!$B:$B,D$1,Base!$G:$G,"PET1") -> 0 | E12: =SUMIFS(Base!$F:$F,Base!$C:$C,$A12,Base!$B:$B,E$1,Base!$G:$G,"PET1") -> 0 | F12: =SUMIFS(Base!$F:$F,Base!$C:$C,$A12,Base!$B:$B,F$1,Base!$G:$G,"PET1") -> 0 | G12: =SUMIFS(Base!$F:$F,Base!$C:$C,$A12,Base!$B:$B,G$1,Base!$G:$G,"PET1") -> 0 | H12: =SUMIFS(Base!$F:$F,Base!$C:$C,$A12,Base!$B:$B,H$1,Base!$G:$G,"PET1") -> 0 | I12: =SUMIFS(Base!$F:$F,Base!$C:$C,$A12,Base!$B:$B,I$1,Base!$G:$G,"PET1") -> 0 | J12: =SUMIFS(Base!$F:$F,Base!$C:$C,$A12,Base!$B:$B,J$1,Base!$G:$G,"PET1") -> 0 | ... N12: =SUMIFS(Base!$F:$F,Base!$C:$C,$A12,Base!$B:$B,N$1,Base!$G:$G,"PET1") -> 0 | O12: =IF(SUM(C12:N12)<>0,SUM(C12:N12),"")
A13: EM0012 | B13: UN | C13: =SUMIFS(Base!$F:$F,Base!$C:$C,$A13,Base!$B:$B,C$1,Base!$G:$G,"PET1") -> 0 | D13: =SUMIFS(Base!$F:$F,Base!$C:$C,$A13,Base!$B:$B,D$1,Base!$G:$G,"PET1") -> 0 | E13: =SUMIFS(Base!$F:$F,Base!$C:$C,$A13,Base!$B:$B,E$1,Base!$G:$G,"PET1") -> 0 | F13: =SUMIFS(Base!$F:$F,Base!$C:$C,$A13,Base!$B:$B,F$1,Base!$G:$G,"PET1") -> 0 | G13: =SUMIFS(Base!$F:$F,Base!$C:$C,$A13,Base!$B:$B,G$1,Base!$G:$G,"PET1") -> 0 | H13: =SUMIFS(Base!$F:$F,Base!$C:$C,$A13,Base!$B:$B,H$1,Base!$G:$G,"PET1") -> 0 | I13: =SUMIFS(Base!$F:$F,Base!$C:$C,$A13,Base!$B:$B,I$1,Base!$G:$G,"PET1") -> 0 | J13: =SUMIFS(Base!$F:$F,Base!$C:$C,$A13,Base!$B:$B,J$1,Base!$G:$G,"PET1") -> 0 | ... N13: =SUMIFS(Base!$F:$F,Base!$C:$C,$A13,Base!$B:$B,N$1,Base!$G:$G,"PET1") -> 0 | O13: =IF(SUM(C13:N13)<>0,SUM(C13:N13),"")
... A698: MC0244 | B698: KG | C698: =SUMIFS(Base!$F:$F,Base!$C:$C,$A698,Base!$B:$B,C$1,Base!$G:$G,"PET1") -> 0 | D698: =SUMIFS(Base!$F:$F,Base!$C:$C,$A698,Base!$B:$B,D$1,Base!$G:$G,"PET1") -> 0 | E698: =SUMIFS(Base!$F:$F,Base!$C:$C,$A698,Base!$B:$B,E$1,Base!$G:$G,"PET1") -> 0 | F698: =SUMIFS(Base!$F:$F,Base!$C:$C,$A698,Base!$B:$B,F$1,Base!$G:$G,"PET1") -> 0 | G698: =SUMIFS(Base!$F:$F,Base!$C:$C,$A698,Base!$B:$B,G$1,Base!$G:$G,"PET1") -> 0 | H698: =SUMIFS(Base!$F:$F,Base!$C:$C,$A698,Base!$B:$B,H$1,Base!$G:$G,"PET1") -> 0 | I698: =SUMIFS(Base!$F:$F,Base!$C:$C,$A698,Base!$B:$B,I$1,Base!$G:$G,"PET1") -> 0 | J698: =SUMIFS(Base!$F:$F,Base!$C:$C,$A698,Base!$B:$B,J$1,Base!$G:$G,"PET1") -> 0 | ... N698: =SUMIFS(Base!$F:$F,Base!$C:$C,$A698,Base!$B:$B,N$1,Base!$G:$G,"PET1") -> 0 | O698: =IF(SUM(C698:N698)<>0,SUM(C698:N698),"")

Sheet nb
A2: 1
A3: 2
A4: 3
A5: 4
A6: 5
A7: 6
A8: 7
A9: 8
A10: 9
A11: 10
A12: 11
A13: 12
... A500: 499
