Workbook
Name barem_renverseur: 'Le renverseur'!$L$6:$M$25
Name bareme_demenageur: 'Le demenageur'!$L$6:$M$25
Name bareme_peseur: 'Le peseur'!$L$6:$M$25
Name bareme_souleveur: 'Le souleveur'!$N$6:$O$25
Name bareme_transporteur: 'Le transporteur'!$M$6:$N$25
Name BDD: BDD!$D$5:$N$24
Name exclu: 'Le souleveur'!$Q$9:$Q$11

Sheet BDD
H3: NOMBRES DE POINTS PAR EPREUVES | P3: BAREME
B4: 0 | C4: RANG | D4: DOSSARD | E4: NOM | F4: PRENOM | G4: MOBILE | H4: LE PESEUR | I4: LE DEMENAGEUR | J4: LE RENVERSEUR | K4: LE SOULEVER DE TERRE | L4: LE TRANSPORTEUR | M4: EX AEQUO | N4: TOTAL | P4: RANG | Q4: POINT
B5: 1 | C5: =IF(N5=0,"",IFERROR(RANK(N5,N$5:N$24,0),"")) -> 2 | D5: =IF(E5="","",B4+1) -> 1 | E5: DUPONT1 | F5: Christophe 1 | H5: =IFERROR(INDEX('Le peseur'!H$6:H$25,MATCH(BDD!D5,'Le peseur'!A$6:A$25,0)),"") -> 30 | I5: =IFERROR(INDEX('Le demenageur'!H$6:H$25,MATCH(BDD!D5,'Le demenageur'!$A$6:$A$25,0)),"") | J5: =IFERROR(INDEX('Le renverseur'!H$6:H$25,MATCH(BDD!D5,'Le renverseur'!A$6:A$25,0)),"") | K5: =IFERROR(INDEX('Le souleveur'!J$6:J$25,MATCH(BDD!D5,'Le souleveur'!A$6:A$25,0)),"") -> 35 | L5: =IFERROR(INDEX('Le transporteur'!I$6:I$25,MATCH(BDD!D5,'Le transporteur'!A$6:A$25,0)),"") -> 60 | N5: =IF(D5="","",SUM(H5:M5)) -> 125 | P5: 1 | Q5: 50
B6: 2 | C6: =IF(N6=0,"",IFERROR(RANK(N6,N$5:N$24,0),"")) -> 3 | D6: =IF(E6="","",B5+1) -> 2 | E6: DUPONT2 | F6: Christophe 2 | H6: =IFERROR(INDEX('Le peseur'!H$6:H$25,MATCH(BDD!D6,'Le peseur'!A$6:A$25,0)),"") -> 25 | I6: =IFERROR(INDEX('Le demenageur'!H$6:H$25,MATCH(BDD!D6,'Le demenageur'!$A$6:$A$25,0)),"") | J6: =IFERROR(INDEX('Le renverseur'!H$6:H$25,MATCH(BDD!D6,'Le renverseur'!A$6:A$25,0)),"") | K6: =IFERROR(INDEX('Le souleveur'!J$6:J$25,MATCH(BDD!D6,'Le souleveur'!A$6:A$25,0)),"") -> 50 | L6: =IFERROR(INDEX('Le transporteur'!I$6:I$25,MATCH(BDD!D6,'Le transporteur'!A$6:A$25,0)),"") -> 15 | N6: =IF(D6="","",SUM(H6:M6)) -> 90 | P6: 2 | Q6: 45
B7: 3 | C7: =IF(N7=0,"",IFERROR(RANK(N7,N$5:N$24,0),"")) -> 1 | D7: =IF(E7="","",B6+1) -> 3 | E7: DUPONT3 | F7: Christophe 3 | H7: =IFERROR(INDEX('Le peseur'!H$6:H$25,MATCH(BDD!D7,'Le peseur'!A$6:A$25,0)),"") -> 35 | I7: =IFERROR(INDEX('Le demenageur'!H$6:H$25,MATCH(BDD!D7,'Le demenageur'!$A$6:$A$25,0)),"") | J7: =IFERROR(INDEX('Le renverseur'!H$6:H$25,MATCH(BDD!D7,'Le renverseur'!A$6:A$25,0)),"") | K7: =IFERROR(INDEX('Le souleveur'!J$6:J$25,MATCH(BDD!D7,'Le souleveur'!A$6:A$25,0)),"") -> 40 | L7: =IFERROR(INDEX('Le transporteur'!I$6:I$25,MATCH(BDD!D7,'Le transporteur'!A$6:A$25,0)),"") -> 70 | N7: =IF(D7="","",SUM(H7:M7)) -> 145 | P7: 3 | Q7: 40
B8: 4 | C8: =IF(N8=0,"",IFERROR(RANK(N8,N$5:N$24,0),"")) -> 6 | D8: =IF(E8="","",B7+1) -> 4 | E8: DUPONT4 | F8: Christophe 4 | H8: =IFERROR(INDEX('Le peseur'!H$6:H$25,MATCH(BDD!D8,'Le peseur'!A$6:A$25,0)),"") -> 45 | I8: =IFERROR(INDEX('Le demenageur'!H$6:H$25,MATCH(BDD!D8,'Le demenageur'!$A$6:$A$25,0)),"") | J8: =IFERROR(INDEX('Le renverseur'!H$6:H$25,MATCH(BDD!D8,'Le renverseur'!A$6:A$25,0)),"") | K8: =IFERROR(INDEX('Le souleveur'!J$6:J$25,MATCH(BDD!D8,'Le souleveur'!A$6:A$25,0)),"") -> 25 | L8: =IFERROR(INDEX('Le transporteur'!I$6:I$25,MATCH(BDD!D8,'Le transporteur'!A$6:A$25,0)),"") | N8: =IF(D8="","",SUM(H8:M8)) -> 70 | P8: 4 | Q8: 35
B9: 5 | C9: =IF(N9=0,"",IFERROR(RANK(N9,N$5:N$24,0),"")) -> 4 | D9: =IF(E9="","",B8+1) -> 5 | E9: DUPONT5 | F9: Christophe 5 | H9: =IFERROR(INDEX('Le peseur'!H$6:H$25,MATCH(BDD!D9,'Le peseur'!A$6:A$25,0)),"") -> 40 | I9: =IFERROR(INDEX('Le demenageur'!H$6:H$25,MATCH(BDD!D9,'Le demenageur'!$A$6:$A$25,0)),"") | J9: =IFERROR(INDEX('Le renverseur'!H$6:H$25,MATCH(BDD!D9,'Le renverseur'!A$6:A$25,0)),"") | K9: =IFERROR(INDEX('Le souleveur'!J$6:J$25,MATCH(BDD!D9,'Le souleveur'!A$6:A$25,0)),"") -> 45 | L9: =IFERROR(INDEX('Le transporteur'!I$6:I$25,MATCH(BDD!D9,'Le transporteur'!A$6:A$25,0)),"") | N9: =IF(D9="","",SUM(H9:M9)) -> 85 | P9: 5 | Q9: 30
B10: 6 | C10: =IF(N10=0,"",IFERROR(RANK(N10,N$5:N$24,0),"")) -> 5 | D10: =IF(E10="","",B9+1) -> 6 | E10: DUPONT6 | F10: Christophe 6 | H10: =IFERROR(INDEX('Le peseur'!H$6:H$25,MATCH(BDD!D10,'Le peseur'!A$6:A$25,0)),"") -> 50 | I10: =IFERROR(INDEX('Le demenageur'!H$6:H$25,MATCH(BDD!D10,'Le demenageur'!$A$6:$A$25,0)),"") | J10: =IFERROR(INDEX('Le renverseur'!H$6:H$25,MATCH(BDD!D10,'Le renverseur'!A$6:A$25,0)),"") | K10: =IFERROR(INDEX('Le souleveur'!J$6:J$25,MATCH(BDD!D10,'Le souleveur'!A$6:A$25,0)),"") -> 30 | L10: =IFERROR(INDEX('Le transporteur'!I$6:I$25,MATCH(BDD!D10,'Le transporteur'!A$6:A$25,0)),"") | N10: =IF(D10="","",SUM(H10:M10)) -> 80 | P10: 6 | Q10: 25
B11: 7 | C11: =IF(N11=0,"",IFERROR(RANK(N11,N$5:N$24,0),"")) | D11: =IF(E11="","",B10+1) | H11: =IFERROR(INDEX('Le peseur'!H$6:H$25,MATCH(BDD!D11,'Le peseur'!A$6:A$25,0)),"") | I11: =IFERROR(INDEX('Le demenageur'!H$6:H$25,MATCH(BDD!D11,'Le demenageur'!$A$6:$A$25,0)),"") | J11: =IFERROR(INDEX('Le renverseur'!H$6:H$25,MATCH(BDD!D11,'Le renverseur'!A$6:A$25,0)),"") | K11: =IFERROR(INDEX('Le souleveur'!J$6:J$25,MATCH(BDD!D11,'Le souleveur'!A$6:A$25,0)),"") | L11: =IFERROR(INDEX('Le transporteur'!I$6:I$25,MATCH(BDD!D11,'Le transporteur'!A$6:A$25,0)),"") | N11: =IF(D11="","",SUM(H11:M11)) | P11: 7 | Q11: 20
B12: 8 | C12: =IF(N12=0,"",IFERROR(RANK(N12,N$5:N$24,0),"")) | D12: =IF(E12="","",B11+1) | H12: =IFERROR(INDEX('Le peseur'!H$6:H$25,MATCH(BDD!D12,'Le peseur'!A$6:A$25,0)),"") | I12: =IFERROR(INDEX('Le demenageur'!H$6:H$25,MATCH(BDD!D12,'Le demenageur'!$A$6:$A$25,0)),"") | J12: =IFERROR(INDEX('Le renverseur'!H$6:H$25,MATCH(BDD!D12,'Le renverseur'!A$6:A$25,0)),"") | K12: =IFERROR(INDEX('Le souleveur'!J$6:J$25,MATCH(BDD!D12,'Le souleveur'!A$6:A$25,0)),"") | L12: =IFERROR(INDEX('Le transporteur'!I$6:I$25,MATCH(BDD!D12,'Le transporteur'!A$6:A$25,0)),"") | N12: =IF(D12="","",SUM(H12:M12)) | P12: 8 | Q12: 15
B13: 9 | C13: =IF(N13=0,"",IFERROR(RANK(N13,N$5:N$24,0),"")) | D13: =IF(E13="","",B12+1) | H13: =IFERROR(INDEX('Le peseur'!H$6:H$25,MATCH(BDD!D13,'Le peseur'!A$6:A$25,0)),"") | I13: =IFERROR(INDEX('Le demenageur'!H$6:H$25,MATCH(BDD!D13,'Le demenageur'!$A$6:$A$25,0)),"") | J13: =IFERROR(INDEX('Le renverseur'!H$6:H$25,MATCH(BDD!D13,'Le renverseur'!A$6:A$25,0)),"") | K13: =IFERROR(INDEX('Le souleveur'!J$6:J$25,MATCH(BDD!D13,'Le souleveur'!A$6:A$25,0)),"") | L13: =IFERROR(INDEX('Le transporteur'!I$6:I$25,MATCH(BDD!D13,'Le transporteur'!A$6:A$25,0)),"") | N13: =IF(D13="","",SUM(H13:M13)) | P13: 9 | Q13: 10
B14: 10 | C14: =IF(N14=0,"",IFERROR(RANK(N14,N$5:N$24,0),"")) | D14: =IF(E14="","",B13+1) | H14: =IFERROR(INDEX('Le peseur'!H$6:H$25,MATCH(BDD!D14,'Le peseur'!A$6:A$25,0)),"") | I14: =IFERROR(INDEX('Le demenageur'!H$6:H$25,MATCH(BDD!D14,'Le demenageur'!$A$6:$A$25,0)),"") | J14: =IFERROR(INDEX('Le renverseur'!H$6:H$25,MATCH(BDD!D14,'Le renverseur'!A$6:A$25,0)),"") | K14: =IFERROR(INDEX('Le souleveur'!J$6:J$25,MATCH(BDD!D14,'Le souleveur'!A$6:A$25,0)),"") | L14: =IFERROR(INDEX('Le transporteur'!I$6:I$25,MATCH(BDD!D14,'Le transporteur'!A$6:A$25,0)),"") | N14: =IF(D14="","",SUM(H14:M14)) | P14: 10 | Q14: 5
B15: 11 | C15: =IF(N15=0,"",IFERROR(RANK(N15,N$5:N$24,0),"")) | D15: =IF(E15="","",B14+1) | H15: =IFERROR(INDEX('Le peseur'!H$6:H$25,MATCH(BDD!D15,'Le peseur'!A$6:A$25,0)),"") | I15: =IFERROR(INDEX('Le demenageur'!H$6:H$25,MATCH(BDD!D15,'Le demenageur'!$A$6:$A$25,0)),"") | J15: =IFERROR(INDEX('Le renverseur'!H$6:H$25,MATCH(BDD!D15,'Le renverseur'!A$6:A$25,0)),"") | K15: =IFERROR(INDEX('Le souleveur'!J$6:J$25,MATCH(BDD!D15,'Le souleveur'!A$6:A$25,0)),"") | L15: =IFERROR(INDEX('Le transporteur'!I$6:I$25,MATCH(BDD!D15,'Le transporteur'!A$6:A$25,0)),"") | N15: =IF(D15="","",SUM(H15:M15)) | P15: 11 | Q15: 1
B16: 12 | C16: =IF(N16=0,"",IFERROR(RANK(N16,N$5:N$24,0),"")) | D16: =IF(E16="","",B15+1) | H16: =IFERROR(INDEX('Le peseur'!H$6:H$25,MATCH(BDD!D16,'Le peseur'!A$6:A$25,0)),"") | I16: =IFERROR(INDEX('Le demenageur'!H$6:H$25,MATCH(BDD!D16,'Le demenageur'!$A$6:$A$25,0)),"") | J16: =IFERROR(INDEX('Le renverseur'!H$6:H$25,MATCH(BDD!D16,'Le renverseur'!A$6:A$25,0)),"") | K16: =IFERROR(INDEX('Le souleveur'!J$6:J$25,MATCH(BDD!D16,'Le souleveur'!A$6:A$25,0)),"") | L16: =IFERROR(INDEX('Le transporteur'!I$6:I$25,MATCH(BDD!D16,'Le transporteur'!A$6:A$25,0)),"") | N16: =IF(D16="","",SUM(H16:M16)) | P16: 12 | Q16: 1
B17: 13 | C17: =IF(N17=0,"",IFERROR(RANK(N17,N$5:N$24,0),"")) | D17: =IF(E17="","",B16+1) | H17: =IFERROR(INDEX('Le peseur'!H$6:H$25,MATCH(BDD!D17,'Le peseur'!A$6:A$25,0)),"") | I17: =IFERROR(INDEX('Le demenageur'!H$6:H$25,MATCH(BDD!D17,'Le demenageur'!$A$6:$A$25,0)),"") | J17: =IFERROR(INDEX('Le renverseur'!H$6:H$25,MATCH(BDD!D17,'Le renverseur'!A$6:A$25,0)),"") | K17: =IFERROR(INDEX('Le souleveur'!J$6:J$25,MATCH(BDD!D17,'Le souleveur'!A$6:A$25,0)),"") | L17: =IFERROR(INDEX('Le transporteur'!I$6:I$25,MATCH(BDD!D17,'Le transporteur'!A$6:A$25,0)),"") | N17: =IF(D17="","",SUM(H17:M17)) | P17: 13 | Q17: 1
B18: 14 | C18: =IF(N18=0,"",IFERROR(RANK(N18,N$5:N$24,0),"")) | D18: =IF(E18="","",B17+1) | H18: =IFERROR(INDEX('Le peseur'!H$6:H$25,MATCH(BDD!D18,'Le peseur'!A$6:A$25,0)),"") | I18: =IFERROR(INDEX('Le demenageur'!H$6:H$25,MATCH(BDD!D18,'Le demenageur'!$A$6:$A$25,0)),"") | J18: =IFERROR(INDEX('Le renverseur'!H$6:H$25,MATCH(BDD!D18,'Le renverseur'!A$6:A$25,0)),"") | K18: =IFERROR(INDEX('Le souleveur'!J$6:J$25,MATCH(BDD!D18,'Le souleveur'!A$6:A$25,0)),"") | L18: =IFERROR(INDEX('Le transporteur'!I$6:I$25,MATCH(BDD!D18,'Le transporteur'!A$6:A$25,0)),"") | N18: =IF(D18="","",SUM(H18:M18)) | P18: 14 | Q18: 1
B19: 15 | C19: =IF(N19=0,"",IFERROR(RANK(N19,N$5:N$24,0),"")) | D19: =IF(E19="","",B18+1) | H19: =IFERROR(INDEX('Le peseur'!H$6:H$25,MATCH(BDD!D19,'Le peseur'!A$6:A$25,0)),"") | I19: =IFERROR(INDEX('Le demenageur'!H$6:H$25,MATCH(BDD!D19,'Le demenageur'!$A$6:$A$25,0)),"") | J19: =IFERROR(INDEX('Le renverseur'!H$6:H$25,MATCH(BDD!D19,'Le renverseur'!A$6:A$25,0)),"") | K19: =IFERROR(INDEX('Le souleveur'!J$6:J$25,MATCH(BDD!D19,'Le souleveur'!A$6:A$25,0)),"") | L19: =IFERROR(INDEX('Le transporteur'!I$6:I$25,MATCH(BDD!D19,'Le transporteur'!A$6:A$25,0)),"") | N19: =IF(D19="","",SUM(H19:M19)) | P19: 15 | Q19: 1
B20: 16 | C20: =IF(N20=0,"",IFERROR(RANK(N20,N$5:N$24,0),"")) | D20: =IF(E20="","",B19+1) | H20: =IFERROR(INDEX('Le peseur'!H$6:H$25,MATCH(BDD!D20,'Le peseur'!A$6:A$25,0)),"") | I20: =IFERROR(INDEX('Le demenageur'!H$6:H$25,MATCH(BDD!D20,'Le demenageur'!$A$6:$A$25,0)),"") | J20: =IFERROR(INDEX('Le renverseur'!H$6:H$25,MATCH(BDD!D20,'Le renverseur'!A$6:A$25,0)),"") | K20: =IFERROR(INDEX('Le souleveur'!J$6:J$25,MATCH(BDD!D20,'Le souleveur'!A$6:A$25,0)),"") | L20: =IFERROR(INDEX('Le transporteur'!I$6:I$25,MATCH(BDD!D20,'Le transporteur'!A$6:A$25,0)),"") | N20: =IF(D20="","",SUM(H20:M20)) | P20: 16 | Q20: 1
B21: 17 | C21: =IF(N21=0,"",IFERROR(RANK(N21,N$5:N$24,0),"")) | D21: =IF(E21="","",B20+1) | H21: =IFERROR(INDEX('Le peseur'!H$6:H$25,MATCH(BDD!D21,'Le peseur'!A$6:A$25,0)),"") | I21: =IFERROR(INDEX('Le demenageur'!H$6:H$25,MATCH(BDD!D21,'Le demenageur'!$A$6:$A$25,0)),"") | J21: =IFERROR(INDEX('Le renverseur'!H$6:H$25,MATCH(BDD!D21,'Le renverseur'!A$6:A$25,0)),"") | K21: =IFERROR(INDEX('Le souleveur'!J$6:J$25,MATCH(BDD!D21,'Le souleveur'!A$6:A$25,0)),"") | L21: =IFERROR(INDEX('Le transporteur'!I$6:I$25,MATCH(BDD!D21,'Le transporteur'!A$6:A$25,0)),"") | N21: =IF(D21="","",SUM(H21:M21)) | P21: 17 | Q21: 1
B22: 18 | C22: =IF(N22=0,"",IFERROR(RANK(N22,N$5:N$24,0),"")) | D22: =IF(E22="","",B21+1) | H22: =IFERROR(INDEX('Le peseur'!H$6:H$25,MATCH(BDD!D22,'Le peseur'!A$6:A$25,0)),"") | I22: =IFERROR(INDEX('Le demenageur'!H$6:H$25,MATCH(BDD!D22,'Le demenageur'!$A$6:$A$25,0)),"") | J22: =IFERROR(INDEX('Le renverseur'!H$6:H$25,MATCH(BDD!D22,'Le renverseur'!A$6:A$25,0)),"") | K22: =IFERROR(INDEX('Le souleveur'!J$6:J$25,MATCH(BDD!D22,'Le souleveur'!A$6:A$25,0)),"") | L22: =IFERROR(INDEX('Le transporteur'!I$6:I$25,MATCH(BDD!D22,'Le transporteur'!A$6:A$25,0)),"") | N22: =IF(D22="","",SUM(H22:M22)) | P22: 18 | Q22: 1
... B24: 20 | C24: =IF(N24=0,"",IFERROR(RANK(N24,N$5:N$24,0),"")) | D24: =IF(E24="","",B23+1) | H24: =IFERROR(INDEX('Le peseur'!H$6:H$25,MATCH(BDD!D24,'Le peseur'!A$6:A$25,0)),"") | I24: =IFERROR(INDEX('Le demenageur'!H$6:H$25,MATCH(BDD!D24,'Le demenageur'!$A$6:$A$25,0)),"") | J24: =IFERROR(INDEX('Le renverseur'!H$6:H$25,MATCH(BDD!D24,'Le renverseur'!A$6:A$25,0)),"") | K24: =IFERROR(INDEX('Le souleveur'!J$6:J$25,MATCH(BDD!D24,'Le souleveur'!A$6:A$25,0)),"") | L24: =IFERROR(INDEX('Le transporteur'!I$6:I$25,MATCH(BDD!D24,'Le transporteur'!A$6:A$25,0)),"") | N24: =IF(D24="","",SUM(H24:M24)) | P24: 20 | Q24: 1

Sheet CLASSEMENT FINAL
B2: CLACEMENT FINAL
B3: CLACEMENT | C3: DOSSARD | D3: NOM | E3: PRENOM | F3: TOTAL POINT
B4: 1 | C4: =IFERROR(INDEX(BDD!D$5:D$24,MATCH('CLASSEMENT FINAL'!B4,BDD!C$5:C$24,0)),"") -> 3 | D4: =IFERROR(INDEX(BDD!E$5:E$24,MATCH('CLASSEMENT FINAL'!B4,BDD!C$5:C$24,0)),"") -> DUPONT3 | E4: =IFERROR(INDEX(BDD!F$5:F$24,MATCH('CLASSEMENT FINAL'!B4,BDD!C$5:C$24,0)),"") -> Christophe 3 | F4: =IFERROR(INDEX(BDD!N$5:N$24,MATCH('CLASSEMENT FINAL'!B4,BDD!C$5:C$24,0)),"") -> 145
B5: 2 | C5: =IFERROR(INDEX(BDD!D$5:D$24,MATCH('CLASSEMENT FINAL'!B5,BDD!C$5:C$24,0)),"") -> 1 | D5: =IFERROR(INDEX(BDD!E$5:E$24,MATCH('CLASSEMENT FINAL'!B5,BDD!C$5:C$24,0)),"") -> DUPONT1 | E5: =IFERROR(INDEX(BDD!F$5:F$24,MATCH('CLASSEMENT FINAL'!B5,BDD!C$5:C$24,0)),"") -> Christophe 1 | F5: =IFERROR(INDEX(BDD!N$5:N$24,MATCH('CLASSEMENT FINAL'!B5,BDD!C$5:C$24,0)),"") -> 125
B6: 3 | C6: =IFERROR(INDEX(BDD!D$5:D$24,MATCH('CLASSEMENT FINAL'!B6,BDD!C$5:C$24,0)),"") -> 2 | D6: =IFERROR(INDEX(BDD!E$5:E$24,MATCH('CLASSEMENT FINAL'!B6,BDD!C$5:C$24,0)),"") -> DUPONT2 | E6: =IFERROR(INDEX(BDD!F$5:F$24,MATCH('CLASSEMENT FINAL'!B6,BDD!C$5:C$24,0)),"") -> Christophe 2 | F6: =IFERROR(INDEX(BDD!N$5:N$24,MATCH('CLASSEMENT FINAL'!B6,BDD!C$5:C$24,0)),"") -> 90
B7: 4 | C7: =IFERROR(INDEX(BDD!D$5:D$24,MATCH('CLASSEMENT FINAL'!B7,BDD!C$5:C$24,0)),"") -> 5 | D7: =IFERROR(INDEX(BDD!E$5:E$24,MATCH('CLASSEMENT FINAL'!B7,BDD!C$5:C$24,0)),"") -> DUPONT5 | E7: =IFERROR(INDEX(BDD!F$5:F$24,MATCH('CLASSEMENT FINAL'!B7,BDD!C$5:C$24,0)),"") -> Christophe 5 | F7: =IFERROR(INDEX(BDD!N$5:N$24,MATCH('CLASSEMENT FINAL'!B7,BDD!C$5:C$24,0)),"") -> 85
B8: 5 | C8: =IFERROR(INDEX(BDD!D$5:D$24,MATCH('CLASSEMENT FINAL'!B8,BDD!C$5:C$24,0)),"") -> 6 | D8: =IFERROR(INDEX(BDD!E$5:E$24,MATCH('CLASSEMENT FINAL'!B8,BDD!C$5:C$24,0)),"") -> DUPONT6 | E8: =IFERROR(INDEX(BDD!F$5:F$24,MATCH('CLASSEMENT FINAL'!B8,BDD!C$5:C$24,0)),"") -> Christophe 6 | F8: =IFERROR(INDEX(BDD!N$5:N$24,MATCH('CLASSEMENT FINAL'!B8,BDD!C$5:C$24,0)),"") -> 80
B9: 6 | C9: =IFERROR(INDEX(BDD!D$5:D$24,MATCH('CLASSEMENT FINAL'!B9,BDD!C$5:C$24,0)),"") -> 4 | D9: =IFERROR(INDEX(BDD!E$5:E$24,MATCH('CLASSEMENT FINAL'!B9,BDD!C$5:C$24,0)),"") -> DUPONT4 | E9: =IFERROR(INDEX(BDD!F$5:F$24,MATCH('CLASSEMENT FINAL'!B9,BDD!C$5:C$24,0)),"") -> Christophe 4 | F9: =IFERROR(INDEX(BDD!N$5:N$24,MATCH('CLASSEMENT FINAL'!B9,BDD!C$5:C$24,0)),"") -> 70
B10: 7 | C10: =IFERROR(INDEX(BDD!D$5:D$24,MATCH('CLASSEMENT FINAL'!B10,BDD!C$5:C$24,0)),"") | D10: =IFERROR(INDEX(BDD!E$5:E$24,MATCH('CLASSEMENT FINAL'!B10,BDD!C$5:C$24,0)),"") | E10: =IFERROR(INDEX(BDD!F$5:F$24,MATCH('CLASSEMENT FINAL'!B10,BDD!C$5:C$24,0)),"") | F10: =IFERROR(INDEX(BDD!N$5:N$24,MATCH('CLASSEMENT FINAL'!B10,BDD!C$5:C$24,0)),"")
B11: 8 | C11: =IFERROR(INDEX(BDD!D$5:D$24,MATCH('CLASSEMENT FINAL'!B11,BDD!C$5:C$24,0)),"") | D11: =IFERROR(INDEX(BDD!E$5:E$24,MATCH('CLASSEMENT FINAL'!B11,BDD!C$5:C$24,0)),"") | E11: =IFERROR(INDEX(BDD!F$5:F$24,MATCH('CLASSEMENT FINAL'!B11,BDD!C$5:C$24,0)),"") | F11: =IFERROR(INDEX(BDD!N$5:N$24,MATCH('CLASSEMENT FINAL'!B11,BDD!C$5:C$24,0)),"")
B12: 9 | C12: =IFERROR(INDEX(BDD!D$5:D$24,MATCH('CLASSEMENT FINAL'!B12,BDD!C$5:C$24,0)),"") | D12: =IFERROR(INDEX(BDD!E$5:E$24,MATCH('CLASSEMENT FINAL'!B12,BDD!C$5:C$24,0)),"") | E12: =IFERROR(INDEX(BDD!F$5:F$24,MATCH('CLASSEMENT FINAL'!B12,BDD!C$5:C$24,0)),"") | F12: =IFERROR(INDEX(BDD!N$5:N$24,MATCH('CLASSEMENT FINAL'!B12,BDD!C$5:C$24,0)),"")
B13: 10 | C13: =IFERROR(INDEX(BDD!D$5:D$24,MATCH('CLASSEMENT FINAL'!B13,BDD!C$5:C$24,0)),"") | D13: =IFERROR(INDEX(BDD!E$5:E$24,MATCH('CLASSEMENT FINAL'!B13,BDD!C$5:C$24,0)),"") | E13: =IFERROR(INDEX(BDD!F$5:F$24,MATCH('CLASSEMENT FINAL'!B13,BDD!C$5:C$24,0)),"") | F13: =IFERROR(INDEX(BDD!N$5:N$24,MATCH('CLASSEMENT FINAL'!B13,BDD!C$5:C$24,0)),"")
B14: 11 | C14: =IFERROR(INDEX(BDD!D$5:D$24,MATCH('CLASSEMENT FINAL'!B14,BDD!C$5:C$24,0)),"") | D14: =IFERROR(INDEX(BDD!E$5:E$24,MATCH('CLASSEMENT FINAL'!B14,BDD!C$5:C$24,0)),"") | E14: =IFERROR(INDEX(BDD!F$5:F$24,MATCH('CLASSEMENT FINAL'!B14,BDD!C$5:C$24,0)),"") | F14: =IFERROR(INDEX(BDD!N$5:N$24,MATCH('CLASSEMENT FINAL'!B14,BDD!C$5:C$24,0)),"")
B15: 12 | C15: =IFERROR(INDEX(BDD!D$5:D$24,MATCH('CLASSEMENT FINAL'!B15,BDD!C$5:C$24,0)),"") | D15: =IFERROR(INDEX(BDD!E$5:E$24,MATCH('CLASSEMENT FINAL'!B15,BDD!C$5:C$24,0)),"") | E15: =IFERROR(INDEX(BDD!F$5:F$24,MATCH('CLASSEMENT FINAL'!B15,BDD!C$5:C$24,0)),"") | F15: =IFERROR(INDEX(BDD!N$5:N$24,MATCH('CLASSEMENT FINAL'!B15,BDD!C$5:C$24,0)),"")
... B23: 20 | C23: =IFERROR(INDEX(BDD!D$5:D$24,MATCH('CLASSEMENT FINAL'!B23,BDD!C$5:C$24,0)),"") | D23: =IFERROR(INDEX(BDD!E$5:E$24,MATCH('CLASSEMENT FINAL'!B23,BDD!C$5:C$24,0)),"") | E23: =IFERROR(INDEX(BDD!F$5:F$24,MATCH('CLASSEMENT FINAL'!B23,BDD!C$5:C$24,0)),"") | F23: =IFERROR(INDEX(BDD!N$5:N$24,MATCH('CLASSEMENT FINAL'!B23,BDD!C$5:C$24,0)),"")

Sheet Le peseur
M2: EXCLUSION
E3: CHARGE | F3: TEMPS(s) | M3: 0
L4: BAREME
A5: ID | B5: NOM | C5: PRENOM | D5: TEMPS | E5: PENALITE | F5: EXCLU | G5: EX AEQUO | H5: POINTS ATTRIBUES | I5: RANG 1 | J5: RANG 2 | L5: RANG | M5: POINT AT
A6: 1 | B6: =IF(BDD!E5="","",BDD!E5) -> DUPONT1 | C6: =IF(BDD!F5="","",BDD!F5) -> Christophe 1 | D6: 10 | H6: =IFERROR(IF(F6="oui",M$3,VLOOKUP(I6,bareme_peseur,2,1))-E6+G6,"") -> 30 | I6: =IFERROR(IF(F6="OUI","0",RANK(D6,D$6:D$25,0)),"") -> 5 | J6: =IFERROR(RANK(H6,H$6:H$25,0),"") -> 5 | L6: =BDD!P5 -> 1 | M6: =BDD!Q5 -> 50
A7: 2 | B7: =IF(BDD!E6="","",BDD!E6) -> DUPONT2 | C7: =IF(BDD!F6="","",BDD!F6) -> Christophe 2 | D7: 8 | H7: =IFERROR(IF(F7="oui",M$3,VLOOKUP(I7,bareme_peseur,2,1))-E7+G7,"") -> 25 | I7: =IFERROR(IF(F7="OUI","0",RANK(D7,D$6:D$25,0)),"") -> 6 | J7: =IFERROR(RANK(H7,H$6:H$25,0),"") -> 6 | L7: =BDD!P6 -> 2 | M7: =BDD!Q6 -> 45
A8: 3 | B8: =IF(BDD!E7="","",BDD!E7) -> DUPONT3 | C8: =IF(BDD!F7="","",BDD!F7) -> Christophe 3 | D8: 11 | H8: =IFERROR(IF(F8="oui",M$3,VLOOKUP(I8,bareme_peseur,2,1))-E8+G8,"") -> 35 | I8: =IFERROR(IF(F8="OUI","0",RANK(D8,D$6:D$25,0)),"") -> 4 | J8: =IFERROR(RANK(H8,H$6:H$25,0),"") -> 4 | L8: =BDD!P7 -> 3 | M8: =BDD!Q7 -> 40
A9: 4 | B9: =IF(BDD!E8="","",BDD!E8) -> DUPONT4 | C9: =IF(BDD!F8="","",BDD!F8) -> Christophe 4 | D9: 15 | H9: =IFERROR(IF(F9="oui",M$3,VLOOKUP(I9,bareme_peseur,2,1))-E9+G9,"") -> 45 | I9: =IFERROR(IF(F9="OUI","0",RANK(D9,D$6:D$25,0)),"") -> 2 | J9: =IFERROR(RANK(H9,H$6:H$25,0),"") -> 2 | L9: =BDD!P8 -> 4 | M9: =BDD!Q8 -> 35
A10: 5 | B10: =IF(BDD!E9="","",BDD!E9) -> DUPONT5 | C10: =IF(BDD!F9="","",BDD!F9) -> Christophe 5 | D10: 12 | H10: =IFERROR(IF(F10="oui",M$3,VLOOKUP(I10,bareme_peseur,2,1))-E10+G10,"") -> 40 | I10: =IFERROR(IF(F10="OUI","0",RANK(D10,D$6:D$25,0)),"") -> 3 | J10: =IFERROR(RANK(H10,H$6:H$25,0),"") -> 3 | L10: =BDD!P9 -> 5 | M10: =BDD!Q9 -> 30
A11: 6 | B11: =IF(BDD!E10="","",BDD!E10) -> DUPONT6 | C11: =IF(BDD!F10="","",BDD!F10) -> Christophe 6 | D11: 16 | H11: =IFERROR(IF(F11="oui",M$3,VLOOKUP(I11,bareme_peseur,2,1))-E11+G11,"") -> 50 | I11: =IFERROR(IF(F11="OUI","0",RANK(D11,D$6:D$25,0)),"") -> 1 | J11: =IFERROR(RANK(H11,H$6:H$25,0),"") -> 1 | L11: =BDD!P10 -> 6 | M11: =BDD!Q10 -> 25
A12: 7 | B12: =IF(BDD!E11="","",BDD!E11) | C12: =IF(BDD!F11="","",BDD!F11) | H12: =IFERROR(IF(F12="oui",M$3,VLOOKUP(I12,bareme_peseur,2,1))-E12+G12,"") | I12: =IFERROR(IF(F12="OUI","0",RANK(D12,D$6:D$25,0)),"") | J12: =IFERROR(RANK(H12,H$6:H$25,0),"") | L12: =BDD!P11 -> 7 | M12: =BDD!Q11 -> 20
A13: 8 | B13: =IF(BDD!E12="","",BDD!E12) | C13: =IF(BDD!F12="","",BDD!F12) | H13: =IFERROR(IF(F13="oui",M$3,VLOOKUP(I13,bareme_peseur,2,1))-E13+G13,"") | I13: =IFERROR(IF(F13="OUI","0",RANK(D13,D$6:D$25,0)),"") | J13: =IFERROR(RANK(H13,H$6:H$25,0),"") | L13: =BDD!P12 -> 8 | M13: =BDD!Q12 -> 15
A14: 9 | B14: =IF(BDD!E13="","",BDD!E13) | C14: =IF(BDD!F13="","",BDD!F13) | H14: =IFERROR(IF(F14="oui",M$3,VLOOKUP(I14,bareme_peseur,2,1))-E14+G14,"") | I14: =IFERROR(IF(F14="OUI","0",RANK(D14,D$6:D$25,0)),"") | J14: =IFERROR(RANK(H14,H$6:H$25,0),"") | L14: =BDD!P13 -> 9 | M14: =BDD!Q13 -> 10
A15: 10 | B15: =IF(BDD!E14="","",BDD!E14) | C15: =IF(BDD!F14="","",BDD!F14) | H15: =IFERROR(IF(F15="oui",M$3,VLOOKUP(I15,bareme_peseur,2,1))-E15+G15,"") | I15: =IFERROR(IF(F15="OUI","0",RANK(D15,D$6:D$25,0)),"") | J15: =IFERROR(RANK(H15,H$6:H$25,0),"") | L15: =BDD!P14 -> 10 | M15: =BDD!Q14 -> 5
A16: 11 | B16: =IF(BDD!E15="","",BDD!E15) | C16: =IF(BDD!F15="","",BDD!F15) | H16: =IFERROR(IF(F16="oui",M$3,VLOOKUP(I16,bareme_peseur,2,1))-E16+G16,"") | I16: =IFERROR(IF(F16="OUI","0",RANK(D16,D$6:D$25,0)),"") | J16: =IFERROR(RANK(H16,H$6:H$25,0),"") | L16: =BDD!P15 -> 11 | M16: =BDD!Q15 -> 1
A17: 12 | B17: =IF(BDD!E16="","",BDD!E16) | C17: =IF(BDD!F16="","",BDD!F16) | H17: =IFERROR(IF(F17="oui",M$3,VLOOKUP(I17,bareme_peseur,2,1))-E17+G17,"") | I17: =IFERROR(IF(F17="OUI","0",RANK(D17,D$6:D$25,0)),"") | J17: =IFERROR(RANK(H17,H$6:H$25,0),"") | L17: =BDD!P16 -> 12 | M17: =BDD!Q16 -> 1
A18: 13 | B18: =IF(BDD!E17="","",BDD!E17) | C18: =IF(BDD!F17="","",BDD!F17) | H18: =IFERROR(IF(F18="oui",M$3,VLOOKUP(I18,bareme_peseur,2,1))-E18+G18,"") | I18: =IFERROR(IF(F18="OUI","0",RANK(D18,D$6:D$25,0)),"") | J18: =IFERROR(RANK(H18,H$6:H$25,0),"") | L18: =BDD!P17 -> 13 | M18: =BDD!Q17 -> 1
A19: 14 | B19: =IF(BDD!E18="","",BDD!E18) | C19: =IF(BDD!F18="","",BDD!F18) | H19: =IFERROR(IF(F19="oui",M$3,VLOOKUP(I19,bareme_peseur,2,1))-E19+G19,"") | I19: =IFERROR(IF(F19="OUI","0",RANK(D19,D$6:D$25,0)),"") | J19: =IFERROR(RANK(H19,H$6:H$25,0),"") | L19: =BDD!P18 -> 14 | M19: =BDD!Q18 -> 1
A20: 15 | B20: =IF(BDD!E19="","",BDD!E19) | C20: =IF(BDD!F19="","",BDD!F19) | H20: =IFERROR(IF(F20="oui",M$3,VLOOKUP(I20,bareme_peseur,2,1))-E20+G20,"") | I20: =IFERROR(IF(F20="OUI","0",RANK(D20,D$6:D$25,0)),"") | J20: =IFERROR(RANK(H20,H$6:H$25,0),"") | L20: =BDD!P19 -> 15 | M20: =BDD!Q19 -> 1
A21: 16 | B21: =IF(BDD!E20="","",BDD!E20) | C21: =IF(BDD!F20="","",BDD!F20) | H21: =IFERROR(IF(F21="oui",M$3,VLOOKUP(I21,bareme_peseur,2,1))-E21+G21,"") | I21: =IFERROR(IF(F21="OUI","0",RANK(D21,D$6:D$25,0)),"") | J21: =IFERROR(RANK(H21,H$6:H$25,0),"") | L21: =BDD!P20 -> 16 | M21: =BDD!Q20 -> 1
A22: 17 | B22: =IF(BDD!E21="","",BDD!E21) | C22: =IF(BDD!F21="","",BDD!F21) | H22: =IFERROR(IF(F22="oui",M$3,VLOOKUP(I22,bareme_peseur,2,1))-E22+G22,"") | I22: =IFERROR(IF(F22="OUI","0",RANK(D22,D$6:D$25,0)),"") | J22: =IFERROR(RANK(H22,H$6:H$25,0),"") | L22: =BDD!P21 -> 17 | M22: =BDD!Q21 -> 1
A23: 18 | B23: =IF(BDD!E22="","",BDD!E22) | C23: =IF(BDD!F22="","",BDD!F22) | H23: =IFERROR(IF(F23="oui",M$3,VLOOKUP(I23,bareme_peseur,2,1))-E23+G23,"") | I23: =IFERROR(IF(F23="OUI","0",RANK(D23,D$6:D$25,0)),"") | J23: =IFERROR(RANK(H23,H$6:H$25,0),"") | L23: =BDD!P22 -> 18 | M23: =BDD!Q22 -> 1
... A25: 20 | B25: =IF(BDD!E24="","",BDD!E24) | C25: =IF(BDD!F24="","",BDD!F24) | H25: =IFERROR(IF(F25="oui",M$3,VLOOKUP(I25,bareme_peseur,2,1))-E25+G25,"") | I25: =IFERROR(IF(F25="OUI","0",RANK(D25,D$6:D$25,0)),"") | J25: =IFERROR(RANK(H25,H$6:H$25,0),"") | L25: =BDD!P24 -> 20 | M25: =BDD!Q24 -> 1

Sheet Le demenageur
M2: EXCLU
E3: DISTANCE | F3: TEMPS(s) | M3: 0
E4: 20 | F4: 180 | L4: BAREME
A5: ID | B5: NOM | C5: PRENOM | D5: TEMPS PARCOURU | E5: PENALITE | F5: EXCLU | G5: EX AEQUO | H5: POINTS ATTRIBUES | I5: RANG1 | J5: RANG2 | L5: RANG | M5: POINT AT
A6: 1 | B6: =IF(BDD!E5="","",BDD!E5) -> DUPONT1 | C6: =IF(BDD!F5="","",BDD!F5) -> Christophe 1 | H6: =IFERROR(IF(F6="oui",M$3,VLOOKUP(I6,bareme_demenageur,2,1)-E6+G6),"") | I6: =IFERROR(IF(F6="OUI",M$3,RANK(D6,D$6:D$25,1)),"") | J6: =IFERROR(RANK(H6,H$6:H$25,0),"") | L6: =BDD!P5 -> 1 | M6: =BDD!Q5 -> 50
A7: 2 | B7: =IF(BDD!E6="","",BDD!E6) -> DUPONT2 | C7: =IF(BDD!F6="","",BDD!F6) -> Christophe 2 | H7: =IFERROR(IF(F7="oui",M$3,VLOOKUP(I7,bareme_demenageur,2,1)-E7+G7),"") | I7: =IFERROR(IF(F7="OUI",M$3,RANK(D7,D$6:D$25,1)),"") | J7: =IFERROR(RANK(H7,H$6:H$25,0),"") | L7: =BDD!P6 -> 2 | M7: =BDD!Q6 -> 45
A8: 3 | B8: =IF(BDD!E7="","",BDD!E7) -> DUPONT3 | C8: =IF(BDD!F7="","",BDD!F7) -> Christophe 3 | H8: =IFERROR(IF(F8="oui",M$3,VLOOKUP(I8,bareme_demenageur,2,1)-E8+G8),"") | I8: =IFERROR(IF(F8="OUI",M$3,RANK(D8,D$6:D$25,1)),"") | J8: =IFERROR(RANK(H8,H$6:H$25,0),"") | L8: =BDD!P7 -> 3 | M8: =BDD!Q7 -> 40
A9: 4 | B9: =IF(BDD!E8="","",BDD!E8) -> DUPONT4 | C9: =IF(BDD!F8="","",BDD!F8) -> Christophe 4 | H9: =IFERROR(IF(F9="oui",M$3,VLOOKUP(I9,bareme_demenageur,2,1)-E9+G9),"") | I9: =IFERROR(IF(F9="OUI",M$3,RANK(D9,D$6:D$25,1)),"") | J9: =IFERROR(RANK(H9,H$6:H$25,0),"") | L9: =BDD!P8 -> 4 | M9: =BDD!Q8 -> 35
A10: 5 | B10: =IF(BDD!E9="","",BDD!E9) -> DUPONT5 | C10: =IF(BDD!F9="","",BDD!F9) -> Christophe 5 | H10: =IFERROR(IF(F10="oui",M$3,VLOOKUP(I10,bareme_demenageur,2,1)-E10+G10),"") | I10: =IFERROR(IF(F10="OUI",M$3,RANK(D10,D$6:D$25,1)),"") | J10: =IFERROR(RANK(H10,H$6:H$25,0),"") | L10: =BDD!P9 -> 5 | M10: =BDD!Q9 -> 30
A11: 6 | B11: =IF(BDD!E10="","",BDD!E10) -> DUPONT6 | C11: =IF(BDD!F10="","",BDD!F10) -> Christophe 6 | H11: =IFERROR(IF(F11="oui",M$3,VLOOKUP(I11,bareme_demenageur,2,1)-E11+G11),"") | I11: =IFERROR(IF(F11="OUI",M$3,RANK(D11,D$6:D$25,1)),"") | J11: =IFERROR(RANK(H11,H$6:H$25,0),"") | L11: =BDD!P10 -> 6 | M11: =BDD!Q10 -> 25
A12: 7 | B12: =IF(BDD!E11="","",BDD!E11) | C12: =IF(BDD!F11="","",BDD!F11) | H12: =IFERROR(IF(F12="oui",M$3,VLOOKUP(I12,bareme_demenageur,2,1)-E12+G12),"") | I12: =IFERROR(IF(F12="OUI",M$3,RANK(D12,D$6:D$25,1)),"") | J12: =IFERROR(RANK(H12,H$6:H$25,0),"") | L12: =BDD!P11 -> 7 | M12: =BDD!Q11 -> 20
A13: 8 | B13: =IF(BDD!E12="","",BDD!E12) | C13: =IF(BDD!F12="","",BDD!F12) | H13: =IFERROR(IF(F13="oui",M$3,VLOOKUP(I13,bareme_demenageur,2,1)-E13+G13),"") | I13: =IFERROR(IF(F13="OUI",M$3,RANK(D13,D$6:D$25,1)),"") | J13: =IFERROR(RANK(H13,H$6:H$25,0),"") | L13: =BDD!P12 -> 8 | M13: =BDD!Q12 -> 15
A14: 9 | B14: =IF(BDD!E13="","",BDD!E13) | C14: =IF(BDD!F13="","",BDD!F13) | H14: =IFERROR(IF(F14="oui",M$3,VLOOKUP(I14,bareme_demenageur,2,1)-E14+G14),"") | I14: =IFERROR(IF(F14="OUI",M$3,RANK(D14,D$6:D$25,1)),"") | J14: =IFERROR(RANK(H14,H$6:H$25,0),"") | L14: =BDD!P13 -> 9 | M14: =BDD!Q13 -> 10
A15: 10 | B15: =IF(BDD!E14="","",BDD!E14) | C15: =IF(BDD!F14="","",BDD!F14) | H15: =IFERROR(IF(F15="oui",M$3,VLOOKUP(I15,bareme_demenageur,2,1)-E15+G15),"") | I15: =IFERROR(IF(F15="OUI",M$3,RANK(D15,D$6:D$25,1)),"") | J15: =IFERROR(RANK(H15,H$6:H$25,0),"") | L15: =BDD!P14 -> 10 | M15: =BDD!Q14 -> 5
A16: 11 | B16: =IF(BDD!E15="","",BDD!E15) | C16: =IF(BDD!F15="","",BDD!F15) | H16: =IFERROR(IF(F16="oui",M$3,VLOOKUP(I16,bareme_demenageur,2,1)-E16+G16),"") | I16: =IFERROR(IF(F16="OUI",M$3,RANK(D16,D$6:D$25,1)),"") | J16: =IFERROR(RANK(H16,H$6:H$25,0),"") | L16: =BDD!P15 -> 11 | M16: =BDD!Q15 -> 1
A17: 12 | B17: =IF(BDD!E16="","",BDD!E16) | C17: =IF(BDD!F16="","",BDD!F16) | H17: =IFERROR(IF(F17="oui",M$3,VLOOKUP(I17,bareme_demenageur,2,1)-E17+G17),"") | I17: =IFERROR(IF(F17="OUI",M$3,RANK(D17,D$6:D$25,1)),"") | J17: =IFERROR(RANK(H17,H$6:H$25,0),"") | L17: =BDD!P16 -> 12 | M17: =BDD!Q16 -> 1
... A25: 20 | B25: =IF(BDD!E24="","",BDD!E24) | C25: =IF(BDD!F24="","",BDD!F24) | H25: =IFERROR(IF(F25="oui",M$3,VLOOKUP(I25,bareme_demenageur,2,1)-E25+G25),"") | I25: =IFERROR(IF(F25="OUI",M$3,RANK(D25,D$6:D$25,1)),"") | J25: =IFERROR(RANK(H25,H$6:H$25,0),"") | L25: =BDD!P24 -> 20 | M25: =BDD!Q24 -> 1

Sheet Le renverseur
M2: EXCLU
E3: DISTANCE | F3: TEMPS | M3: 0
E4: 20 | F4: 180 | L4: BAREME
A5: ID | B5: NOM | C5: PRENOM | D5: TEMPS | E5: PENALITE | F5: EXCLUSION | G5: EX AEQUO | H5: POINTS ATTRIBUES | I5: RANG1 | J5: RANG2 | L5: RANG | M5: POINT AT
A6: 1 | B6: =IF(BDD!E5="","",BDD!E5) -> DUPONT1 | C6: =IF(BDD!F5="","",BDD!F5) -> Christophe 1 | H6: =IFERROR(IF(F6="oui",M$3,VLOOKUP(I6,barem_renverseur,2,1)-E6+G6),"") | I6: =IFERROR(IF(F6="OUI",M$3,RANK(D6,D$6:D$25,1)),"") | J6: =IFERROR(RANK(H6,H$6:H$25,0),"") | L6: =BDD!P5 -> 1 | M6: =BDD!Q5 -> 50
A7: 2 | B7: =IF(BDD!E6="","",BDD!E6) -> DUPONT2 | C7: =IF(BDD!F6="","",BDD!F6) -> Christophe 2 | H7: =IFERROR(IF(F7="oui",M$3,VLOOKUP(I7,barem_renverseur,2,1)-E7+G7),"") | I7: =IFERROR(IF(F7="OUI",M$3,RANK(D7,D$6:D$25,1)),"") | J7: =IFERROR(RANK(H7,H$6:H$25,0),"") | L7: =BDD!P6 -> 2 | M7: =BDD!Q6 -> 45
A8: 3 | B8: =IF(BDD!E7="","",BDD!E7) -> DUPONT3 | C8: =IF(BDD!F7="","",BDD!F7) -> Christophe 3 | H8: =IFERROR(IF(F8="oui",M$3,VLOOKUP(I8,barem_renverseur,2,1)-E8+G8),"") | I8: =IFERROR(IF(F8="OUI",M$3,RANK(D8,D$6:D$25,1)),"") | J8: =IFERROR(RANK(H8,H$6:H$25,0),"") | L8: =BDD!P7 -> 3 | M8: =BDD!Q7 -> 40
A9: 4 | B9: =IF(BDD!E8="","",BDD!E8) -> DUPONT4 | C9: =IF(BDD!F8="","",BDD!F8) -> Christophe 4 | H9: =IFERROR(IF(F9="oui",M$3,VLOOKUP(I9,barem_renverseur,2,1)-E9+G9),"") | I9: =IFERROR(IF(F9="OUI",M$3,RANK(D9,D$6:D$25,1)),"") | J9: =IFERROR(RANK(H9,H$6:H$25,0),"") | L9: =BDD!P8 -> 4 | M9: =BDD!Q8 -> 35
A10: 5 | B10: =IF(BDD!E9="","",BDD!E9) -> DUPONT5 | C10: =IF(BDD!F9="","",BDD!F9) -> Christophe 5 | H10: =IFERROR(IF(F10="oui",M$3,VLOOKUP(I10,barem_renverseur,2,1)-E10+G10),"") | I10: =IFERROR(IF(F10="OUI",M$3,RANK(D10,D$6:D$25,1)),"") | J10: =IFERROR(RANK(H10,H$6:H$25,0),"") | L10: =BDD!P9 -> 5 | M10: =BDD!Q9 -> 30
A11: 6 | B11: =IF(BDD!E10="","",BDD!E10) -> DUPONT6 | C11: =IF(BDD!F10="","",BDD!F10) -> Christophe 6 | H11: =IFERROR(IF(F11="oui",M$3,VLOOKUP(I11,barem_renverseur,2,1)-E11+G11),"") | I11: =IFERROR(IF(F11="OUI",M$3,RANK(D11,D$6:D$25,1)),"") | J11: =IFERROR(RANK(H11,H$6:H$25,0),"") | L11: =BDD!P10 -> 6 | M11: =BDD!Q10 -> 25
A12: 7 | B12: =IF(BDD!E11="","",BDD!E11) | C12: =IF(BDD!F11="","",BDD!F11) | H12: =IFERROR(IF(F12="oui",M$3,VLOOKUP(I12,barem_renverseur,2,1)-E12+G12),"") | I12: =IFERROR(IF(F12="OUI",M$3,RANK(D12,D$6:D$25,1)),"") | J12: =IFERROR(RANK(H12,H$6:H$25,0),"") | L12: =BDD!P11 -> 7 | M12: =BDD!Q11 -> 20
A13: 8 | B13: =IF(BDD!E12="","",BDD!E12) | C13: =IF(BDD!F12="","",BDD!F12) | H13: =IFERROR(IF(F13="oui",M$3,VLOOKUP(I13,barem_renverseur,2,1)-E13+G13),"") | I13: =IFERROR(IF(F13="OUI",M$3,RANK(D13,D$6:D$25,1)),"") | J13: =IFERROR(RANK(H13,H$6:H$25,0),"") | L13: =BDD!P12 -> 8 | M13: =BDD!Q12 -> 15
A14: 9 | B14: =IF(BDD!E13="","",BDD!E13) | C14: =IF(BDD!F13="","",BDD!F13) | H14: =IFERROR(IF(F14="oui",M$3,VLOOKUP(I14,barem_renverseur,2,1)-E14+G14),"") | I14: =IFERROR(IF(F14="OUI",M$3,RANK(D14,D$6:D$25,1)),"") | J14: =IFERROR(RANK(H14,H$6:H$25,0),"") | L14: =BDD!P13 -> 9 | M14: =BDD!Q13 -> 10
A15: 10 | B15: =IF(BDD!E14="","",BDD!E14) | C15: =IF(BDD!F14="","",BDD!F14) | H15: =IFERROR(IF(F15="oui",M$3,VLOOKUP(I15,barem_renverseur,2,1)-E15+G15),"") | I15: =IFERROR(IF(F15="OUI",M$3,RANK(D15,D$6:D$25,1)),"") | J15: =IFERROR(RANK(H15,H$6:H$25,0),"") | L15: =BDD!P14 -> 10 | M15: =BDD!Q14 -> 5
A16: 11 | B16: =IF(BDD!E15="","",BDD!E15) | C16: =IF(BDD!F15="","",BDD!F15) | H16: =IFERROR(IF(F16="oui",M$3,VLOOKUP(I16,barem_renverseur,2,1)-E16+G16),"") | I16: =IFERROR(IF(F16="OUI",M$3,RANK(D16,D$6:D$25,1)),"") | J16: =IFERROR(RANK(H16,H$6:H$25,0),"") | L16: =BDD!P15 -> 11 | M16: =BDD!Q15 -> 1
A17: 12 | B17: =IF(BDD!E16="","",BDD!E16) | C17: =IF(BDD!F16="","",BDD!F16) | H17: =IFERROR(IF(F17="oui",M$3,VLOOKUP(I17,barem_renverseur,2,1)-E17+G17),"") | I17: =IFERROR(IF(F17="OUI",M$3,RANK(D17,D$6:D$25,1)),"") | J17: =IFERROR(RANK(H17,H$6:H$25,0),"") | L17: =BDD!P16 -> 12 | M17: =BDD!Q16 -> 1
... A25: 20 | B25: =IF(BDD!E24="","",BDD!E24) | C25: =IF(BDD!F24="","",BDD!F24) | H25: =IFERROR(IF(F25="oui",M$3,VLOOKUP(I25,barem_renverseur,2,1)-E25+G25),"") | I25: =IFERROR(IF(F25="OUI",M$3,RANK(D25,D$6:D$25,1)),"") | J25: =IFERROR(RANK(H25,H$6:H$25,0),"") | L25: =BDD!P24 -> 20 | M25: =BDD!Q24 -> 1

Sheet Le souleveur
O2: EXCLU | Q2: '=D6+SI(D6<$F$4;0;SIERREUR(SI(G6="oui";N$3;RECHERCHEV(J6;bareme_transporteur;2;1))-F6+H6;""))
F3: MAX DE REPS | G3: CHARGE | H3: TEMPS | O3: 0
F4: 100 | G4: 200 | H4: 120 | N4: BAREME
A5: ID | B5: NOM | C5: PRENOM | D5: REPS SOULEVER | E5: TEMPS | F5: RATIO | G5: PENALITE | H5: EXCLU | I5: EX EAQUO | J5: POINTS ATTRIBUES | K5: RANG1 | L5: RANG2 | N5: RANG | O5: POINT AT
A6: 1 | B6: =IF(BDD!E5="","",BDD!E5) -> DUPONT1 | C6: =IF(BDD!F5="","",BDD!F5) -> Christophe 1 | D6: 18 | E6: 18.5 | F6: =D6*$F$4-E6 -> 1781.5 | J6: =IFERROR(IF(H6="oui",O$3,VLOOKUP(K6,bareme_souleveur,2,1))-G6+I6,"") -> 35 | K6: =IFERROR(IF(H6="oui",O$3,RANK(F6,F$6:F$25,0)),"") -> 4 | L6: =IFERROR(IF(H6="oui",O$3,RANK(J6,J$6:J$25,0)),"") -> 4 | N6: =BDD!P5 -> 1 | O6: =BDD!Q5 -> 50
A7: 2 | B7: =IF(BDD!E6="","",BDD!E6) -> DUPONT2 | C7: =IF(BDD!F6="","",BDD!F6) -> Christophe 2 | D7: 20 | E7: 18.4 | F7: =D7*$F$4-E7 -> 1981.6 | J7: =IFERROR(IF(H7="oui",O$3,VLOOKUP(K7,bareme_souleveur,2,1))-G7+I7,"") -> 50 | K7: =IFERROR(IF(H7="oui",O$3,RANK(F7,F$6:F$25,0)),"") -> 1 | L7: =IFERROR(IF(H7="oui",O$3,RANK(J7,J$6:J$25,0)),"") -> 1 | N7: =BDD!P6 -> 2 | O7: =BDD!Q6 -> 45
A8: 3 | B8: =IF(BDD!E7="","",BDD!E7) -> DUPONT3 | C8: =IF(BDD!F7="","",BDD!F7) -> Christophe 3 | D8: 19 | E8: 18.5 | F8: =D8*$F$4-E8 -> 1881.5 | J8: =IFERROR(IF(H8="oui",O$3,VLOOKUP(K8,bareme_souleveur,2,1))-G8+I8,"") -> 40 | K8: =IFERROR(IF(H8="oui",O$3,RANK(F8,F$6:F$25,0)),"") -> 3 | L8: =IFERROR(IF(H8="oui",O$3,RANK(J8,J$6:J$25,0)),"") -> 3 | N8: =BDD!P7 -> 3 | O8: =BDD!Q7 -> 40
A9: 4 | B9: =IF(BDD!E8="","",BDD!E8) -> DUPONT4 | C9: =IF(BDD!F8="","",BDD!F8) -> Christophe 4 | D9: 15 | E9: 14.5 | F9: =D9*$F$4-E9 -> 1485.5 | J9: =IFERROR(IF(H9="oui",O$3,VLOOKUP(K9,bareme_souleveur,2,1))-G9+I9,"") -> 25 | K9: =IFERROR(IF(H9="oui",O$3,RANK(F9,F$6:F$25,0)),"") -> 6 | L9: =IFERROR(IF(H9="oui",O$3,RANK(J9,J$6:J$25,0)),"") -> 6 | N9: =BDD!P8 -> 4 | O9: =BDD!Q8 -> 35
A10: 5 | B10: =IF(BDD!E9="","",BDD!E9) -> DUPONT5 | C10: =IF(BDD!F9="","",BDD!F9) -> Christophe 5 | D10: 20 | E10: 23 | F10: =D10*$F$4-E10 -> 1977 | J10: =IFERROR(IF(H10="oui",O$3,VLOOKUP(K10,bareme_souleveur,2,1))-G10+I10,"") -> 45 | K10: =IFERROR(IF(H10="oui",O$3,RANK(F10,F$6:F$25,0)),"") -> 2 | L10: =IFERROR(IF(H10="oui",O$3,RANK(J10,J$6:J$25,0)),"") -> 2 | N10: =BDD!P9 -> 5 | O10: =BDD!Q9 -> 30
A11: 6 | B11: =IF(BDD!E10="","",BDD!E10) -> DUPONT6 | C11: =IF(BDD!F10="","",BDD!F10) -> Christophe 6 | D11: 18 | E11: 21.2 | F11: =D11*$F$4-E11 -> 1778.8 | J11: =IFERROR(IF(H11="oui",O$3,VLOOKUP(K11,bareme_souleveur,2,1))-G11+I11,"") -> 30 | K11: =IFERROR(IF(H11="oui",O$3,RANK(F11,F$6:F$25,0)),"") -> 5 | L11: =IFERROR(IF(H11="oui",O$3,RANK(J11,J$6:J$25,0)),"") -> 5 | N11: =BDD!P10 -> 6 | O11: =BDD!Q10 -> 25
A12: 7 | B12: =IF(BDD!E11="","",BDD!E11) | C12: =IF(BDD!F11="","",BDD!F11) | J12: =IFERROR(IF(H12="oui",O$3,VLOOKUP(K12,bareme_souleveur,2,1))-G12+I12,"") | K12: =IFERROR(IF(H12="oui",O$3,RANK(F12,F$6:F$25,0)),"") | L12: =IFERROR(IF(H12="oui",O$3,RANK(J12,J$6:J$25,0)),"") | N12: =BDD!P11 -> 7 | O12: =BDD!Q11 -> 20
A13: 8 | B13: =IF(BDD!E12="","",BDD!E12) | C13: =IF(BDD!F12="","",BDD!F12) | J13: =IFERROR(IF(H13="oui",O$3,VLOOKUP(K13,bareme_souleveur,2,1))-G13+I13,"") | K13: =IFERROR(IF(H13="oui",O$3,RANK(F13,F$6:F$25,0)),"") | L13: =IFERROR(IF(H13="oui",O$3,RANK(J13,J$6:J$25,0)),"") | N13: =BDD!P12 -> 8 | O13: =BDD!Q12 -> 15
A14: 9 | B14: =IF(BDD!E13="","",BDD!E13) | C14: =IF(BDD!F13="","",BDD!F13) | J14: =IFERROR(IF(H14="oui",O$3,VLOOKUP(K14,bareme_souleveur,2,1))-G14+I14,"") | K14: =IFERROR(IF(H14="oui",O$3,RANK(F14,F$6:F$25,0)),"") | L14: =IFERROR(IF(H14="oui",O$3,RANK(J14,J$6:J$25,0)),"") | N14: =BDD!P13 -> 9 | O14: =BDD!Q13 -> 10
A15: 10 | B15: =IF(BDD!E14="","",BDD!E14) | C15: =IF(BDD!F14="","",BDD!F14) | J15: =IFERROR(IF(H15="oui",O$3,VLOOKUP(K15,bareme_souleveur,2,1))-G15+I15,"") | K15: =IFERROR(IF(H15="oui",O$3,RANK(F15,F$6:F$25,0)),"") | L15: =IFERROR(IF(H15="oui",O$3,RANK(J15,J$6:J$25,0)),"") | N15: =BDD!P14 -> 10 | O15: =BDD!Q14 -> 5
A16: 11 | B16: =IF(BDD!E15="","",BDD!E15) | C16: =IF(BDD!F15="","",BDD!F15) | J16: =IFERROR(IF(H16="oui",O$3,VLOOKUP(K16,bareme_souleveur,2,1))-G16+I16,"") | K16: =IFERROR(IF(H16="oui",O$3,RANK(F16,F$6:F$25,0)),"") | L16: =IFERROR(IF(H16="oui",O$3,RANK(J16,J$6:J$25,0)),"") | N16: =BDD!P15 -> 11 | O16: =BDD!Q15 -> 1
A17: 12 | B17: =IF(BDD!E16="","",BDD!E16) | C17: =IF(BDD!F16="","",BDD!F16) | J17: =IFERROR(IF(H17="oui",O$3,VLOOKUP(K17,bareme_souleveur,2,1))-G17+I17,"") | K17: =IFERROR(IF(H17="oui",O$3,RANK(F17,F$6:F$25,0)),"") | L17: =IFERROR(IF(H17="oui",O$3,RANK(J17,J$6:J$25,0)),"") | N17: =BDD!P16 -> 12 | O17: =BDD!Q16 -> 1
A18: 13 | B18: =IF(BDD!E17="","",BDD!E17) | C18: =IF(BDD!F17="","",BDD!F17) | J18: =IFERROR(IF(H18="oui",O$3,VLOOKUP(K18,bareme_souleveur,2,1))-G18+I18,"") | K18: =IFERROR(IF(H18="oui",O$3,RANK(F18,F$6:F$25,0)),"") | L18: =IFERROR(IF(H18="oui",O$3,RANK(J18,J$6:J$25,0)),"") | N18: =BDD!P17 -> 13 | O18: =BDD!Q17 -> 1
A19: 14 | B19: =IF(BDD!E18="","",BDD!E18) | C19: =IF(BDD!F18="","",BDD!F18) | J19: =IFERROR(IF(H19="oui",O$3,VLOOKUP(K19,bareme_souleveur,2,1))-G19+I19,"") | K19: =IFERROR(IF(H19="oui",O$3,RANK(F19,F$6:F$25,0)),"") | L19: =IFERROR(IF(H19="oui",O$3,RANK(J19,J$6:J$25,0)),"") | N19: =BDD!P18 -> 14 | O19: =BDD!Q18 -> 1
A20: 15 | B20: =IF(BDD!E19="","",BDD!E19) | C20: =IF(BDD!F19="","",BDD!F19) | J20: =IFERROR(IF(H20="oui",O$3,VLOOKUP(K20,bareme_souleveur,2,1))-G20+I20,"") | K20: =IFERROR(IF(H20="oui",O$3,RANK(F20,F$6:F$25,0)),"") | L20: =IFERROR(IF(H20="oui",O$3,RANK(J20,J$6:J$25,0)),"") | N20: =BDD!P19 -> 15 | O20: =BDD!Q19 -> 1
A21: 16 | B21: =IF(BDD!E20="","",BDD!E20) | C21: =IF(BDD!F20="","",BDD!F20) | J21: =IFERROR(IF(H21="oui",O$3,VLOOKUP(K21,bareme_souleveur,2,1))-G21+I21,"") | K21: =IFERROR(IF(H21="oui",O$3,RANK(F21,F$6:F$25,0)),"") | L21: =IFERROR(IF(H21="oui",O$3,RANK(J21,J$6:J$25,0)),"") | N21: =BDD!P20 -> 16 | O21: =BDD!Q20 -> 1
A22: 17 | B22: =IF(BDD!E21="","",BDD!E21) | C22: =IF(BDD!F21="","",BDD!F21) | J22: =IFERROR(IF(H22="oui",O$3,VLOOKUP(K22,bareme_souleveur,2,1))-G22+I22,"") | K22: =IFERROR(IF(H22="oui",O$3,RANK(F22,F$6:F$25,0)),"") | L22: =IFERROR(IF(H22="oui",O$3,RANK(J22,J$6:J$25,0)),"") | N22: =BDD!P21 -> 17 | O22: =BDD!Q21 -> 1
A23: 18 | B23: =IF(BDD!E22="","",BDD!E22) | C23: =IF(BDD!F22="","",BDD!F22) | J23: =IFERROR(IF(H23="oui",O$3,VLOOKUP(K23,bareme_souleveur,2,1))-G23+I23,"") | K23: =IFERROR(IF(H23="oui",O$3,RANK(F23,F$6:F$25,0)),"") | L23: =IFERROR(IF(H23="oui",O$3,RANK(J23,J$6:J$25,0)),"") | N23: =BDD!P22 -> 18 | O23: =BDD!Q22 -> 1
... A25: 20 | B25: =IF(BDD!E24="","",BDD!E24) | C25: =IF(BDD!F24="","",BDD!F24) | J25: =IFERROR(IF(H25="oui",O$3,VLOOKUP(K25,bareme_souleveur,2,1))-G25+I25,"") | K25: =IFERROR(IF(H25="oui",O$3,RANK(F25,F$6:F$25,0)),"") | L25: =IFERROR(IF(H25="oui",O$3,RANK(J25,J$6:J$25,0)),"") | N25: =BDD!P24 -> 20 | O25: =BDD!Q24 -> 1

Sheet Le transporteur
N2: EXCLU | O2: =D6+SI(D6<$F$4;0;SIERREUR(SI(G6="oui";N$3;RECHERCHEV(J6;bareme_transporteur;2;1))-F6+H6;""))
F3: DISTANCE | G3: TEMPS | N3: 0
F4: 20 | G4: 180 | M4: BAREME
A5: ID | B5: Nom | C5: Prénom | D5: DISTANCE | E5: TEMPS | F5: PENALITE | G5: EXCLU | H5: EX EAQUO | I5: POINTS ATTRIBUES | J5: RANG1 | K5: RANG2 | M5: RANG | N5: POINT AT | T5: Calcule | V5: POINTS
A6: 1 | B6: =IF(BDD!E5="","",BDD!E5) -> DUPONT1 | C6: =IF(BDD!F5="","",BDD!F5) -> Christophe 1 | D6: 20 | E6: 15 | I6: =IF(E6="","",IFERROR(IF(G6="oui",N$3,D6+IF(D6<$F$4,0,VLOOKUP(J6,bareme_transporteur,2,1))),"")-F6+H6) -> 60 | J6: =IFERROR(IF(G6="oui",N$3,RANK(E6,E$6:E$25,1)),"") -> 3 | K6: =IFERROR(IF(G6="oui",$N$3,RANK(I6,I$6:I$25,0)),"") -> 2 | M6: =BDD!P5 -> 1 | N6: =BDD!Q5 -> 50 | T6: =IFERROR(RANK(E6,$E$6:$E$25,0),"") -> 1 | U6: =IF(IFERROR(RANK(E6,$E$6:$E$25,0),"")=1,0,IFERROR(MAX($T$6:$T$25)-IFERROR(RANK(E6,$E$6:$E$25,0),""),"")) -> 0 | V6: =IFERROR(IF(T6=1,0,RANK(U6,$U$6:$U$25)),"") -> 0
A7: 2 | B7: =IF(BDD!E6="","",BDD!E6) -> DUPONT2 | C7: =IF(BDD!F6="","",BDD!F6) -> Christophe 2 | D7: 15 | E7: 13 | I7: =IF(E7="","",IFERROR(IF(G7="oui",N$3,D7+IF(D7<$F$4,0,VLOOKUP(J7,bareme_transporteur,2,1))),"")-F7+H7) -> 15 | J7: =IFERROR(IF(G7="oui",N$3,RANK(E7,E$6:E$25,1)),"") -> 1 | K7: =IFERROR(IF(G7="oui",$N$3,RANK(I7,I$6:I$25,0)),"") -> 3 | M7: =BDD!P6 -> 2 | N7: =BDD!Q6 -> 45 | T7: =IFERROR(RANK(E7,$E$6:$E$25,0),"") -> 3 | U7: =IF(IFERROR(RANK(E7,$E$6:$E$25,0),"")=1,0,IFERROR(MAX($T$6:$T$25)-IFERROR(RANK(E7,$E$6:$E$25,0),""),"")) -> 0 | V7: =IFERROR(IF(T7=1,0,RANK(U7,$U$6:$U$25)),"") -> 2
A8: 3 | B8: =IF(BDD!E7="","",BDD!E7) -> DUPONT3 | C8: =IF(BDD!F7="","",BDD!F7) -> Christophe 3 | D8: 25 | E8: 14 | I8: =IF(E8="","",IFERROR(IF(G8="oui",N$3,D8+IF(D8<$F$4,0,VLOOKUP(J8,bareme_transporteur,2,1))),"")-F8+H8) -> 70 | J8: =IFERROR(IF(G8="oui",N$3,RANK(E8,E$6:E$25,1)),"") -> 2 | K8: =IFERROR(IF(G8="oui",$N$3,RANK(I8,I$6:I$25,0)),"") -> 1 | M8: =BDD!P7 -> 3 | N8: =BDD!Q7 -> 40 | T8: =IFERROR(RANK(E8,$E$6:$E$25,0),"") -> 2 | U8: =IF(IFERROR(RANK(E8,$E$6:$E$25,0),"")=1,0,IFERROR(MAX($T$6:$T$25)-IFERROR(RANK(E8,$E$6:$E$25,0),""),"")) -> 1 | V8: =IFERROR(IF(T8=1,0,RANK(U8,$U$6:$U$25)),"") -> 1
A9: 4 | B9: =IF(BDD!E8="","",BDD!E8) -> DUPONT4 | C9: =IF(BDD!F8="","",BDD!F8) -> Christophe 4 | I9: =IF(E9="","",IFERROR(IF(G9="oui",N$3,D9+IF(D9<$F$4,0,VLOOKUP(J9,bareme_transporteur,2,1))),"")-F9+H9) | J9: =IFERROR(IF(G9="oui",N$3,RANK(E9,E$6:E$25,1)),"") | K9: =IFERROR(IF(G9="oui",$N$3,RANK(I9,I$6:I$25,0)),"") | M9: =BDD!P8 -> 4 | N9: =BDD!Q8 -> 35 | T9: =IFERROR(RANK(E9,$E$6:$E$25,0),"") | U9: =IF(IFERROR(RANK(E9,$E$6:$E$25,0),"")=1,0,IFERROR(MAX($T$6:$T$25)-IFERROR(RANK(E9,$E$6:$E$25,0),""),"")) | V9: =IFERROR(IF(T9=1,0,RANK(U9,$U$6:$U$25)),"")
A10: 5 | B10: =IF(BDD!E9="","",BDD!E9) -> DUPONT5 | C10: =IF(BDD!F9="","",BDD!F9) -> Christophe 5 | I10: =IF(E10="","",IFERROR(IF(G10="oui",N$3,D10+IF(D10<$F$4,0,VLOOKUP(J10,bareme_transporteur,2,1))),"")-F10+H10) | J10: =IFERROR(IF(G10="oui",N$3,RANK(E10,E$6:E$25,1)),"") | K10: =IFERROR(IF(G10="oui",$N$3,RANK(I10,I$6:I$25,0)),"") | M10: =BDD!P9 -> 5 | N10: =BDD!Q9 -> 30 | T10: =IFERROR(RANK(E10,$E$6:$E$25,0),"") | U10: =IF(IFERROR(RANK(E10,$E$6:$E$25,0),"")=1,0,IFERROR(MAX($T$6:$T$25)-IFERROR(RANK(E10,$E$6:$E$25,0),""),"")) | V10: =IFERROR(IF(T10=1,0,RANK(U10,$U$6:$U$25)),"")
A11: 6 | B11: =IF(BDD!E10="","",BDD!E10) -> DUPONT6 | C11: =IF(BDD!F10="","",BDD!F10) -> Christophe 6 | I11: =IF(E11="","",IFERROR(IF(G11="oui",N$3,D11+IF(D11<$F$4,0,VLOOKUP(J11,bareme_transporteur,2,1))),"")-F11+H11) | J11: =IFERROR(IF(G11="oui",N$3,RANK(E11,E$6:E$25,1)),"") | K11: =IFERROR(IF(G11="oui",$N$3,RANK(I11,I$6:I$25,0)),"") | M11: =BDD!P10 -> 6 | N11: =BDD!Q10 -> 25 | T11: =IFERROR(RANK(E11,$E$6:$E$25,0),"") | U11: =IF(IFERROR(RANK(E11,$E$6:$E$25,0),"")=1,0,IFERROR(MAX($T$6:$T$25)-IFERROR(RANK(E11,$E$6:$E$25,0),""),"")) | V11: =IFERROR(IF(T11=1,0,RANK(U11,$U$6:$U$25)),"")
A12: 7 | B12: =IF(BDD!E11="","",BDD!E11) | C12: =IF(BDD!F11="","",BDD!F11) | I12: =IF(E12="","",IFERROR(IF(G12="oui",N$3,D12+IF(D12<$F$4,0,VLOOKUP(J12,bareme_transporteur,2,1))),"")-F12+H12) | J12: =IFERROR(IF(G12="oui",N$3,RANK(E12,E$6:E$25,1)),"") | K12: =IFERROR(IF(G12="oui",$N$3,RANK(I12,I$6:I$25,0)),"") | M12: =BDD!P11 -> 7 | N12: =BDD!Q11 -> 20 | T12: =IFERROR(RANK(E12,$E$6:$E$25,0),"") | U12: =IF(IFERROR(RANK(E12,$E$6:$E$25,0),"")=1,0,IFERROR(MAX($T$6:$T$25)-IFERROR(RANK(E12,$E$6:$E$25,0),""),"")) | V12: =IFERROR(IF(T12=1,0,RANK(U12,$U$6:$U$25)),"")
A13: 8 | B13: =IF(BDD!E12="","",BDD!E12) | C13: =IF(BDD!F12="","",BDD!F12) | I13: =IF(E13="","",IFERROR(IF(G13="oui",N$3,D13+IF(D13<$F$4,0,VLOOKUP(J13,bareme_transporteur,2,1))),"")-F13+H13) | J13: =IFERROR(IF(G13="oui",N$3,RANK(E13,E$6:E$25,1)),"") | K13: =IFERROR(IF(G13="oui",$N$3,RANK(I13,I$6:I$25,0)),"") | M13: =BDD!P12 -> 8 | N13: =BDD!Q12 -> 15 | T13: =IFERROR(RANK(E13,$E$6:$E$25,0),"") | U13: =IF(IFERROR(RANK(E13,$E$6:$E$25,0),"")=1,0,IFERROR(MAX($T$6:$T$25)-IFERROR(RANK(E13,$E$6:$E$25,0),""),"")) | V13: =IFERROR(IF(T13=1,0,RANK(U13,$U$6:$U$25)),"")
A14: 9 | B14: =IF(BDD!E13="","",BDD!E13) | C14: =IF(BDD!F13="","",BDD!F13) | I14: =IF(E14="","",IFERROR(IF(G14="oui",N$3,D14+IF(D14<$F$4,0,VLOOKUP(J14,bareme_transporteur,2,1))),"")-F14+H14) | J14: =IFERROR(IF(G14="oui",N$3,RANK(E14,E$6:E$25,1)),"") | K14: =IFERROR(IF(G14="oui",$N$3,RANK(I14,I$6:I$25,0)),"") | M14: =BDD!P13 -> 9 | N14: =BDD!Q13 -> 10 | T14: =IFERROR(RANK(E14,$E$6:$E$25,0),"") | U14: =IF(IFERROR(RANK(E14,$E$6:$E$25,0),"")=1,0,IFERROR(MAX($T$6:$T$25)-IFERROR(RANK(E14,$E$6:$E$25,0),""),"")) | V14: =IFERROR(IF(T14=1,0,RANK(U14,$U$6:$U$25)),"")
A15: 10 | B15: =IF(BDD!E14="","",BDD!E14) | C15: =IF(BDD!F14="","",BDD!F14) | I15: =IF(E15="","",IFERROR(IF(G15="oui",N$3,D15+IF(D15<$F$4,0,VLOOKUP(J15,bareme_transporteur,2,1))),"")-F15+H15) | J15: =IFERROR(IF(G15="oui",N$3,RANK(E15,E$6:E$25,1)),"") | K15: =IFERROR(IF(G15="oui",$N$3,RANK(I15,I$6:I$25,0)),"") | M15: =BDD!P14 -> 10 | N15: =BDD!Q14 -> 5 | T15: =IFERROR(RANK(E15,$E$6:$E$25,0),"") | U15: =IF(IFERROR(RANK(E15,$E$6:$E$25,0),"")=1,0,IFERROR(MAX($T$6:$T$25)-IFERROR(RANK(E15,$E$6:$E$25,0),""),"")) | V15: =IFERROR(IF(T15=1,0,RANK(U15,$U$6:$U$25)),"")
A16: 11 | B16: =IF(BDD!E15="","",BDD!E15) | C16: =IF(BDD!F15="","",BDD!F15) | I16: =IF(E16="","",IFERROR(IF(G16="oui",N$3,D16+IF(D16<$F$4,0,VLOOKUP(J16,bareme_transporteur,2,1))),"")-F16+H16) | J16: =IFERROR(IF(G16="oui",N$3,RANK(E16,E$6:E$25,1)),"") | K16: =IFERROR(IF(G16="oui",$N$3,RANK(I16,I$6:I$25,0)),"") | M16: =BDD!P15 -> 11 | N16: =BDD!Q15 -> 1 | T16: =IFERROR(RANK(E16,$E$6:$E$25,0),"") | U16: =IF(IFERROR(RANK(E16,$E$6:$E$25,0),"")=1,0,IFERROR(MAX($T$6:$T$25)-IFERROR(RANK(E16,$E$6:$E$25,0),""),"")) | V16: =IFERROR(IF(T16=1,0,RANK(U16,$U$6:$U$25)),"")
A17: 12 | B17: =IF(BDD!E16="","",BDD!E16) | C17: =IF(BDD!F16="","",BDD!F16) | I17: =IF(E17="","",IFERROR(IF(G17="oui",N$3,D17+IF(D17<$F$4,0,VLOOKUP(J17,bareme_transporteur,2,1))),"")-F17+H17) | J17: =IFERROR(IF(G17="oui",N$3,RANK(E17,E$6:E$25,1)),"") | K17: =IFERROR(IF(G17="oui",$N$3,RANK(I17,I$6:I$25,0)),"") | M17: =BDD!P16 -> 12 | N17: =BDD!Q16 -> 1 | T17: =IFERROR(RANK(E17,$E$6:$E$25,0),"") | U17: =IF(IFERROR(RANK(E17,$E$6:$E$25,0),"")=1,0,IFERROR(MAX($T$6:$T$25)-IFERROR(RANK(E17,$E$6:$E$25,0),""),"")) | V17: =IFERROR(IF(T17=1,0,RANK(U17,$U$6:$U$25)),"")
A18: 13 | B18: =IF(BDD!E17="","",BDD!E17) | C18: =IF(BDD!F17="","",BDD!F17) | I18: =IF(E18="","",IFERROR(IF(G18="oui",N$3,D18+IF(D18<$F$4,0,VLOOKUP(J18,bareme_transporteur,2,1))),"")-F18+H18) | J18: =IFERROR(IF(G18="oui",N$3,RANK(E18,E$6:E$25,1)),"") | K18: =IFERROR(IF(G18="oui",$N$3,RANK(I18,I$6:I$25,0)),"") | M18: =BDD!P17 -> 13 | N18: =BDD!Q17 -> 1 | T18: =IFERROR(RANK(E18,$E$6:$E$25,0),"") | U18: =IF(IFERROR(RANK(E18,$E$6:$E$25,0),"")=1,0,IFERROR(MAX($T$6:$T$25)-IFERROR(RANK(E18,$E$6:$E$25,0),""),"")) | V18: =IFERROR(IF(T18=1,0,RANK(U18,$U$6:$U$25)),"")
A19: 14 | B19: =IF(BDD!E18="","",BDD!E18) | C19: =IF(BDD!F18="","",BDD!F18) | I19: =IF(E19="","",IFERROR(IF(G19="oui",N$3,D19+IF(D19<$F$4,0,VLOOKUP(J19,bareme_transporteur,2,1))),"")-F19+H19) | J19: =IFERROR(IF(G19="oui",N$3,RANK(E19,E$6:E$25,1)),"") | K19: =IFERROR(IF(G19="oui",$N$3,RANK(I19,I$6:I$25,0)),"") | M19: =BDD!P18 -> 14 | N19: =BDD!Q18 -> 1 | T19: =IFERROR(RANK(E19,$E$6:$E$25,0),"") | U19: =IF(IFERROR(RANK(E19,$E$6:$E$25,0),"")=1,0,IFERROR(MAX($T$6:$T$25)-IFERROR(RANK(E19,$E$6:$E$25,0),""),"")) | V19: =IFERROR(IF(T19=1,0,RANK(U19,$U$6:$U$25)),"")
A20: 15 | B20: =IF(BDD!E19="","",BDD!E19) | C20: =IF(BDD!F19="","",BDD!F19) | I20: =IF(E20="","",IFERROR(IF(G20="oui",N$3,D20+IF(D20<$F$4,0,VLOOKUP(J20,bareme_transporteur,2,1))),"")-F20+H20) | J20: =IFERROR(IF(G20="oui",N$3,RANK(E20,E$6:E$25,1)),"") | K20: =IFERROR(IF(G20="oui",$N$3,RANK(I20,I$6:I$25,0)),"") | M20: =BDD!P19 -> 15 | N20: =BDD!Q19 -> 1 | T20: =IFERROR(RANK(E20,$E$6:$E$25,0),"") | U20: =IF(IFERROR(RANK(E20,$E$6:$E$25,0),"")=1,0,IFERROR(MAX($T$6:$T$25)-IFERROR(RANK(E20,$E$6:$E$25,0),""),"")) | V20: =IFERROR(IF(T20=1,0,RANK(U20,$U$6:$U$25)),"")
... A25: 20 | B25: =IF(BDD!E24="","",BDD!E24) | C25: =IF(BDD!F24="","",BDD!F24) | I25: =IF(E25="","",IFERROR(IF(G25="oui",N$3,D25+IF(D25<$F$4,0,VLOOKUP(J25,bareme_transporteur,2,1))),"")-F25+H25) | J25: =IFERROR(IF(G25="oui",N$3,RANK(E25,E$6:E$25,1)),"") | K25: =IFERROR(IF(G25="oui",$N$3,RANK(I25,I$6:I$25,0)),"") | M25: =BDD!P24 -> 20 | N25: =BDD!Q24 -> 1 | T25: =IFERROR(RANK(E25,$E$6:$E$25,0),"") | U25: =IF(IFERROR(RANK(E25,$E$6:$E$25,0),"")=1,0,IFERROR(MAX($T$6:$T$25)-IFERROR(RANK(E25,$E$6:$E$25,0),""),"")) | V25: =IFERROR(IF(T25=1,0,RANK(U25,$U$6:$U$25)),"")

Sheet Epreuves
D3: LE PESEUR | G3: LE DEMENAGEUR | J3: LE RENVERSEUR | M3: LE SOULEVEUR | P3: LE TRANPORTEUR | T3: BAREME
A4: ID | B4: NOM | C4: PRENOM | D4: TEMPS | E4: PT | F4: RANG | G4: TEMPS | H4: PT | I4: RANG | J4: TEMPS | K4: PT | L4: RANG | M4: N.REPS | N4: PT | O4: RANG | P4: TEMPS | Q4: PT | R4: RANG | T4: RANG | U4: POINT AT
A5: 1 | T5: =[1]BDD!P5 -> 1 | U5: =[1]BDD!Q5 -> 50
A6: 2 | T6: =[1]BDD!P6 -> 2 | U6: =[1]BDD!Q6 -> 45
A7: 3 | T7: =[1]BDD!P7 -> 3 | U7: =[1]BDD!Q7 -> 40
A8: 4 | T8: =[1]BDD!P8 -> 4 | U8: =[1]BDD!Q8 -> 35
A9: 5 | T9: =[1]BDD!P9 -> 5 | U9: =[1]BDD!Q9 -> 30
A10: 6 | T10: =[1]BDD!P10 -> 6 | U10: =[1]BDD!Q10 -> 25
A11: 7 | T11: =[1]BDD!P11 -> 7 | U11: =[1]BDD!Q11 -> 20
A12: 8 | T12: =[1]BDD!P12 -> 8 | U12: =[1]BDD!Q12 -> 15
A13: 9 | T13: =[1]BDD!P13 -> 9 | U13: =[1]BDD!Q13 -> 10
A14: 10 | T14: =[1]BDD!P14 -> 10 | U14: =[1]BDD!Q14 -> 5
A15: 11 | T15: =[1]BDD!P15 -> 11 | U15: =[1]BDD!Q15 -> 1
A16: 12 | T16: =[1]BDD!P16 -> 12 | U16: =[1]BDD!Q16 -> 1
... A24: 20 | T24: =[1]BDD!P24 -> 20 | U24: =[1]BDD!Q24 -> 1

Sheet Feuil1
B8: LE PESEUR | G8: LE DEMENAGEUR | N8: LE SOULEVEUR | U8: LE RENVERSEUR | AB8: LE TRANSPORTEUR
B9: CLACEMENT | C9: NOM | D9: PRENOM | E9: TEMPS | F9: TOTAL POINT | G9: CLACEMENT | H9: NOM | I9: PRENOM | J9: DISTANCE | K9: TEMPS | L9: TOTAL POINT | N9: CLACEMENT | O9: NOM | P9: PRENOM | Q9: REPETITION | R9: TEMPS | S9: TOTAL POINT | U9: CLACEMENT | V9: NOM | W9: PRENOM | X9: DISTANCE | Y9: TEMPS | Z9: TOTAL POINT | AB9: CLACEMENT | AC9: NOM | AD9: PRENOM | AE9: DISTANCE | AF9: TEMPS | AG9: TOTAL POINT
B10: 1 | C10: GARCON | D10: STEEV | E10: 92.78 | F10: 50 | G10: 1 | N10: 1 | O10: KAREN | P10: JEAN-PHILIPPE | Q10: 14 | R10: 63.83 | S10: 50 | U10: 1 | V10: MERLIN | W10: TRISTAN | X10: 20 | Y10: 29 | Z10: 50 | AB10: 1 | AC10: VINCESLAS | AD10: OLIIVIER | AE10: 18 | AF10: 61.13 | AG10: 63
B11: 2 | C11: VASSARD | D11: PASCAL | E11: 48.18 | F11: 45 | G11: 2 | N11: 2 | O11: MERLIN | P11: TRISTAN | Q11: 12 | R11: 45.26 | S11: 46 | U11: 2 | V11: KAREN | W11: JEAN-PHILIPPE | X11: 20 | Y11: 30 | Z11: 45 | AB11: 2 | AC11: MERLIN | AD11: TRISTAN | AE11: 18 | AF11: 81.37 | AG11: 48
B12: 3 | C12: SYLVAIN | D12: ANTHONY | E12: 47 | F12: 40 | G12: 3 | N12: 3 | O12: GARCON | P12: STEEV | Q12: 12 | R12: 65.12 | S12: 45 | U12: 3 | V12: SYLVAIN | W12: ANTHONY | X12: 20 | Y12: 30.63 | Z12: 40 | AB12: 3 | AC12: GARCON | AD12: STEEV | AE12: 18 | AF12: 89.9 | AG12: 43
B13: 4 | C13: KAREN | D13: JEAN-PHILIPPE | E13: 46.54 | F13: 35 | G13: 4 | N13: 4 | O13: SYLVAIN | P13: ANTHONY | Q13: 11 | R13: 96.62 | S13: 35 | U13: 4 | V13: VASSARD | W13: PASCAL | X13: 20 | Y13: 35 | Z13: 35 | AB13: 4 | AC13: VASSARD | AD13: PASCAL | AE13: 14 | AF13: 63.23 | AG13: 14
B14: 5 | C14: MERLIN | D14: TRISTAN | E14: 36 | F14: 30 | G14: 5 | N14: 5 | O14: VINCESLAS | P14: OLIVIER | Q14: 9 | R14: 112.26 | S14: 30 | U14: 5 | V14: GARCON | W14: STEEV | X14: 20 | Y14: 35.21 | Z14: 30 | AB14: 5 | AC14: KAREN | AD14: JEAN-PHILIPPE | AE14: 13.76 | AF14: 61.84 | AG14: 13
B15: 6 | C15: VINCESLAS | D15: OLIVIER | E15: 31.72 | F15: 25 | G15: 6 | N15: 6 | O15: VASSARD | P15: PASCAL | Q15: 5 | R15: 43.37 | S15: 25 | U15: 6 | V15: VINCESLAS | W15: OLIVIER | X15: 20 | Y15: 37 | Z15: 25 | AB15: 6 | AC15: SYLVAIN | AD15: ANTHONY | AE15: 10.1 | AF15: 60.41 | AG15: 10
B16: 7 | G16: 7 | N16: 7 | U16: 7 | AB16: 7
B17: 8 | G17: 8 | N17: 8 | U17: 8 | AB17: 8
B18: 9 | G18: 9 | N18: 9 | U18: 9 | AB18: 9
B19: 10 | G19: 10 | N19: 10 | U19: 10 | AB19: 10
B20: 11 | G20: 11 | N20: 11 | U20: 11 | AB20: 11
B21: 12 | G21: 12 | N21: 12 | U21: 12 | AB21: 12
B22: 13 | G22: 13 | N22: 13 | U22: 13 | AB22: 13
B23: 14 | G23: 14 | N23: 14 | U23: 14 | AB23: 14
B24: 15 | G24: 15 | N24: 15 | U24: 15 | AB24: 15
B25: 16 | G25: 16 | N25: 16 | U25: 16 | AB25: 16
B26: 17 | G26: 17 | N26: 17 | U26: 17 | AB26: 17
B27: 18 | G27: 18 | N27: 18 | U27: 18 | AB27: 18
... B29: 20 | G29: 20 | N29: 20 | U29: 20 | AB29: 20
