Workbook

Sheet hsitorique facure 
A1: Nom | B1: somme | C1: Date | D1: Année
A2: dupont1 | B2: 100 | C2: 41640 | D2: =YEAR(C2) -> 2014
A3: dupont2 | B3: 101 | C3: 41671 | D3: =YEAR(C3) -> 2014
A4: dupont3 | B4: 102 | C4: 41699 | D4: =YEAR(C4) -> 2014
A5: dupont4 | B5: 103 | C5: 41730 | D5: =YEAR(C5) -> 2014
A6: dupont5 | B6: 104 | C6: 41760 | D6: =YEAR(C6) -> 2014
A7: dupont6 | B7: 105 | C7: 41791 | D7: =YEAR(C7) -> 2014
A8: dupont7 | B8: 106 | C8: 41821 | D8: =YEAR(C8) -> 2014
A9: dupont8 | B9: 107 | C9: 41852 | D9: =YEAR(C9) -> 2014
A10: dupont9 | B10: 108 | C10: 41883 | D10: =YEAR(C10) -> 2014
A11: dupont1 | B11: 150 | C11: 41913 | D11: =YEAR(C11) -> 2014
A12: dupont2 | B12: 200 | C12: 41944 | D12: =YEAR(C12) -> 2014
A13: dupont3 | B13: 50 | C13: 41974 | D13: =YEAR(C13) -> 2014
... A19: dupont9 | B19: 186 | C19: 41793 | D19: =YEAR(C19) -> 2014

Sheet client
A1: Nom | B1: montant max | C1: Moyent | D1: 2014
A2: dupont8 | B2: =SUMIFS('hsitorique facure '!$B:$B,'hsitorique facure '!$A:$A,client!A2,'hsitorique facure '!$D:$D,client!$D$1) -> 357 | C2: =AVERAGEIFS('hsitorique facure '!$B:$B,'hsitorique facure '!$A:$A,client!A2,'hsitorique facure '!$D:$D,client!$D$1) -> 178.5
A3: dupont9 | B3: =SUMIFS('hsitorique facure '!$B:$B,'hsitorique facure '!$A:$A,client!A3,'hsitorique facure '!$D:$D,client!$D$1) -> 294 | C3: =AVERAGEIFS('hsitorique facure '!$B:$B,'hsitorique facure '!$A:$A,client!A3,'hsitorique facure '!$D:$D,client!$D$1) -> 147
A4: dupont7 | B4: =SUMIFS('hsitorique facure '!$B:$B,'hsitorique facure '!$A:$A,client!A4,'hsitorique facure '!$D:$D,client!$D$1) -> 406 | C4: =AVERAGEIFS('hsitorique facure '!$B:$B,'hsitorique facure '!$A:$A,client!A4,'hsitorique facure '!$D:$D,client!$D$1) -> 203
A5: dupont4 | B5: =SUMIFS('hsitorique facure '!$B:$B,'hsitorique facure '!$A:$A,client!A5,'hsitorique facure '!$D:$D,client!$D$1) -> 133 | C5: =AVERAGEIFS('hsitorique facure '!$B:$B,'hsitorique facure '!$A:$A,client!A5,'hsitorique facure '!$D:$D,client!$D$1) -> 66.5
A6: dupont5 | B6: =SUMIFS('hsitorique facure '!$B:$B,'hsitorique facure '!$A:$A,client!A6,'hsitorique facure '!$D:$D,client!$D$1) -> 191 | C6: =AVERAGEIFS('hsitorique facure '!$B:$B,'hsitorique facure '!$A:$A,client!A6,'hsitorique facure '!$D:$D,client!$D$1) -> 95.5
A7: dupont6 | B7: =SUMIFS('hsitorique facure '!$B:$B,'hsitorique facure '!$A:$A,client!A7,'hsitorique facure '!$D:$D,client!$D$1) -> 786 | C7: =AVERAGEIFS('hsitorique facure '!$B:$B,'hsitorique facure '!$A:$A,client!A7,'hsitorique facure '!$D:$D,client!$D$1) -> 393
A8: dupont3 | B8: =SUMIFS('hsitorique facure '!$B:$B,'hsitorique facure '!$A:$A,client!A8,'hsitorique facure '!$D:$D,client!$D$1) -> 152 | C8: =AVERAGEIFS('hsitorique facure '!$B:$B,'hsitorique facure '!$A:$A,client!A8,'hsitorique facure '!$D:$D,client!$D$1) -> 76
A9: dupont1 | B9: =SUMIFS('hsitorique facure '!$B:$B,'hsitorique facure '!$A:$A,client!A9,'hsitorique facure '!$D:$D,client!$D$1) -> 250 | C9: =AVERAGEIFS('hsitorique facure '!$B:$B,'hsitorique facure '!$A:$A,client!A9,'hsitorique facure '!$D:$D,client!$D$1) -> 125
A10: dupont2 | B10: =SUMIFS('hsitorique facure '!$B:$B,'hsitorique facure '!$A:$A,client!A10,'hsitorique facure '!$D:$D,client!$D$1) -> 301 | C10: =AVERAGEIFS('hsitorique facure '!$B:$B,'hsitorique facure '!$A:$A,client!A10,'hsitorique facure '!$D:$D,client!$D$1) -> 150.5

Sheet Feuil3
