Workbook
Name Code: OFFSET(Feuil2!$A$1,1,0,COUNTA(Feuil2!$A:$A)-1,1)

Sheet Feuil1
A1: CODE | B1: pseudo | C1: ville | D1: departement | E1: ID
A2: 10000 | B2: =IF(Tableau1[[#This Row],[CODE]]="","",VLOOKUP(A2,Feuil2!A:E,2,0)) -> MAEL | C2: =IF(Tableau1[[#This Row],[CODE]]="","",VLOOKUP(A2,Feuil2!A:E,3,0)) -> Piney | D2: =IF(Tableau1[[#This Row],[CODE]]="","",VLOOKUP(A2,Feuil2!A:E,4,0)) -> 10 | E2: =IF(Tableau1[[#This Row],[CODE]]="","",VLOOKUP(A2,Feuil2!A:E,5,0)) -> 2282113
A3: 10002 | B3: =IF(Tableau1[[#This Row],[CODE]]="","",VLOOKUP(A3,Feuil2!A:E,2,0)) -> SOREN | C3: =IF(Tableau1[[#This Row],[CODE]]="","",VLOOKUP(A3,Feuil2!A:E,3,0)) -> Limoux | D3: =IF(Tableau1[[#This Row],[CODE]]="","",VLOOKUP(A3,Feuil2!A:E,4,0)) -> 11 | E3: =IF(Tableau1[[#This Row],[CODE]]="","",VLOOKUP(A3,Feuil2!A:E,5,0)) -> 2179942
A4: 10004 | B4: =IF(Tableau1[[#This Row],[CODE]]="","",VLOOKUP(A4,Feuil2!A:E,2,0)) -> MATHILDE | C4: =IF(Tableau1[[#This Row],[CODE]]="","",VLOOKUP(A4,Feuil2!A:E,3,0)) -> Millau | D4: =IF(Tableau1[[#This Row],[CODE]]="","",VLOOKUP(A4,Feuil2!A:E,4,0)) -> 12 | E4: =IF(Tableau1[[#This Row],[CODE]]="","",VLOOKUP(A4,Feuil2!A:E,5,0)) -> 484769
A5: 10005 | B5: =IF(Tableau1[[#This Row],[CODE]]="","",VLOOKUP(A5,Feuil2!A:E,2,0)) -> SASKIA | C5: =IF(Tableau1[[#This Row],[CODE]]="","",VLOOKUP(A5,Feuil2!A:E,3,0)) -> Nant | D5: =IF(Tableau1[[#This Row],[CODE]]="","",VLOOKUP(A5,Feuil2!A:E,4,0)) -> 12 | E5: =IF(Tableau1[[#This Row],[CODE]]="","",VLOOKUP(A5,Feuil2!A:E,5,0)) -> 2754967
B6: =IF(Tableau1[[#This Row],[CODE]]="","",VLOOKUP(A6,Feuil2!A:E,2,0)) | C6: =IF(Tableau1[[#This Row],[CODE]]="","",VLOOKUP(A6,Feuil2!A:E,3,0)) | D6: =IF(Tableau1[[#This Row],[CODE]]="","",VLOOKUP(A6,Feuil2!A:E,4,0)) | E6: =IF(Tableau1[[#This Row],[CODE]]="","",VLOOKUP(A6,Feuil2!A:E,5,0))
B7: =IF(Tableau1[[#This Row],[CODE]]="","",VLOOKUP(A7,Feuil2!A:E,2,0)) | C7: =IF(Tableau1[[#This Row],[CODE]]="","",VLOOKUP(A7,Feuil2!A:E,3,0)) | D7: =IF(Tableau1[[#This Row],[CODE]]="","",VLOOKUP(A7,Feuil2!A:E,4,0)) | E7: =IF(Tableau1[[#This Row],[CODE]]="","",VLOOKUP(A7,Feuil2!A:E,5,0))
B8: =IF(Tableau1[[#This Row],[CODE]]="","",VLOOKUP(A8,Feuil2!A:E,2,0)) | C8: =IF(Tableau1[[#This Row],[CODE]]="","",VLOOKUP(A8,Feuil2!A:E,3,0)) | D8: =IF(Tableau1[[#This Row],[CODE]]="","",VLOOKUP(A8,Feuil2!A:E,4,0)) | E8: =IF(Tableau1[[#This Row],[CODE]]="","",VLOOKUP(A8,Feuil2!A:E,5,0))
B9: =IF(Tableau1[[#This Row],[CODE]]="","",VLOOKUP(A9,Feuil2!A:E,2,0)) | C9: =IF(Tableau1[[#This Row],[CODE]]="","",VLOOKUP(A9,Feuil2!A:E,3,0)) | D9: =IF(Tableau1[[#This Row],[CODE]]="","",VLOOKUP(A9,Feuil2!A:E,4,0)) | E9: =IF(Tableau1[[#This Row],[CODE]]="","",VLOOKUP(A9,Feuil2!A:E,5,0))
B10: =IF(Tableau1[[#This Row],[CODE]]="","",VLOOKUP(A10,Feuil2!A:E,2,0)) | C10: =IF(Tableau1[[#This Row],[CODE]]="","",VLOOKUP(A10,Feuil2!A:E,3,0)) | D10: =IF(Tableau1[[#This Row],[CODE]]="","",VLOOKUP(A10,Feuil2!A:E,4,0)) | E10: =IF(Tableau1[[#This Row],[CODE]]="","",VLOOKUP(A10,Feuil2!A:E,5,0))
B11: =IF(Tableau1[[#This Row],[CODE]]="","",VLOOKUP(A11,Feuil2!A:E,2,0)) | C11: =IF(Tableau1[[#This Row],[CODE]]="","",VLOOKUP(A11,Feuil2!A:E,3,0)) | D11: =IF(Tableau1[[#This Row],[CODE]]="","",VLOOKUP(A11,Feuil2!A:E,4,0)) | E11: =IF(Tableau1[[#This Row],[CODE]]="","",VLOOKUP(A11,Feuil2!A:E,5,0))
B12: =IF(Tableau1[[#This Row],[CODE]]="","",VLOOKUP(A12,Feuil2!A:E,2,0)) | C12: =IF(Tableau1[[#This Row],[CODE]]="","",VLOOKUP(A12,Feuil2!A:E,3,0)) | D12: =IF(Tableau1[[#This Row],[CODE]]="","",VLOOKUP(A12,Feuil2!A:E,4,0)) | E12: =IF(Tableau1[[#This Row],[CODE]]="","",VLOOKUP(A12,Feuil2!A:E,5,0))
B13: =IF(Tableau1[[#This Row],[CODE]]="","",VLOOKUP(A13,Feuil2!A:E,2,0)) | C13: =IF(Tableau1[[#This Row],[CODE]]="","",VLOOKUP(A13,Feuil2!A:E,3,0)) | D13: =IF(Tableau1[[#This Row],[CODE]]="","",VLOOKUP(A13,Feuil2!A:E,4,0)) | E13: =IF(Tableau1[[#This Row],[CODE]]="","",VLOOKUP(A13,Feuil2!A:E,5,0))
B14: =IF(Tableau1[[#This Row],[CODE]]="","",VLOOKUP(A14,Feuil2!A:E,2,0)) | C14: =IF(Tableau1[[#This Row],[CODE]]="","",VLOOKUP(A14,Feuil2!A:E,3,0)) | D14: =IF(Tableau1[[#This Row],[CODE]]="","",VLOOKUP(A14,Feuil2!A:E,4,0)) | E14: =IF(Tableau1[[#This Row],[CODE]]="","",VLOOKUP(A14,Feuil2!A:E,5,0))
B15: =IF(Tableau1[[#This Row],[CODE]]="","",VLOOKUP(A15,Feuil2!A:E,2,0)) | C15: =IF(Tableau1[[#This Row],[CODE]]="","",VLOOKUP(A15,Feuil2!A:E,3,0)) | D15: =IF(Tableau1[[#This Row],[CODE]]="","",VLOOKUP(A15,Feuil2!A:E,4,0)) | E15: =IF(Tableau1[[#This Row],[CODE]]="","",VLOOKUP(A15,Feuil2!A:E,5,0))
B16: =IF(Tableau1[[#This Row],[CODE]]="","",VLOOKUP(A16,Feuil2!A:E,2,0)) | C16: =IF(Tableau1[[#This Row],[CODE]]="","",VLOOKUP(A16,Feuil2!A:E,3,0)) | D16: =IF(Tableau1[[#This Row],[CODE]]="","",VLOOKUP(A16,Feuil2!A:E,4,0)) | E16: =IF(Tableau1[[#This Row],[CODE]]="","",VLOOKUP(A16,Feuil2!A:E,5,0))
B17: =IF(Tableau1[[#This Row],[CODE]]="","",VLOOKUP(A17,Feuil2!A:E,2,0)) | C17: =IF(Tableau1[[#This Row],[CODE]]="","",VLOOKUP(A17,Feuil2!A:E,3,0)) | D17: =IF(Tableau1[[#This Row],[CODE]]="","",VLOOKUP(A17,Feuil2!A:E,4,0)) | E17: =IF(Tableau1[[#This Row],[CODE]]="","",VLOOKUP(A17,Feuil2!A:E,5,0))
... B200: =IF(Tableau1[[#This Row],[CODE]]="","",VLOOKUP(A200,Feuil2!A:E,2,0)) | C200: =IF(Tableau1[[#This Row],[CODE]]="","",VLOOKUP(A200,Feuil2!A:E,3,0)) | D200: =IF(Tableau1[[#This Row],[CODE]]="","",VLOOKUP(A200,Feuil2!A:E,4,0)) | E200: =IF(Tableau1[[#This Row],[CODE]]="","",VLOOKUP(A200,Feuil2!A:E,5,0))

Sheet Feuil2
A1: code | B1: pseudo | C1: ville | D1: departement | E1: ID
A2: 10000 | B2: MAEL | C2: Piney | D2: 10 | E2: 2282113
A3: 10001 | B3: JULIAN | C3: Nogent | D3: 10 | E3: 2666644
A4: 10002 | B4: SOREN | C4: Limoux | D4: 11 | E4: 2179942
A5: 10003 | B5: BENOIT | C5: Trebes | D5: 11 | E5: 2953511
A6: 10004 | B6: MATHILDE | C6: Millau | D6: 12 | E6: 484769
A7: 10005 | B7: SASKIA | C7: Nant | D7: 12 | E7: 2754967
A8: 10006 | B8: AUDREY | C8: Istres | D8: 13 | E8: 2635948
A9: 10007 | B9: ELOISE | C9: Arles | D9: 13 | E9: 647802
A10: 10008 | B10: ALEXANDRE | C10: Vire | D10: 14 | E10: 426886
A11: 10009 | B11: ROBIN | C11: Lisieux | D11: 14 | E11: 1361912
A12: 10010 | B12: ANTOINE | C12: Maurs | D12: 15 | E12: 2470057
A13: 10011 | B13: TRISTAN | C13: Mauriac | D13: 15 | E13: 2977058
... A26: 10024 | B26: THEO | C26: Dinan | D26: 22 | E26: 2513694
A27: 10025 | B27: ALICE | C27: Dinan | D27: 22
A28: 10026 | B28: LAURA | C28: Aubusson | D28: 23
A29: 10027 | B29: CLEO | C29: Aubusson | D29: 23
A30: 10028 | B30: CHLOE | C30: Eymet | D30: 24
A31: 10029 | B31: EVAN | C31: Eymet | D31: 24
A32: 10030 | B32: ANAIS | C32: Pontarlier | D32: 25
A33: 10031 | B33: JULES | C33: Pontarlier | D33: 25
A34: 10032 | B34: YANIS | C34: Die | D34: 26
A35: 10033 | B35: LOUIS | C35: Die | D35: 26
A36: 10034 | B36: MARIE | C36: Bernay | D36: 27
A37: 10035 | B37: LYAM | C37: Bernay | D37: 27
A38: 10036 | B38: INES | C38: Breux | D38: 28
... A179: 10177 | B179: YUNA | C179: Paris | D179: 95
