Workbook
Name f_nom: OFFSET(p_nom,1,0,COUNTA(nom),1)
Name f_produit: OFFSET(p_produit,1,0,COUNTA(produit),1)
Name nom: 'bd2015'!$B:$B
Name p_nom: 'bd2015'!$B$1
Name p_produit: 'bd2015'!$A$1
Name produit: 'bd2015'!$A:$A

Sheet Facture
A1: Jardins Shefford
A2: 103 Rue Clermont, Shefford, Québec, Canada, J2M 1X3, 450-776-4082
A3: www.jardinsshefford.com ----- Info@jardinsshefford.com
B6: Nom: | F6: Date:
B7: Adresse: | F7: Commande #: | G7: 2015-
B8: Ville: | F8: Page:
B9: Province, Pay, Code postal: | E9: Date de livraison désiré:
B10: Téléphone:
B11: Courriel: | E11: Mode de payement
C12: Adresse d'expédition si différente
B13: Nom: | E13: Numéro de repérage (Poste Canada)
B14: Adresse:
B15: Ville:
B16: Province, Pay, Code postal:
B18: Produit | C18: Nom | D18: Fan | E18: Prix | F18: Quantité | G18: Prix
D19: =IF(B19="","",SUMIFS('bd2015'!C:C,'bd2015'!A:A,B19,'bd2015'!B:B,C19)) | E19: =IF(B19="","",SUMIFS('bd2015'!D:D,'bd2015'!A:A,B19,'bd2015'!B:B,C19)) | G19: =IF(F19="","",E19*F19)
D20: =IF(B20="","",SUMIFS('bd2015'!C:C,'bd2015'!A:A,B20,'bd2015'!B:B,C20)) | E20: =IF(B20="","",SUMIFS('bd2015'!D:D,'bd2015'!A:A,B20,'bd2015'!B:B,C20)) | G20: =IF(F20="","",E20*F20)
D21: =IF(B21="","",SUMIFS('bd2015'!C:C,'bd2015'!A:A,B21,'bd2015'!B:B,C21)) | E21: =IF(B21="","",SUMIFS('bd2015'!D:D,'bd2015'!A:A,B21,'bd2015'!B:B,C21)) | G21: =IF(F21="","",E21*F21)
D22: =IF(B22="","",SUMIFS('bd2015'!C:C,'bd2015'!A:A,B22,'bd2015'!B:B,C22)) | E22: =IF(B22="","",SUMIFS('bd2015'!D:D,'bd2015'!A:A,B22,'bd2015'!B:B,C22)) | G22: =IF(F22="","",E22*F22)
D23: =IF(B23="","",SUMIFS('bd2015'!C:C,'bd2015'!A:A,B23,'bd2015'!B:B,C23)) | E23: =IF(B23="","",SUMIFS('bd2015'!D:D,'bd2015'!A:A,B23,'bd2015'!B:B,C23)) | G23: =IF(F23="","",E23*F23)
D24: =IF(B24="","",SUMIFS('bd2015'!C:C,'bd2015'!A:A,B24,'bd2015'!B:B,C24)) | E24: =IF(B24="","",SUMIFS('bd2015'!D:D,'bd2015'!A:A,B24,'bd2015'!B:B,C24)) | G24: =IF(F24="","",E24*F24)
D25: =IF(B25="","",SUMIFS('bd2015'!C:C,'bd2015'!A:A,B25,'bd2015'!B:B,C25)) | E25: =IF(B25="","",SUMIFS('bd2015'!D:D,'bd2015'!A:A,B25,'bd2015'!B:B,C25)) | G25: =IF(F25="","",E25*F25)
D26: =IF(B26="","",SUMIFS('bd2015'!C:C,'bd2015'!A:A,B26,'bd2015'!B:B,C26)) | E26: =IF(B26="","",SUMIFS('bd2015'!D:D,'bd2015'!A:A,B26,'bd2015'!B:B,C26)) | G26: =IF(F26="","",E26*F26)
D27: =IF(B27="","",SUMIFS('bd2015'!C:C,'bd2015'!A:A,B27,'bd2015'!B:B,C27)) | E27: =IF(B27="","",SUMIFS('bd2015'!D:D,'bd2015'!A:A,B27,'bd2015'!B:B,C27)) | G27: =IF(F27="","",E27*F27)
D28: =IF(B28="","",SUMIFS('bd2015'!C:C,'bd2015'!A:A,B28,'bd2015'!B:B,C28)) | E28: =IF(B28="","",SUMIFS('bd2015'!D:D,'bd2015'!A:A,B28,'bd2015'!B:B,C28)) | G28: =IF(F28="","",E28*F28)
D29: =IF(B29="","",SUMIFS('bd2015'!C:C,'bd2015'!A:A,B29,'bd2015'!B:B,C29)) | E29: =IF(B29="","",SUMIFS('bd2015'!D:D,'bd2015'!A:A,B29,'bd2015'!B:B,C29)) | G29: =IF(F29="","",E29*F29)
D30: =IF(B30="","",SUMIFS('bd2015'!C:C,'bd2015'!A:A,B30,'bd2015'!B:B,C30)) | E30: =IF(B30="","",SUMIFS('bd2015'!D:D,'bd2015'!A:A,B30,'bd2015'!B:B,C30)) | G30: =IF(F30="","",E30*F30)
... D45: =IF(B45="","",SUMIFS('bd2015'!C:C,'bd2015'!A:A,B45,'bd2015'!B:B,C45)) | E45: =IF(B45="","",SUMIFS('bd2015'!D:D,'bd2015'!A:A,B45,'bd2015'!B:B,C45)) | G45: =IF(F45="","",E45*F45)
B46: =IF(C46="","",INDEX(produit,MATCH(Facture!C46,nom,0))) | D46: =IF(B46="","",SUMIFS('bd2015'!C:C,'bd2015'!A:A,B46,'bd2015'!B:B,C46)) | E46: =IF(B46="","",SUMIFS('bd2015'!D:D,'bd2015'!A:A,B46,'bd2015'!B:B,C46)) | G46: =IF(F46="","",E46*F46)
C47: Substitution en cas de non disponibilité: Oui ou Non?
B48: Choix de substitution:
F49: Sous-total: | G49: =SUM(G19:G48) -> 0
F50: Frais de livraison:
F51: Total: | G51: =SUM(G49:G50) -> 0
B52: Frais de livraison:
B53: 15$ (QC et ON) - 18$ (autres provinces) Colis accéléré | D53: Libellez les chèques ou mandats à Marcel Dallaire.
B54: Gratuit pour les commandes de 250$ et plus (Canada seulement)
C56: Merci beaucoup, nous vous souhaitons une bonne saison de jardinage.

Sheet bd2015
A1: Produit | B1: Nom | C1: Fan | D1: Prix | F1: Prix 2015 | G1: 0.14975 | H1: Adamas
A2: Hemerocalle | B2: Absolute Treasure | C2: 2 | D2: =SUM(F2:G2) -> 12.00339 | F2: 10.44 | G2: =F2*G$1 -> 1.56339
A3: Hemerocalle | B3: Adam Pitkin Hurd | C3: 2 | D3: =SUM(F3:G3) -> 15.004238 | F3: 13.05 | G3: =F3*G$1 -> 1.9542375
A4: Hemerocalle | B4: Adamas | C4: 2 | D4: =SUM(F4:G4) -> 17.993588 | F4: 15.65 | G4: =F4*G$1 -> 2.3435875
A5: Hemerocalle | B5: African Grape | C5: 2 | D5: =SUM(F5:G5) -> 12.00339 | F5: 10.44 | G5: =F5*G$1 -> 1.56339
A6: Hemerocalle | B6: Alaqua | C6: 2 | D6: =SUM(F6:G6) -> 10.002825 | F6: 8.7 | G6: =F6*G$1 -> 1.302825
A7: Hemerocalle | B7: Alexa Kathryn | C7: 2 | D7: =SUM(F7:G7) -> 19.994153 | F7: 17.39 | G7: =F7*G$1 -> 2.6041525
A8: Hemerocalle | B8: Alexander Hay | C8: 1 | D8: =SUM(F8:G8) -> 50.002628 | F8: 43.49 | G8: =F8*G$1 -> 6.5126275
A9: Hemerocalle | B9: Alexander's Ragtime Band | C9: 2 | D9: =SUM(F9:G9) -> 17.993588 | F9: 15.65 | G9: =F9*G$1 -> 2.3435875
A10: Hemerocalle | B10: All American Chief | C10: 2 | D10: =SUM(F10:G10) -> 19.994153 | F10: 17.39 | G10: =F10*G$1 -> 2.6041525
A11: Hemerocalle | B11: All American Eagle | C11: 2 | D11: =SUM(F11:G11) -> 10.002825 | F11: 8.7 | G11: =F11*G$1 -> 1.302825
A12: Hemerocalle | B12: All Fired Up | C12: 2 | D12: =SUM(F12:G12) -> 12.00339 | F12: 10.44 | G12: =F12*G$1 -> 1.56339
A13: Hemerocalle | B13: Almost Midnight | C13: 2 | D13: =SUM(F13:G13) -> 19.994153 | F13: 17.39 | G13: =F13*G$1 -> 2.6041525
... A24: Hemerocalle | B24: Apricot beauty | C24: 4 | D24: =SUM(F24:G24) -> 5.0014125 | F24: 4.35 | G24: =F24*G$1 -> 0.6514125
A25: Hemerocalle | B25: April Laquinta | C25: 1 | D25: 50 | F25: 47.84 | G25: =F25*G$1 -> 7.16404
A26: Hemerocalle | B26: Aquadisiac | C26: 1 | D26: =SUM(F26:G26) -> 95.003842 | F26: 82.63 | G26: =F26*G$1 -> 12.373842
A27: Hemerocalle | B27: Arenal | C27: 2 | D27: =SUM(F27:G27) -> 19.994153 | F27: 17.39 | G27: =F27*G$1 -> 2.6041525
A28: Hemerocalle | B28: Art Imperial | C28: 2 | D28: =SUM(F28:G28) -> 39.999803 | F28: 34.79 | G28: =F28*G$1 -> 5.2098025
A29: Hemerocalle | B29: Ashwood Still Night | C29: 2 | D29: =SUM(F29:G29) -> 17.993588 | F29: 15.65 | G29: =F29*G$1 -> 2.3435875
A30: Hemerocalle | B30: At Sunset | C30: 2 | D30: =SUM(F30:G30) -> 19.994153 | F30: 17.39 | G30: =F30*G$1 -> 2.6041525
A31: Hemerocalle | B31: Aussie Delight | C31: 1 | D31: =SUM(F31:G31) -> 59.993955 | F31: 52.18 | G31: =F31*G$1 -> 7.813955
A32: Hemerocalle | B32: Awesome Candy | C32: 2 | D32: =SUM(F32:G32) -> 12.00339 | F32: 10.44 | G32: =F32*G$1 -> 1.56339
A33: Hemerocalle | B33: Awestruck | C33: 2 | D33: =SUM(F33:G33) -> 24.995565 | F33: 21.74 | G33: =F33*G$1 -> 3.255565
A34: Hemerocalle | B34: Azure Butterfly | C34: 1 | D34: =SUM(F34:G34) -> 50.002628 | F34: 43.49 | G34: =F34*G$1 -> 6.5126275
A35: Hemerocalle | B35: Baby Blue Eyes | C35: 2 | D35: =SUM(F35:G35) -> 15.004238 | F35: 13.05 | G35: =F35*G$1 -> 1.9542375
A36: Hemerocalle | B36: Bali Watercolor | C36: 2 | D36: =SUM(F36:G36) -> 15.004238 | F36: 13.05 | G36: =F36*G$1 -> 1.9542375
A37: Hemerocalle | B37: Bama Bound | C37: 2 | D37: =SUM(F37:G37) -> 10.002825 | F37: 8.7 | G37: =F37*G$1 -> 1.302825
... A296: Hemerocalle | B296: Hot Secret | C296: 2 | D296: =SUM(F296:G296) -> 15.004238 | F296: 13.05 | G296: =F296*G$1 -> 1.9542375
A297: Hemerocalle | B297: How Beautiful Heaven Must Be | C297: 1
A298: Hemerocalle | B298: Hunter's Torch | C298: 2 | D298: =SUM(F298:G298) -> 15.004238 | F298: 13.05 | G298: =F298*G$1 -> 1.9542375
A299: Hemerocalle | B299: Ice Dragon | C299: 1 | D299: =SUM(F299:G299) -> 69.99678 | F299: 60.88 | G299: =F299*G$1 -> 9.11678
A300: Hemerocalle | B300: Illusive Phase Shifter | C300: 1 | D300: =SUM(F300:G300) -> 34.99839 | F300: 30.44 | G300: =F300*G$1 -> 4.55839
A301: Hemerocalle | B301: Indian Giver | C301: 2 | D301: =SUM(F301:G301) -> 10.002825 | F301: 8.7 | G301: =F301*G$1 -> 1.302825
A302: Hemerocalle | B302: Inwood | C302: 2 | D302: =SUM(F302:G302) -> 10.002825 | F302: 8.7 | G302: =F302*G$1 -> 1.302825
A303: Hemerocalle | B303: Irish Jackpot | C303: 1 | D303: =SUM(F303:G303) -> 119.99941 | F303: 104.37 | G303: =F303*G$1 -> 15.629407
A304: Hemerocalle | B304: Island Eyes | C304: 2 | D304: =SUM(F304:G304) -> 15.004238 | F304: 13.05 | G304: =F304*G$1 -> 1.9542375
A305: Hemerocalle | B305: Island Warrior | C305: 2 | D305: =SUM(F305:G305) -> 19.994153 | F305: 17.39 | G305: =F305*G$1 -> 2.6041525
A306: Hemerocalle | B306: Islesworth | C306: 2 | D306: =SUM(F306:G306) -> 15.004238 | F306: 13.05 | G306: =F306*G$1 -> 1.9542375
A307: Hemerocalle | B307: Iwanna Piranha | C307: 1 | D307: =SUM(F307:G307) -> 45.001215 | F307: 39.14 | G307: =F307*G$1 -> 5.861215
A308: Hemerocalle | B308: J.T. Davis | C308: 1 | D308: =SUM(F308:G308) -> 24.995565 | F308: 21.74 | G308: =F308*G$1 -> 3.255565
A309: Hemerocalle | B309: Jacki Kropf | C309: 1 | D309: =SUM(F309:G309) -> 24.995565 | F309: 21.74 | G309: =F309*G$1 -> 3.255565
... A377: Hemerocalle | B377: Magic Obsession | C377: 2 | D377: =SUM(F377:G377) -> 15.004238 | F377: 13.05 | G377: =F377*G$1 -> 1.9542375
A378: Hemerocalle | B378: Magical Marrakech | C378: 1 | D378: 100 | F378: 69.58 | G378: =F378*G$1 -> 10.419605
A379: Hemerocalle | B379: Magical Mystery Show | C379: 1 | D379: =SUM(F379:G379) -> 50.002628 | F379: 43.49 | G379: =F379*G$1 -> 6.5126275
A380: Hemerocalle | B380: Malachite Prism | C380: 2 | D380: =SUM(F380:G380) -> 19.994153 | F380: 17.39 | G380: =F380*G$1 -> 2.6041525
A381: Hemerocalle | B381: Mama Cuna | C381: 1 | D381: =SUM(F381:G381) -> 19.994153 | F381: 17.39 | G381: =F381*G$1 -> 2.6041525
A382: Hemerocalle | B382: Marilyn Monroe | C382: 1 | D382: =SUM(F382:G382) -> 149.99639 | F382: 130.46 | G382: =F382*G$1 -> 19.536385
A383: Hemerocalle | B383: Marina del Rey | C383: 1 | D383: =SUM(F383:G383) -> 99.993758 | F383: 86.97 | G383: =F383*G$1 -> 13.023757
A384: Hemerocalle | B384: Martin Blondeel | C384: 1 | D384: =SUM(F384:G384) -> 50.002628 | F384: 43.49 | G384: =F384*G$1 -> 6.5126275
A385: Hemerocalle | B385: Martina Verhaert | C385: 2 | D385: 15 | F385: 10.44 | G385: =F385*G$1 -> 1.56339
A386: Hemerocalle | B386: Mask of Eternity | C386: 2 | D386: =SUM(F386:G386) -> 12.00339 | F386: 10.44 | G386: =F386*G$1 -> 1.56339
A387: Hemerocalle | B387: Mask Of Time | C387: 2 | D387: =SUM(F387:G387) -> 12.00339 | F387: 10.44 | G387: =F387*G$1 -> 1.56339
A388: Hemerocalle | B388: Matrix Reloaded | C388: 1 | D388: =SUM(F388:G388) -> 39.999803 | F388: 34.79 | G388: =F388*G$1 -> 5.2098025
A389: Hemerocalle | B389: Matthew William | C389: 1 | D389: =SUM(F389:G389) -> 34.99839 | F389: 30.44 | G389: =F389*G$1 -> 4.55839
A390: Hemerocalle | B390: Mean Joe Green | C390: 1 | D390: =SUM(F390:G390) -> 149.99639 | F390: 130.46 | G390: =F390*G$1 -> 19.536385
A391: Hemerocalle | B391: Medieval Splendor | C391: 2 | D391: =SUM(F391:G391) -> 12.00339 | F391: 10.44 | G391: =F391*G$1 -> 1.56339
A392: Hemerocalle | B392: Megatron | C392: 2 | D392: =SUM(F392:G392) -> 34.99839 | F392: 30.44 | G392: =F392*G$1 -> 4.55839
A393: Hemerocalle | B393: Memphis | C393: 1 | D393: =SUM(F393:G393) -> 74.998193 | F393: 65.23 | G393: =F393*G$1 -> 9.7681925
A394: Hemerocalle | B394: Merlot | C394: 1 | D394: =SUM(F394:G394) -> 64.995368 | F394: 56.53 | G394: =F394*G$1 -> 8.4653675
A395: Hemerocalle | B395: Michael Bennett | C395: 1 | D395: =SUM(F395:G395) -> 24.995565 | F395: 21.74 | G395: =F395*G$1 -> 3.255565
A396: Hemerocalle | B396: Midnight Amulet | C396: 1 | D396: =SUM(F396:G396) -> 45.001215 | F396: 39.14 | G396: =F396*G$1 -> 5.861215
A397: Hemerocalle | B397: Midnight at Tiffany's | C397: 1 | D397: =SUM(F397:G397) -> 125.00082 | F397: 108.72 | G397: =F397*G$1 -> 16.28082
... A459: Hemerocalle | B459: Planet Claire | C459: 1 | D459: =SUM(F459:G459) -> 15.004238 | F459: 13.05 | G459: =F459*G$1 -> 1.9542375
A460: Hemerocalle | B460: Platinum Angel | C460: 1
A461: Hemerocalle | B461: Playing With Sharks | C461: 1 | D461: =SUM(F461:G461) -> 29.996977 | F461: 26.09 | G461: =F461*G$1 -> 3.9069775
A462: Hemerocalle | B462: Plum Curls | C462: 2 | D462: =SUM(F462:G462) -> 15.004238 | F462: 13.05 | G462: =F462*G$1 -> 1.9542375
A463: Hemerocalle | B463: Polar Dusk | C463: 1 | D463: =SUM(F463:G463) -> 59.993955 | F463: 52.18 | G463: =F463*G$1 -> 7.813955
A464: Hemerocalle | B464: Power Surge | C464: 1 | D464: =SUM(F464:G464) -> 90.00243 | F464: 78.28 | G464: =F464*G$1 -> 11.72243
A465: Hemerocalle | B465: Precious Candy | C465: 1 | D465: =SUM(F465:G465) -> 45.001215 | F465: 39.14 | G465: =F465*G$1 -> 5.861215
A466: Hemerocalle | B466: Priceless | C466: 1 | D466: =SUM(F466:G466) -> 74.998193 | F466: 65.23 | G466: =F466*G$1 -> 9.7681925
A467: Hemerocalle | B467: Prince of Midnight | C467: 2 | D467: =SUM(F467:G467) -> 10.002825 | F467: 8.7 | G467: =F467*G$1 -> 1.302825
A468: Hemerocalle | B468: Pumpkin Bandit | C468: 2 | D468: =SUM(F468:G468) -> 24.995565 | F468: 21.74 | G468: =F468*G$1 -> 3.255565
A469: Hemerocalle | B469: Pumpkin Prince | C469: 1 | D469: =SUM(F469:G469) -> 34.99839 | F469: 30.44 | G469: =F469*G$1 -> 4.55839
A470: Hemerocalle | B470: Punxsutawney Phil | C470: 1 | D470: =SUM(F470:G470) -> 19.994153 | F470: 17.39 | G470: =F470*G$1 -> 2.6041525
A471: Hemerocalle | B471: Purple Tempest | C471: 2 | D471: =SUM(F471:G471) -> 10.002825 | F471: 8.7 | G471: =F471*G$1 -> 1.302825
A472: Hemerocalle | B472: Pygmy Plum | C472: 2 | D472: =SUM(F472:G472) -> 10.002825 | F472: 8.7 | G472: =F472*G$1 -> 1.302825
... A516: Hemerocalle | B516: Shake the Mountains | C516: 2 | D516: =SUM(F516:G516) -> 19.994153 | F516: 17.39 | G516: =F516*G$1 -> 2.6041525
A517: Hemerocalle | B517: Shamrock Dew | C517: 1
A518: Hemerocalle | B518: Shipwreck Cove | C518: 1 | D518: =SUM(F518:G518) -> 79.999605 | F518: 69.58 | G518: =F518*G$1 -> 10.419605
A519: Hemerocalle | B519: Shores Of Time | C519: 2 | D519: =SUM(F519:G519) -> 24.995565 | F519: 21.74 | G519: =F519*G$1 -> 3.255565
A520: Hemerocalle | B520: Shuffle The Deck | C520: 2 | D520: =SUM(F520:G520) -> 15.004238 | F520: 13.05 | G520: =F520*G$1 -> 1.9542375
A521: Hemerocalle | B521: Silent Sentry | C521: 2 | D521: =SUM(F521:G521) -> 10.002825 | F521: 8.7 | G521: =F521*G$1 -> 1.302825
A522: Hemerocalle | B522: Siloam Double Classic | C522: 2 | D522: =SUM(F522:G522) -> 10.002825 | F522: 8.7 | G522: =F522*G$1 -> 1.302825
A523: Hemerocalle | B523: Siloam Show Girl | C523: 2 | D523: =SUM(F523:G523) -> 10.002825 | F523: 8.7 | G523: =F523*G$1 -> 1.302825
A524: Hemerocalle | B524: Siloam Ury Winniford | C524: 2 | D524: =SUM(F524:G524) -> 10.002825 | F524: 8.7 | G524: =F524*G$1 -> 1.302825
A525: Hemerocalle | B525: Silver Lance | C525: 2 | D525: =SUM(F525:G525) -> 10.002825 | F525: 8.7 | G525: =F525*G$1 -> 1.302825
A526: Hemerocalle | B526: Sir Francis Drake | C526: 2 | D526: =SUM(F526:G526) -> 34.99839 | F526: 30.44 | G526: =F526*G$1 -> 4.55839
A527: Hemerocalle | B527: Slap Me Sassy | C527: 1 | D527: =SUM(F527:G527) -> 24.995565 | F527: 21.74 | G527: =F527*G$1 -> 3.255565
A528: Hemerocalle | B528: Soleil Soleil | C528: 2 | D528: =SUM(F528:G528) -> 15.004238 | F528: 13.05 | G528: =F528*G$1 -> 1.9542375
A529: Hemerocalle | B529: Song of the Empire | C529: 1 | D529: =SUM(F529:G529) -> 24.995565 | F529: 21.74 | G529: =F529*G$1 -> 3.255565
... A567: Hemerocalle | B567: Superstitious | C567: 1 | D567: =SUM(F567:G567) -> 119.99941 | F567: 104.37 | G567: =F567*G$1 -> 15.629407
A568: Hemerocalle | B568: Susan Pritchard Petit | C568: 1 | D568: 45 | F568: 43.49 | G568: =F568*G$1 -> 6.5126275
A569: Hemerocalle | B569: Swallow Tail Kite | C569: 2 | D569: =SUM(F569:G569) -> 15.004238 | F569: 13.05 | G569: =F569*G$1 -> 1.9542375
A570: Hemerocalle | B570: Sweet Almond Mint | C570: 1 | D570: =SUM(F570:G570) -> 139.99356 | F570: 121.76 | G570: =F570*G$1 -> 18.23356
A571: Hemerocalle | B571: Sweet Cotton Candy | C571: 1 | D571: 190 | F571: 165.25 | G571: =F571*G$1 -> 24.746187
A572: Hemerocalle | B572: Tahitian Isle | C572: 2 | D572: =SUM(F572:G572) -> 15.004238 | F572: 13.05 | G572: =F572*G$1 -> 1.9542375
A573: Hemerocalle | B573: Tahitian Shores | C573: 1 | D573: =SUM(F573:G573) -> 79.999605 | F573: 69.58 | G573: =F573*G$1 -> 10.419605
A574: Hemerocalle | B574: Tahoe | C574: 2 | D574: =SUM(F574:G574) -> 24.995565 | F574: 21.74 | G574: =F574*G$1 -> 3.255565
A575: Hemerocalle | B575: Tao of Physics | C575: 2 | D575: =SUM(F575:G575) -> 15.004238 | F575: 13.05 | G575: =F575*G$1 -> 1.9542375
A576: Hemerocalle | B576: Tart and Trendy | C576: 1 | D576: =SUM(F576:G576) -> 90.00243 | F576: 78.28 | G576: =F576*G$1 -> 11.72243
...

Sheet liste
C1: Hemerocalle | D1: Hosta | E1: Iris | F1: Lys | G1: Pivoine
B2: Hemerocalle | C2: Absolute Treasure | D2: A Many-Splendored Thing | E2: Again & Again | F2: Ceres | G2: Ada Niva
B3: Hosta | C3: Adam Pitkin Hurd | D3: Abba Dabba Do | E3: Ancient Echoes | F3: Dot Com | G3: Adonis
B4: Iris | C4: Adamas | D4: Abiqua Drinking Gourd | E4: August Emperor | F4: Jacqueline | G4: Alexander Dumas
B5: Lys | C5: African Grape | D5: Abiqua Moonbeam | E5: Baltik | F5: Red Duth | G5: America
B6: Pivoine | C6: Alaqua | D6: Academy Blushing Recluse | E6: Black Flag | F6: Tiger Edition | G6: Angel Cheeks
C7: Alexa Kathryn | D7: Afternoon Delight | E7: Black Gamecock | F7: Tiny Padhye | G7: Anne Oveson
C8: Alexander Hay | D8: Albopicta (Fortunei) | E8: Blue Beauty | F8: Anastasia | G8: Armistice
C9: Alexander's Ragtime Band | D9: Alex Summers | E9: Blue Suede Shoes | F9: Forerver Susan | G9: Avalanche
C10: All American Chief | D10: All That Jazz | E10: Bountiful Harvest | F10: Graffity | G10: Ave Maria
C11: All American Eagle | D11: Allegan Fog | E11: Calypso Beat | F11: King | G11: Bartzella
C12: All Fired Up | D12: Alligator Shoes | E12: Caprician Butterfly | F12: Lollipop | G12: Belle Center
C13: Almost Midnight | D13: Amazing Grace | E13: Cee Jay | F13: Matrix | G13: Best Bockstoce
C14: Aloha Kiss | D14: American Halo | E14: Circle Step | F14: Miss Birma | G14: Best Man
C15: Always Afternoon | D15: American Hero | E15: Crystal Halo | F15: Miss Lucy | G15: Bev
C16: America the Beautiful | D16: American Icon | E16: Distant Chimes | F16: Purple Eye | G16: Bouquet Perfect
C17: American Original | D17: American Sweetheart | E17: Drama Queen | F17: Purple Prince | G17: Bowl Of Beauty
C18: Angel Of Peace | D18: Americana | E18: Evening Drama | F18: Pink Mystery | G18: Buckeye Belle
... C59: Better Than Butter | D59: Brother Stefan | E59: Wine Ruffles | F59: Cobra | G59: Henry Sass
C60: Beyond Pluto | D60: Calypso | F60: Elodie | G60: Hot Chocolate
C61: Big Kiss | D61: Cameo | F61: Fata Morgana | G61: Joker
C62: Big Navy | D62: Canadian Blue | F62: Linda | G62: Julia Rose
C63: Big Red Wagon | D63: Canadian Shield | F63: Magic Star | G63: Kansas
C64: Bill Norris | D64: Captain Kirk | F64: Navona | G64: Karl Rosenfield
C65: Bill Robinson | D65: Captain's Adventure | F65: Serene Angel | G65: Katharine
C66: Biting Pumpkins | D66: Carnival | F66: Cappuccino | G66: Kirinmaru
C67: Black Eye | D67: Carolina Sunshine | F67: Debbie | G67: Krekler's Red
C68: Black eyed Stella | D68: Carousel | F68: Big Brother | G68: La Perle
C69: Black Falcon Ritual | D69: Carriage Wheels | F69: Boogie Woogie | G69: LaDonna
C70: Black Handlebars | D70: Cat and Mouse | F70: Lion Heart | G70: Lady Alexandra Duff
C71: Black Ice | D71: Cathedral Windows | F71: Flore Pleno | G71: Lancaster Imp
... C112: Carmen Echo | D112: El Capitan | F112: Tom Pouce | G112: Raggady Ann
C113: Carnival in Mexico | D113: El Nino | G113: Raspberry Sundae
C114: Carol Todd | D114: Elegans 'Sieboldiana' | G114: Ray Payton
C115: Carved Complexity | D115: Elizabeth Campbell | G115: Red Charm
C116: Castle Rock | D116: Emerald Ruff Cut | G116: Red Grace
C117: Cat Dancer | D117: Emerald Tiara | G117: Robert W Auten
C118: Catcher In The Eye | D118: Empress Wu | G118: Rozella
C119: Catherine Woodbery | D119: Enterprise | G119: Salmon Beauty
C120: Cerulean Warbler | D120: Erie Magic | G120: Sarah Berhardt
C121: Chama Valley | D121: Eskimo Pie | G121: Scralet Heaven
C122: Champagne And Diamonds | D122: Eternal Flame | G122: Shirley Temple
C123: Chance Encounter | D123: Extasy | G123: Showgirl
C124: Charles Johnston | D124: Fantabulous | G124: Sorbet
... C142: Commissioner J.W. | D142: Fragrant Blue | G142: Yellow Crown
C143: Cool Runnings | D143: Fragrant Bouquet
C144: Cosmic Adventure | D144: Fragrant Dream
C145: Cosmic Awakening | D145: Fragrant Queen
C146: Cosmic Kaleidoscope | D146: Francee
C147: Country Bumpkin | D147: Frances Williams
C148: Crazy Ivan | D148: Francheska
C149: Crazy Legs | D149: Fringe Benefit
C150: Creative Edge | D150: Frosted Jade
C151: Creative Vision | D151: Frozen Margarita
C152: Cristifori's Encore | D152: Funny Mouse
C153: Crowning Fire | D153: Galaxy
C154: Crowning Light | D154: Galaxy Light
... C423: Night Beacon | D423: Zager's White Edge
C424: Night Breeze
C425: Night Ember
C426: Night Wings
C427: Nijinsky
C428: Nosferatu
C429: Ocean Rainbow
C430: Off the Deep End
C431: Old Tangiers
C432: Oliver Dragon Tooth
C433: On Looks Alone
C434: Open Season
C435: Orange City
... C641: Zephyr's Song

Sheet Feuil1
