Workbook

Sheet alv int
D1: 2013 | E1: C a | F1: C o | I1: Total
D2: Moyenne 0SE | I2: =E2+F2 -> 0
D3: Moyenne 0RE | I3: =E3+F3 -> 0
A6: EU | B6: EOP | C6: Planificateur | D6: Ordre de | E6: Article | F6: Désignation | G6: Date de clôture | H6: Groupe article | I6: COUTS | K6: ÉCARTS | N6: QUANTITÉS | R6: HEURES | T6: PRIX UNITAIRE | V6: Écart sur | W6: Écart en % | X6: Favorable / | Z6: Décomposition P.U. Réel | AB6: Décomposition P.U. Standard
D7: Fabrication | I7: Réel | J7: Standard | K7: Total | L7: de Qté | M7: Bur. Cal. | N7: Econom. | O7: Lancée | P7: Rejetée | Q7: Bonne | R7: HAP | S7: HD | T7: Réel | U7: Standard | V7: coût standard | X7: Défavorable | Z7: Coût d'achat | AA7: Coûts opératoires | AB7: Coût d'achat | AC7: Coûts opératoires
A8: ='Baan-1 synthese'!A17 -> I0 | B8: ='Baan-1 synthese'!B17 -> 97 | C8: ='Baan-1 synthese'!C17 -> 97GP14 | D8: ='Baan-1 synthese'!D17 -> 0 | E8: ='Baan-1 synthese'!E17 -> 0 | F8: ='Baan-1 synthese'!F17 -> 0 | G8: ='Baan-1 synthese'!G17 -> 21-07-14 | H8: ='Baan-1 synthese'!H17 -> 8Y101 | ... S8: ='Baan-1 synthese'!S17 -> 139.2 | T8: =IFERROR(I8/Q8,"") -> 0.10044402 | U8: =IFERROR(((J8/Q8)/0.96),"") -> 0.078225547 | V8: =IFERROR(T8-U8,"") -> 0.022218468 | W8: =IFERROR(V8/U8,"") -> 0.28403085 | X8: =IF(T8>U8,"Défavorable","Favorable") -> Défavorable | Z8: =(SUMIF('Baan-2 actual'!E1:E119,"Material",'Baan-2 actual'!P1:P119)+SUMIF('Baan-2 actual'!E1:E119,"Surch, on",'Baan-2 actual'!P1:P119))/'Baan-2 actual'!K6 -> 0.019714015 | AA8: =SUMIF('Baan-2 actual'!E1:E119,"Operation",'Baan-2 actual'!P1:P119)/'Baan-2 actual'!K6 -> 0.080733475 | AB8: =SUMIF('Baan-3 estimated'!F2:F119,"Total Material C",'Baan-3 estimated'!J2:J119)+SUMIF('Baan-3 estimated'!G2:G119,"Material C",'Baan-3 estimated'!J2:J119) -> 0.0187 | AC8: =(SUMIF('Baan-3 estimated'!F2:F119,"Total Operation",'Baan-3 estimated'!J2:J119)+SUMIF('Baan-3 estimated'!G2:G119,"Operation",'Baan-3 estimated'!J2:J119))/0.96 -> 0.05875
W10: % Rebuts R
W11: =P8/(P8+Q8) -> 0
A14: ='Baan-1 synthese'!A34 -> 0 | B14: ='Baan-1 synthese'!B34 -> 0 | C14: ='Baan-1 synthese'!C34 -> 0 | D14: ='Baan-1 synthese'!D34 -> 0 | E14: ='Baan-1 synthese'!E34 -> 0 | F14: ='Baan-1 synthese'!F34 -> 0 | G14: ='Baan-1 synthese'!G34 -> 0 | H14: ='Baan-1 synthese'!H34 -> 0 | ... S14: ='Baan-1 synthese'!S34 -> 0 | T14: =IFERROR(I14/Q14,"") | U14: =IFERROR(((J14/Q14)/0.96),"") | V14: =IFERROR(T14-U14,"") | W14: =IFERROR(V14/U14,"") | X14: =IF(T14>U14,"Défavorable","Favorable") -> Favorable | Z14: =IFERROR((SUMIF('Baan-2 actual'!E121:E240,"Material",'Baan-2 actual'!P121:P240)+SUMIF('Baan-2 actual'!E121:E240,"Surch, on",'Baan-2 actual'!P121:P240))/'Baan-2 actual'!K125,"") | AA14: =IFERROR(SUMIF('Baan-2 actual'!E121:E240,"Operation",'Baan-2 actual'!P121:P240)/'Baan-2 actual'!K125,"") | AB14: =IFERROR((SUMIF('Baan-3 estimated'!F121:F240,"Total Material C",'Baan-3 estimated'!J121:IJ240)+SUMIF('Baan-3 estimated'!G121:G240,"Material C",'Baan-3 estimated'!J121:J240)),"") -> 0 | AC14: =IFERROR((SUMIF('Baan-3 estimated'!F121:F240,"Total Operation",'Baan-3 estimated'!J121:J240)+SUMIF('Baan-3 estimated'!G121:G240,"Operation",'Baan-3 estimated'!J121:J240))/0.96,"") -> 0
W16: % Rebuts R
W17: =IFERROR(P14/(P14+Q14),"")
E19: Prix unitaire réel | F19: Prix unitaire standard | I19: Quantité | J19: PU Devis | V19: Coût d'achat | W19: Coût opératoires | X19: Total
D20: =D14 -> 0 | E20: =IFERROR(Z14+AA14,Z8+AA8) -> 0.10044749 | F20: =AB14+AC14 -> 0 | I20: =IF(Q14=0,Q8,0) -> 259000 | U20: Standard | V20: =IF(AB14=0,AB8,0) -> 0.0187 | W20: =IF(AC14=0,AC8,0) -> 0.05875 | X20: =SUM(V20:W20) -> 0.07745
U21: =D20 -> 0 | V21: =IFERROR(Z14,Z8) | W21: =IFERROR(AA14,AA8) | X21: =SUM(V21:W21) -> 0
U22: Devis | X22: =SUM(V22:W22) -> 0
AC26: =D14 -> 0
AC27: Ecart au coût d'achat :
AC35: Ecart des coûts opératoires:
E40: % Pourcentage d'augmentation
D41: =D20 -> 0 | E41: =E20/F20-1 -> #DIV/0! | AC41: Une quantité éco de | AD41: =IF(N14=0,N8,0) -> 200000 | AE41: pour | AF41: =IF(Q14=0,Q8,0) -> 259000 | AG41: produits réalisés
AC42: Rebuts % : | AD42: =IFERROR(W17,W11)

Sheet Baan-1 synthese
A1: 0SE
A2: Date : 25-08-14 14:22 SYNTHESE DES BILANS ECONOMIQUES D'OF Page : 1
A3: NEXTER Company : 060
A5: Ordres de fabrication : de 0SE003540 à 0SE003540
A6: Articles : de à zzzzzzzzzzzzzzzzzzzzzzzzz
A7: Projets : de à ZZZZZZZZZ
A8: Codes EOP : de à ZZZZZZ
A9: Planificateurs : de à ZZZZZZ
A10: Statut OF : Closed
A11: Dates de cloture : de à 25082014
A13: -----------------------------------------------------------------------------------------------------------------------------------------------------------------------------------------------------------
A14: EU | B14: EOP | C14: Planifi | D14: Ordre de | E14: Article | F14: Désignation | G14: Date de | H14: Groupe | I14: Coûts | J14: Ecarts | K14: Quantités | L14: Heures | M14: Gest.
C15: =-cateur -> #NAME? | D15: Fabrication | G15: clôture | H15: article | I15: Réel | J15: Standard | K15: Total | L15: de Qté | M15: Bur. Cal. | N15: Econom. | O15: Lancée | P15: Rejetée | Q15: Bonne | R15: HAP | S15: HD
A16: --+---+-------+-----------+---------------------+-----------------------+--------+-------+--------+--------+---------+---------+---------+---------+--------+--------+--------+----------+----------+------
A17: I0 | B17: 97 | C17: 97GP14 | G17: 21-07-14 | H17: 8Y101 | I17: 26015 | J17: 19450 | K17: -6565 | L17: -7511 | M17: 3628 | N17: 200000 | O17: 200000 | P17: 0 | Q17: 259000 | R17: 91.1 | S17: 139.2
A18: 0RE
Y35: Ecart des coûts opératoires:

Sheet Baan-2 actual
A1: 0SE
A2: Date : 25-08 | B2: -14 [14:21, Eur] | D2: AC | E2: TUAL PRODUCT | F2: ION COSTS | G2: BY OR | H2: DER | N2: P | O2: age | P2: : 1
A3: NEXTER | N3: C | O3: ompa | P3: ny : 060
A4: -------------- | B4: --------------------------- | C4: --- | D4: ---- | E4: ------------ | F4: ---------- | G4: ----- | H4: ------ | I4: ---- | J4: -------- | K4: --------- | L4: -- | M4: --------- | N4: ---- | O4: ---- | P4: -----------
A5: Production Ord | G5: Q | H5: uantit | I5: y Or | J5: dered : | K5: 200000 | L5: 0 | M5: 00 UN
A6: Item | G6: Q | H6: uantit | I6: y De | J6: livered: | K6: 259000 | L6: 0 | M6: 00 UN
G7: Q | H7: uantit | I7: y Re | J7: jected : | K7: 0 | L7: 0 | M7: 00 UN
A8: Revision | B8: :A01 __
A9: -------------- | B9: --------------------------- | C9: --- | D9: ---- | E9: ------------ | F9: ---------- | G9: ----- | H9: ------ | I9: ---- | J9: -------- | K9: --------- | L9: -- | M9: --------- | N9: ---- | O9: ---- | P9: -----------
A10: Cost Component | B10: Description | E10: Cost Comp | F10: onent Type | L10: | | M10: Currency | N10: | | P10: Amount
B11: | | E11: | | L11: | | N11: |
A12: -------------- | B12: --+------------------------ | C12: --- | D12: ---- | E12: -+---------- | F12: ---------- | G12: ----- | H12: ------ | I12: ---- | J12: -------- | K12: --------- | L12: -+ | M12: --------- | N12: ---+ | O12: ---- | P12: -----------
A13: COUTS MATIERES
A15: Sub Item | B15: 82481219000 | F15: BAN | G15: DE CU | H15: ZN33 G | I15: 30 | J15: EP1,5MM | K15: X 14 Work | L15: C | M15: enter | N15: 97 | O15: 0PHH
A16: Revision | B16: A01 __ Pos,: 160 | C16: O | D16: per, | E16: : 90 | K16: Actu | L16: al | M16: Quantity | N16: KG | P16: 626.95
A17: MAEX1 | B17: Achat externe Tx normal | E17: Material | F17: Costs | L17: | | M17: EUR | N17: | | P17: 4662.94
A18: MAFA1 | B18: Frais d'appro Tx normal | E18: Surch, on | F18: Material | G18: Costs | L18: | | M18: EUR | N18: | | P18: 442.99
O19: --- | P19: -----------
B20: TOTAL COUTS MATIERES | M20: EUR | N20: | | P20: 5105.93
O21: --- | P21: -----------
A23: COÛTS OPERATOI | B23: RES
A25: Operation | B25: : 90 Work Center : | C25: 970 | D25: PHH | E25: Man Hours : | F25: 133.15 | G25: M/C | H25: Hours | I25: : | J25: 133.15 | Z25: X
A26: OPTP73 | B26: CTA-Métal Init PF3 Subs | C26: PF | D26: 4 | E26: Operation | F26: Costs | L26: | | M26: EUR | N26: | | P26: 20003.37
A27: Operation | B27: :500 Work Center : | C27: 970 | D27: PHN | E27: Man Hours : | F27: 6 | G27: M/C | H27: Hours | I27: : | J27: 6 | Z27: X
A28: OPTP73 | B28: CTA-Métal Init PF3 Subs | C28: PF | D28: 4 | E28: Operation | F28: Costs | L28: | | M28: EUR | N28: | | P28: 906.6
O29: --- | P29: -----------
B30: TOTAL COÛTS OPERATOIRES | M30: EUR | N30: | | P30: 20909.97
O31: --- | P31: -----------
O33: --- | P33: -----------
B34: Total by Order | M34: EUR | N34: | | P34: 26015.9
O35: --- | P35: -----------
A120: 0RE

Sheet Baan-3 estimated
A1: 0SE
A2: Date : 25-08-14 [14:23, E | B2: ur] | D2: CO | E2: ST | F2: PRICE CALCULATION BY ITEM | I2: Page | J2: : 1
A3: NEXTER | I3: Company | J3: : 060
A4: --------------------------- | B4: ----------- | C4: --------------- | D4: ---- | E4: --- | F4: --------------------------------------- | G4: ---------- | H4: ------- | I4: ------- | J4: ---------
A5: Item : | B5: 82354 | C5: 184000 | G5: andard Cos | H5: t Price | I5: : | J5: 0.0775
A6: Price Calculation Code: S14 | B6: Code calcu | C6: l standard 2014 | F6: Ma | G6: terial Cos | H6: ts | I6: : | J6: 0.0187
A7: Order Quantity : 2 | B7: 0 | C7: UN | F7: Op | G7: eration Co | H7: sts | I7: : | J7: 0.0588
A8: Currency : EUR
A9: Include Fixed Costs : No
A10: --------------------------- | B10: ----------- | C10: --------------- | D10: ---- | E10: --- | F10: --------------------------------------- | G10: ---------- | H10: ------- | I10: ------- | J10: ---------
A11: Material Costs
A12: --------------------------- | B12: ----------- | C12: --------------- | D12: ---- | E12: --- | F12: --------------------------------------- | G12: ---------- | H12: ------- | I12: ------- | J12: ---------
A13: Position Item | F13: Description | | G13: Quantity | H13: Inv, | I13: | | J13: Amount
A14: | | F14: | | H14: Unit | I14: |
A15: ---------+----------------- | B15: ----------- | C15: --------------- | D15: ---- | E15: --- | F15: --+------------------------------+----- | G15: ---------- | H15: +------ | I15: +------ | J15: ---------
A16: 10/ 2 8248121 | B16: 9000 | F16: BANDE CUZN33 G030 EP1,5MM X | | G16: 0.0023 | H16: KG | I16: | | J16: 0.0187
A17: 20/ 1 8259356 | B17: 1000 | F17: OUT GEST ELEM ALV INT M5221 | | G17: 0.001 | H17: UN | I17: | | J17: 0
F18: Total Material Costs | J18: 0.0215
F19: Total Operation Costs | J19: 0
F20: Total Surcharge Material Costs | J20: -0.0028
F21: Total Surcharge Operation Costs | J21: 0
I23: ------ | J23: --------
F24: Total Cost Price | J24: 0,0187*
A28: +------------------------ | B28: ----------- | C28: --------------- | D28: ---- | E28: --- | F28: --------------------------------------- | G28: ---------- | H28: ------- | I28: +
A29: Operation Costs | I29: |
A30: |------------------------ | B30: ----------- | C30: --------------- | D30: ---- | E30: --- | F30: --------------------------------------- | G30: ---------- | H30: ------- | I30: |
A31: Oper- Task Descri | B31: ption | C31: | | D31: Wor | E31: k | F31: Description | | G31: Operatio | H31: n Time | I31: |
A32: ation | | C32: | | D32: Cen | E32: ter | F32: | | H32: (Min) | I32: |
A33: |---------+------+------- | B33: ----------- | C33: --------------+ | D33: ---- | E33: --- | F33: -+--------------------------------+---- | G33: ---------- | H33: ------- | I33: |
A34: 90 9591 CONFEC | B34: TION SUR PL | C34: ATARG 312 | | D34: 970 | E34: PHH | F34: PRESSE PLATARG 312C | | H34: 0.0215 | I34: | | J34: 0.0541 | Z34: X
A35: 320 9630 DEGRAI | B35: SSAGE MACHI | C35: NE ULTRASON | | D35: 970 | E35: PIL | F35: MACHINE DEGRAISSER ULTRASON | | H35: 0 | I35: | | J35: 0 | Z35: X
A36: 340 9595 SASSAG | B36: E TONNE A S | C36: ASSER | | D36: 970 | E36: PHK | F36: SASSAGE PF1 | | H36: 0 | I36: | | J36: 0 | Z36: X
A37: 360 9630 DEGRAI | B37: SSAGE MACHI | C37: NE ULTRASON | | D37: 970 | E37: PIL | F37: MACHINE DEGRAISSER ULTRASON | | H37: 0 | I37: | | J37: 0 | Z37: X
A38: 400 9653 CONDIT | B38: IONNEMENT | C38: | | D38: 970 | E38: PIX | F38: CONDITIONNEMENT PF1 | | H38: 0 | I38: | | J38: 0 | Z38: X
A39: 500 9651 CTRL,F | B39: INAL ELEMEN | C39: TS METALLIQUE | | D39: 970 | E39: PHN | F39: CONTROLE PF1 | | H39: 0.0009 | I39: | | J39: 0.0023 | Z39: X
A40: |------------------------ | B40: ----------- | C40: --------------- | D40: ---- | E40: --- | F40: --------------------------------------- | G40: ---------- | H40: ------- | I40: |------ | J40: --------
A41: Total Operation Costs | I41: | | J41: 0,0564*
A42: +------------------------ | B42: ----------- | C42: --------------- | D42: ---- | E42: --- | F42: --------------------------------------- | G42: ---------- | H42: ------- | I42: +
A43: +------------------------ | B43: ----------- | C43: --------------- | D43: ---- | E43: --- | F43: --------------------------------------- | G43: ---------- | H43: ------- | I43: +
A44: Cost Price Surcharges | I44: |
...
