Workbook

Sheet 15.06.2023
A1: DATE COMPTAGE | B1: SCELLE | C1: SCELLE | D1: SCELLE
A2: 45082
A46: =COUNTA(B2:B45,C2:C45,D2:D45) -> 0 | B46: COLIS

Sheet 14.06.2023
A1: DATE COMPTAGE | B1: SCELLE | C1: SCELLE | D1: SCELLE
A2: 45091
A46: =COUNTA(B2:B45,C2:C45,D2:D45) -> 0 | B46: COLIS

Sheet 13.06.2023
A1: DATE COMPTAGE | B1: SCELLE | C1: SCELLE | D1: SCELLE
A2: 45090
A46: =COUNTA(B2:B45,C2:C45,D2:D45) -> 0 | B46: COLIS

Sheet 12.06.2023
A1: DATE COMPTAGE | B1: SCELLE | C1: SCELLE | D1: SCELLE
A2: 45089
A46: =COUNTA(B2:B45,C2:C45,D2:D45) -> 0 | B46: COLIS

Sheet 09.06.2023
A1: DATE COMPTAGE | B1: SCELLE | C1: SCELLE | D1: SCELLE
A2: 45086
A46: =COUNTA(B2:B45,C2:C45,D2:D45) -> 0 | B46: COLIS

Sheet 08.06.2023
A1: DATE COMPTAGE | B1: SCELLE | C1: SCELLE | D1: SCELLE
A2: 45085
A46: =COUNTA(B2:B45,C2:C45,D2:D45) -> 0 | B46: COLIS

Sheet 07.06.2023
A1: DATE COMPTAGE | B1: SCELLE | C1: SCELLE | D1: SCELLE
A2: 45084
A46: =COUNTA(B2:B45,C2:C45,D2:D45) -> 0 | B46: COLIS

Sheet 06.06.2023
A1: DATE COMPTAGE | B1: SCELLE | C1: SCELLE | D1: SCELLE
A2: 45083
A46: =COUNTA(B2:B45,C2:C45,D2:D45) -> 0 | B46: COLIS

Sheet 05.06.2023
A1: DATE COMPTAGE | B1: SCELLE | C1: SCELLE | D1: SCELLE
A2: 45082
A46: =COUNTA(B2:B45,C2:C45,D2:D45) -> 0 | B46: COLIS

Sheet 02.06.2023
A1: DATE COMPTAGE | B1: SCELLE | C1: SCELLE | D1: SCELLE
A2: 45079
A46: =COUNTA(B2:B45,C2:C45,D2:D45) -> 0 | B46: COLIS

Sheet 01.06.2023
A1: DATE COMPTAGE | B1: SCELLE | C1: SCELLE | D1: SCELLE
A2: 45078
A46: =COUNTA(B2:B45,C2:C45,D2:D45) -> 0 | B46: COLIS

Sheet 31.05.2023
A1: DATE COMPTAGE | B1: SCELLE | C1: SCELLE | D1: SCELLE
A2: 45077
A46: =COUNTA(B2:B45,C2:C45,D2:D45) -> 0 | B46: COLIS

Sheet recap
A1: Retard
A5: nb sacs | B5: Scellés | C5: nb colis | D5: Montant | E5: Date de ramassage
A6: SAC n°01 | B6: 41804465945 | C6: =SUM('SAC n° 01'!A46:A47,'SAC n° 01'!H46:H47) -> 43 | D6: ='SAC n° 01'!O48 -> 746300 | E6: ='SAC n° 01'!A2 -> 17 ET 19/05/2023
A7: SAC n°02 | B7: 41804465948 | C7: =SUM('SAC n° 02'!A47:A48,'SAC n° 02'!H47:H48) -> 16 | D7: ='SAC n° 02'!O49 -> 681767.76 | E7: ='SAC n° 02'!A3 -> 45063
A8: SAC n°03 | B8: 41804465946 | C8: =SUM('SAC n° 03'!A47:A48,'SAC n° 03'!H47:H48) -> 63 | D8: ='SAC n° 03'!O49 -> 855975 | E8: ='SAC n° 03'!A3 -> 16 ET 17/05/2023
A9: SAC n°04 | B9: 41804797412 | C9: =SUM('SAC n° 04'!A47:A48,'SAC n° 04'!H47:H48) -> 78 | D9: ='SAC n° 04'!O49 -> 649459.87 | E9: ='SAC n° 04'!A3 -> 22 ET16/05/2023
A10: SAC n°05 | C10: =SUM('SAC n° 05'!A47:A48,'SAC n° 05'!H47:H48) -> 0 | D10: ='SAC n° 05'!O49 -> 0 | E10: ='SAC n° 05'!A3 -> 0
A11: SAC n°06 | C11: =SUM('SAC n° 06'!A47,'SAC n° 06'!H47) -> 0 | D11: ='SAC n° 06'!O49 -> 0 | E11: ='SAC n° 06'!A3 -> 0
A12: SAC n°07 | C12: =SUM('SAC n° 07'!A47,'SAC n° 07'!H47) -> 0 | D12: ='SAC n° 07'!O49 -> 0 | E12: ='SAC n° 07'!A3 -> 0
A13: SAC n°08 | C13: =SUM('SAC n° 08'!A47,'SAC n° 08'!H47) -> 0 | D13: ='SAC n° 08'!O49 -> 0 | E13: ='SAC n° 08'!A9 -> 0
A14: SAC n°09 | C14: =SUM('SAC n° 09'!A47,'SAC n° 09'!H47) -> 0 | D14: ='SAC n° 09'!O49 -> 0 | E14: ='SAC n° 09'!A3 -> 0
A15: SAC n°10 | C15: =SUM('SAC n° 10'!A47,'SAC n° 10'!H47) -> 0 | D15: ='SAC n° 10'!O49 -> 0 | E15: ='SAC n° 10'!A3 -> 0
A16: Montant annoncé | C16: ='SAC n° 01'!O48+'SAC n° 02'!O49+'SAC n° 03'!O49+'SAC n° 04'!O49+'SAC n° 05'!O49+'SAC n° 06'!O49+'SAC n° 07'!O49+'SAC n° 08'!O49+'SAC n° 09'!O49+'SAC n° 10'!O49 -> 2933502.6
A17: Total Colis | C17: =SUM(C6:C15) -> 200

Sheet SAC n° 01
A1: DATE RAMASSAGE | B1: SCELLE | C1: Montant | D1: SCELLE | E1: Montant | F1: SCELLE | G1: Montant | H1: DATE RAMASSAGE | I1: SCELLE | J1: Montant | K1: SCELLE | L1: Montant | M1: SCELLE | N1: Montant
A2: 17 ET 19/05/2023 | B2: 0291710129 | C2: 75000
B3: 0236019878 | C3: 41000
B4: 0296249931 | C4: 30500
B5: 0226066249 | C5: 66000
B6: 0236019858 | C6: 47500
B7: 0226066250 | C7: 29760
B8: 0226066248 | C8: 62000
B9: 0236021670 | C9: 15475
B10: 81102942489 | C10: 26310
B11: 0221413429 | C11: 5740
B12: 0221413431 | C12: 6620
B13: 23021630192 | C13: 9555
B14: 0221413433 | C14: 5160
... B44: 0206138901 | C44: 56665
A46: =COUNTA(B2:B45,D2:D45,F2:F45) -> 43 | B46: COLIS | H46: =COUNTA(I2:I45,K2:K45,M2:M45) -> 0 | I46: COLIS
C48: =SUM(C2:C45) -> 746300 | E48: =SUM(E2:E47) -> 0 | G48: =SUM(G2:G45) -> 0 | J48: =SUM(J2:J45) -> 0 | L48: =SUM(L2:L45) -> 0 | N48: =SUM(N2:N45) -> 0 | O48: =SUM(C48:N48) -> 746300

Sheet SAC n° 02
A2: DATE RAMASSAGE | B2: SCELLE | C2: Montant | D2: SCELLE | E2: Montant | F2: SCELLE | G2: Montant | H2: DATE RAMASSAGE | I2: SCELLE | J2: Montant | K2: SCELLE | L2: Montant | M2: SCELLE | N2: Montant
A3: 45063 | B3: 0226030469 | C3: 36400
B4: 0236021668 | C4: 77500
B5: 0184897823 | C5: 14800
B6: 0206078646 | C6: 15685
B7: 23017378947 | C7: 1735
B8: 0206078645 | C8: 27500
B9: 0206204006 | C9: 139000
B10: 0206204004 | C10: 172000
B11: 23017378938 | C11: 2987.56
B12: 23017378941 | C12: 4511.9
B13: 23017378949 | C13: 2728.03
B14: 23017378932 | C14: 2920.27
B15: 0236021667 | C15: 23500
... B18: 0236021669 | C18: 29200
A47: =COUNTA(B3:B46,D3:D46,F3:F46) -> 16 | B47: COLIS | H47: =COUNTA(I3:I46,K3:K46,M3:M46) -> 0 | I47: COLIS
C49: =SUM(C3:C46) -> 681767.76 | E49: =SUM(E3:E46) -> 0 | G49: =SUM(G3:G46) -> 0 | J49: =SUM(J3:J46) -> 0 | L49: =SUM(L3:L46) -> 0 | N49: =SUM(N3:N46) -> 0 | O49: =SUM(C49:N49) -> 681767.76

Sheet SAC n° 03
A2: DATE RAMASSAGE | B2: SCELLE | C2: Montant | D2: SCELLE | E2: Montant | F2: SCELLE | G2: Montant | H2: DATE RAMASSAGE | I2: SCELLE | J2: Montant | K2: SCELLE | L2: Montant | M2: SCELLE | N2: Montant
A3: 16 ET 17/05/2023 | B3: 0221462257 | C3: 2590 | D3: 23443518 | E3: 650
B4: 0221462259 | C4: 2260 | D4: 23443600 | E4: 750
B5: 0221462261 | C5: 2800 | D5: 23443563 | E5: 4130
B6: 0221462255 | C6: 2430 | D6: 23443471 | E6: 840
B7: 0221462256 | C7: 2250 | D7: 23443495 | E7: 2410
B8: 0221462258 | C8: 1200 | D8: 81106156633 | E8: 32535
B9: 0243185364 | C9: 3240 | D9: 23443488 | E9: 1740
B10: 23017363257 | C10: 2210 | D10: 0226025075 | E10: 27430
B11: 23017363259 | C11: 6040 | D11: 0126023754 | E11: 15000
B12: 23017363352 | C12: 5830 | D12: 0220795345 | E12: 10790
B13: 23017363349 | C13: 6240 | D13: 0206155557 | E13: 68850
B14: 23017363353 | C14: 5620 | D14: 0206029148 | E14: 42955
B15: 23004969067 | C15: 18260 | D15: 0226021567 | E15: 39030
... B21: 549147 | C21: 1500 | D21: 0296332133 | E21: 107500
B22: 0220797244 | C22: 6370
B23: 23006882793 | C23: 7120
B24: 549146 | C24: 45645
B25: 23006882800 | C25: 1920
B26: 23006882790 | C26: 2920
B27: 23006882792 | C27: 9040
B28: 23006882794 | C28: 300
B29: 23006882791 | C29: 5540
B30: 23006882795 | C30: 9630
B31: 23006882797 | C31: 1850
B32: 23000249279 | C32: 360
B33: 23000249315 | C33: 515
... B46: 23443501 | C46: 1070
A47: =COUNTA(B3:B46,D3:D46,F3:F46) -> 63 | B47: COLIS | H47: =COUNTA(I3:I46,K3:K46,M3:M46) -> 0 | I47: COLIS
C49: =SUM(C3:C46) -> 213110 | E49: =SUM(E3:E46) -> 642865 | G49: =SUM(G3:G46) -> 0 | J49: =SUM(J3:J46) -> 0 | L49: =SUM(L3:L46) -> 0 | N49: =SUM(N3:N46) -> 0 | O49: =SUM(C49:N49) -> 855975

Sheet SAC n° 04
A2: DATE RAMASSAGE | B2: SCELLE | C2: Montant | D2: SCELLE | E2: Montant | F2: SCELLE | G2: Montant | H2: DATE RAMASSAGE | I2: SCELLE | J2: Montant | K2: SCELLE | L2: Montant | M2: SCELLE | N2: Montant
A3: 22 ET16/05/2023 | B3: 82003209160 | C3: 24969.16 | D3: 08048874 | E3: 2550
B4: 0206123944 | C4: 5040 | D4: 08048875 | E4: 2190
B5: 08057318 | D5: 70503076082 | E5: 3780
B6: 08054868 | D6: 70503076083 | E6: 9040
B7: 08054869 | D7: 70503076081 | E7: 8450
B8: 08054864 | D8: 23022265143 | E8: 4930
B9: 08057317 | D9: 1000296929 | E9: 26285
B10: 08054866 | D10: 23022265145 | E10: 1300
B11: 08054865 | D11: 23022265141 | E11: 1690
B12: 08054862 | D12: 23021630190 | E12: 11965
B13: 08054708 | D13: 0290684051 | E13: 5340
B14: 08057319 | D14: 70210880989 | E14: 500
B15: 07699618 | C15: 10 | D15: 23022265129 | E15: 1150
B16: 08054863 | D16: 23022265133 | E16: 5040
B17: 08054861 | D17: 23022265137 | E17: 2530
B18: 08054867 | D18: 70502917747 | E18: 8894.32
B19: 08057316 | D19: 81105008512 | E19: 34710
B20: 08054706 | D20: 70211324085 | E20: 3801.24
B21: 08057320 | D21: 23022412580 | E21: 3570
B22: 0748742 | D22: 70209474927 | E22: 1450
B23: 70204495157 | C23: 1560 | D23: 0136051029 | E23: 4450
B24: 0220599209 | C24: 9930 | D24: 0136050932 | E24: 4745
B25: 0221413423 | C25: 3920 | D25: 70211324086 | E25: 525.39
B26: 0221413419 | C26: 6060 | D26: 70211324084 | E26: 3448.68
B27: 0221413427 | C27: 5680 | D27: 70211324082 | E27: 3296.45
B28: 0221413425 | C28: 4640 | D28: 70211324087 | E28: 395.5
B29: 0220599208 | C29: 6560 | D29: 70211324088 | E29: 2696.4
B30: 0221413424 | C30: 3340 | D30: 0136050933 | E30: 5195
B31: 0221413421 | C31: 570 | D31: 0136050934 | E31: 4670
B32: 0221413420 | C32: 7730 | D32: 0136050931 | E32: 10905
B33: 0221413422 | C33: 4860 | D33: 718754 | E33: 83675
B34: 0221413418 | C34: 4220 | D34: 0206155560 | E34: 128500
... B36: 08054920 | C36: 3130 | D36: 0206156370 | E36: 84000
B37: 08054918 | C37: 3395
B38: 08054924 | C38: 310
B39: 08054921 | C39: 545
B40: 08054923 | C40: 3970
B41: 08054916 | C41: 1115
B42: 08054919 | C42: 1635
B43: 82000942487 | C43: 2897.73
B44: 70806154541 | C44: 17470
B45: 08048872 | C45: 4010
B46: 08048873 | C46: 2740
A47: =COUNTA(B3:B46,D3:D46,F3:F46) -> 78 | B47: COLIS | H47: =COUNTA(I3:I46,K3:K46,M3:M46) -> 0 | I47: COLIS
C49: =SUM(C3:C46) -> 132181.89 | E49: =SUM(E3:E46) -> 517277.98 | G49: =SUM(G3:G46) -> 0 | J49: =SUM(J3:J46) -> 0 | L49: =SUM(L3:L46) -> 0 | N49: =SUM(N3:N46) -> 0 | O49: =SUM(C49:N49) -> 649459.87

Sheet SAC n° 05
A2: DATE RAMASSAGE | B2: SCELLE | C2: Montant | D2: SCELLE | E2: Montant | F2: SCELLE | G2: Montant | H2: DATE RAMASSAGE | I2: SCELLE | J2: Montant | K2: SCELLE | L2: Montant | M2: SCELLE | N2: Montant
A47: =COUNTA(B3:B46,D3:D46,F3:F46) -> 0 | B47: COLIS | H47: =COUNTA(I3:I46,K3:K46,M3:M46) -> 0 | I47: COLIS
C49: =SUM(C3:C46) -> 0 | E49: =SUM(E3:E46) -> 0 | G49: =SUM(G3:G46) -> 0 | J49: =SUM(J3:J46) -> 0 | L49: =SUM(L3:L46) -> 0 | N49: =SUM(N3:N46) -> 0 | O49: =SUM(C49:N49) -> 0

Sheet SAC n° 06
A2: DATE RAMASSAGE | B2: SCELLE | C2: Montant | D2: SCELLE | E2: Montant | F2: SCELLE | G2: Montant | H2: DATE RAMASSAGE | I2: SCELLE | J2: Montant | K2: SCELLE | L2: Montant | M2: SCELLE | N2: Montant
A47: =COUNTA(B3:B46,D3:D46,F3:F46) -> 0 | B47: COLIS | H47: =COUNTA(I3:I46,K3:K46,M3:M46) -> 0 | I47: COLIS
C49: =SUM(C3:C46) -> 0 | E49: =SUM(E3:E46) -> 0 | G49: =SUM(G3:G46) -> 0 | J49: =SUM(J3:J46) -> 0 | L49: =SUM(L3:L46) -> 0 | N49: =SUM(N3:N46) -> 0 | O49: =SUM(C49:N49) -> 0

Sheet SAC n° 07
A2: DATE RAMASSAGE | B2: SCELLE | C2: Montant | D2: SCELLE | E2: Montant | F2: SCELLE | G2: Montant | H2: DATE RAMASSAGE | I2: SCELLE | J2: Montant | K2: SCELLE | L2: Montant | M2: SCELLE | N2: Montant
A47: =COUNTA(B3:B46,D3:D46,F3:F46) -> 0 | B47: COLIS | H47: =COUNTA(I3:I46,K3:K46,M3:M46) -> 0 | I47: COLIS
C49: =SUM(C3:C46) -> 0 | E49: =SUM(E3:E46) -> 0 | G49: =SUM(G3:G46) -> 0 | J49: =SUM(J3:J46) -> 0 | L49: =SUM(L3:L46) -> 0 | N49: =SUM(N3:N46) -> 0 | O49: =SUM(C49:N49) -> 0

Sheet SAC n° 08
A2: DATE RAMASSAGE | B2: SCELLE | C2: Montant | D2: SCELLE | E2: Montant | F2: SCELLE | G2: Montant | H2: DATE RAMASSAGE | I2: SCELLE | J2: Montant | K2: SCELLE | L2: Montant | M2: SCELLE | N2: Montant
A47: =COUNTA(B3:B46,D3:D46,F3:F46) -> 0 | B47: COLIS | H47: =COUNTA(I3:I46,K3:K46,M3:M46) -> 0 | I47: COLIS
C49: =SUM(C3:C46) -> 0 | E49: =SUM(E3:E46) -> 0 | G49: =SUM(G3:G46) -> 0 | J49: =SUM(J3:J46) -> 0 | L49: =SUM(L3:L46) -> 0 | N49: =SUM(N3:N46) -> 0 | O49: =SUM(C49:N49) -> 0

Sheet SAC n° 09
A2: DATE RAMASSAGE | B2: SCELLE | C2: Montant | D2: SCELLE | E2: Montant | F2: SCELLE | G2: Montant | H2: DATE RAMASSAGE | I2: SCELLE | J2: Montant | K2: SCELLE | L2: Montant | M2: SCELLE | N2: Montant
A47: =COUNTA(B3:B46,D3:D46,F3:F46) -> 0 | B47: COLIS | H47: =COUNTA(I3:I46,K3:K46,M3:M46) -> 0 | I47: COLIS
C49: =SUM(C3:C46) -> 0 | E49: =SUM(E3:E46) -> 0 | G49: =SUM(G3:G46) -> 0 | J49: =SUM(J3:J46) -> 0 | L49: =SUM(L3:L46) -> 0 | N49: =SUM(N3:N46) -> 0 | O49: =SUM(C49:N49) -> 0

Sheet SAC n° 10
A2: DATE RAMASSAGE | B2: SCELLE | C2: Montant | D2: SCELLE | E2: Montant | F2: SCELLE | G2: Montant | H2: DATE RAMASSAGE | I2: SCELLE | J2: Montant | K2: SCELLE | L2: Montant | M2: SCELLE | N2: Montant
A47: =COUNTA(B3:B46,D3:D46,F3:F46) -> 0 | B47: COLIS | H47: =COUNTA(I3:I46,K3:K46,M3:M46) -> 0 | I47: COLIS
C49: =SUM(C3:C46) -> 0 | E49: =SUM(E3:E46) -> 0 | G49: =SUM(G3:G46) -> 0 | J49: =SUM(J3:J46) -> 0 | L49: =SUM(L3:L46) -> 0 | N49: =SUM(N3:N46) -> 0 | O49: =SUM(C49:N49) -> 0
