Workbook
Name Désignation: Produits!$A$2:$A$165
Name Désignation: Produits!$A$2:$A$165
Name DUREE_LOA: Locam!$B$3:$E$3
Name DUREE_LOA: Locam!$B$3:$E$3
Name DUSAM: 'Contrat DUSAM'!$A$1:$A$29
Name DUSAM: 'Contrat DUSAM'!$A$1:$A$29
Name DUSAM2: 'Contrat DUSAM'!$A$1:$C$29
Name DUSAM2: 'Contrat DUSAM'!$A$1:$C$29
Name L.O.A: 'Devis Client'!$A$42
Name L.O.A: 'Devis Client'!$A$42
Name LOCATION: Locam!$B$3:$E$3
Name LOCATION: Locam!$B$3:$E$3
Name P.A_x_Qté: 'Feuille X'!$H$9:$H$32
Name Print_Area: 'Devis Client'!$A$1:$G$98
Name Produits: Produits!$A$2:$E$165
Name TOTAL.L.O.A: Locam!$E$1
Name TOTAL.L.O.A: Locam!$E$1
Name TOTALHT: 'Devis Client'!$G$20:$G$40
Name TOTALHT: 'Devis Client'!$G$20:$G$40
Name Vendeur: 'Contrat DUSAM'!$A$33:$A$37

Sheet Devis Client
E4: SOCIETE
E5: NOM PRENOM
E6: ADRESSE
E7: CP VILLE
E8: TELEPHONE
E9: MAIL
I11: ENVOYER LE DOCUMENT EN PDF FAIRE ENREGISTRER SOUS FORMAT CHOISIR PDF
E13: DATE !!!!!!!!!!!!!!!!!
A16: XXXXXXXXXXXXXXXXXXXXXXXXXXXXXX
A19: Désignation | D19: Référence | E19: Qté | F19: P.U | G19: PRIX H.T
A20: CAISSE | D20: =IF(ISNA(VLOOKUP($A20,Produits,2,FALSE)),"",VLOOKUP($A20,Produits,2,FALSE)) | F20: =IF(ISNA(VLOOKUP($A20,Produits,5,FALSE)),"",VLOOKUP($A20,Produits,5,FALSE)) | G20: =IF(ISERROR(F20*E20),"",F20*E20)
A21: IMPRIMANTE | D21: =IF(ISNA(VLOOKUP($A21,Produits,2,FALSE)),"",VLOOKUP($A21,Produits,2,FALSE)) | F21: =IF(ISNA(VLOOKUP($A21,Produits,5,FALSE)),"",VLOOKUP($A21,Produits,5,FALSE)) | G21: =IF(ISERROR(F21*E21),"",F21*E21)
A22: TIROIR CAISSE | D22: =IF(ISNA(VLOOKUP($A22,Produits,2,FALSE)),"",VLOOKUP($A22,Produits,2,FALSE)) | F22: =IF(ISNA(VLOOKUP($A22,Produits,5,FALSE)),"",VLOOKUP($A22,Produits,5,FALSE)) | G22: =IF(ISERROR(F22*E22),"",F22*E22)
A23: AFFICHEUR | D23: =IF(ISNA(VLOOKUP($A23,Produits,2,FALSE)),"",VLOOKUP($A23,Produits,2,FALSE)) | F23: =IF(ISNA(VLOOKUP($A23,Produits,5,FALSE)),"",VLOOKUP($A23,Produits,5,FALSE)) | G23: =IF(ISERROR(F23*E23),"",F23*E23)
A24: ADAPTATEUR AFFICHEUR | D24: =IF(ISNA(VLOOKUP($A24,Produits,2,FALSE)),"",VLOOKUP($A24,Produits,2,FALSE)) | F24: =IF(ISNA(VLOOKUP($A24,Produits,5,FALSE)),"",VLOOKUP($A24,Produits,5,FALSE)) | G24: =IF(ISERROR(F24*E24),"",F24*E24)
A25: SCANNER | D25: =IF(ISNA(VLOOKUP($A25,Produits,2,FALSE)),"",VLOOKUP($A25,Produits,2,FALSE)) | F25: =IF(ISNA(VLOOKUP($A25,Produits,5,FALSE)),"",VLOOKUP($A25,Produits,5,FALSE)) | G25: =IF(ISERROR(F25*E25),"",F25*E25)
A26: LICENCE | D26: =IF(ISNA(VLOOKUP($A26,Produits,2,FALSE)),"",VLOOKUP($A26,Produits,2,FALSE)) | F26: =IF(ISNA(VLOOKUP($A26,Produits,5,FALSE)),"",VLOOKUP($A26,Produits,5,FALSE)) | G26: =IF(ISERROR(F26*E26),"",F26*E26)
A27: LICENCE SUPP | D27: =IF(ISNA(VLOOKUP($A27,Produits,2,FALSE)),"",VLOOKUP($A27,Produits,2,FALSE)) | F27: =IF(ISNA(VLOOKUP($A27,Produits,5,FALSE)),"",VLOOKUP($A27,Produits,5,FALSE)) | G27: =IF(ISERROR(F27*E27),"",F27*E27)
A28: ONDULEUR | D28: =IF(ISNA(VLOOKUP($A28,Produits,2,FALSE)),"",VLOOKUP($A28,Produits,2,FALSE)) | F28: =IF(ISNA(VLOOKUP($A28,Produits,5,FALSE)),"",VLOOKUP($A28,Produits,5,FALSE)) | G28: =IF(ISERROR(F28*E28),"",F28*E28)
D29: =IF(ISNA(VLOOKUP($A29,Produits,2,FALSE)),"",VLOOKUP($A29,Produits,2,FALSE)) | F29: =IF(ISNA(VLOOKUP($A29,Produits,5,FALSE)),"",VLOOKUP($A29,Produits,5,FALSE)) | G29: =IF(ISERROR(F29*E29),"",F29*E29)
A30: MAT POUR CAISSE | D30: =IF(ISNA(VLOOKUP($A30,Produits,2,FALSE)),"",VLOOKUP($A30,Produits,2,FALSE)) | F30: =IF(ISNA(VLOOKUP($A30,Produits,5,FALSE)),"",VLOOKUP($A30,Produits,5,FALSE)) | G30: =IF(ISERROR(F30*E30),"",F30*E30)
A31: TELECOMMANDE | D31: =IF(ISNA(VLOOKUP($A31,Produits,2,FALSE)),"",VLOOKUP($A31,Produits,2,FALSE)) | F31: =IF(ISNA(VLOOKUP($A31,Produits,5,FALSE)),"",VLOOKUP($A31,Produits,5,FALSE)) | G31: =IF(ISERROR(F31*E31),"",F31*E31)
A32: PICOSTATION | D32: =IF(ISNA(VLOOKUP($A32,Produits,2,FALSE)),"",VLOOKUP($A32,Produits,2,FALSE)) | F32: =IF(ISNA(VLOOKUP($A32,Produits,5,FALSE)),"",VLOOKUP($A32,Produits,5,FALSE)) | G32: =IF(ISERROR(F32*E32),"",F32*E32)
A33: SWITCH | D33: =IF(ISNA(VLOOKUP($A33,Produits,2,FALSE)),"",VLOOKUP($A33,Produits,2,FALSE)) | F33: =IF(ISNA(VLOOKUP($A33,Produits,5,FALSE)),"",VLOOKUP($A33,Produits,5,FALSE)) | G33: =IF(ISERROR(F33*E33),"",F33*E33)
A34: CARTE FIDELITE | D34: =IF(ISNA(VLOOKUP($A34,Produits,2,FALSE)),"",VLOOKUP($A34,Produits,2,FALSE)) | F34: =IF(ISNA(VLOOKUP($A34,Produits,5,FALSE)),"",VLOOKUP($A34,Produits,5,FALSE)) | G34: =IF(ISERROR(F34*E34),"",F34*E34)
A35: VERIFIER CONTRAT MAINTENANCE | D35: =IF(ISNA(VLOOKUP($A35,Produits,2,FALSE)),"",VLOOKUP($A35,Produits,2,FALSE)) | F35: =IF(ISNA(VLOOKUP($A35,Produits,5,FALSE)),"",VLOOKUP($A35,Produits,5,FALSE)) | G35: =IF(ISERROR(F35*E35),"",F35*E35)
D36: =IF(ISNA(VLOOKUP($A36,Produits,2,FALSE)),"",VLOOKUP($A36,Produits,2,FALSE)) | F36: =IF(ISNA(VLOOKUP($A36,Produits,5,FALSE)),"",VLOOKUP($A36,Produits,5,FALSE)) | G36: =IF(ISERROR(F36*E36),"",F36*E36)
D37: =IF(ISNA(VLOOKUP($A37,Produits,2,FALSE)),"",VLOOKUP($A37,Produits,2,FALSE)) | F37: =IF(ISNA(VLOOKUP($A37,Produits,5,FALSE)),"",VLOOKUP($A37,Produits,5,FALSE)) | G37: =IF(ISERROR(F37*E37),"",F37*E37)
F40: =IF(ISNA(VLOOKUP($A40,Produits,5,FALSE)),"",VLOOKUP($A40,Produits,5,FALSE)) | G40: =IF(ISERROR(F40*E40),"",F40*E40)
A41: SANS CONTRAT DE MAINTENANCE | D41: =VLOOKUP(A41,DUSAM2,2,FALSE) -> 0€ H.T/MOIS | G41: =VLOOKUP(A41,DUSAM2,3,FALSE) -> 0 | I41: LOCATION 24 MOIS | K41: TOTAL H.T * TAUX + LE CONTRAT
A42: LOCATION 48 MOIS | I42: LOCATION 36 MOIS
A43: TOTAL H.T | B43: TAUX | C43: MATERIEL | D43: MAINTENANCE | I43: LOCATION 48 MOIS
A44: =G46 -> 0 | B44: =INDEX(Locam!B4:E9,MATCH(A44,{0,301,3001,5001,8001,12001,100000}),MATCH(L.O.A,DUREE_LOA)) -> 0.02701 | C44: =TOTAL.L.O.A -> 0 | D44: ="+" & " " & D41 -> + 0€ H.T/MOIS | I44: LOCATION 60 MOIS
A45: SAV DU LUNDI AU SAMEDI 9H-18H
A46: En cas d'acceptation veuillez nous retourner cet exemplaire avec votre signature et cachet avec la mention "Bon pour accord" | E46: Montant H.T. | G46: =SUMIF(TOTALHT,"<>#N/A") -> 0
E47: T.V.A. 20% | G47: =G46*20% -> 0
E48: Montant T.T.C. | G48: =G46+G47 -> 0

Sheet Feuille X
I1: ='Devis Client'!$E$4 -> SOCIETE
I2: ='Devis Client'!E5 -> NOM PRENOM
I3: ='Devis Client'!E6 -> ADRESSE
I4: ='Devis Client'!E7 -> CP VILLE
A5: ='Devis Client'!$A$16 -> XXXXXXXXXXXXXXXXXXXXXXXXXXXXXX | I5: ='Devis Client'!E8 -> TELEPHONE
I6: ='Devis Client'!E13 -> DATE !!!!!!!!!!!!!!!!!
A8: Désignation | D8: Code REF. | E8: Qté | F8: P.A | G8: Qté * P.A | H8: P.V | I8: Qté*P.V | J8: MARGE | K8: TX MARQUE
A9: ='Devis Client'!$A$20 -> CAISSE | D9: ='Devis Client'!D20 | E9: ='Devis Client'!E20 -> 0 | F9: =IF(ISNA(VLOOKUP($A9,Produits,3,FALSE)),"",VLOOKUP($A9,Produits,3,FALSE)) | G9: =IF(ISERROR(F9*E9),"",(F9*E9)) | H9: =IF(ISNA(VLOOKUP($A9,Produits,5,FALSE)),"",VLOOKUP($A9,Produits,5,FALSE)) | I9: =IF(ISERROR(H9*E9),"",(H9*E9)) | J9: =IF(ISERROR(I9-G9),"",(I9-G9)) | K9: =IF(ISERROR(J9/I9),"",J9/I9)
A10: ='Devis Client'!$A$21 -> IMPRIMANTE | D10: ='Devis Client'!D21 | E10: ='Devis Client'!E21 -> 0 | F10: =IF(ISNA(VLOOKUP($A10,Produits,3,FALSE)),"",VLOOKUP($A10,Produits,3,FALSE)) | G10: =IF(ISERROR(F10*E10),"",(F10*E10)) | H10: =IF(ISNA(VLOOKUP($A10,Produits,5,FALSE)),"",VLOOKUP($A10,Produits,5,FALSE)) | I10: =IF(ISERROR(H10*E10),"",(H10*E10)) | J10: =IF(ISERROR(I10-G10),"",(I10-G10)) | K10: =IF(ISERROR(J10/I10),"",J10/I10)
A11: ='Devis Client'!$A$22 -> TIROIR CAISSE | D11: ='Devis Client'!D22 | E11: ='Devis Client'!E22 -> 0 | F11: =IF(ISNA(VLOOKUP($A11,Produits,3,FALSE)),"",VLOOKUP($A11,Produits,3,FALSE)) | G11: =IF(ISERROR(F11*E11),"",(F11*E11)) | H11: =IF(ISNA(VLOOKUP($A11,Produits,5,FALSE)),"",VLOOKUP($A11,Produits,5,FALSE)) | I11: =IF(ISERROR(H11*E11),"",(H11*E11)) | J11: =IF(ISERROR(I11-G11),"",(I11-G11)) | K11: =IF(ISERROR(J11/I11),"",J11/I11)
A12: ='Devis Client'!$A$23 -> AFFICHEUR | D12: ='Devis Client'!D23 | E12: ='Devis Client'!E23 -> 0 | F12: =IF(ISNA(VLOOKUP($A12,Produits,3,FALSE)),"",VLOOKUP($A12,Produits,3,FALSE)) | G12: =IF(ISERROR(F12*E12),"",(F12*E12)) | H12: =IF(ISNA(VLOOKUP($A12,Produits,5,FALSE)),"",VLOOKUP($A12,Produits,5,FALSE)) | I12: =IF(ISERROR(H12*E12),"",(H12*E12)) | J12: =IF(ISERROR(I12-G12),"",(I12-G12)) | K12: =IF(ISERROR(J12/I12),"",J12/I12)
A13: ='Devis Client'!$A$24 -> ADAPTATEUR AFFICHEUR | D13: ='Devis Client'!D24 | E13: ='Devis Client'!E24 -> 0 | F13: =IF(ISNA(VLOOKUP($A13,Produits,3,FALSE)),"",VLOOKUP($A13,Produits,3,FALSE)) | G13: =IF(ISERROR(F13*E13),"",(F13*E13)) | H13: =IF(ISNA(VLOOKUP($A13,Produits,5,FALSE)),"",VLOOKUP($A13,Produits,5,FALSE)) | I13: =IF(ISERROR(H13*E13),"",(H13*E13)) | J13: =IF(ISERROR(I13-G13),"",(I13-G13)) | K13: =IF(ISERROR(J13/I13),"",J13/I13)
A14: ='Devis Client'!$A$25 -> SCANNER | D14: ='Devis Client'!D25 | E14: ='Devis Client'!E25 -> 0 | F14: =IF(ISNA(VLOOKUP($A14,Produits,3,FALSE)),"",VLOOKUP($A14,Produits,3,FALSE)) | G14: =IF(ISERROR(F14*E14),"",(F14*E14)) | H14: =IF(ISNA(VLOOKUP($A14,Produits,5,FALSE)),"",VLOOKUP($A14,Produits,5,FALSE)) | I14: =IF(ISERROR(H14*E14),"",(H14*E14)) | J14: =IF(ISERROR(I14-G14),"",(I14-G14)) | K14: =IF(ISERROR(J14/I14),"",J14/I14)
A15: ='Devis Client'!$A$26 -> LICENCE | D15: ='Devis Client'!D26 | E15: ='Devis Client'!E26 -> 0 | F15: =IF(ISNA(VLOOKUP($A15,Produits,3,FALSE)),"",VLOOKUP($A15,Produits,3,FALSE)) | G15: =IF(ISERROR(F15*E15),"",(F15*E15)) | H15: =IF(ISNA(VLOOKUP($A15,Produits,5,FALSE)),"",VLOOKUP($A15,Produits,5,FALSE)) | I15: =IF(ISERROR(H15*E15),"",(H15*E15)) | J15: =IF(ISERROR(I15-G15),"",(I15-G15)) | K15: =IF(ISERROR(J15/I15),"",J15/I15)
A16: ='Devis Client'!$A$27 -> LICENCE SUPP | D16: ='Devis Client'!D27 | E16: ='Devis Client'!E27 -> 0 | F16: =IF(ISNA(VLOOKUP($A16,Produits,3,FALSE)),"",VLOOKUP($A16,Produits,3,FALSE)) | G16: =IF(ISERROR(F16*E16),"",(F16*E16)) | H16: =IF(ISNA(VLOOKUP($A16,Produits,5,FALSE)),"",VLOOKUP($A16,Produits,5,FALSE)) | I16: =IF(ISERROR(H16*E16),"",(H16*E16)) | J16: =IF(ISERROR(I16-G16),"",(I16-G16)) | K16: =IF(ISERROR(J16/I16),"",J16/I16)
A17: ='Devis Client'!$A$28 -> ONDULEUR | D17: ='Devis Client'!D28 | E17: ='Devis Client'!E28 -> 0 | F17: =IF(ISNA(VLOOKUP($A17,Produits,3,FALSE)),"",VLOOKUP($A17,Produits,3,FALSE)) | G17: =IF(ISERROR(F17*E17),"",(F17*E17)) | H17: =IF(ISNA(VLOOKUP($A17,Produits,5,FALSE)),"",VLOOKUP($A17,Produits,5,FALSE)) | I17: =IF(ISERROR(H17*E17),"",(H17*E17)) | J17: =IF(ISERROR(I17-G17),"",(I17-G17)) | K17: =IF(ISERROR(J17/I17),"",J17/I17)
A18: ='Devis Client'!$A$29 -> 0 | D18: ='Devis Client'!D29 | E18: ='Devis Client'!E29 -> 0 | F18: =IF(ISNA(VLOOKUP($A18,Produits,3,FALSE)),"",VLOOKUP($A18,Produits,3,FALSE)) | G18: =IF(ISERROR(F18*E18),"",(F18*E18)) | H18: =IF(ISNA(VLOOKUP($A18,Produits,5,FALSE)),"",VLOOKUP($A18,Produits,5,FALSE)) | I18: =IF(ISERROR(H18*E18),"",(H18*E18)) | J18: =IF(ISERROR(I18-G18),"",(I18-G18)) | K18: =IF(ISERROR(J18/I18),"",J18/I18)
A19: ='Devis Client'!$A$30 -> MAT POUR CAISSE | D19: ='Devis Client'!D30 | E19: ='Devis Client'!E30 -> 0 | F19: =IF(ISNA(VLOOKUP($A19,Produits,3,FALSE)),"",VLOOKUP($A19,Produits,3,FALSE)) | G19: =IF(ISERROR(F19*E19),"",(F19*E19)) | H19: =IF(ISNA(VLOOKUP($A19,Produits,5,FALSE)),"",VLOOKUP($A19,Produits,5,FALSE)) | I19: =IF(ISERROR(H19*E19),"",(H19*E19)) | J19: =IF(ISERROR(I19-G19),"",(I19-G19)) | K19: =IF(ISERROR(J19/I19),"",J19/I19)
A20: ='Devis Client'!$A$31 -> TELECOMMANDE | D20: ='Devis Client'!D31 | E20: ='Devis Client'!E31 -> 0 | F20: =IF(ISNA(VLOOKUP($A20,Produits,3,FALSE)),"",VLOOKUP($A20,Produits,3,FALSE)) | G20: =IF(ISERROR(F20*E20),"",(F20*E20)) | H20: =IF(ISNA(VLOOKUP($A20,Produits,5,FALSE)),"",VLOOKUP($A20,Produits,5,FALSE)) | I20: =IF(ISERROR(H20*E20),"",(H20*E20)) | J20: =IF(ISERROR(I20-G20),"",(I20-G20)) | K20: =IF(ISERROR(J20/I20),"",J20/I20)
A21: ='Devis Client'!$A$32 -> PICOSTATION | D21: ='Devis Client'!D32 | E21: ='Devis Client'!E32 -> 0 | F21: =IF(ISNA(VLOOKUP($A21,Produits,3,FALSE)),"",VLOOKUP($A21,Produits,3,FALSE)) | G21: =IF(ISERROR(F21*E21),"",(F21*E21)) | H21: =IF(ISNA(VLOOKUP($A21,Produits,5,FALSE)),"",VLOOKUP($A21,Produits,5,FALSE)) | I21: =IF(ISERROR(H21*E21),"",(H21*E21)) | J21: =IF(ISERROR(I21-G21),"",(I21-G21)) | K21: =IF(ISERROR(J21/I21),"",J21/I21)
A22: ='Devis Client'!$A$33 -> SWITCH | D22: ='Devis Client'!D33 | E22: ='Devis Client'!E33 -> 0 | F22: =IF(ISNA(VLOOKUP($A22,Produits,3,FALSE)),"",VLOOKUP($A22,Produits,3,FALSE)) | G22: =IF(ISERROR(F22*E22),"",(F22*E22)) | H22: =IF(ISNA(VLOOKUP($A22,Produits,5,FALSE)),"",VLOOKUP($A22,Produits,5,FALSE)) | I22: =IF(ISERROR(H22*E22),"",(H22*E22)) | J22: =IF(ISERROR(I22-G22),"",(I22-G22)) | K22: =IF(ISERROR(J22/I22),"",J22/I22)
A23: ='Devis Client'!$A$34 -> CARTE FIDELITE | D23: ='Devis Client'!D34 | E23: ='Devis Client'!E34 -> 0 | F23: =IF(ISNA(VLOOKUP($A23,Produits,3,FALSE)),"",VLOOKUP($A23,Produits,3,FALSE)) | G23: =IF(ISERROR(F23*E23),"",(F23*E23)) | H23: =IF(ISNA(VLOOKUP($A23,Produits,5,FALSE)),"",VLOOKUP($A23,Produits,5,FALSE)) | I23: =IF(ISERROR(H23*E23),"",(H23*E23)) | J23: =IF(ISERROR(I23-G23),"",(I23-G23)) | K23: =IF(ISERROR(J23/I23),"",J23/I23)
A24: ='Devis Client'!$A$35 -> VERIFIER CONTRAT MAINTENANCE | D24: ='Devis Client'!D35 | E24: ='Devis Client'!E35 -> 0 | F24: =IF(ISNA(VLOOKUP($A24,Produits,3,FALSE)),"",VLOOKUP($A24,Produits,3,FALSE)) | G24: =IF(ISERROR(F24*E24),"",(F24*E24)) | H24: =IF(ISNA(VLOOKUP($A24,Produits,5,FALSE)),"",VLOOKUP($A24,Produits,5,FALSE)) | I24: =IF(ISERROR(H24*E24),"",(H24*E24)) | J24: =IF(ISERROR(I24-G24),"",(I24-G24)) | K24: =IF(ISERROR(J24/I24),"",J24/I24)
A25: ='Devis Client'!$A$36 -> 0 | D25: ='Devis Client'!D36 | E25: ='Devis Client'!E36 -> 0 | F25: =IF(ISNA(VLOOKUP($A25,Produits,3,FALSE)),"",VLOOKUP($A25,Produits,3,FALSE)) | G25: =IF(ISERROR(F25*E25),"",(F25*E25)) | H25: =IF(ISNA(VLOOKUP($A25,Produits,5,FALSE)),"",VLOOKUP($A25,Produits,5,FALSE)) | I25: =IF(ISERROR(H25*E25),"",(H25*E25)) | J25: =IF(ISERROR(I25-G25),"",(I25-G25)) | K25: =IF(ISERROR(J25/I25),"",J25/I25)
A26: ='Devis Client'!$A$37 -> 0 | D26: ='Devis Client'!D37 | E26: ='Devis Client'!E37 -> 0 | F26: =IF(ISNA(VLOOKUP($A26,Produits,3,FALSE)),"",VLOOKUP($A26,Produits,3,FALSE)) | G26: =IF(ISERROR(F26*E26),"",(F26*E26)) | H26: =IF(ISNA(VLOOKUP($A26,Produits,5,FALSE)),"",VLOOKUP($A26,Produits,5,FALSE)) | I26: =IF(ISERROR(H26*E26),"",(H26*E26)) | J26: =IF(ISERROR(I26-G26),"",(I26-G26)) | K26: =IF(ISERROR(J26/I26),"",J26/I26)
E27: ='Devis Client'!E38 -> 0 | H27: =IF(ISNA(VLOOKUP($A27,Produits,5,FALSE)),"",VLOOKUP($A27,Produits,5,FALSE)) | J27: =SUM(J9:J26) -> 0 | K27: =IF(ISERROR(J27/I27),"",J27/I27)
A28: ='Devis Client'!A41 -> SANS CONTRAT DE MAINTENANCE | D28: ='Devis Client'!D41 -> 0€ H.T/MOIS | G28: =SUM(G9:G27) -> 0 | I28: =SUM(I9:I27) -> 0 | J28: =I28-G28 -> 0 | K28: =J28/I28 -> #DIV/0!
A29: ='Devis Client'!A42 -> LOCATION 48 MOIS
A30: ='Devis Client'!A43 -> TOTAL H.T | B30: ='Devis Client'!B43 -> TAUX | C30: ='Devis Client'!C43 -> MATERIEL
A31: ='Devis Client'!A44 -> 0 | B31: ='Devis Client'!B44 -> 0.02701 | C31: ='Devis Client'!C44 -> 0
A32: ='Devis Client'!A45 -> SAV DU LUNDI AU SAMEDI 9H-18H

Sheet Produits
A1: Désignations | B1: Code | C1: PA | D1: PV.Min. | E1: PV | F1: Fournisseur
A2: PACK Caisse 15" FORMAT 4/3 | B2: ART-03253 | C2: 1199 | D2: =C2*2 -> 2398 | E2: 2500 | F2: AURES | I2: XXXXXXXXX CSI XXXXXXXXXXXXXXXX | J2: XXXXXXXXXXXX | K2: XXXXXXX | L2: XXXXXXX | M2: XXXXXXXXX | N2: XXXXXXXXXX
A3: IMPRIMANTE THERMIQUE (incluse pack) | B3: ART-02890 | C3: 0 | D3: 0 | E3: 0 | F3: AURES
I4: LAW VISION 12 TIROIR INCLUS | J4: 900002N | K4: 1009 | L4: =K4*2 -> 2018 | M4: 2050 | N4: CSI
A5: PACK Caisse 15" FORMAT 16/9 | B5: ART-03382 | C5: 1227 | D5: =C5*2 -> 2454 | E5: 2585 | F5: AURES | I5: ONDULEUR | J5: AIPG600FRU | K5: 57.14 | L5: 150 | M5: 160 | N5: ECUS
A6: IMPRIMANTE THERMIQUE (incluse pack) | B6: ART-02890 | C6: 0 | D6: 0 | E6: 0 | F6: AURES
I7: PACK STARVISION+ LAW 15" REPORTING | J7: 360010N | K7: 1895 | L7: =K7*2 -> 3790 | M7: 3990 | N7: CSI
A8: TIROIR (410L x 420l x 110H) Noir | B8: JAN410A | C8: 35 | D8: =C8*2 -> 70 | E8: 75 | F8: JANIPOS | I8: IMPRIMANTE PA10 (Inclus Pack) | J8: IP0010N | K8: 0 | L8: 0 | M8: 0 | N8: CSI
A9: TIROIR (410L x 420l x 110H) Blanc | C9: 35 | D9: =C9*2 -> 70 | E9: 75 | F9: JANIPOS | I9: TIROIR (Grand Format) (Inclus Pack) | J9: TA0001N | K9: 0 | L9: 0 | M9: 0 | N9: CSI
A10: TIROIR RENFORCE | B10: MSCASHDRAWER | C10: 99 | E10: 199 | F10: PERIMATIC | I10: ONDULEUR | J10: AIPG600FRU | K10: 57.14 | L10: 150 | M10: 160 | N10: ECUS
A11: TIROIR A OUVERTURE VERTICALE | B11: JAN-170B | C11: 57 | E11: 120
I12: Pack STARVISION+ LAW 15" & AFFICHEUR | J12: 360020N | K12: 2006 | L12: =K12*2 -> 4012 | M12: 4225 | N12: CSI
A13: ONDULEUR | B13: AIPG600FRU | C13: 56 | D13: 150 | E13: 160 | F13: RIELLO | I13: Pack STARVISION+ LAW 15" & ECRAN CLIENT | J13: 360030N | K13: 2114 | L13: =K13*2 -> 4228 | M13: 4450 | N13: CSI
I14: Pack STARVISION+ LAW 15" & SUPPORT MURAL | J14: 360040N | K14: 1911 | L14: =K14*2 -> 3822 | M14: 4025 | N14: CSI
A15: AFFICHEUR 2 LIGNES INTEGRE | B15: ART-03259 | C15: 85 | D15: =C15*2 -> 170 | E15: 180 | F15: AURES
A16: AFFICHEUR 2 LIGNES SUR PIED | B16: ART-03084 | C16: 123 | D16: =C16*2 -> 246 | E16: 260 | F16: AURES | I16: CSI SATELLITE 2 15" | J16: 931001N | K16: 790 | L16: =K16*2 -> 1580 | M16: 1670 | N16: CSI
A17: AFFICHEUR 10 POUCES INTEGRE | B17: ART-03260 | C17: 250 | D17: =C17*2 -> 500 | E17: 499 | F17: AURES | I17: SWITCH 8 PORTS | J17: SWITCH8PORTS | K17: 10.9 | L17: =K17*2 -> 21.8 | M17: 75 | N17: SBSI
A18: AFFICHEUR 10 POUCES VESA | B18: ART-03083 | C18: 264 | D18: =C18*2 -> 528 | E18: 499 | F18: AURES | I18: POINT D'ACCES PICOSTATION | J18: AZ0143 | K18: 109 | L18: =K18*2 -> 218 | M18: 230 | N18: CSI
A19: ADAPTATEUR MAT AFFICHEUR 10 POUCES | B19: L76MATROTULE | C19: 50 | D19: =C19*2 -> 100 | E19: 100 | F19: AURES
I20: IMP. CSI PA10 THERM. 80MM | J20: IP0010N | K20: 159 | L20: =K20*2 -> 318 | M20: 335 | N20: CSI
A21: LECTEUR LASER 1D | B21: ART-02226 | C21: 164 | D21: =C21*2 -> 328 | E21: 390 | F21: AURES | I21: CARTE INTERFACE ETHERNET | J21: PI0032 | K21: 45 | L21: =K21*2 -> 90 | M21: 95 | N21: CSI
A22: LECTEUR LASER 2D | B22: ART-02517 | C22: 225 | D22: =C22*2 -> 450 | E22: 499 | F22: AURES
A23: LECTEUR LASER INTEGRE 1D ONETOUCH | B23: ART-02949 | C23: 169 | D23: =C23*2 -> 338 | E23: 355 | F23: AURES | I23: TIROIR NOIR (Grand Format) | J23: TA0001N | K23: 55 | L23: =K23*2 -> 110 | M23: 115 | N23: CSI
A24: LECTEUR LASER INTEGRE 2D ONETOUCH | B24: ART-02950 | C24: 329 | D24: =C24*2 -> 658 | E24: 595 | F24: AURES | I24: TIROIR NOIR (Petit Format) | J24: TA0004N | K24: 53 | L24: =K24*2 -> 106 | M24: 115 | N24: CSI
A25: DOUCHETTE USB | C25: 55 | D25: =C25*2 -> 110 | E25: 140 | F25: honeywell
I26: TELECOMMANDE CSI SMART 4 | J26: 281008N | K26: 595 | L26: =K26*2 -> 1190 | M26: 1255 | N26: CSI
A27: PACK LECTEUR + 5 CLES DALLAS | B27: PACKDALLAS | E27: 255 | F27: AURES | I27: SACOCHE CEINTURE TELECOMMANDE | J27: PFC0014 | K27: 29 | L27: =K27*2 -> 58 | M27: 59 | N27: CSI
A28: LECTEUR DALLAS | B28: ART-03539 | E28: 170 | F28: AURES | I28: SWITCH 8 PORTS | J28: SWITCH8PORTS | K28: 10.9 | L28: =K28*2 -> 21.8 | M28: 75 | N28: SBSI
A29: CLE DALLAS A L'UNITE | B29: ART-01762 | E29: 17 | F29: AURES | I29: POINT D'ACCES PICOSTATION | J29: AZ0143 | K29: 109 | L29: =K29*2 -> 218 | M29: 230 | N29: CSI
A31: Pack Caisse 14" | B31: ART-03174 | C31: 988 | D31: =C31*2 -> 1976 | E31: 2120 | F31: AURES | I31: CSI TAB 7 | J31: 281003N | K31: 705 | L31: =K31*2 -> 1410 | M31: 1485 | N31: CSI
A32: IMPRIMANTE THERMIQUE (inclus PACK) | B32: ART-02890 | C32: 0 | D32: 0 | E32: 0 | F32: AURES | I32: SANGLE PASSE-MAIN | J32: PFC3001N | K32: 59 | L32: =K32*2 -> 118 | M32: 120 | N32: CSI
A33: TIROIR (410L x 420l x 110H) | B33: JAN410A | C33: 35 | D33: =C33*2 -> 70 | E33: 75 | F33: JANIPOS | I33: SWITCH 8 PORTS + RJ45 | J33: SWITCH8PORTS | K33: 10.9 | L33: =K33*2 -> 21.8 | M33: 75 | N33: SBSI
A34: AFFICHEUR 2 LIGNES 14" | B34: ART-03902 | C34: 85 | D34: =C34*2 -> 170 | E34: 180 | F34: AURES | I34: POINT D'ACCES PICOSTATION | J34: AZ0143 | K34: 109 | L34: =K34*2 -> 218 | M34: 230 | N34: CSI
A35: ONDULEUR | B35: AIPG600FRU | C35: 56 | D35: 150 | E35: 160 | F35: RIELLO
A36: LICENCE LOGICIEL ONE TOUCH | B36: L76ONETOUCH | C36: 640 | D36: 1280 | E36: 1350 | F36: SHARP | I36: LOGICIEL LAW EVOLUTION | J36: LB0006 | K36: 395 | L36: =K36*2 -> 790 | M36: 830 | N36: CSI
I38: BASE D'APPEL BIPEURS | J38: AZ4001 | K38: 223 | L38: =K38*2 -> 446 | M38: 470 | N38: CSI
A39: LICENCE LOGICIEL ONE TOUCH | B39: L76ONETOUCH | C39: 640 | D39: =C39*2 -> 1280 | E39: 1350 | F39: SHARP | I39: BIPEUR VERSION MONTRE | J39: AZ4006 | K39: 55 | L39: =K39*2 -> 110 | M39: 120 | N39: CSI
A40: LICENCE LOGICIEL ONE TOUCH SUPP. | B40: L76ONETOUCHSUP | C40: 240 | D40: =C40*2 -> 480 | E40: 500 | F40: SHARP | I40: BIPEUR VERSION CEINTURE | J40: AZ4007 | K40: 55 | L40: =K40*2 -> 110 | M40: 120 | N40: CSI
A41: LICENCE LOGICIEL ONE TOUCH BUREAU | B41: L76ONETOUCHSUP | C41: 240 | D41: =C41*2 -> 480 | E41: 500 | F41: SHARP
A42: LICENCE LOGICIEL ONE TOUCH E-CASH | B42: L76ONETOUCHCSH | C42: 500 | D42: =C42*2 -> 1000 | E42: 1000 | F42: SHARP
...

Sheet Contrat DUSAM
A1: SANS CONTRAT DE MAINTENANCE | B1: 0€ H.T/MOIS | C1: 0
A2: XXXXXXXXXXXXXXXXXXXXXXXXXXXXXXXXXXXXXXXXXXXXXXXXXXX
A3: CONTRAT MAINTENANCE ONE TOUCH | B3: 20€ H.T / MOIS | C3: 20
A4: CONTRAT MAINTENANCE ONE TOUCH | B4: 30€ H.T / MOIS | C4: 30
A5: CONTRAT MAINTENANCE ONE TOUCH | B5: 40€ H.T / MOIS | C5: 40
A6: CONTRAT MAINTENANCE ONE TOUCH | B6: 50€ H.T / MOIS | C6: 50
A7: CONTRAT SAV ONE TOUCH + ECASH | B7: 215€ H.T / MOIS | C7: 215
A8: XXXXXXXXXXXXXXXXXXXXXXXXXXXXXXXXXXXXXXXXXXXXXXXXXXX
A9: CONTRAT MAINTENANCE CRISALID | B9: 30€ H.T / MOIS | C9: 30
A10: CONTRAT MAINTENANCE CRISALID | B10: 40€ H.T / MOIS | C10: 40
A11: CONTRAT MAINTENANCE CRISALID | B11: 50€ H.T / MOIS | C11: 50
A12: CONTRAT MAINTENANCE CRISALID | B12: 60€ H.T / MOIS | C12: 60
A13: CONTRAT SAV CRISALID + WEBSTERI | B13: 70€ H.T/ MOIS | C13: 70
A14: CONTRAT SAV CRISALID + E-CASH | B14: 190€ H.T/ MOIS | C14: 190
A15: CONTRAT SAV CRISALID + E-CASH | B15: 200€ H.T/ MOIS | C15: 200
A16: CONTRAT SAV CRISALID + E-CASH | B16: 210€ H.T/ MOIS | C16: 210
A17: XXXXXXXXXXXXXXXXXXXXXXXXXXXXXXXXXXXXXXXXXXXXXXXXXXX
A18: CONTRAT FIDELITE CRISALID / SAV | B18: 70€ H.T / MOIS | C18: 70
A19: CONTRAT PRESSE CRISALID / SAV | B19: 57€ H.T / MOIS | C19: 57
A20: XXXXXXXXXXXXXXXXXXXXXXXXXXXXXXXXXXXXXXXXXXXXXXXXXXX
A21: CONTRAT SAV VIDEO-SURVEILLANCE | B21: 20€ H.T / MOIS | C21: 20
A22: CONTRAT SAV VIDEO-SURVEILLANCE | B22: 30€ H.T / MOIS | C22: 30
A23: CONTRAT SAV VIDEO-SURVEILLANCE | B23: 40€ H.T / MOIS | C23: 40
A24: XXXXXXXXXXXXXXXXXXXXXXXXXXXXXXXXXXXXXXXXXXXXXXXXXXX
A25: CONTRAT MAINTENANCE CSI | B25: 20€ H.T / MOIS | C25: 20
A26: CONTRAT MAINTENANCE CSI | B26: 30€ H.T / MOIS | C26: 30
A27: CONTRAT MAINTENANCE CSI | B27: 40€ H.T / MOIS | C27: 40
A28: CONTRAT MAINTENANCE CSI | B28: 50€ H.T / MOIS | C28: 50
A29: CONTRAT MAINTENANCE CSI | B29: 60€ H.T / MOIS | C29: 60
A33: CHOISIR LE VENDEUR !!!!!!!!!!
A34: Matthews Vetter
A35: Alain Vetter

Sheet Locam
D1: =MATCH(L.O.A,DUREE_LOA,0) -> 3 | E1: ='Devis Client'!A44*'Devis Client'!B44 -> 0
A3: PRIX | B3: LOCATION 24 MOIS | C3: LOCATION 36 MOIS | D3: LOCATION 48 MOIS | E3: LOCATION 60 MOIS
A4: 300 | B4: 0.04875 | C4: 0.03378 | D4: 0.02701 | E4: 0.023 | F4: 300 à 3000
A5: 3000 | B5: 0.04875 | C5: 0.03378 | D5: 0.02701 | E5: 0.023 | F5: 300 à 3000
A6: 5000 | B6: 0.04817 | C6: 0.03244 | D6: 0.02561 | E6: 0.02154 | F6: 3000 à 5000
A7: 8000 | B7: 0.04774 | C7: 0.032 | D7: 0.02515 | E7: 0.02107 | F7: 5000 à 8000
A8: 12000 | B8: 0.04754 | C8: 0.03178 | D8: 0.02493 | E8: 0.02084 | F8: 8000 à 12000
A9: 12001 | B9: 0.04754 | C9: 0.03178 | D9: 0.02493 | E9: 0.02084 | F9: >12000
