Workbook
Name AA: Feuil1!$AA$2:$AA$5

Sheet Feuil1
A1: 1 er tableau
B2: LUNDI | C2: MARDI | D2: MERCREDI | E2: JEUDI | F2: VENDREDI | G2: SAMEDI | H2: DIMANCHE | AA2: A
A3: TITI | C3: A | D3: A | E3: A | F3: A | H3: A | AA3: A/AS
A4: DOM | B4: A/ES | C4: T | D4: A | E4: A | F4: A | G4: A | H4: A | AA4: A/PRO
A5: PAUL | B5: O | C5: O | D5: AS | E5: O | F5: AS | G5: O | H5: O | AA5: A/ES
A6: RAOUL | B6: A | C6: A/AS | D6: A | E6: A | F6: T | G6: T | H6: T
A7: ANNE | B7: T | C7: T | D7: T | E7: T | F7: T | G7: T | H7: T
A8: SYLVIE | B8: A | C8: A | D8: A | E8: A | F8: A | G8: A | H8: A
A9: HENRI | B9: N | C9: N | D9: N | E9: N | F9: N | G9: A | H9: A
A10: ZALA | B10: E | C10: E | D10: E | E10: E | F10: A | G10: A | H10: A
A11: RYAN | B11: A | C11: A | D11: A/FORM | E11: A | F11: A | G11: A | H11: A

Sheet Feuil2
A1: 2ème tableau
B2: LUNDI | C2: MARDI | D2: MERCREDI | E2: JEUDI | F2: VENDREDI | G2: SAMEDI | H2: DIMANCHE
A3: TITI | B3: =IF(COUNTIF(AA,Feuil1!B3)=1,"A","") | C3: =IF(COUNTIF(AA,Feuil1!C3)=1,"A","") -> A | D3: =IF(COUNTIF(AA,Feuil1!D3)=1,"A","") -> A | E3: =IF(COUNTIF(AA,Feuil1!E3)=1,"A","") -> A | F3: =IF(COUNTIF(AA,Feuil1!F3)=1,"A","") -> A | G3: =IF(COUNTIF(AA,Feuil1!G3)=1,"A","") | H3: =IF(COUNTIF(AA,Feuil1!H3)=1,"A","") -> A
A4: DOM | B4: =IF(COUNTIF(AA,Feuil1!B4)=1,"A","") -> A | C4: =IF(COUNTIF(AA,Feuil1!C4)=1,"A","") | D4: =IF(COUNTIF(AA,Feuil1!D4)=1,"A","") -> A | E4: =IF(COUNTIF(AA,Feuil1!E4)=1,"A","") -> A | F4: =IF(COUNTIF(AA,Feuil1!F4)=1,"A","") -> A | G4: =IF(COUNTIF(AA,Feuil1!G4)=1,"A","") -> A | H4: =IF(COUNTIF(AA,Feuil1!H4)=1,"A","") -> A
A5: PAUL | B5: =IF(COUNTIF(AA,Feuil1!B5)=1,"A","") | C5: =IF(COUNTIF(AA,Feuil1!C5)=1,"A","") | D5: =IF(COUNTIF(AA,Feuil1!D5)=1,"A","") | E5: =IF(COUNTIF(AA,Feuil1!E5)=1,"A","") | F5: =IF(COUNTIF(AA,Feuil1!F5)=1,"A","") | G5: =IF(COUNTIF(AA,Feuil1!G5)=1,"A","") | H5: =IF(COUNTIF(AA,Feuil1!H5)=1,"A","")
A6: RAOUL | B6: =IF(COUNTIF(AA,Feuil1!B6)=1,"A","") -> A | C6: =IF(COUNTIF(AA,Feuil1!C6)=1,"A","") -> A | D6: =IF(COUNTIF(AA,Feuil1!D6)=1,"A","") -> A | E6: =IF(COUNTIF(AA,Feuil1!E6)=1,"A","") -> A | F6: =IF(COUNTIF(AA,Feuil1!F6)=1,"A","") | G6: =IF(COUNTIF(AA,Feuil1!G6)=1,"A","") | H6: =IF(COUNTIF(AA,Feuil1!H6)=1,"A","")
A7: ANNE | B7: =IF(COUNTIF(AA,Feuil1!B7)=1,"A","") | C7: =IF(COUNTIF(AA,Feuil1!C7)=1,"A","") | D7: =IF(COUNTIF(AA,Feuil1!D7)=1,"A","") | E7: =IF(COUNTIF(AA,Feuil1!E7)=1,"A","") | F7: =IF(COUNTIF(AA,Feuil1!F7)=1,"A","") | G7: =IF(COUNTIF(AA,Feuil1!G7)=1,"A","") | H7: =IF(COUNTIF(AA,Feuil1!H7)=1,"A","")
A8: SYLVIE | B8: =IF(COUNTIF(AA,Feuil1!B8)=1,"A","") -> A | C8: =IF(COUNTIF(AA,Feuil1!C8)=1,"A","") -> A | D8: =IF(COUNTIF(AA,Feuil1!D8)=1,"A","") -> A | E8: =IF(COUNTIF(AA,Feuil1!E8)=1,"A","") -> A | F8: =IF(COUNTIF(AA,Feuil1!F8)=1,"A","") -> A | G8: =IF(COUNTIF(AA,Feuil1!G8)=1,"A","") -> A | H8: =IF(COUNTIF(AA,Feuil1!H8)=1,"A","") -> A
A9: HENRI | B9: =IF(COUNTIF(AA,Feuil1!B9)=1,"A","") | C9: =IF(COUNTIF(AA,Feuil1!C9)=1,"A","") | D9: =IF(COUNTIF(AA,Feuil1!D9)=1,"A","") | E9: =IF(COUNTIF(AA,Feuil1!E9)=1,"A","") | F9: =IF(COUNTIF(AA,Feuil1!F9)=1,"A","") | G9: =IF(COUNTIF(AA,Feuil1!G9)=1,"A","") -> A | H9: =IF(COUNTIF(AA,Feuil1!H9)=1,"A","") -> A
A10: ZALA | B10: =IF(COUNTIF(AA,Feuil1!B10)=1,"A","") | C10: =IF(COUNTIF(AA,Feuil1!C10)=1,"A","") | D10: =IF(COUNTIF(AA,Feuil1!D10)=1,"A","") | E10: =IF(COUNTIF(AA,Feuil1!E10)=1,"A","") | F10: =IF(COUNTIF(AA,Feuil1!F10)=1,"A","") -> A | G10: =IF(COUNTIF(AA,Feuil1!G10)=1,"A","") -> A | H10: =IF(COUNTIF(AA,Feuil1!H10)=1,"A","") -> A
A11: RYAN | B11: =IF(COUNTIF(AA,Feuil1!B11)=1,"A","") -> A | C11: =IF(COUNTIF(AA,Feuil1!C11)=1,"A","") -> A | D11: =IF(COUNTIF(AA,Feuil1!D11)=1,"A","") | E11: =IF(COUNTIF(AA,Feuil1!E11)=1,"A","") -> A | F11: =IF(COUNTIF(AA,Feuil1!F11)=1,"A","") -> A | G11: =IF(COUNTIF(AA,Feuil1!G11)=1,"A","") -> A | H11: =IF(COUNTIF(AA,Feuil1!H11)=1,"A","") -> A
