Workbook

Sheet Détails
A1: Type | B1: Numéro | C1: Article | D1: Date d'achat | E1: Client | G1: Numéro
A2: Casse | B2: 1 | C2: Pommes | D2: 43360 | E2: Romain | G2: =COUNTIF($A$2:A2,A2) -> 1
A3: Vente | B3: 1 | C3: Pastèques | D3: 43361 | E3: Ahmed | G3: =COUNTIF($A$2:A3,A3) -> 1
A4: Casse | B4: 1 | C4: Pruneaux | D4: 43362 | E4: Floriane | G4: =COUNTIF($A$2:A4,A4) -> 2
A5: Don | B5: 2 | C5: Melons | D5: 43363 | E5: Léonore | G5: =COUNTIF($A$2:A5,A5) -> 1
A6: Vente | B6: 2 | C6: Orange | D6: 43364 | E6: Clothilde | G6: =COUNTIF($A$2:A6,A6) -> 2
A7: Don | B7: 2 | C7: Prunes | D7: 43365 | E7: Nicolas | G7: =COUNTIF($A$2:A7,A7) -> 2
C12: B2 : numéroter comme en G2

Sheet Résumé
A1: Type | C1: Article 1 | D1: Date d'achat | E1: Client | F1: Article 2 | G1: Date d'achat | H1: Client
A2: Don | C2: {=IFERROR(INDEX(Détails!C$1:C$100,SMALL(IF(Détails!$A$1:$A$100=$A2,IF(Détails!$G$1:$G$100=1,ROW(Détails!$A$1:$A$100),"")),ROW($1:$1))),"")} -> Melons | D2: {=IFERROR(INDEX(Détails!D$1:D$100,SMALL(IF(Détails!$A$1:$A$100=$A2,IF(Détails!$G$1:$G$100=1,ROW(Détails!$A$1:$A$100),"")),ROW($1:$1))),"")} -> 43363 | E2: {=IFERROR(INDEX(Détails!E$1:E$100,SMALL(IF(Détails!$A$1:$A$100=$A2,IF(Détails!$G$1:$G$100=1,ROW(Détails!$A$1:$A$100),"")),ROW($1:$1))),"")} -> Léonore | F2: {=IFERROR(INDEX(Détails!C$1:C$100,SMALL(IF(Détails!$A$1:$A$100=$A2,IF(Détails!$G$1:$G$100=2,ROW(Détails!$A$1:$A$100),"")),ROW($1:$1))),"")} -> Prunes | G2: {=IFERROR(INDEX(Détails!D$1:D$100,SMALL(IF(Détails!$A$1:$A$100=$A2,IF(Détails!$G$1:$G$100=2,ROW(Détails!$A$1:$A$100),"")),ROW($1:$1))),"")} -> 43365 | H2: {=IFERROR(INDEX(Détails!E$1:E$100,SMALL(IF(Détails!$A$1:$A$100=$A2,IF(Détails!$G$1:$G$100=2,ROW(Détails!$A$1:$A$100),"")),ROW($1:$1))),"")} -> Nicolas
A3: Vente | C3: {=IFERROR(INDEX(Détails!C$1:C$100,SMALL(IF(Détails!$A$1:$A$100=$A3,IF(Détails!$G$1:$G$100=1,ROW(Détails!$A$1:$A$100),"")),ROW($1:$1))),"")} -> Pastèques | D3: {=IFERROR(INDEX(Détails!D$1:D$100,SMALL(IF(Détails!$A$1:$A$100=$A3,IF(Détails!$G$1:$G$100=1,ROW(Détails!$A$1:$A$100),"")),ROW($1:$1))),"")} -> 43361 | E3: {=IFERROR(INDEX(Détails!E$1:E$100,SMALL(IF(Détails!$A$1:$A$100=$A3,IF(Détails!$G$1:$G$100=1,ROW(Détails!$A$1:$A$100),"")),ROW($1:$1))),"")} -> Ahmed | F3: {=IFERROR(INDEX(Détails!C$1:C$100,SMALL(IF(Détails!$A$1:$A$100=$A3,IF(Détails!$G$1:$G$100=2,ROW(Détails!$A$1:$A$100),"")),ROW($1:$1))),"")} -> Orange | G3: {=IFERROR(INDEX(Détails!D$1:D$100,SMALL(IF(Détails!$A$1:$A$100=$A3,IF(Détails!$G$1:$G$100=2,ROW(Détails!$A$1:$A$100),"")),ROW($1:$1))),"")} -> 43364 | H3: {=IFERROR(INDEX(Détails!E$1:E$100,SMALL(IF(Détails!$A$1:$A$100=$A3,IF(Détails!$G$1:$G$100=2,ROW(Détails!$A$1:$A$100),"")),ROW($1:$1))),"")} -> Clothilde
A4: Casse | C4: {=IFERROR(INDEX(Détails!C$1:C$100,SMALL(IF(Détails!$A$1:$A$100=$A4,IF(Détails!$G$1:$G$100=1,ROW(Détails!$A$1:$A$100),"")),ROW($1:$1))),"")} -> Pommes | D4: {=IFERROR(INDEX(Détails!D$1:D$100,SMALL(IF(Détails!$A$1:$A$100=$A4,IF(Détails!$G$1:$G$100=1,ROW(Détails!$A$1:$A$100),"")),ROW($1:$1))),"")} -> 43360 | E4: {=IFERROR(INDEX(Détails!E$1:E$100,SMALL(IF(Détails!$A$1:$A$100=$A4,IF(Détails!$G$1:$G$100=1,ROW(Détails!$A$1:$A$100),"")),ROW($1:$1))),"")} -> Romain | F4: {=IFERROR(INDEX(Détails!C$1:C$100,SMALL(IF(Détails!$A$1:$A$100=$A4,IF(Détails!$G$1:$G$100=2,ROW(Détails!$A$1:$A$100),"")),ROW($1:$1))),"")} -> Pruneaux | G4: {=IFERROR(INDEX(Détails!D$1:D$100,SMALL(IF(Détails!$A$1:$A$100=$A4,IF(Détails!$G$1:$G$100=2,ROW(Détails!$A$1:$A$100),"")),ROW($1:$1))),"")} -> 43362 | H4: {=IFERROR(INDEX(Détails!E$1:E$100,SMALL(IF(Détails!$A$1:$A$100=$A4,IF(Détails!$G$1:$G$100=2,ROW(Détails!$A$1:$A$100),"")),ROW($1:$1))),"")} -> Floriane
C5: {=IFERROR(INDEX(Détails!C$1:C$100,SMALL(IF(Détails!$A$1:$A$100=$A5,IF(Détails!$G$1:$G$100=1,ROW(Détails!$A$1:$A$100),"")),ROW($1:$1))),"")} | D5: {=IFERROR(INDEX(Détails!D$1:D$100,SMALL(IF(Détails!$A$1:$A$100=$A5,IF(Détails!$G$1:$G$100=1,ROW(Détails!$A$1:$A$100),"")),ROW($1:$1))),"")} | E5: {=IFERROR(INDEX(Détails!E$1:E$100,SMALL(IF(Détails!$A$1:$A$100=$A5,IF(Détails!$G$1:$G$100=1,ROW(Détails!$A$1:$A$100),"")),ROW($1:$1))),"")} | F5: {=IFERROR(INDEX(Détails!C$1:C$100,SMALL(IF(Détails!$A$1:$A$100=$A5,IF(Détails!$G$1:$G$100=2,ROW(Détails!$A$1:$A$100),"")),ROW($1:$1))),"")} | G5: {=IFERROR(INDEX(Détails!D$1:D$100,SMALL(IF(Détails!$A$1:$A$100=$A5,IF(Détails!$G$1:$G$100=2,ROW(Détails!$A$1:$A$100),"")),ROW($1:$1))),"")} | H5: {=IFERROR(INDEX(Détails!E$1:E$100,SMALL(IF(Détails!$A$1:$A$100=$A5,IF(Détails!$G$1:$G$100=2,ROW(Détails!$A$1:$A$100),"")),ROW($1:$1))),"")}
A6: {=IF(ROW()-2>COUNTIF(Détails!$B$1:$B$100,"=1"),"",INDEX(Détails!$A$1:$A$100,SMALL(IF(Détails!$B$1:$B$100=1,ROW($A$1:$A$98),""),ROW()-2)))} | C6: {=IFERROR(INDEX(Détails!C$1:C$100,SMALL(IF(Détails!$A$1:$A$100=$A6,IF(Détails!$G$1:$G$100=1,ROW(Détails!$A$1:$A$100),"")),ROW($1:$1))),"")} | D6: {=IFERROR(INDEX(Détails!D$1:D$100,SMALL(IF(Détails!$A$1:$A$100=$A6,IF(Détails!$G$1:$G$100=1,ROW(Détails!$A$1:$A$100),"")),ROW($1:$1))),"")} | E6: {=IFERROR(INDEX(Détails!E$1:E$100,SMALL(IF(Détails!$A$1:$A$100=$A6,IF(Détails!$G$1:$G$100=1,ROW(Détails!$A$1:$A$100),"")),ROW($1:$1))),"")} | F6: {=IFERROR(INDEX(Détails!C$1:C$100,SMALL(IF(Détails!$A$1:$A$100=$A6,IF(Détails!$G$1:$G$100=2,ROW(Détails!$A$1:$A$100),"")),ROW($1:$1))),"")} | G6: {=IFERROR(INDEX(Détails!D$1:D$100,SMALL(IF(Détails!$A$1:$A$100=$A6,IF(Détails!$G$1:$G$100=2,ROW(Détails!$A$1:$A$100),"")),ROW($1:$1))),"")} | H6: {=IFERROR(INDEX(Détails!E$1:E$100,SMALL(IF(Détails!$A$1:$A$100=$A6,IF(Détails!$G$1:$G$100=2,ROW(Détails!$A$1:$A$100),"")),ROW($1:$1))),"")}
A7: {=IF(ROW()-2>COUNTIF(Détails!$B$1:$B$100,"=1"),"",INDEX(Détails!$A$1:$A$100,SMALL(IF(Détails!$B$1:$B$100=1,ROW($A$1:$A$98),""),ROW()-2)))} | C7: {=IFERROR(INDEX(Détails!C$1:C$100,SMALL(IF(Détails!$A$1:$A$100=$A7,IF(Détails!$G$1:$G$100=1,ROW(Détails!$A$1:$A$100),"")),ROW($1:$1))),"")} | D7: {=IFERROR(INDEX(Détails!D$1:D$100,SMALL(IF(Détails!$A$1:$A$100=$A7,IF(Détails!$G$1:$G$100=1,ROW(Détails!$A$1:$A$100),"")),ROW($1:$1))),"")} | E7: {=IFERROR(INDEX(Détails!E$1:E$100,SMALL(IF(Détails!$A$1:$A$100=$A7,IF(Détails!$G$1:$G$100=1,ROW(Détails!$A$1:$A$100),"")),ROW($1:$1))),"")} | F7: {=IFERROR(INDEX(Détails!C$1:C$100,SMALL(IF(Détails!$A$1:$A$100=$A7,IF(Détails!$G$1:$G$100=2,ROW(Détails!$A$1:$A$100),"")),ROW($1:$1))),"")} | G7: {=IFERROR(INDEX(Détails!D$1:D$100,SMALL(IF(Détails!$A$1:$A$100=$A7,IF(Détails!$G$1:$G$100=2,ROW(Détails!$A$1:$A$100),"")),ROW($1:$1))),"")} | H7: {=IFERROR(INDEX(Détails!E$1:E$100,SMALL(IF(Détails!$A$1:$A$100=$A7,IF(Détails!$G$1:$G$100=2,ROW(Détails!$A$1:$A$100),"")),ROW($1:$1))),"")}
A8: {=IF(ROW()-2>COUNTIF(Détails!$B$1:$B$100,"=1"),"",INDEX(Détails!$A$1:$A$100,SMALL(IF(Détails!$B$1:$B$100=1,ROW($A$1:$A$98),""),ROW()-2)))} | C8: {=IFERROR(INDEX(Détails!C$1:C$100,SMALL(IF(Détails!$A$1:$A$100=$A8,IF(Détails!$G$1:$G$100=1,ROW(Détails!$A$1:$A$100),"")),ROW($1:$1))),"")} | D8: {=IFERROR(INDEX(Détails!D$1:D$100,SMALL(IF(Détails!$A$1:$A$100=$A8,IF(Détails!$G$1:$G$100=1,ROW(Détails!$A$1:$A$100),"")),ROW($1:$1))),"")} | E8: {=IFERROR(INDEX(Détails!E$1:E$100,SMALL(IF(Détails!$A$1:$A$100=$A8,IF(Détails!$G$1:$G$100=1,ROW(Détails!$A$1:$A$100),"")),ROW($1:$1))),"")} | F8: {=IFERROR(INDEX(Détails!C$1:C$100,SMALL(IF(Détails!$A$1:$A$100=$A8,IF(Détails!$G$1:$G$100=2,ROW(Détails!$A$1:$A$100),"")),ROW($1:$1))),"")} | G8: {=IFERROR(INDEX(Détails!D$1:D$100,SMALL(IF(Détails!$A$1:$A$100=$A8,IF(Détails!$G$1:$G$100=2,ROW(Détails!$A$1:$A$100),"")),ROW($1:$1))),"")} | H8: {=IFERROR(INDEX(Détails!E$1:E$100,SMALL(IF(Détails!$A$1:$A$100=$A8,IF(Détails!$G$1:$G$100=2,ROW(Détails!$A$1:$A$100),"")),ROW($1:$1))),"")}
C9: {=IFERROR(INDEX(Détails!C$1:C$100,SMALL(IF(Détails!$A$1:$A$100=$A9,IF(Détails!$G$1:$G$100=1,ROW(Détails!$A$1:$A$100),"")),ROW($1:$1))),"")} | D9: {=IFERROR(INDEX(Détails!D$1:D$100,SMALL(IF(Détails!$A$1:$A$100=$A9,IF(Détails!$G$1:$G$100=1,ROW(Détails!$A$1:$A$100),"")),ROW($1:$1))),"")} | E9: {=IFERROR(INDEX(Détails!E$1:E$100,SMALL(IF(Détails!$A$1:$A$100=$A9,IF(Détails!$G$1:$G$100=1,ROW(Détails!$A$1:$A$100),"")),ROW($1:$1))),"")} | F9: {=IFERROR(INDEX(Détails!C$1:C$100,SMALL(IF(Détails!$A$1:$A$100=$A9,IF(Détails!$G$1:$G$100=2,ROW(Détails!$A$1:$A$100),"")),ROW($1:$1))),"")} | G9: {=IFERROR(INDEX(Détails!D$1:D$100,SMALL(IF(Détails!$A$1:$A$100=$A9,IF(Détails!$G$1:$G$100=2,ROW(Détails!$A$1:$A$100),"")),ROW($1:$1))),"")} | H9: {=IFERROR(INDEX(Détails!E$1:E$100,SMALL(IF(Détails!$A$1:$A$100=$A9,IF(Détails!$G$1:$G$100=2,ROW(Détails!$A$1:$A$100),"")),ROW($1:$1))),"")}
C10: {=IFERROR(INDEX(Détails!C$1:C$100,SMALL(IF(Détails!$A$1:$A$100=$A10,IF(Détails!$G$1:$G$100=1,ROW(Détails!$A$1:$A$100),"")),ROW($1:$1))),"")} | D10: {=IFERROR(INDEX(Détails!D$1:D$100,SMALL(IF(Détails!$A$1:$A$100=$A10,IF(Détails!$G$1:$G$100=1,ROW(Détails!$A$1:$A$100),"")),ROW($1:$1))),"")} | E10: {=IFERROR(INDEX(Détails!E$1:E$100,SMALL(IF(Détails!$A$1:$A$100=$A10,IF(Détails!$G$1:$G$100=1,ROW(Détails!$A$1:$A$100),"")),ROW($1:$1))),"")} | F10: {=IFERROR(INDEX(Détails!C$1:C$100,SMALL(IF(Détails!$A$1:$A$100=$A10,IF(Détails!$G$1:$G$100=2,ROW(Détails!$A$1:$A$100),"")),ROW($1:$1))),"")} | G10: {=IFERROR(INDEX(Détails!D$1:D$100,SMALL(IF(Détails!$A$1:$A$100=$A10,IF(Détails!$G$1:$G$100=2,ROW(Détails!$A$1:$A$100),"")),ROW($1:$1))),"")} | H10: {=IFERROR(INDEX(Détails!E$1:E$100,SMALL(IF(Détails!$A$1:$A$100=$A10,IF(Détails!$G$1:$G$100=2,ROW(Détails!$A$1:$A$100),"")),ROW($1:$1))),"")}
