Workbook

Sheet Solution
A1: NOMIMM | B1: Surface Moyenne | C1: CODLOC
A2: NOTRE DAME | B2: {=AVERAGE(IF(Données!$C$2:$C$34=Solution!A2,Données!$D$2:$D$34))} -> 53.6875 | C2: =VLOOKUP(Données!G2,Données!A2:D34,2,0) -> 4
A3: ST FRANCOIS | B3: {=AVERAGE(IF(Données!$C$2:$C$34=Solution!A3,Données!$D$2:$D$34))} -> 54.933333 | C3: =VLOOKUP(Données!G3,Données!A3:D35,2,0) -> 20
A4: ST ROCH | B4: {=AVERAGE(IF(Données!$C$2:$C$34=Solution!A4,Données!$D$2:$D$34))} -> 75 | C4: =VLOOKUP(Données!G4,Données!A4:D36,2,0) -> 33

Sheet Données
B1: CODLOC | C1: NOMIMM | D1: Surface
A2: =ABS(D2-VLOOKUP(C2,Solution!$A$2:$B$4,2,0)) -> 1.6875 | B2: 1 | C2: NOTRE DAME | D2: 52 | G2: {=MIN(IF(C:C=Solution!A2,A:A))} -> 0.3125
A3: =ABS(D3-VLOOKUP(C3,Solution!$A$2:$B$4,2,0)) -> 7.6875 | B3: 2 | C3: NOTRE DAME | D3: 46 | G3: {=MIN(IF(C:C=Solution!A3,A:A))} -> 0.066666667
A4: =ABS(D4-VLOOKUP(C4,Solution!$A$2:$B$4,2,0)) -> 8.3125 | B4: 3 | C4: NOTRE DAME | D4: 62 | G4: {=MIN(IF(C:C=Solution!A4,A:A))} -> 0
A5: =ABS(D5-VLOOKUP(C5,Solution!$A$2:$B$4,2,0)) -> 0.3125 | B5: 4 | C5: NOTRE DAME | D5: 54
A6: =ABS(D6-VLOOKUP(C6,Solution!$A$2:$B$4,2,0)) -> 9.3125 | B6: 5 | C6: NOTRE DAME | D6: 63
A7: =ABS(D7-VLOOKUP(C7,Solution!$A$2:$B$4,2,0)) -> 7.6875 | B7: 6 | C7: NOTRE DAME | D7: 46
A8: =ABS(D8-VLOOKUP(C8,Solution!$A$2:$B$4,2,0)) -> 8.6875 | B8: 7 | C8: NOTRE DAME | D8: 45
A9: =ABS(D9-VLOOKUP(C9,Solution!$A$2:$B$4,2,0)) -> 8.3125 | B9: 8 | C9: NOTRE DAME | D9: 62
A10: =ABS(D10-VLOOKUP(C10,Solution!$A$2:$B$4,2,0)) -> 0.6875 | B10: 9 | C10: NOTRE DAME | D10: 53
A11: =ABS(D11-VLOOKUP(C11,Solution!$A$2:$B$4,2,0)) -> 9.3125 | B11: 10 | C11: NOTRE DAME | D11: 63
A12: =ABS(D12-VLOOKUP(C12,Solution!$A$2:$B$4,2,0)) -> 7.6875 | B12: 11 | C12: NOTRE DAME | D12: 46
A13: =ABS(D13-VLOOKUP(C13,Solution!$A$2:$B$4,2,0)) -> 8.6875 | B13: 12 | C13: NOTRE DAME | D13: 45
A14: =ABS(D14-VLOOKUP(C14,Solution!$A$2:$B$4,2,0)) -> 8.3125 | B14: 13 | C14: NOTRE DAME | D14: 62
A15: =ABS(D15-VLOOKUP(C15,Solution!$A$2:$B$4,2,0)) -> 0.6875 | B15: 14 | C15: NOTRE DAME | D15: 53
A16: =ABS(D16-VLOOKUP(C16,Solution!$A$2:$B$4,2,0)) -> 8.3125 | B16: 15 | C16: NOTRE DAME | D16: 62
... A34: =ABS(D34-VLOOKUP(C34,Solution!$A$2:$B$4,2,0)) -> 0 | B34: 34 | C34: ST ROCH | D34: 75

Sheet Feuil3
