Workbook

Sheet Feuil1
A3: N°projet | B3: Intitulé projet | C3: Chef projet | G3: Pierre | I3: Janvier | J3: Février | K3: Mars | L3: Avril | M3: Mai | N3: Juin | O3: Juillet | P3: Août | Q3: Septembre | R3: Octobre | S3: Novembre | T3: Décembre
A4: 1 | B4: A | C4: Pierre | G4: N° projet
A5: 2 | B5: B | C5: Pierre | G5: 1 | H5: A
A6: 3 | B6: C | C6: Paul | G6: 2 | H6: B
A7: 4 | B7: D | C7: Pierre | G7: 4 | H7: D
A8: 5 | B8: E | C8: Paul
A9: 6 | B9: F | C9: Paul
G10: Paul | I10: Janvier | J10: Février | K10: Mars | L10: Avril | M10: Mai | N10: Juin | O10: Juillet | P10: Août | Q10: Septembre | R10: Octobre | S10: Novembre | T10: Décembre
G11: N° projet
G12: 3 | H12: C
G13: 5 | H13: E
G14: 6 | H14: F

Sheet Feuil2
B1: Pierre | E1: Paul
B2: N° | C2: Projet | E2: N° | F2: Projet | H2: Formule en B3 et E3 : à tirer vers la droite, puis vers le bas.
B3: {=IF(ROW()-2>COUNTIF(Feuil1!$C$1:$C$100,$B$1),"",INDEX(Feuil1!A$1:A$100,SMALL(IF(Feuil1!$C$1:$C$100=$B$1,ROW($A$1:$A$100),""),ROW()-2)))} -> 1 | C3: {=IF(ROW()-2>COUNTIF(Feuil1!$C$1:$C$100,$B$1),"",INDEX(Feuil1!B$1:B$100,SMALL(IF(Feuil1!$C$1:$C$100=$B$1,ROW($A$1:$A$100),""),ROW()-2)))} -> A | E3: {=IF(ROW()-2>COUNTIF(Feuil1!$C$1:$C$100,$E$1),"",INDEX(Feuil1!A$1:A$100,SMALL(IF(Feuil1!$C$1:$C$100=$E$1,ROW($A$1:$A$100),""),ROW()-2)))} -> 3 | F3: {=IF(ROW()-2>COUNTIF(Feuil1!$C$1:$C$100,$E$1),"",INDEX(Feuil1!B$1:B$100,SMALL(IF(Feuil1!$C$1:$C$100=$E$1,ROW($A$1:$A$100),""),ROW()-2)))} -> C
B4: {=IF(ROW()-2>COUNTIF(Feuil1!$C$1:$C$100,$B$1),"",INDEX(Feuil1!A$1:A$100,SMALL(IF(Feuil1!$C$1:$C$100=$B$1,ROW($A$1:$A$100),""),ROW()-2)))} -> 2 | C4: {=IF(ROW()-2>COUNTIF(Feuil1!$C$1:$C$100,$B$1),"",INDEX(Feuil1!B$1:B$100,SMALL(IF(Feuil1!$C$1:$C$100=$B$1,ROW($A$1:$A$100),""),ROW()-2)))} -> B | E4: {=IF(ROW()-2>COUNTIF(Feuil1!$C$1:$C$100,$E$1),"",INDEX(Feuil1!A$1:A$100,SMALL(IF(Feuil1!$C$1:$C$100=$E$1,ROW($A$1:$A$100),""),ROW()-2)))} -> 5 | F4: {=IF(ROW()-2>COUNTIF(Feuil1!$C$1:$C$100,$E$1),"",INDEX(Feuil1!B$1:B$100,SMALL(IF(Feuil1!$C$1:$C$100=$E$1,ROW($A$1:$A$100),""),ROW()-2)))} -> E
B5: {=IF(ROW()-2>COUNTIF(Feuil1!$C$1:$C$100,$B$1),"",INDEX(Feuil1!A$1:A$100,SMALL(IF(Feuil1!$C$1:$C$100=$B$1,ROW($A$1:$A$100),""),ROW()-2)))} -> 4 | C5: {=IF(ROW()-2>COUNTIF(Feuil1!$C$1:$C$100,$B$1),"",INDEX(Feuil1!B$1:B$100,SMALL(IF(Feuil1!$C$1:$C$100=$B$1,ROW($A$1:$A$100),""),ROW()-2)))} -> D | E5: {=IF(ROW()-2>COUNTIF(Feuil1!$C$1:$C$100,$E$1),"",INDEX(Feuil1!A$1:A$100,SMALL(IF(Feuil1!$C$1:$C$100=$E$1,ROW($A$1:$A$100),""),ROW()-2)))} -> 6 | F5: {=IF(ROW()-2>COUNTIF(Feuil1!$C$1:$C$100,$E$1),"",INDEX(Feuil1!B$1:B$100,SMALL(IF(Feuil1!$C$1:$C$100=$E$1,ROW($A$1:$A$100),""),ROW()-2)))} -> F
B6: {=IF(ROW()-2>COUNTIF(Feuil1!$C$1:$C$100,$B$1),"",INDEX(Feuil1!A$1:A$100,SMALL(IF(Feuil1!$C$1:$C$100=$B$1,ROW($A$1:$A$100),""),ROW()-2)))} | C6: {=IF(ROW()-2>COUNTIF(Feuil1!$C$1:$C$100,$B$1),"",INDEX(Feuil1!B$1:B$100,SMALL(IF(Feuil1!$C$1:$C$100=$B$1,ROW($A$1:$A$100),""),ROW()-2)))} | E6: {=IF(ROW()-2>COUNTIF(Feuil1!$C$1:$C$100,$E$1),"",INDEX(Feuil1!A$1:A$100,SMALL(IF(Feuil1!$C$1:$C$100=$E$1,ROW($A$1:$A$100),""),ROW()-2)))} | F6: {=IF(ROW()-2>COUNTIF(Feuil1!$C$1:$C$100,$E$1),"",INDEX(Feuil1!B$1:B$100,SMALL(IF(Feuil1!$C$1:$C$100=$E$1,ROW($A$1:$A$100),""),ROW()-2)))}
B7: {=IF(ROW()-2>COUNTIF(Feuil1!$C$1:$C$100,$B$1),"",INDEX(Feuil1!A$1:A$100,SMALL(IF(Feuil1!$C$1:$C$100=$B$1,ROW($A$1:$A$100),""),ROW()-2)))} | C7: {=IF(ROW()-2>COUNTIF(Feuil1!$C$1:$C$100,$B$1),"",INDEX(Feuil1!B$1:B$100,SMALL(IF(Feuil1!$C$1:$C$100=$B$1,ROW($A$1:$A$100),""),ROW()-2)))} | E7: {=IF(ROW()-2>COUNTIF(Feuil1!$C$1:$C$100,$E$1),"",INDEX(Feuil1!A$1:A$100,SMALL(IF(Feuil1!$C$1:$C$100=$E$1,ROW($A$1:$A$100),""),ROW()-2)))} | F7: {=IF(ROW()-2>COUNTIF(Feuil1!$C$1:$C$100,$E$1),"",INDEX(Feuil1!B$1:B$100,SMALL(IF(Feuil1!$C$1:$C$100=$E$1,ROW($A$1:$A$100),""),ROW()-2)))}
B8: {=IF(ROW()-2>COUNTIF(Feuil1!$C$1:$C$100,$B$1),"",INDEX(Feuil1!A$1:A$100,SMALL(IF(Feuil1!$C$1:$C$100=$B$1,ROW($A$1:$A$100),""),ROW()-2)))} | C8: {=IF(ROW()-2>COUNTIF(Feuil1!$C$1:$C$100,$B$1),"",INDEX(Feuil1!B$1:B$100,SMALL(IF(Feuil1!$C$1:$C$100=$B$1,ROW($A$1:$A$100),""),ROW()-2)))} | E8: {=IF(ROW()-2>COUNTIF(Feuil1!$C$1:$C$100,$E$1),"",INDEX(Feuil1!A$1:A$100,SMALL(IF(Feuil1!$C$1:$C$100=$E$1,ROW($A$1:$A$100),""),ROW()-2)))} | F8: {=IF(ROW()-2>COUNTIF(Feuil1!$C$1:$C$100,$E$1),"",INDEX(Feuil1!B$1:B$100,SMALL(IF(Feuil1!$C$1:$C$100=$E$1,ROW($A$1:$A$100),""),ROW()-2)))}
B9: {=IF(ROW()-2>COUNTIF(Feuil1!$C$1:$C$100,$B$1),"",INDEX(Feuil1!A$1:A$100,SMALL(IF(Feuil1!$C$1:$C$100=$B$1,ROW($A$1:$A$100),""),ROW()-2)))} | C9: {=IF(ROW()-2>COUNTIF(Feuil1!$C$1:$C$100,$B$1),"",INDEX(Feuil1!B$1:B$100,SMALL(IF(Feuil1!$C$1:$C$100=$B$1,ROW($A$1:$A$100),""),ROW()-2)))} | E9: {=IF(ROW()-2>COUNTIF(Feuil1!$C$1:$C$100,$E$1),"",INDEX(Feuil1!A$1:A$100,SMALL(IF(Feuil1!$C$1:$C$100=$E$1,ROW($A$1:$A$100),""),ROW()-2)))} | F9: {=IF(ROW()-2>COUNTIF(Feuil1!$C$1:$C$100,$E$1),"",INDEX(Feuil1!B$1:B$100,SMALL(IF(Feuil1!$C$1:$C$100=$E$1,ROW($A$1:$A$100),""),ROW()-2)))}
B10: {=IF(ROW()-2>COUNTIF(Feuil1!$C$1:$C$100,$B$1),"",INDEX(Feuil1!A$1:A$100,SMALL(IF(Feuil1!$C$1:$C$100=$B$1,ROW($A$1:$A$100),""),ROW()-2)))} | C10: {=IF(ROW()-2>COUNTIF(Feuil1!$C$1:$C$100,$B$1),"",INDEX(Feuil1!B$1:B$100,SMALL(IF(Feuil1!$C$1:$C$100=$B$1,ROW($A$1:$A$100),""),ROW()-2)))} | E10: {=IF(ROW()-2>COUNTIF(Feuil1!$C$1:$C$100,$E$1),"",INDEX(Feuil1!A$1:A$100,SMALL(IF(Feuil1!$C$1:$C$100=$E$1,ROW($A$1:$A$100),""),ROW()-2)))} | F10: {=IF(ROW()-2>COUNTIF(Feuil1!$C$1:$C$100,$E$1),"",INDEX(Feuil1!B$1:B$100,SMALL(IF(Feuil1!$C$1:$C$100=$E$1,ROW($A$1:$A$100),""),ROW()-2)))}
B11: {=IF(ROW()-2>COUNTIF(Feuil1!$C$1:$C$100,$B$1),"",INDEX(Feuil1!A$1:A$100,SMALL(IF(Feuil1!$C$1:$C$100=$B$1,ROW($A$1:$A$100),""),ROW()-2)))} | C11: {=IF(ROW()-2>COUNTIF(Feuil1!$C$1:$C$100,$B$1),"",INDEX(Feuil1!B$1:B$100,SMALL(IF(Feuil1!$C$1:$C$100=$B$1,ROW($A$1:$A$100),""),ROW()-2)))} | E11: {=IF(ROW()-2>COUNTIF(Feuil1!$C$1:$C$100,$E$1),"",INDEX(Feuil1!A$1:A$100,SMALL(IF(Feuil1!$C$1:$C$100=$E$1,ROW($A$1:$A$100),""),ROW()-2)))} | F11: {=IF(ROW()-2>COUNTIF(Feuil1!$C$1:$C$100,$E$1),"",INDEX(Feuil1!B$1:B$100,SMALL(IF(Feuil1!$C$1:$C$100=$E$1,ROW($A$1:$A$100),""),ROW()-2)))}

Sheet Feuil3
