Workbook
Name ListeA: Feuil1!$A$1:$A$69
Name ListeB: Feuil1!$A$1:$C$69
Name ListeC: Feuil1!$A$1:$C$69

Sheet Feuil2
A12: Références | B12: désignation | C12: quantité | D12: prix/unitaire | E12: observation | F12: localisation | G12: total HT
A13: ELE135 | B13: =IFERROR(VLOOKUP(A13,Feuil1!$A$1:$C$100,2,0),"") -> Combiné interphone | C13: 5 | D13: =IFERROR(VLOOKUP(A13,Feuil1!$A$1:$C$100,3,0),"") -> 94.39 | G13: =IFERROR(C13*D13,"") -> 471.95
A14: ELE273 | B14: =IFERROR(VLOOKUP(A14,Feuil1!$A$1:$C$100,2,0),"") -> Rempl Tableau T4-T6 inc disj (U) | C14: 10 | D14: =IFERROR(VLOOKUP(A14,Feuil1!$A$1:$C$100,3,0),"") -> 431.85 | G14: =IFERROR(C14*D14,"") -> 4318.5
A15: ELE463 | B15: =IFERROR(VLOOKUP(A15,Feuil1!$A$1:$C$100,2,0),"") -> installation logement complet appareillage intégré T6(U) | C15: 5 | D15: =IFERROR(VLOOKUP(A15,Feuil1!$A$1:$C$100,3,0),"") -> 3 418,77 | G15: =IFERROR(C15*D15,"") -> 17093.85
A16: REL999 | B16: =IFERROR(VLOOKUP(A16,Feuil1!$A$1:$C$100,2,0),"") -> Intervention complementaire au MBC (U) | C16: 8 | D16: =IFERROR(VLOOKUP(A16,Feuil1!$A$1:$C$100,3,0),"") -> 0.88 | G16: =IFERROR(C16*D16,"") -> 7.04
B17: =IFERROR(VLOOKUP(A17,Feuil1!$A$1:$C$100,2,0),"") | D17: =IFERROR(VLOOKUP(A17,Feuil1!$A$1:$C$100,3,0),"") | G17: =IFERROR(C17*D17,"")
B18: =IFERROR(VLOOKUP(A18,Feuil1!$A$1:$C$100,2,0),"") | D18: =IFERROR(VLOOKUP(A18,Feuil1!$A$1:$C$100,3,0),"") | G18: =IFERROR(C18*D18,"")
B19: =IFERROR(VLOOKUP(A19,Feuil1!$A$1:$C$100,2,0),"") | D19: =IFERROR(VLOOKUP(A19,Feuil1!$A$1:$C$100,3,0),"") | G19: =IFERROR(C19*D19,"")
B20: =IFERROR(VLOOKUP(A20,Feuil1!$A$1:$C$100,2,0),"") | D20: =IFERROR(VLOOKUP(A20,Feuil1!$A$1:$C$100,3,0),"") | G20: =IFERROR(C20*D20,"")
B21: =IFERROR(VLOOKUP(A21,Feuil1!$A$1:$C$100,2,0),"") | D21: =IFERROR(VLOOKUP(A21,Feuil1!$A$1:$C$100,3,0),"") | G21: =IFERROR(C21*D21,"")
B22: =IFERROR(VLOOKUP(A22,Feuil1!$A$1:$C$100,2,0),"") | D22: =IFERROR(VLOOKUP(A22,Feuil1!$A$1:$C$100,3,0),"") | G22: =IFERROR(C22*D22,"")
B23: =IFERROR(VLOOKUP(A23,Feuil1!$A$1:$C$100,2,0),"") | D23: =IFERROR(VLOOKUP(A23,Feuil1!$A$1:$C$100,3,0),"") | G23: =IFERROR(C23*D23,"")
B24: =IFERROR(VLOOKUP(A24,Feuil1!$A$1:$C$100,2,0),"") | D24: =IFERROR(VLOOKUP(A24,Feuil1!$A$1:$C$100,3,0),"") | G24: =IFERROR(C24*D24,"")
B25: =IFERROR(VLOOKUP(A25,Feuil1!$A$1:$C$100,2,0),"") | D25: =IFERROR(VLOOKUP(A25,Feuil1!$A$1:$C$100,3,0),"") | G25: =IFERROR(C25*D25,"")
B26: =IFERROR(VLOOKUP(A26,Feuil1!$A$1:$C$100,2,0),"") | D26: =IFERROR(VLOOKUP(A26,Feuil1!$A$1:$C$100,3,0),"") | G26: =IFERROR(C26*D26,"")
B27: =IFERROR(VLOOKUP(A27,Feuil1!$A$1:$C$100,2,0),"") | D27: =IFERROR(VLOOKUP(A27,Feuil1!$A$1:$C$100,3,0),"") | G27: =IFERROR(C27*D27,"")
B28: =IFERROR(VLOOKUP(A28,Feuil1!$A$1:$C$100,2,0),"") | D28: =IFERROR(VLOOKUP(A28,Feuil1!$A$1:$C$100,3,0),"") | G28: =IFERROR(C28*D28,"")
... B33: =IFERROR(VLOOKUP(A33,Feuil1!$A$1:$C$100,2,0),"") | D33: =IFERROR(VLOOKUP(A33,Feuil1!$A$1:$C$100,3,0),"") | G33: =IFERROR(C33*D33,"")

Sheet Feuil1
A1: ELE135 | B1: Combiné interphone | C1: 94.39
A2: ELE198 | B2: Vérific ation électrique logement T1 - T1BIS | C2: 70.39
A3: ELE199 | B3: Vérification électrique logementT2 | C3: 82.11
A4: ELE200 | B4: Vérification électrique logementT3 | C4: 93.85
A5: ELE201 | B5: Vérification électri que logement T4 | C5: 100, 25
A6: ELE202 | B6: Vérification électrique logement T5 ET + | C6: 105.58
A7: ELE211 | B7: Refixation appareil lage(U) | C7: 13.01
A8: ELE212 | B8: Interrupteur SA(U) | C8: 11.16
A9: ELE213 | B9: Interrupteur va -et -vient (U) | C9: 16.97
A10: ELE214 | B10: PC 10 A+ T(U) | C10: 16, 97
A11: ELE215 | B11: PC 16 A+ T(U) | C11: 11, 84
A12: ELE216 | B12: PC 20 A+ T(U) | C12: 14.6
A13: ELE217 | B13: PC 32 A + T(U) | C13: 20.64
A14: ELE218 | B14: Prise TV FM(U) | C14: 31.31
A15: ELE219 | B15: Conjoncteur téléphoniq ue (U) | C15: 14.69
A16: ELE220 | B16: Remplt Carillon (Cf 223)(U) | C16: 17.39
A17: ELE221 | B17: PC 2P+T 16A étanche en applique( U) | C17: 15.24
A18: ELE222 | B18: PC 2P+T 16A étanche encastré (U) | C18: 16, 92
A19: ELE223 | B19: Carillon sans fil(U) | C19: 62.98
A20: ELE224 | B20: Prise TV simple(U) | C20: 31.31
A21: ELE225 | B21: Double interrupteur (U) | C21: 12.1
A22: ELE226 | B22: Interrupteur VMC 2 vitesses(U) | C22: 12.1
A23: ELE231 | B23: Réglette classe ll(U) | C23: 37.79
A24: ELE234 | B24: Lampe tube(U) | C24: 6.93
A25: ELE236 | B25: Remplt d'une douille B22/E27(U) | C25: 8.32
A26: ELE237 | B26: Douille double bague nylon avec connection vissée(U) | C26: 13.23
A27: ELE238 | B27: Pot pour douille à broche(U) | C27: 16.58
A28: ELE239 | B28: Eléments de raccordement entre pot et douille à broche(U) | C28: 10.8
A29: ELE255 | B29: Panneau rayonnant 1000W(U) | C29: 237.37
A30: ELE256 | B30: Panneau rayonnant 1250W(U) | C30: 354.12
... A38: ELE264 | B38: Remplt d'un convecteur 1750W(U) | C38: 161.94
A39: ELE265 | B39: Convecteur 2000W | C39: 184, 83
A40: ELE272 | B40: Rempl Tableau T1-T3 inc disj (U) | C40: 377.86
A41: ELE273 | B41: Rempl Tableau T4-T6 inc disj (U) | C41: 431.85
A42: ELE274 | B42: PV chauffage électrique(U) | C42: 214.92
A43: ELE276 | B43: Tableau T1-T3 hors disj(U) | C43: 314.89
A44: ELE277 | B44: Tableau T4-T6 hors disj(U) | C44: 359.87
A45: ELE282 | B45: Coffret en PVC(U) | C45: 29.63
A46: ELE292 | B46: Inter différentiel 30 mA / 40 A type A(U) | C46: 103.33
A47: ELE293 | B47: Inter différentiel 30 mA / 63 A type A(U) | C47: 136.02
A48: ELE294 | B48: Interdifférentiel 30 mA / 63 A (U) | C48: 136.02
A49: ELE297 | B49: Remplt d'un disjoncteur 10A à 20A(U) | C49: 26.95
A50: ELE298 | B50: Remplt d'un disjoncteur 25A à 32A(U) | C50: 40.92
A51: ELE299 | B51: Remplt d'une sortie de câble 16A(U) | C51: 6.58
... A56: ELE450 | B56: Réfect . élec . Cplte pièce humide (Cuisine, salle de bain)(U) | C56: 365.18
A57: ELE452 | B57: Réfect. lnstallat. Lgt. complet appareill age encastre T1(U) | C57: 1 799,35
A58: ELE453 | B58: Réfect. lnstall at. Lgt. complet appareillage encastre T2(U) | C58: 2 069,26
A59: ELE454 | B59: Réfect . lnstallat. Lgt. complet appareillage encastre T3(U) | C59: 2 429, 13
A60: ELE455 | B60: Réfect . lnstallat. Lgt. complet appareillage encastre T4(U) | C60: 3 238,84
A61: ELE456 | B61: Réfect . lnstallat. Lgt. complet appareillage encastre T5(U) | C61: 3 598,71
A62: ELE457 | B62: Réfect. lnstallat. Lgt. complet appareillage encastre T6(U) | C62: 3 868,61
A63: ELE458 | B63: installation logement complet appareillage intégr é T1(U) | C63: 1 619,42
A64: ELE459 | B64: installation logement complet appareillage intégré T2(U) | C64: 1 799,35
A65: ELE460 | B65: installation logement complet appareill ageintégré T3(U) | C65: 2 159,23
A66: ELE461 | B66: installation logement complet appareillage inté gré T4(U) | C66: 2 789,00
A67: ELE462 | B67: installation logement complet appareillage intégré T5(U) | C67: 3 058,90
A68: ELE463 | B68: installation logement complet appareillage intégré T6(U) | C68: 3 418,77
A69: REL999 | B69: Intervention complementaire au MBC (U) | C69: 0.88
