Workbook
Name BAV: Produits!$C$10:$E$14
Name BAVBAN: Produits!$C$30:$E$35
Name BAVCLA: Produits!$C$16:$E$21
Name BAVFLE: Produits!$C$23:$E$28
Name BOU: Produits!$C$55:$E$59
Name CL: Produits!$C$73:$E$77
Name COUV: Produits!$C$4:$E$8
Name CR: Produits!$C$49:$E$53
Name GUI: Produits!$C$61:$E$65
Name GUIR: Produits!$C$61:$E$65
Name LIN: Produits!$C$44:$E$47
Name MINBAV: Produits!$C$37:$E$42

Sheet Devis
C3: A4 : | D3: RECHERCHEV(A10;Produits!$A$4:$B$300;2;0)
A8: Code Produit | B8: Désignation | C8: Tissus | D8: Tarif Unitaire | E8: Quantité | F8: Tarif
A10: BAV | B10: =VLOOKUP(A10,Produits!$A$4:$B$300,2,0) -> Bavette d'épaule | C10: Brisures oranges | D10: =IF(A10="BAV",VLOOKUP(E10,BAV,2,TRUE)*(1-VLOOKUP(E10,BAV,3,TRUE)),IF(A10="BAVBAN",VLOOKUP(E10,BAVBAN,2,TRUE)*(1-VLOOKUP(E10,BAVBAN,3,TRUE)),IF(A10="BAVCLA",VLOOKUP(E10,BAVCLA,2,TRUE)*(1-VLOOKUP(E10,BAVCLA,3,TRUE)),IF(A10="BAVFLE",VLOOKUP(E10,BAVFLE,2,TRUE)*(1-VLOOKUP(E10,BAVFLE,3,TRUE)),IF(A10="BOU",VLOOKUP(E10,BOU,2,TRUE)*(1-VLOOKUP(E10,BOU,3,TRUE)),IF(A10="CL",VLOOKUP(E10,CL,2,TRUE)*(1-VLOOKUP(E10,CL,3,TRUE)),IF(A10="COUV",VLOOKUP(E10,COUV,2,TRUE)*(1-VLOOKUP(E10,COUV,3,TRUE)),IF(A10="CR",VLOOKUP(E10,CR,2,TRUE)*(1-VLOOKUP(E10,CR,3,TRUE)),IF(A10="GUI",VLOOKUP(E10,GUI,2,TRUE)*(1-VLOOKUP(E10,GUI,3,TRUE)),IF(A10="GUIR",VLOOKUP(E10,GUIR,2,TRUE)*(1-VLOOKUP(E10,GUIR,3,TRUE)),IF(A10="LIN",VLOOKUP(E10,LIN,2,TRUE)*(1-VLOOKUP(E10,LIN,3,TRUE)),IF(A10="MINBAV",VLOOKUP(E10,MINBAV,2,TRUE)*(1-VLOOKUP(E10,MINBAV,3,TRUE)),"***""***")))))))))))) -> 6.12 | E10: 60 | F10: =D10*E10 -> 367.2
A11: BAVBAN | B11: =VLOOKUP(A11,Produits!$A$4:$B$300,2,0) -> Grand bavoir bandana | D11: =IF(A11="BAV",VLOOKUP(E11,BAV,2,TRUE)*(1-VLOOKUP(E11,BAV,3,TRUE)),IF(A11="BAVBAN",VLOOKUP(E11,BAVBAN,2,TRUE)*(1-VLOOKUP(E11,BAVBAN,3,TRUE)),IF(A11="BAVCLA",VLOOKUP(E11,BAVCLA,2,TRUE)*(1-VLOOKUP(E11,BAVCLA,3,TRUE)),IF(A11="BAVFLE",VLOOKUP(E11,BAVFLE,2,TRUE)*(1-VLOOKUP(E11,BAVFLE,3,TRUE)),IF(A11="BOU",VLOOKUP(E11,BOU,2,TRUE)*(1-VLOOKUP(E11,BOU,3,TRUE)),IF(A11="CL",VLOOKUP(E11,CL,2,TRUE)*(1-VLOOKUP(E11,CL,3,TRUE)),IF(A11="COUV",VLOOKUP(E11,COUV,2,TRUE)*(1-VLOOKUP(E11,COUV,3,TRUE)),IF(A11="CR",VLOOKUP(E11,CR,2,TRUE)*(1-VLOOKUP(E11,CR,3,TRUE)),IF(A11="GUI",VLOOKUP(E11,GUI,2,TRUE)*(1-VLOOKUP(E11,GUI,3,TRUE)),IF(A11="GUIR",VLOOKUP(E11,GUIR,2,TRUE)*(1-VLOOKUP(E11,GUIR,3,TRUE)),IF(A11="LIN",VLOOKUP(E11,LIN,2,TRUE)*(1-VLOOKUP(E11,LIN,3,TRUE)),IF(A11="MINBAV",VLOOKUP(E11,MINBAV,2,TRUE)*(1-VLOOKUP(E11,MINBAV,3,TRUE)),"***""***")))))))))))) -> 6.12 | E11: 60 | F11: =D11*E11 -> 367.2
A12: BAVCLA | B12: =VLOOKUP(A12,Produits!$A$4:$B$300,2,0) -> Grand Bavoir Classique | D12: =IF(A12="BAV",VLOOKUP(E12,BAV,2,TRUE)*(1-VLOOKUP(E12,BAV,3,TRUE)),IF(A12="BAVBAN",VLOOKUP(E12,BAVBAN,2,TRUE)*(1-VLOOKUP(E12,BAVBAN,3,TRUE)),IF(A12="BAVCLA",VLOOKUP(E12,BAVCLA,2,TRUE)*(1-VLOOKUP(E12,BAVCLA,3,TRUE)),IF(A12="BAVFLE",VLOOKUP(E12,BAVFLE,2,TRUE)*(1-VLOOKUP(E12,BAVFLE,3,TRUE)),IF(A12="BOU",VLOOKUP(E12,BOU,2,TRUE)*(1-VLOOKUP(E12,BOU,3,TRUE)),IF(A12="CL",VLOOKUP(E12,CL,2,TRUE)*(1-VLOOKUP(E12,CL,3,TRUE)),IF(A12="COUV",VLOOKUP(E12,COUV,2,TRUE)*(1-VLOOKUP(E12,COUV,3,TRUE)),IF(A12="CR",VLOOKUP(E12,CR,2,TRUE)*(1-VLOOKUP(E12,CR,3,TRUE)),IF(A12="GUI",VLOOKUP(E12,GUI,2,TRUE)*(1-VLOOKUP(E12,GUI,3,TRUE)),IF(A12="GUIR",VLOOKUP(E12,GUIR,2,TRUE)*(1-VLOOKUP(E12,GUIR,3,TRUE)),IF(A12="LIN",VLOOKUP(E12,LIN,2,TRUE)*(1-VLOOKUP(E12,LIN,3,TRUE)),IF(A12="MINBAV",VLOOKUP(E12,MINBAV,2,TRUE)*(1-VLOOKUP(E12,MINBAV,3,TRUE)),"***""***")))))))))))) -> 6.12 | E12: 60 | F12: =D12*E12 -> 367.2
A13: BAVFLE | B13: =VLOOKUP(A13,Produits!$A$4:$B$300,2,0) -> Grand bavoir fleur | D13: =IF(A13="BAV",VLOOKUP(E13,BAV,2,TRUE)*(1-VLOOKUP(E13,BAV,3,TRUE)),IF(A13="BAVBAN",VLOOKUP(E13,BAVBAN,2,TRUE)*(1-VLOOKUP(E13,BAVBAN,3,TRUE)),IF(A13="BAVCLA",VLOOKUP(E13,BAVCLA,2,TRUE)*(1-VLOOKUP(E13,BAVCLA,3,TRUE)),IF(A13="BAVFLE",VLOOKUP(E13,BAVFLE,2,TRUE)*(1-VLOOKUP(E13,BAVFLE,3,TRUE)),IF(A13="BOU",VLOOKUP(E13,BOU,2,TRUE)*(1-VLOOKUP(E13,BOU,3,TRUE)),IF(A13="CL",VLOOKUP(E13,CL,2,TRUE)*(1-VLOOKUP(E13,CL,3,TRUE)),IF(A13="COUV",VLOOKUP(E13,COUV,2,TRUE)*(1-VLOOKUP(E13,COUV,3,TRUE)),IF(A13="CR",VLOOKUP(E13,CR,2,TRUE)*(1-VLOOKUP(E13,CR,3,TRUE)),IF(A13="GUI",VLOOKUP(E13,GUI,2,TRUE)*(1-VLOOKUP(E13,GUI,3,TRUE)),IF(A13="GUIR",VLOOKUP(E13,GUIR,2,TRUE)*(1-VLOOKUP(E13,GUIR,3,TRUE)),IF(A13="LIN",VLOOKUP(E13,LIN,2,TRUE)*(1-VLOOKUP(E13,LIN,3,TRUE)),IF(A13="MINBAV",VLOOKUP(E13,MINBAV,2,TRUE)*(1-VLOOKUP(E13,MINBAV,3,TRUE)),"***""***")))))))))))) -> 6.12 | E13: 60 | F13: =D13*E13 -> 367.2
A14: BOU | B14: =VLOOKUP(A14,Produits!$A$4:$B$300,2,0) -> Bouillotte sèche avec liens | D14: =IF(A14="BAV",VLOOKUP(E14,BAV,2,TRUE)*(1-VLOOKUP(E14,BAV,3,TRUE)),IF(A14="BAVBAN",VLOOKUP(E14,BAVBAN,2,TRUE)*(1-VLOOKUP(E14,BAVBAN,3,TRUE)),IF(A14="BAVCLA",VLOOKUP(E14,BAVCLA,2,TRUE)*(1-VLOOKUP(E14,BAVCLA,3,TRUE)),IF(A14="BAVFLE",VLOOKUP(E14,BAVFLE,2,TRUE)*(1-VLOOKUP(E14,BAVFLE,3,TRUE)),IF(A14="BOU",VLOOKUP(E14,BOU,2,TRUE)*(1-VLOOKUP(E14,BOU,3,TRUE)),IF(A14="CL",VLOOKUP(E14,CL,2,TRUE)*(1-VLOOKUP(E14,CL,3,TRUE)),IF(A14="COUV",VLOOKUP(E14,COUV,2,TRUE)*(1-VLOOKUP(E14,COUV,3,TRUE)),IF(A14="CR",VLOOKUP(E14,CR,2,TRUE)*(1-VLOOKUP(E14,CR,3,TRUE)),IF(A14="GUI",VLOOKUP(E14,GUI,2,TRUE)*(1-VLOOKUP(E14,GUI,3,TRUE)),IF(A14="GUIR",VLOOKUP(E14,GUIR,2,TRUE)*(1-VLOOKUP(E14,GUIR,3,TRUE)),IF(A14="LIN",VLOOKUP(E14,LIN,2,TRUE)*(1-VLOOKUP(E14,LIN,3,TRUE)),IF(A14="MINBAV",VLOOKUP(E14,MINBAV,2,TRUE)*(1-VLOOKUP(E14,MINBAV,3,TRUE)),"***""***")))))))))))) -> 8.528 | E14: 60 | F14: =D14*E14 -> 511.68
A15: CL | B15: =VLOOKUP(A15,Produits!$A$4:$B$300,2,0) -> Coussin long | D15: =IF(A15="BAV",VLOOKUP(E15,BAV,2,TRUE)*(1-VLOOKUP(E15,BAV,3,TRUE)),IF(A15="BAVBAN",VLOOKUP(E15,BAVBAN,2,TRUE)*(1-VLOOKUP(E15,BAVBAN,3,TRUE)),IF(A15="BAVCLA",VLOOKUP(E15,BAVCLA,2,TRUE)*(1-VLOOKUP(E15,BAVCLA,3,TRUE)),IF(A15="BAVFLE",VLOOKUP(E15,BAVFLE,2,TRUE)*(1-VLOOKUP(E15,BAVFLE,3,TRUE)),IF(A15="BOU",VLOOKUP(E15,BOU,2,TRUE)*(1-VLOOKUP(E15,BOU,3,TRUE)),IF(A15="CL",VLOOKUP(E15,CL,2,TRUE)*(1-VLOOKUP(E15,CL,3,TRUE)),IF(A15="COUV",VLOOKUP(E15,COUV,2,TRUE)*(1-VLOOKUP(E15,COUV,3,TRUE)),IF(A15="CR",VLOOKUP(E15,CR,2,TRUE)*(1-VLOOKUP(E15,CR,3,TRUE)),IF(A15="GUI",VLOOKUP(E15,GUI,2,TRUE)*(1-VLOOKUP(E15,GUI,3,TRUE)),IF(A15="GUIR",VLOOKUP(E15,GUIR,2,TRUE)*(1-VLOOKUP(E15,GUIR,3,TRUE)),IF(A15="LIN",VLOOKUP(E15,LIN,2,TRUE)*(1-VLOOKUP(E15,LIN,3,TRUE)),IF(A15="MINBAV",VLOOKUP(E15,MINBAV,2,TRUE)*(1-VLOOKUP(E15,MINBAV,3,TRUE)),"***""***")))))))))))) -> 10.24 | E15: 60 | F15: =D15*E15 -> 614.4
A16: COUV | B16: =VLOOKUP(A16,Produits!$A$4:$B$300,2,0) -> Couverture nomade 4 en 1 | D16: =IF(A16="BAV",VLOOKUP(E16,BAV,2,TRUE)*(1-VLOOKUP(E16,BAV,3,TRUE)),IF(A16="BAVBAN",VLOOKUP(E16,BAVBAN,2,TRUE)*(1-VLOOKUP(E16,BAVBAN,3,TRUE)),IF(A16="BAVCLA",VLOOKUP(E16,BAVCLA,2,TRUE)*(1-VLOOKUP(E16,BAVCLA,3,TRUE)),IF(A16="BAVFLE",VLOOKUP(E16,BAVFLE,2,TRUE)*(1-VLOOKUP(E16,BAVFLE,3,TRUE)),IF(A16="BOU",VLOOKUP(E16,BOU,2,TRUE)*(1-VLOOKUP(E16,BOU,3,TRUE)),IF(A16="CL",VLOOKUP(E16,CL,2,TRUE)*(1-VLOOKUP(E16,CL,3,TRUE)),IF(A16="COUV",VLOOKUP(E16,COUV,2,TRUE)*(1-VLOOKUP(E16,COUV,3,TRUE)),IF(A16="CR",VLOOKUP(E16,CR,2,TRUE)*(1-VLOOKUP(E16,CR,3,TRUE)),IF(A16="GUI",VLOOKUP(E16,GUI,2,TRUE)*(1-VLOOKUP(E16,GUI,3,TRUE)),IF(A16="GUIR",VLOOKUP(E16,GUIR,2,TRUE)*(1-VLOOKUP(E16,GUIR,3,TRUE)),IF(A16="LIN",VLOOKUP(E16,LIN,2,TRUE)*(1-VLOOKUP(E16,LIN,3,TRUE)),IF(A16="MINBAV",VLOOKUP(E16,MINBAV,2,TRUE)*(1-VLOOKUP(E16,MINBAV,3,TRUE)),"***""***")))))))))))) -> 15.826 | E16: 60 | F16: =D16*E16 -> 949.56
A17: CR | B17: =VLOOKUP(A17,Produits!$A$4:$B$300,2,0) -> Coussin rond | D17: =IF(A17="BAV",VLOOKUP(E17,BAV,2,TRUE)*(1-VLOOKUP(E17,BAV,3,TRUE)),IF(A17="BAVBAN",VLOOKUP(E17,BAVBAN,2,TRUE)*(1-VLOOKUP(E17,BAVBAN,3,TRUE)),IF(A17="BAVCLA",VLOOKUP(E17,BAVCLA,2,TRUE)*(1-VLOOKUP(E17,BAVCLA,3,TRUE)),IF(A17="BAVFLE",VLOOKUP(E17,BAVFLE,2,TRUE)*(1-VLOOKUP(E17,BAVFLE,3,TRUE)),IF(A17="BOU",VLOOKUP(E17,BOU,2,TRUE)*(1-VLOOKUP(E17,BOU,3,TRUE)),IF(A17="CL",VLOOKUP(E17,CL,2,TRUE)*(1-VLOOKUP(E17,CL,3,TRUE)),IF(A17="COUV",VLOOKUP(E17,COUV,2,TRUE)*(1-VLOOKUP(E17,COUV,3,TRUE)),IF(A17="CR",VLOOKUP(E17,CR,2,TRUE)*(1-VLOOKUP(E17,CR,3,TRUE)),IF(A17="GUI",VLOOKUP(E17,GUI,2,TRUE)*(1-VLOOKUP(E17,GUI,3,TRUE)),IF(A17="GUIR",VLOOKUP(E17,GUIR,2,TRUE)*(1-VLOOKUP(E17,GUIR,3,TRUE)),IF(A17="LIN",VLOOKUP(E17,LIN,2,TRUE)*(1-VLOOKUP(E17,LIN,3,TRUE)),IF(A17="MINBAV",VLOOKUP(E17,MINBAV,2,TRUE)*(1-VLOOKUP(E17,MINBAV,3,TRUE)),"***""***")))))))))))) -> 8.32 | E17: 60 | F17: =D17*E17 -> 499.2
A18: GUI | B18: =VLOOKUP(A18,Produits!$A$4:$B$300,2,0) -> Guirlande de 9 fanions | D18: =IF(A18="BAV",VLOOKUP(E18,BAV,2,TRUE)*(1-VLOOKUP(E18,BAV,3,TRUE)),IF(A18="BAVBAN",VLOOKUP(E18,BAVBAN,2,TRUE)*(1-VLOOKUP(E18,BAVBAN,3,TRUE)),IF(A18="BAVCLA",VLOOKUP(E18,BAVCLA,2,TRUE)*(1-VLOOKUP(E18,BAVCLA,3,TRUE)),IF(A18="BAVFLE",VLOOKUP(E18,BAVFLE,2,TRUE)*(1-VLOOKUP(E18,BAVFLE,3,TRUE)),IF(A18="BOU",VLOOKUP(E18,BOU,2,TRUE)*(1-VLOOKUP(E18,BOU,3,TRUE)),IF(A18="CL",VLOOKUP(E18,CL,2,TRUE)*(1-VLOOKUP(E18,CL,3,TRUE)),IF(A18="COUV",VLOOKUP(E18,COUV,2,TRUE)*(1-VLOOKUP(E18,COUV,3,TRUE)),IF(A18="CR",VLOOKUP(E18,CR,2,TRUE)*(1-VLOOKUP(E18,CR,3,TRUE)),IF(A18="GUI",VLOOKUP(E18,GUI,2,TRUE)*(1-VLOOKUP(E18,GUI,3,TRUE)),IF(A18="GUIR",VLOOKUP(E18,GUIR,2,TRUE)*(1-VLOOKUP(E18,GUIR,3,TRUE)),IF(A18="LIN",VLOOKUP(E18,LIN,2,TRUE)*(1-VLOOKUP(E18,LIN,3,TRUE)),IF(A18="MINBAV",VLOOKUP(E18,MINBAV,2,TRUE)*(1-VLOOKUP(E18,MINBAV,3,TRUE)),"***""***")))))))))))) -> 6.8 | E18: 60 | F18: =D18*E18 -> 408
A19: GUIR | B19: =VLOOKUP(A19,Produits!$A$4:$B$300,2,0) -> Guirlande de 9 fanions (arrondis) | D19: =IF(A19="BAV",VLOOKUP(E19,BAV,2,TRUE)*(1-VLOOKUP(E19,BAV,3,TRUE)),IF(A19="BAVBAN",VLOOKUP(E19,BAVBAN,2,TRUE)*(1-VLOOKUP(E19,BAVBAN,3,TRUE)),IF(A19="BAVCLA",VLOOKUP(E19,BAVCLA,2,TRUE)*(1-VLOOKUP(E19,BAVCLA,3,TRUE)),IF(A19="BAVFLE",VLOOKUP(E19,BAVFLE,2,TRUE)*(1-VLOOKUP(E19,BAVFLE,3,TRUE)),IF(A19="BOU",VLOOKUP(E19,BOU,2,TRUE)*(1-VLOOKUP(E19,BOU,3,TRUE)),IF(A19="CL",VLOOKUP(E19,CL,2,TRUE)*(1-VLOOKUP(E19,CL,3,TRUE)),IF(A19="COUV",VLOOKUP(E19,COUV,2,TRUE)*(1-VLOOKUP(E19,COUV,3,TRUE)),IF(A19="CR",VLOOKUP(E19,CR,2,TRUE)*(1-VLOOKUP(E19,CR,3,TRUE)),IF(A19="GUI",VLOOKUP(E19,GUI,2,TRUE)*(1-VLOOKUP(E19,GUI,3,TRUE)),IF(A19="GUIR",VLOOKUP(E19,GUIR,2,TRUE)*(1-VLOOKUP(E19,GUIR,3,TRUE)),IF(A19="LIN",VLOOKUP(E19,LIN,2,TRUE)*(1-VLOOKUP(E19,LIN,3,TRUE)),IF(A19="MINBAV",VLOOKUP(E19,MINBAV,2,TRUE)*(1-VLOOKUP(E19,MINBAV,3,TRUE)),"***""***")))))))))))) -> 6.8 | E19: 60 | F19: =D19*E19 -> 408
A20: LIN | B20: =VLOOKUP(A20,Produits!$A$4:$B$300,2,0) -> Lot de 10 lingettes lavables | D20: =IF(A20="BAV",VLOOKUP(E20,BAV,2,TRUE)*(1-VLOOKUP(E20,BAV,3,TRUE)),IF(A20="BAVBAN",VLOOKUP(E20,BAVBAN,2,TRUE)*(1-VLOOKUP(E20,BAVBAN,3,TRUE)),IF(A20="BAVCLA",VLOOKUP(E20,BAVCLA,2,TRUE)*(1-VLOOKUP(E20,BAVCLA,3,TRUE)),IF(A20="BAVFLE",VLOOKUP(E20,BAVFLE,2,TRUE)*(1-VLOOKUP(E20,BAVFLE,3,TRUE)),IF(A20="BOU",VLOOKUP(E20,BOU,2,TRUE)*(1-VLOOKUP(E20,BOU,3,TRUE)),IF(A20="CL",VLOOKUP(E20,CL,2,TRUE)*(1-VLOOKUP(E20,CL,3,TRUE)),IF(A20="COUV",VLOOKUP(E20,COUV,2,TRUE)*(1-VLOOKUP(E20,COUV,3,TRUE)),IF(A20="CR",VLOOKUP(E20,CR,2,TRUE)*(1-VLOOKUP(E20,CR,3,TRUE)),IF(A20="GUI",VLOOKUP(E20,GUI,2,TRUE)*(1-VLOOKUP(E20,GUI,3,TRUE)),IF(A20="GUIR",VLOOKUP(E20,GUIR,2,TRUE)*(1-VLOOKUP(E20,GUIR,3,TRUE)),IF(A20="LIN",VLOOKUP(E20,LIN,2,TRUE)*(1-VLOOKUP(E20,LIN,3,TRUE)),IF(A20="MINBAV",VLOOKUP(E20,MINBAV,2,TRUE)*(1-VLOOKUP(E20,MINBAV,3,TRUE)),"***""***")))))))))))) -> 7.31 | E20: 60 | F20: =D20*E20 -> 438.6
A21: MINBAV | B21: =VLOOKUP(A21,Produits!$A$4:$B$300,2,0) -> Mini bavoir bandana | D21: =IF(A21="BAV",VLOOKUP(E21,BAV,2,TRUE)*(1-VLOOKUP(E21,BAV,3,TRUE)),IF(A21="BAVBAN",VLOOKUP(E21,BAVBAN,2,TRUE)*(1-VLOOKUP(E21,BAVBAN,3,TRUE)),IF(A21="BAVCLA",VLOOKUP(E21,BAVCLA,2,TRUE)*(1-VLOOKUP(E21,BAVCLA,3,TRUE)),IF(A21="BAVFLE",VLOOKUP(E21,BAVFLE,2,TRUE)*(1-VLOOKUP(E21,BAVFLE,3,TRUE)),IF(A21="BOU",VLOOKUP(E21,BOU,2,TRUE)*(1-VLOOKUP(E21,BOU,3,TRUE)),IF(A21="CL",VLOOKUP(E21,CL,2,TRUE)*(1-VLOOKUP(E21,CL,3,TRUE)),IF(A21="COUV",VLOOKUP(E21,COUV,2,TRUE)*(1-VLOOKUP(E21,COUV,3,TRUE)),IF(A21="CR",VLOOKUP(E21,CR,2,TRUE)*(1-VLOOKUP(E21,CR,3,TRUE)),IF(A21="GUI",VLOOKUP(E21,GUI,2,TRUE)*(1-VLOOKUP(E21,GUI,3,TRUE)),IF(A21="GUIR",VLOOKUP(E21,GUIR,2,TRUE)*(1-VLOOKUP(E21,GUIR,3,TRUE)),IF(A21="LIN",VLOOKUP(E21,LIN,2,TRUE)*(1-VLOOKUP(E21,LIN,3,TRUE)),IF(A21="MINBAV",VLOOKUP(E21,MINBAV,2,TRUE)*(1-VLOOKUP(E21,MINBAV,3,TRUE)),"***""***")))))))))))) -> 5.355 | E21: 60 | F21: =D21*E21 -> 321.3
E61: TOTAL : | F61: =SUM(F10:F59) -> 5619.54

Sheet Tissus
A2: Super héros
A3: Etoiles
A4: Pois multico
A5: Géométrique2
A6: Ecailles2
A7: Dinosaures
A8: Chats
A9: Nœuds
A10: Brisures oranges
A11: Renards
A12: Animaux cirque
A13: Arlequin
... A30: Poils d'ours

Sheet Produits
A2: Code Produit | B2: Produit | C2: Quantité | D2: Prix | E2: Remise
A4: COUV | B4: Couverture nomade 4 en 1 | C4: 0 | D4: 23.5 | E4: 0
A5: COUV | B5: Couverture nomade 4 en 1 | C5: 6 | D5: 22.5 | E5: 0.043
A6: COUV | B6: Couverture nomade 4 en 1 | C6: 10 | D6: 21 | E6: 0.1
A7: COUV | B7: Couverture nomade 4 en 1 | C7: 24 | D7: 20 | E7: 0.15
A8: COUV | B8: Couverture nomade 4 en 1 | C8: 50 | D8: 19.3 | E8: 0.18
A10: BAV | B10: Bavette d'épaule | C10: 0 | D10: 8.5 | E10: 0
A11: BAV | B11: Bavette d'épaule | C11: 10 | D11: 8 | E11: 0.05
A12: BAV | B12: Bavette d'épaule | C12: 20 | D12: 7.6 | E12: 0.1
A13: BAV | B13: Bavette d'épaule | C13: 50 | D13: 7.2 | E13: 0.15
A14: BAV | B14: Bavette d'épaule | C14: 100 | D14: 7 | E14: 0.18
A16: BAVCLA | B16: Grand Bavoir Classique | C16: 0 | D16: 8.5 | E16: 0
A17: BAVCLA | B17: Grand Bavoir Classique | C17: 15 | D17: 8 | E17: 0.05
... A77: CL | B77: Coussin long | C77: 50 | D77: 12.8 | E77: 0.2
