Workbook

Sheet Base de données
A1: Fournisseurs | B1: Groupe
A2: FRNS 1 | B2: A | X2: =COUNTIF($A$2:A2,A2) -> 1
A3: FRNS 2 | B3: A | X3: =COUNTIF($A$2:A3,A3) -> 1
A4: FRNS 3 | B4: B | X4: =COUNTIF($A$2:A4,A4) -> 1
A5: FRNS 4 | B5: A | X5: =COUNTIF($A$2:A5,A5) -> 1
A6: FRNS 3 | B6: M | X6: =COUNTIF($A$2:A6,A6) -> 2
A7: FRNS 3 | B7: M | X7: =COUNTIF($A$2:A7,A7) -> 3
A8: FRNS 2 | B8: A | X8: =COUNTIF($A$2:A8,A8) -> 2
A9: FRNS 2 | B9: M | X9: =COUNTIF($A$2:A9,A9) -> 3
A10: FRNS 2 | B10: A | X10: =COUNTIF($A$2:A10,A10) -> 4
A11: FRNS 1 | B11: A | X11: =COUNTIF($A$2:A11,A11) -> 2
A12: FRNS 3 | B12: N | X12: =COUNTIF($A$2:A12,A12) -> 4
A13: FRNS 4 | B13: A | X13: =COUNTIF($A$2:A13,A13) -> 2
... A17: FRNS 2 | B17: A | X17: =COUNTIF($A$2:A17,A17) -> 5
X18: =COUNTIF($A$2:A18,A18) -> 0
X19: =COUNTIF($A$2:A19,A19) -> 0
X20: =COUNTIF($A$2:A20,A20) -> 0
X21: =COUNTIF($A$2:A21,A21) -> 0
X22: =COUNTIF($A$2:A22,A22) -> 0
X23: =COUNTIF($A$2:A23,A23) -> 0
X24: =COUNTIF($A$2:A24,A24) -> 0
X25: =COUNTIF($A$2:A25,A25) -> 0
X26: =COUNTIF($A$2:A26,A26) -> 0
X27: =COUNTIF($A$2:A27,A27) -> 0
X28: =COUNTIF($A$2:A28,A28) -> 0
X29: =COUNTIF($A$2:A29,A29) -> 0
... X50: =COUNTIF($A$2:A50,A50) -> 0

Sheet Tableau 1
A1: Fournisseurs | B1: Groupe 1 | C1: Groupe 2 | D1: Groupe 3 | E1: Groupe 4 | F1: Groupe 5
A2: FRNS 1 | B2: {=IFERROR(INDEX('Base de données'!$B:$B,MATCH(1,('Base de données'!$A:$A=$A2)*('Base de données'!$X:$X=COLUMN()-1),0)),"")} -> A | C2: {=IFERROR(INDEX('Base de données'!$B:$B,MATCH(1,('Base de données'!$A:$A=$A2)*('Base de données'!$X:$X=COLUMN()-1),0)),"")} -> A | D2: {=IFERROR(INDEX('Base de données'!$B:$B,MATCH(1,('Base de données'!$A:$A=$A2)*('Base de données'!$X:$X=COLUMN()-1),0)),"")} -> E | E2: {=IFERROR(INDEX('Base de données'!$B:$B,MATCH(1,('Base de données'!$A:$A=$A2)*('Base de données'!$X:$X=COLUMN()-1),0)),"")} -> G | F2: {=IFERROR(INDEX('Base de données'!$B:$B,MATCH(1,('Base de données'!$A:$A=$A2)*('Base de données'!$X:$X=COLUMN()-1),0)),"")}
A3: FRNS 2 | B3: {=IFERROR(INDEX('Base de données'!$B:$B,MATCH(1,('Base de données'!$A:$A=$A3)*('Base de données'!$X:$X=COLUMN()-1),0)),"")} -> A | C3: {=IFERROR(INDEX('Base de données'!$B:$B,MATCH(1,('Base de données'!$A:$A=$A3)*('Base de données'!$X:$X=COLUMN()-1),0)),"")} -> A | D3: {=IFERROR(INDEX('Base de données'!$B:$B,MATCH(1,('Base de données'!$A:$A=$A3)*('Base de données'!$X:$X=COLUMN()-1),0)),"")} -> M | E3: {=IFERROR(INDEX('Base de données'!$B:$B,MATCH(1,('Base de données'!$A:$A=$A3)*('Base de données'!$X:$X=COLUMN()-1),0)),"")} -> A | F3: {=IFERROR(INDEX('Base de données'!$B:$B,MATCH(1,('Base de données'!$A:$A=$A3)*('Base de données'!$X:$X=COLUMN()-1),0)),"")} -> A | H3: Formule B2 tirée vers la droite, puis vers le bas.
A4: FRNS 3 | B4: {=IFERROR(INDEX('Base de données'!$B:$B,MATCH(1,('Base de données'!$A:$A=$A4)*('Base de données'!$X:$X=COLUMN()-1),0)),"")} -> B | C4: {=IFERROR(INDEX('Base de données'!$B:$B,MATCH(1,('Base de données'!$A:$A=$A4)*('Base de données'!$X:$X=COLUMN()-1),0)),"")} -> M | D4: {=IFERROR(INDEX('Base de données'!$B:$B,MATCH(1,('Base de données'!$A:$A=$A4)*('Base de données'!$X:$X=COLUMN()-1),0)),"")} -> M | E4: {=IFERROR(INDEX('Base de données'!$B:$B,MATCH(1,('Base de données'!$A:$A=$A4)*('Base de données'!$X:$X=COLUMN()-1),0)),"")} -> N | F4: {=IFERROR(INDEX('Base de données'!$B:$B,MATCH(1,('Base de données'!$A:$A=$A4)*('Base de données'!$X:$X=COLUMN()-1),0)),"")}
A5: FRNS 4 | B5: {=IFERROR(INDEX('Base de données'!$B:$B,MATCH(1,('Base de données'!$A:$A=$A5)*('Base de données'!$X:$X=COLUMN()-1),0)),"")} -> A | C5: {=IFERROR(INDEX('Base de données'!$B:$B,MATCH(1,('Base de données'!$A:$A=$A5)*('Base de données'!$X:$X=COLUMN()-1),0)),"")} -> A | D5: {=IFERROR(INDEX('Base de données'!$B:$B,MATCH(1,('Base de données'!$A:$A=$A5)*('Base de données'!$X:$X=COLUMN()-1),0)),"")} -> A | E5: {=IFERROR(INDEX('Base de données'!$B:$B,MATCH(1,('Base de données'!$A:$A=$A5)*('Base de données'!$X:$X=COLUMN()-1),0)),"")} | F5: {=IFERROR(INDEX('Base de données'!$B:$B,MATCH(1,('Base de données'!$A:$A=$A5)*('Base de données'!$X:$X=COLUMN()-1),0)),"")}

Sheet Feuil3
