Workbook

Sheet Feuil1
B3: 10 | C3: 15 | D3: 31 | E3: 8 | F3: 16 | H3: 8 | I3: 9 | K3: {=SUM(IF(COUNTIF(OFFSET(INDIRECT("B3:F3"),ROW($A$3:$A$10000)-4,0),H3)*COUNTIF(OFFSET(INDIRECT("B3:F3"),ROW($A$3:$A$10000)-4,0),I3)>0,1,0))} -> 6
B4: 18 | C4: 23 | D4: 48 | E4: 20 | F4: 42 | H4: 2 | I4: 9 | K4: {=SUM(IF(COUNTIF(OFFSET(INDIRECT("B3:F3"),ROW($A$3:$A$10000)-4,0),H4)*COUNTIF(OFFSET(INDIRECT("B3:F3"),ROW($A$3:$A$10000)-4,0),I4)>0,1,0))} -> 5
B5: 19 | C5: 41 | D5: 35 | E5: 34 | F5: 5 | H5: 1 | I5: 5 | K5: {=SUM(IF(COUNTIF(OFFSET(INDIRECT("B3:F3"),ROW($A$3:$A$10000)-4,0),H5)*COUNTIF(OFFSET(INDIRECT("B3:F3"),ROW($A$3:$A$10000)-4,0),I5)>0,1,0))} -> 6
B6: 4 | C6: 42 | D6: 35 | E6: 48 | F6: 12 | H6: 5 | I6: 8 | K6: {=SUM(IF(COUNTIF(OFFSET(INDIRECT("B3:F3"),ROW(A6:A10003)-4,0),H6)*COUNTIF(OFFSET(INDIRECT("B3:F3"),ROW(A6:A10003)-4,0),I6)>0,1,0))} -> 9
B7: 26 | C7: 19 | D7: 33 | E7: 42 | F7: 32 | H7: 10 | I7: 4 | K7: {=SUM(IF(COUNTIF(OFFSET(INDIRECT("B3:F3"),ROW(A7:A10004)-4,0),H7)*COUNTIF(OFFSET(INDIRECT("B3:F3"),ROW(A7:A10004)-4,0),I7)>0,1,0))} -> 10
B8: 25 | C8: 18 | D8: 20 | E8: 26 | F8: 37 | H8: 11 | I8: 10 | K8: {=SUM(IF(COUNTIF(OFFSET(INDIRECT("B3:F3"),ROW(A8:A10005)-4,0),H8)*COUNTIF(OFFSET(INDIRECT("B3:F3"),ROW(A8:A10005)-4,0),I8)>0,1,0))} -> 6
B9: 1 | C9: 27 | D9: 2 | E9: 11 | F9: 29 | H9: 10 | I9: 1 | K9: {=SUM(IF(COUNTIF(OFFSET(INDIRECT("B3:F3"),ROW(A9:A10006)-4,0),H9)*COUNTIF(OFFSET(INDIRECT("B3:F3"),ROW(A9:A10006)-4,0),I9)>0,1,0))} -> 13
B10: 2 | C10: 45 | D10: 20 | E10: 27 | F10: 33 | H10: 6 | I10: 10 | K10: {=SUM(IF(COUNTIF(OFFSET(INDIRECT("B3:F3"),ROW(A10:A10007)-4,0),H10)*COUNTIF(OFFSET(INDIRECT("B3:F3"),ROW(A10:A10007)-4,0),I10)>0,1,0))} -> 14
B11: 3 | C11: 44 | D11: 27 | E11: 38 | F11: 31 | H11: 3 | I11: 8 | K11: {=SUM(IF(COUNTIF(OFFSET(INDIRECT("B3:F3"),ROW(A11:A10008)-4,0),H11)*COUNTIF(OFFSET(INDIRECT("B3:F3"),ROW(A11:A10008)-4,0),I11)>0,1,0))} -> 8
B12: 29 | C12: 45 | D12: 24 | E12: 20 | F12: 13 | H12: 7 | I12: 3 | K12: {=SUM(IF(COUNTIF(OFFSET(INDIRECT("B3:F3"),ROW(A12:A10009)-4,0),H12)*COUNTIF(OFFSET(INDIRECT("B3:F3"),ROW(A12:A10009)-4,0),I12)>0,1,0))} -> 9
B13: 1 | C13: 22 | D13: 6 | E13: 13 | F13: 28 | H13: 10 | I13: 5 | K13: {=SUM(IF(COUNTIF(OFFSET(INDIRECT("B3:F3"),ROW(A13:A10010)-4,0),H13)*COUNTIF(OFFSET(INDIRECT("B3:F3"),ROW(A13:A10010)-4,0),I13)>0,1,0))} -> 10
B14: 5 | C14: 31 | D14: 43 | E14: 50 | F14: 19 | H14: 6 | I14: 2 | K14: {=SUM(IF(COUNTIF(OFFSET(INDIRECT("B3:F3"),ROW(A14:A10011)-4,0),H14)*COUNTIF(OFFSET(INDIRECT("B3:F3"),ROW(A14:A10011)-4,0),I14)>0,1,0))} -> 5
B15: 13 | C15: 22 | D15: 17 | E15: 43 | F15: 12 | H15: 10 | I15: 3 | K15: {=SUM(IF(COUNTIF(OFFSET(INDIRECT("B3:F3"),ROW(A15:A10012)-4,0),H15)*COUNTIF(OFFSET(INDIRECT("B3:F3"),ROW(A15:A10012)-4,0),I15)>0,1,0))} -> 14
B16: 41 | C16: 6 | D16: 8 | E16: 37 | F16: 27 | H16: 7 | I16: 10 | K16: {=SUM(IF(COUNTIF(OFFSET(INDIRECT("B3:F3"),ROW(A16:A10013)-4,0),H16)*COUNTIF(OFFSET(INDIRECT("B3:F3"),ROW(A16:A10013)-4,0),I16)>0,1,0))} -> 7
B17: 24 | C17: 22 | D17: 23 | E17: 1 | F17: 31 | H17: 6 | I17: 11 | K17: {=SUM(IF(COUNTIF(OFFSET(INDIRECT("B3:F3"),ROW(A17:A10014)-4,0),H17)*COUNTIF(OFFSET(INDIRECT("B3:F3"),ROW(A17:A10014)-4,0),I17)>0,1,0))} -> 8
... B1032: 29 | C1032: 30 | D1032: 41 | E1032: 40 | F1032: 36 | H1032: 9 | I1032: 2 | K1032: {=SUM(IF(COUNTIF(OFFSET(INDIRECT("B3:F3"),ROW(A1032:A11029)-4,0),H1032)*COUNTIF(OFFSET(INDIRECT("B3:F3"),ROW(A1032:A11029)-4,0),I1032)>0,1,0))} -> 0

Sheet Feuil2
A1: Boule | B1: Nb de fois | D1: boule | E1: nb de fois
A3: 1 | B3: =COUNTIF(Feuil1!$B$3:$F$1032,A3) -> 103 | D3: 50 | E3: 87
A4: =A3+1 -> 2 | B4: =COUNTIF(Feuil1!$B$3:$F$1032,A4) -> 90
A5: =A4+1 -> 3 | B5: =COUNTIF(Feuil1!$B$3:$F$1032,A5) -> 102 | H5: boule | I5: nb
A6: =A5+1 -> 4 | B6: =COUNTIF(Feuil1!$B$3:$F$1032,A6) -> 116 | D6: 4 | E6: 116 | H6: 50 | I6: 122
A7: =A6+1 -> 5 | B7: =COUNTIF(Feuil1!$B$3:$F$1032,A7) -> 108 | H7: 44 | I7: 120
A8: =A7+1 -> 6 | B8: =COUNTIF(Feuil1!$B$3:$F$1032,A8) -> 102 | H8: 19 | I8: 118
A9: =A8+1 -> 7 | B9: =COUNTIF(Feuil1!$B$3:$F$1032,A9) -> 107 | H9: 4 | I9: 116
A10: =A9+1 -> 8 | B10: =COUNTIF(Feuil1!$B$3:$F$1032,A10) -> 93 | H10: 23 | I10: 116
A11: =A10+1 -> 9 | B11: =COUNTIF(Feuil1!$B$3:$F$1032,A11) -> 95 | H11: 10 | I11: 115
A12: =A11+1 -> 10 | B12: =COUNTIF(Feuil1!$B$3:$F$1032,A12) -> 115 | D12: 10 | E12: 115 | H12: 37 | I12: 115
A13: =A12+1 -> 11 | B13: =COUNTIF(Feuil1!$B$3:$F$1032,A13) -> 110 | D13: 11 | E13: 110 | H13: 26 | I13: 114
A14: =A13+1 -> 12 | B14: =COUNTIF(Feuil1!$B$3:$F$1032,A14) -> 102 | D14: 44 | E14: 77 | H14: 38 | I14: 114
A15: =A14+1 -> 13 | B15: =COUNTIF(Feuil1!$B$3:$F$1032,A15) -> 102 | H15: 49 | I15: 113
A16: =A15+1 -> 14 | B16: =COUNTIF(Feuil1!$B$3:$F$1032,A16) -> 110 | D16: 38 | E16: 76 | H16: 25 | I16: 112
A17: =A16+1 -> 15 | B17: =COUNTIF(Feuil1!$B$3:$F$1032,A17) -> 104 | H17: 21 | I17: 111
A18: =A17+1 -> 16 | B18: =COUNTIF(Feuil1!$B$3:$F$1032,A18) -> 97 | D18: 23 | E18: 74 | H18: 30 | I18: 111
A19: =A18+1 -> 17 | B19: =COUNTIF(Feuil1!$B$3:$F$1032,A19) -> 110 | H19: 11 | I19: 110
A20: =A19+1 -> 18 | B20: =COUNTIF(Feuil1!$B$3:$F$1032,A20) -> 89 | H20: 14 | I20: 110
A21: =A20+1 -> 19 | B21: =COUNTIF(Feuil1!$B$3:$F$1032,A21) -> 118 | D21: 37 | E21: 74 | H21: 17 | I21: 110
A22: =A21+1 -> 20 | B22: =COUNTIF(Feuil1!$B$3:$F$1032,A22) -> 104 | H22: 29 | I22: 110
A23: =A22+1 -> 21 | B23: =COUNTIF(Feuil1!$B$3:$F$1032,A23) -> 111
A24: =A23+1 -> 22 | B24: =COUNTIF(Feuil1!$B$3:$F$1032,A24) -> 94
A25: =A24+1 -> 23 | B25: =COUNTIF(Feuil1!$B$3:$F$1032,A25) -> 116 | D25: 1 | E25: 73
A26: =A25+1 -> 24 | B26: =COUNTIF(Feuil1!$B$3:$F$1032,A26) -> 103
A27: =A26+1 -> 25 | B27: =COUNTIF(Feuil1!$B$3:$F$1032,A27) -> 112 | D27: 12 | E27: 73
A28: =A27+1 -> 26 | B28: =COUNTIF(Feuil1!$B$3:$F$1032,A28) -> 114
A29: =A28+1 -> 27 | B29: =COUNTIF(Feuil1!$B$3:$F$1032,A29) -> 109
A30: =A29+1 -> 28 | B30: =COUNTIF(Feuil1!$B$3:$F$1032,A30) -> 102
A31: =A30+1 -> 29 | B31: =COUNTIF(Feuil1!$B$3:$F$1032,A31) -> 110 | D31: 14 | E31: 73
A32: =A31+1 -> 30 | B32: =COUNTIF(Feuil1!$B$3:$F$1032,A32) -> 111
A33: =A32+1 -> 31 | B33: =COUNTIF(Feuil1!$B$3:$F$1032,A33) -> 98
A34: =A33+1 -> 32 | B34: =COUNTIF(Feuil1!$B$3:$F$1032,A34) -> 87
A35: =A34+1 -> 33 | B35: =COUNTIF(Feuil1!$B$3:$F$1032,A35) -> 85
A36: =A35+1 -> 34 | B36: =COUNTIF(Feuil1!$B$3:$F$1032,A36) -> 93
A37: =A36+1 -> 35 | B37: =COUNTIF(Feuil1!$B$3:$F$1032,A37) -> 101
A38: =A37+1 -> 36 | B38: =COUNTIF(Feuil1!$B$3:$F$1032,A38) -> 99 | D38: 25 | E38: 73
A39: =A38+1 -> 37 | B39: =COUNTIF(Feuil1!$B$3:$F$1032,A39) -> 115 | D39: 42 | E39: 73
A40: =A39+1 -> 38 | B40: =COUNTIF(Feuil1!$B$3:$F$1032,A40) -> 114 | D40: 16 | E40: 71
A41: =A40+1 -> 39 | B41: =COUNTIF(Feuil1!$B$3:$F$1032,A41) -> 96
...

Sheet Feuil3
A1: étoile | B1: nb de fois | E1: étoile | F1: nb de fois
A2: 1 | B2: =COUNTIF(Feuil1!H3:I666,Feuil3!$A$2) -> 132 | E2: 5 | F2: 146
A3: 2 | B3: =COUNTIF(Feuil1!H4:I667,Feuil3!$A$3) -> 142 | E3: 3 | F3: 145
A4: 3 | B4: =COUNTIF(Feuil1!H5:I668,Feuil3!$A$4) -> 146 | E4: 2 | F4: 142
A5: 4 | B5: =COUNTIF(Feuil1!H6:I669,Feuil3!$A$5) -> 120 | E5: 8 | F5: 134
A6: 5 | B6: =COUNTIF(Feuil1!H7:I670,Feuil3!$A$6) -> 146 | E6: 9 | F6: 134
A7: 6 | B7: =COUNTIF(Feuil1!H8:I671,Feuil3!$A$7) -> 128 | E7: 7 | F7: 133
A8: 7 | B8: =COUNTIF(Feuil1!H9:I672,Feuil3!$A$8) -> 134 | E8: 1 | F8: 132
A9: 8 | B9: =COUNTIF(Feuil1!H10:I673,Feuil3!$A$9) -> 134 | E9: 6 | F9: 127
A10: 9 | B10: =COUNTIF(Feuil1!H11:I674,Feuil3!$A$10) -> 136 | E10: 4 | F10: 120
A11: 10 | B11: =COUNTIF(Feuil1!H12:I675,Feuil3!$A$11) -> 55 | E11: 10 | F11: 54
A12: 11 | B12: =COUNTIF(Feuil1!H13:I676,Feuil3!$A$12) -> 52 | E12: 11 | F12: 50
