Workbook
Name ADRESSE: SASP!#REF!
Name CONTACT: SASP!#REF!
Name FAX: SASP!#REF!
Name FIXE: SASP!#REF!
Name MAILCLIENT: SASP!#REF!
Name NAF: SASP!#REF!
Name SIRET: SASP!#REF!
Name SOCIETE: SASP!#REF!
Name TYPES_D_OFFRES: [1]Feuil2!$A$1:$A$24

Sheet SASP
A1: REF | B1: TYPES D'OFFRES | I1: PRIX UNITAIRE | J1: TOTAL LIGNE
A2: 18 | B2: 2 | C2: =IF(ISBLANK(A2),"",VLOOKUP(A2,PROGRAMATION!$A$1:$C$41,2,0)) -> BUSINESS SMARTPHONE 3 GO √ Appels illimités en France métropolitaine, en itinérance depuis et vers l'UE la suisse et les DOM/COM et en itinérance depuis la Suisse et l'andorre. √ 3 Go d'Internet mobile en France métropolitaine, et en itinérance depuis l'UE, les DOM/COM, Suisse et l'Andorre. • Dont 1 Go utilisables en itinérance depuis la Suisse et l'Andorre. √ SMS et MMS illimités en France métropolitaine et en itinérance depuis l'UE, les DOM/COM, la Suisse et l'Andorre. | I2: =IF(ISBLANK(A2),"",VLOOKUP(A2,PROGRAMATION!$A$1:$C$41,3,0)) -> 26.22 | J2: =IF(ISERROR(I2*B2),0,I2*B2) -> 52.44
A3: 12 | B3: 3 | C3: =IF(ISBLANK(A3),"",VLOOKUP(A3,PROGRAMATION!$A$1:$C$41,2,0)) -> BUSINESS PRÉCISION Un forfait mobileau compteur 0,30 € / min. - SMS et MMS facturé à l'acte. | I3: =IF(ISBLANK(A3),"",VLOOKUP(A3,PROGRAMATION!$A$1:$C$41,3,0)) -> 10.55 | J3: =IF(ISERROR(I3*B3),0,I3*B3) -> 31.65
C4: =IF(ISBLANK(A4),"",VLOOKUP(A4,PROGRAMATION!$A$1:$C$41,2,0)) | I4: =IF(ISBLANK(A4),"",VLOOKUP(A4,PROGRAMATION!$A$1:$C$41,3,0)) | J4: =IF(ISERROR(I4*B4),0,I4*B4) -> 0
C5: =IF(ISBLANK(A5),"",VLOOKUP(A5,PROGRAMATION!$A$1:$C$41,2,0)) | I5: =IF(ISBLANK(A5),"",VLOOKUP(A5,PROGRAMATION!$A$1:$C$41,3,0)) | J5: =IF(ISERROR(I5*B5),0,I5*B5) -> 0
C6: =IF(ISBLANK(A6),"",VLOOKUP(A6,PROGRAMATION!$A$1:$C$41,2,0)) | I6: =IF(ISBLANK(A6),"",VLOOKUP(A6,PROGRAMATION!$A$1:$C$41,3,0)) | J6: =IF(ISERROR(I6*B6),0,I6*B6) -> 0
C7: =IF(ISBLANK(A7),"",VLOOKUP(A7,PROGRAMATION!$A$1:$C$41,2,0)) | I7: =IF(ISBLANK(A7),"",VLOOKUP(A7,PROGRAMATION!$A$1:$C$41,3,0)) | J7: =IF(ISERROR(I7*B7),0,I7*B7) -> 0
C8: =IF(ISBLANK(A8),"",VLOOKUP(A8,PROGRAMATION!$A$1:$C$41,2,0)) | I8: =IF(ISBLANK(A8),"",VLOOKUP(A8,PROGRAMATION!$A$1:$C$41,3,0)) | J8: =IF(ISERROR(I8*B8),0,I8*B8) -> 0
C9: =IF(ISBLANK(A9),"",VLOOKUP(A9,PROGRAMATION!$A$1:$C$41,2,0)) | I9: =IF(ISBLANK(A9),"",VLOOKUP(A9,PROGRAMATION!$A$1:$C$41,3,0)) | J9: =IF(ISERROR(I9*B9),0,I9*B9) -> 0
C10: =IF(ISBLANK(A10),"",VLOOKUP(A10,PROGRAMATION!$A$1:$C$41,2,0)) | I10: =IF(ISBLANK(A10),"",VLOOKUP(A10,PROGRAMATION!$A$1:$C$41,3,0)) | J10: =IF(ISERROR(I10*B10),0,I10*B10) -> 0
C11: =IF(ISBLANK(A11),"",VLOOKUP(A11,PROGRAMATION!$A$1:$C$41,2,0)) | I11: =IF(ISBLANK(A11),"",VLOOKUP(A11,PROGRAMATION!$A$1:$C$41,3,0)) | J11: =IF(ISERROR(I11*B11),0,I11*B11) -> 0
C12: =IF(ISBLANK(A12),"",VLOOKUP(A12,PROGRAMATION!$A$1:$C$41,2,0)) | I12: =IF(ISBLANK(A12),"",VLOOKUP(A12,PROGRAMATION!$A$1:$C$41,3,0)) | J12: =IF(ISERROR(I12*B12),0,I12*B12) -> 0
C13: =IF(ISBLANK(A13),"",VLOOKUP(A13,PROGRAMATION!$A$1:$C$41,2,0)) | I13: =IF(ISBLANK(A13),"",VLOOKUP(A13,PROGRAMATION!$A$1:$C$41,3,0)) | J13: =IF(ISERROR(I13*B13),0,I13*B13) -> 0
C14: =IF(ISBLANK(A14),"",VLOOKUP(A14,PROGRAMATION!$A$1:$C$41,2,0)) | I14: =IF(ISBLANK(A14),"",VLOOKUP(A14,PROGRAMATION!$A$1:$C$41,3,0)) | J14: =IF(ISERROR(I14*B14),0,I14*B14) -> 0
C15: =IF(ISBLANK(A15),"",VLOOKUP(A15,PROGRAMATION!$A$1:$C$41,2,0)) | I15: =IF(ISBLANK(A15),"",VLOOKUP(A15,PROGRAMATION!$A$1:$C$41,3,0)) | J15: =IF(ISERROR(I15*B15),0,I15*B15) -> 0

Sheet PROGRAMATION
A1: 1 | B1: LIGNE ANALOGIQUE GAMME "AMPLITUDE" - Une ligne analogique classique. - Vos communications vers les fixes nationaux aux tarif de 0,019 € HT. - GTR 4 heures. | C1: 17.8 | E1: 1
A2: 2 | B2: LIGNE ANALOGIQUE GAMME "AMPLITUDE ILLIMITÉ" - Une ligne analogique classique. - Appels illimités 7j/7 et 24h/24 à destination des postes fixes métropolitains. - Appels illimités 7j/7 et 24h/24 à destination des postes mobiles souscrits auprès de Coriolis Entreprise. - GTR 4 heures. | C2: 27.8 | E2: 2
A3: 3 | B3: LIGNE ANALOGIQUE GAMME "PLÉTHORA PLUS" - Une ligne analogique classique. - Appels illimités 7j/7 et 24h/24 à destination des postes fixes métropolitains. - Appels illimités 7j/7 et 24h/24 à destination des postes mobiles - GTR 4 heures. | C3: 29.8 | E3: 3
A4: 4 | B4: LIGNE ANALOGIQUE GAMME "PLÉTHORA" - Une ligne analogique classique. - Appels illimités 7j/7 et 24h/24 à destination des postes fixes métropolitains. - Appels illimités 7j/7 et 24h/24 à destination des postes mobiles - GTR 4 heures. | C4: 39.8 | E4: 4
A5: 5 | B5: LIGNE NUMÉRIS GAMME "AMPLITUDE" - Une ligne fixe Numéris. - Vos communications aux tarif de 0,019 € HT (Facturation à la seconde). Facturation à la seconde - GTR 4 heures. | C5: 35.6 | E5: 5
A6: 6 | B6: LIGNE NUMÉRIS GAMME "AMPLITUDE ILLIMITÉ" - Une ligne fixe numérique avec 2 communications simultanées. - Appels illimités 7j/7 et 24h/24 à destination des postes fixes métropolitains. - Appels illimités 7j/7 et 24h/24 à destination des postes mobiles souscrits auprès de Coriolis Entreprise. - GTR 4 heures. | C6: 39.6 | E6: 6
A7: 7 | B7: LIGNE NUMERIS GAMME "PLÉTHORA PLUS" - Une ligne fixe numérique avec 2 communications simultanées. - Appels illimités 7j/7 et 24h/24 à destination des postes fixes métropolitains. - Appels illimités 7j/7 et 24h/24 à destination des postes mobiles - GTR 4 heures. | C7: 59.6 | E7: 7
A8: 8 | B8: LIGNE NUMERIS GAMME "PLÉTHORA" - Une ligne fixe numérique avec 2 communications simultanées. - Appels illimités 7j/7 et 24h/24 à destination des postes fixes métropolitains. - Appels illimités 7j/7 et 24h/24 à destination des postes mobiles - GTR 4 heures. | C8: 79.6 | E8: 8
A9: 9 | B9: SDA - Sélection directe à l'arrivée | C9: 0.91 | E9: 9
A10: 10 | B10: TRUNK SIP "AU COMPTEUR" - Une ligne fixe avec un appel entrant et un appel sortant. - Appels vers fixes de France 0,016 € HT/min. - Appels vers mobiles de France 0,089 € HT/min. - Facturation à la 1ere seconde. | C10: 3 | E10: 10
A11: 11 | B11: TRUNK SIP "ILLIMITÉ" - Une ligne fixe avec un appel entrant et un appel sortant. - Appels illimités 7j/7 et 24h/24 à destination des postes fixes métropolitains et 30 destinations. - Appels illimités 7j/7 et 24h/24 à destination des postes mobiles. | C11: 29 | E11: 11
A12: 12 | B12: BUSINESS PRÉCISION Un forfait mobileau compteur 0,30 € / min. - SMS et MMS facturé à l'acte. | C12: 10.55 | E12: 12
... A23: 23 | B23: BUSINESS SMARTPHONE 30 GO √ Appels illimités en France métropolitaine, en itinérance depuis et vers l'UE la suisse et les DOM/COM et en itinérance depuis la Suisse, l'Andorre, les USA et le Canada. √ Appels illimités depuis la France métropolitaine, vers les fixes et mobiles de l'UE, l'EEA, les DOM/COM, la Suisse, l'Andorre, les USA et le Canada. √ 30 Go d'Internet mobile en France métropolitaine, et en itinérance depuis l'UE, les DOM/COM, Suisse, l'Andorre, les USA et le Canada. • Dont 13 Go utilisables en itinérance depuis l'UE et les DOM/COM. • Dont 5 Go utilisables depuis la Suisse, l'Andorre, les USA et le Cannada. √ SMS et MMS illimités en France métropolitaine et en itinérance depuis l'UE, les DOM/COM, la Suisse, l'Andorre, les USA et le Cannada. | C23: 55.72 | E23: 23
A24: 24 | E24: 24
A25: 25 | B25: BUSINESS DATA 1 Go - Mails et internet 1 Go de data en France métropolitaine - Fonction modem - Accès au réseau 4G | C25: 12.17 | E25: 25
A26: 26 | B26: BUSINESS DATA 1 Go AJUSTABLE - Mails et internet 1 Go ajustable de data en France étropolitaine - Fonction modem - Accès au réseau 4G | C26: 18.26 | E26: 26
A27: 27 | B27: BUSINESS DATA 15 Go - Mails et internet 15 Go de data en France étropolitaine - Fonction modem - Accès au réseau 4G | C27: 25.39 | E27: 27
A28: 28 | B28: BUSINESS DATA 30 Go LIBERTE - Mails et internet 30 Go de data en France étropolitaine - Fonction modem - Accès au réseau 4G | C28: 72.61 | E28: 28
A29: 29 | B29: INTERNET PRO INITIAL Internet jusqu'à 50 méga - Téléphone par Internet avec appels illimités vers les fixes de France métropolitaine et de plus de 100 destinations. - TV d’Orange sur demande - Vos avantages pro dont 10 Go de stockage de données - Location de Livebox | C29: 40 | E29: 29
A30: 30 | B30: FIBRE PRO ÉQUILIBRE Internet jusqu'à 200 Mbits/s La nouvelle Livebox Pro - 1 ligne fixe par internet - Appels illimités vers les fixes (France métro et + de 100 destinations) - 2h vers les mobiles (France métro et + de 100 destinations) | C30: 50 | E30: 30
A31: 31 | B31: SDSL "Grille Évolution" 512k Mono Paire - Débit symétrique constant. - Fiabilité de la connexion. - GTR 4 Heures. - Frais de mise en service 500 € HT. | C31: 155 | E31: 31
A32: 32 | B32: SDSL "Grille Évolution" 512k Bi-Paires - Débit symétrique constant. - Fiabilité de la connexion. - GTR 4 Heures. - Frais de mise en service 500 € HT. | C32: 165 | E32: 32
A33: 33 | B33: SDSL "Grille Évolution" 1M Mono Paire - Débit symétrique constant. - Fiabilité de la connexion. - GTR 4 Heures. - Frais de mise en service 500 € HT. | C33: 165 | E33: 33
A34: 34 | B34: SDSL "Grille Évolution" 1M Mono Bi-Paires - Débit symétrique constant. - Fiabilité de la connexion. - GTR 4 Heures. - Frais de mise en service 500 € HT. | C34: 175 | E34: 34
A35: 35 | B35: SDSL "Grille Évolution" 1M Quadri Paires - Débit symétrique constant. - Fiabilité de la connexion. - GTR 4 Heures. - Frais de mise en service 500 € HT. | C35: 240 | E35: 35
A36: 36 | B36: SDSL "Grille Évolution" 2M Mono Paire - Débit symétrique constant. - Fiabilité de la connexion. - GTR 4 Heures. - Frais de mise en service 500 € HT. | C36: 185 | E36: 36
... A41: 41 | B41: SDSL "Grille Évolution" 8M Quadri Paires - Débit symétrique constant. - Fiabilité de la connexion. - GTR 4 Heures. - Frais de mise en service 500 € HT. | C41: 770 | E41: 41
E42: 42
E43: 43
E44: 44
E45: 45
E46: 46
E47: 47
E48: 48
E49: 49
E50: 50
E51: 51
E52: 52
E53: 53
... E100: 100
