Workbook

Sheet Feuil1
A1: numéro | B1: article
A2: 10809 | B2: Biere Gulden draak 9000 33cl 10,5% | E2: =COUNTIF(B2,"*Biere*") -> 1
A3: 10808 | B3: Biere Gulden draak 33cl 10,5% | E3: =COUNTIF(B3,"*Biere*") -> 1
A4: 691327 | B4: biere blanche Allemagne Paulaner hefe weiss 50cl | E4: =COUNTIF(B4,"*Biere*") -> 1
A5: 13130 | B5: Biere Franziskanner kristal 50cl | E5: =COUNTIF(B5,"*Biere*") -> 1
A6: 691320 | B6: Biere Duvel Belgique spécialité 33 cl | E6: =COUNTIF(B6,"*Biere*") -> 1
A7: 691335 | B7: Biere Tsingao 33cl chine | E7: =COUNTIF(B7,"*Biere*") -> 1
A8: 691313 | B8: Biere chimay rouge 33cl Belgique | E8: =COUNTIF(B8,"*Biere*") -> 1
A9: 691314 | B9: Biere chimay bleue 33cl Belgique trappiste | E9: =COUNTIF(B9,"*Biere*") -> 1
A10: 10810 | B10: Biere Piraat 10,5% 33cl | E10: =COUNTIF(B10,"*Biere*") -> 1
A11: 15271 | B11: Biere La trappe quadruple 33cl | E11: =COUNTIF(B11,"*Biere*") -> 1
A12: 11400 | B12: Biere Corolus classique brune 33cl | E12: =COUNTIF(B12,"*Biere*") -> 1
A13: 11402 | B13: Biere corolus ambrio 8% 33cl | E13: =COUNTIF(B13,"*Biere*") -> 1
... A39: 15745 | B39: Biere Tytskie premium Pologne 50cl | E39: =COUNTIF(B39,"*Biere*") -> 1
A40: 11372 | B40: Biere bonsecours ambree 8% 33cl Belgique | D40: Belgique | E40: =COUNTIF(B40,"*Biere*") -> 1
A41: 691315 | B41: Biere Saint bernardus 8 Prior Belgique 33cl | E41: =COUNTIF(B41,"*Biere*") -> 1
A42: 12431 | B42: Biere Petrus triple 33cl | E42: =COUNTIF(B42,"*Biere*") -> 1
A43: 691311 | B43: Biere richefort Belgique trapiste 10% 33cl | E43: =COUNTIF(B43,"*Biere*") -> 1
A44: 691309 | B44: Biere richefort Belgique trapiste 6% 33cl | E44: =COUNTIF(B44,"*Biere*") -> 1
A45: 691318 | B45: Biere kwak Belgique spécialité 33cl | E45: =COUNTIF(B45,"*Biere*") -> 1
A46: 800503 | B46: Biere La chouffe 33cl | E46: =COUNTIF(B46,"*Biere*") -> 1
A47: 800504 | B47: Biere Maredsous triple ambrée 33cl | E47: =COUNTIF(B47,"*Biere*") -> 1
A48: 12341 | B48: Biere Maredsous blonde 33cl | E48: =COUNTIF(B48,"*Biere*") -> 1
A49: 12697 | B49: Biere Val dieu blonde 33cl | E49: =COUNTIF(B49,"*Biere*") -> 1
A50: 301 | B50: Biere La gauloise 33cl | E50: =COUNTIF(B50,"*Biere*") -> 1
A51: 691323 | B51: Biere Lindermans la pecheresse lambic 25 cl | E51: =COUNTIF(B51,"*Biere*") -> 1
A52: 11655 | B52: Biere Lindermans framboise 25cl | E52: =COUNTIF(B52,"*Biere*") -> 1
... A67: 800693 | B67: Biere Isaac baladin Italie 33cl | E67: =COUNTIF(B67,"*Biere*") -> 1
A68: 499326 | B68: Chianti classiqo Terre de Palio vin rouge | C68: VR | E68: =COUNTIF(B68,"*Biere*") -> 0
A69: 499311 | B69: Valpolicella Bertani 2012 Vin rouge | C69: VR | E69: =COUNTIF(B69,"*Biere*") -> 0
A70: 73005 | B70: Barbera piemonte Ricossa | C70: ? | E70: =COUNTIF(B70,"*Biere*") -> 0
A71: 73000 | B71: Toro tempranillo vina altamar vin rouge | C71: VR | E71: =COUNTIF(B71,"*Biere*") -> 0
A72: 73006 | B72: Toro tempranillo vina altamar vin rouge | C72: VR | E72: =COUNTIF(B72,"*Biere*") -> 0
A73: 800333 | B73: vin d'Espagne ribiera del duero vin rouge Pena Noble 2013 | C73: VR | E73: =COUNTIF(B73,"*Biere*") -> 0
A74: 73001 | B74: vin Monte pulciano d'abbruzzo | C74: ? | E74: =COUNTIF(B74,"*Biere*") -> 0
A75: 73002 | B75: Vin vina tobia | C75: ? | E75: =COUNTIF(B75,"*Biere*") -> 0
A76: 498225 | B76: Vin la chamiza argentine 2012 | C76: ? | E76: =COUNTIF(B76,"*Biere*") -> 0
A77: 498201 | B77: Vin etchart torrontes blanc | C77: VB | E77: =COUNTIF(B77,"*Biere*") -> 0
A78: 73004 | B78: Vin san felie mendoza argetine | C78: ? | E78: =COUNTIF(B78,"*Biere*") -> 0
A79: 498130 | B79: Vin bischop's leap nouvelle Zelande 2011 | C79: ? | E79: =COUNTIF(B79,"*Biere*") -> 0
... A84: 498001 | B84: Vin oude kaapchenin blanc afrique du sud vin blanc | C84: VB | E84: =COUNTIF(B84,"*Biere*") -> 0
A85: 1024 | B85: Verre fruity white 35cl CS7000 | E85: =COUNTIF(B85,"*Biere*") -> 0
A86: 1032 | B86: Verre Open up sweet 27cl | E86: =COUNTIF(B86,"*Biere*") -> 0
A87: 1009 | B87: Verre coffret 2 verres universal tannic 55cl | E87: =COUNTIF(B87,"*Biere*") -> 0
A88: 1026 | B88: Verre oaky white 41cl | E88: =COUNTIF(B88,"*Biere*") -> 0
A89: 1002 | B89: Verre universal tasting 40cl CS5004 | E89: =COUNTIF(B89,"*Biere*") -> 0
A90: 1001 | B90: Verre pro tasting 32cl CS502 | E90: =COUNTIF(B90,"*Biere*") -> 0
A91: 1022 | B91: Verre round 37cl | E91: =COUNTIF(B91,"*Biere*") -> 0
A92: 1021 | B92: Verre pro tasting blind test 32cl | E92: =COUNTIF(B92,"*Biere*") -> 0
A93: 1012 | B93: Verre sift 47cl | E93: =COUNTIF(B93,"*Biere*") -> 0
A94: 1029 | B94: Verre flute floralp 21cl | E94: =COUNTIF(B94,"*Biere*") -> 0
A95: 1008 | B95: Verre forme haute 35cl | E95: =COUNTIF(B95,"*Biere*") -> 0
A96: 8194 | B96: Verre Aksace 15cl | E96: =COUNTIF(B96,"*Biere*") -> 0
... A276: 1030 | B276: Coffret entre terre et mer | E276: =COUNTIF(B276,"*Biere*") -> 0
B277: coffret bois pelaquie | E277: =COUNTIF(B277,"*Biere*") -> 0
A278: 78 | B278: corbeille gourmande | E278: =COUNTIF(B278,"*Biere*") -> 0
A279: 9501 | B279: sachet nougat tendre | E279: =COUNTIF(B279,"*Biere*") -> 0
A280: 9500 | B280: Sac papillottes 200gr | E280: =COUNTIF(B280,"*Biere*") -> 0
A281: 9503 | B281: Sachet assortiment provencale 200gr | E281: =COUNTIF(B281,"*Biere*") -> 0
A282: 9539 | B282: Sachet nougat dur | E282: =COUNTIF(B282,"*Biere*") -> 0
A283: 9546 | B283: Pate de nougat miel d'oranger 100gr | E283: =COUNTIF(B283,"*Biere*") -> 0
A284: 9511 | B284: Pate 15 nougat et 10 calissons 275 gr | E284: =COUNTIF(B284,"*Biere*") -> 0
A285: 9505 | B285: Barre de nougat tendre au caramel beurre salé | E285: =COUNTIF(B285,"*Biere*") -> 0
A286: 9522 | B286: Etui 21 petits calissons | E286: =COUNTIF(B286,"*Biere*") -> 0
A287: 9536 | B287: Boite fer 20 calissons | E287: =COUNTIF(B287,"*Biere*") -> 0
A288: 9507 | B288: boite fer vespa 32 dominos nougats tendres 270 gr | E288: =COUNTIF(B288,"*Biere*") -> 0
A289: 11012 | B289: Confit d'oignon doux des cevennes | E289: =COUNTIF(B289,"*Biere*") -> 0
... A307: 726015 | B307: Foie gras de canard entier bocal 115gr | E307: =COUNTIF(B307,"*Biere*") -> 0
B308: bloc de foie gras de canard boite 195gr | E308: =COUNTIF(B308,"*Biere*") -> 0
A309: 726013 | B309: mousse au foie de canard au piment d'espelette | E309: =COUNTIF(B309,"*Biere*") -> 0
A310: 723001 | B310: toastinade de canard tomates et piments d'espelette | E310: =COUNTIF(B310,"*Biere*") -> 0
A311: 723002 | B311: toastinade de canard miel et fromage de chevre | E311: =COUNTIF(B311,"*Biere*") -> 0
A312: 726017 | B312: confit de canard 2 cuisses boite 740gr | E312: =COUNTIF(B312,"*Biere*") -> 0
A313: 726003 | B313: rillettes pur canard bocal 180gr | E313: =COUNTIF(B313,"*Biere*") -> 0
A314: 726007 | B314: terrine de canard forestiere bocal 180gr | E314: =COUNTIF(B314,"*Biere*") -> 0
A315: 726009 | B315: Terrine de sanglier bocal 190gr | E315: =COUNTIF(B315,"*Biere*") -> 0
A316: 1337 | B316: Couteau victorinox 0,9553 | E316: =COUNTIF(B316,"*Biere*") -> 0
A317: 1307 | B317: Couteau victorinox 1,6703 | E317: =COUNTIF(B317,"*Biere*") -> 0
A318: 1351 | B318: Couteau victorinox PIONEER ALOX BLEU 0,8201,4 | E318: =COUNTIF(B318,"*Biere*") -> 0
A319: 1344 | B319: Couteau victorinox 0,8873,4 | E319: =COUNTIF(B319,"*Biere*") -> 0
A320: 1304 | B320: Couteau victorinox 1,3703 UGE | E320: =COUNTIF(B320,"*Biere*") -> 0
... A356: 7936 | B356: Vodka cristal 70cl | E356: =COUNTIF(B356,"*Biere*") -> 0
A357: 5910 | B357: fine de chateauneuf du pape domaine saint-benoit | C357: Eau de vie | E357: =COUNTIF(B357,"*Biere*") -> 0
A358: 8123 | B358: Porte bouteille inox | E358: =COUNTIF(B358,"*Biere*") -> 0
A359: 1014 | B359: Verre à coktail 30cl | E359: =COUNTIF(B359,"*Biere*") -> 0
A360: 8209 | B360: Porte bouteille inox | E360: =COUNTIF(B360,"*Biere*") -> 0
A361: 8002 | B361: Rapid ice champagne or | E361: =COUNTIF(B361,"*Biere*") -> 0
A362: 8159 | B362: Rapid ice argent | E362: =COUNTIF(B362,"*Biere*") -> 0
A363: 8135 | B363: Verre Cofret vin rouge milano | E363: =COUNTIF(B363,"*Biere*") -> 0
A364: 8119 | B364: Rafraichisseur nomade screwpull rouge et noir | E364: =COUNTIF(B364,"*Biere*") -> 0
A365: 9122 | B365: set barbecue | E365: =COUNTIF(B365,"*Biere*") -> 0
A366: 804 | B366: Box golden parachute | E366: =COUNTIF(B366,"*Biere*") -> 0
A367: 8122 | B367: Coffret bois décor feuilles | E367: =COUNTIF(B367,"*Biere*") -> 0
A368: 802 | B368: coffet ustensiles à coktail | E368: =COUNTIF(B368,"*Biere*") -> 0
A369: 18975 | B369: Whisky Coffret arran 10 ans 2 verre | C369: Whisky | E369: =COUNTIF(B369,"*Biere*") -> 0
A370: 11072 | B370: plateau inox | E370: =COUNTIF(B370,"*Biere*") -> 0
A371: 8217 | B371: Verre coffret gris 4 verres INAO | E371: =COUNTIF(B371,"*Biere*") -> 0
A372: 8291 | B372: Seau alu une bouteille | E372: =COUNTIF(B372,"*Biere*") -> 0
A373: 590311 | B373: Whisky of the world 4 wit | C373: Whisky | E373: =COUNTIF(B373,"*Biere*") -> 0
A374: 5101 | B374: Whisky coffet 6 whiskies 24cl whiskies of the world | C374: Whisky | E374: =COUNTIF(B374,"*Biere*") -> 0
...

Sheet Feuil2
C2: Mots recherchés
B3: mot 1
B4: mot 2
B5: mot 3
B6: mot 4
B9: code | C9: désignation
B10: {=IF(ROW()-9>COUNTIF(Feuil1!$E:$E,">0"),"",INDEX(Feuil1!A:A,SMALL(IF(Feuil1!$E:$E>0,ROW($E:$E),""),ROW()-9)))} -> 10809 | C10: {=IF(ROW()-9>COUNTIF(Feuil1!$E:$E,">0"),"",INDEX(Feuil1!B:B,SMALL(IF(Feuil1!$E:$E>0,ROW($E:$E),""),ROW()-9)))} -> Biere Gulden draak 9000 33cl 10,5%
B11: {=IF(ROW()-9>COUNTIF(Feuil1!$E:$E,">0"),"",INDEX(Feuil1!A:A,SMALL(IF(Feuil1!$E:$E>0,ROW($E:$E),""),ROW()-9)))} -> 10808 | C11: {=IF(ROW()-9>COUNTIF(Feuil1!$E:$E,">0"),"",INDEX(Feuil1!B:B,SMALL(IF(Feuil1!$E:$E>0,ROW($E:$E),""),ROW()-9)))} -> Biere Gulden draak 33cl 10,5%
B12: {=IF(ROW()-9>COUNTIF(Feuil1!$E:$E,">0"),"",INDEX(Feuil1!A:A,SMALL(IF(Feuil1!$E:$E>0,ROW($E:$E),""),ROW()-9)))} -> 691327 | C12: {=IF(ROW()-9>COUNTIF(Feuil1!$E:$E,">0"),"",INDEX(Feuil1!B:B,SMALL(IF(Feuil1!$E:$E>0,ROW($E:$E),""),ROW()-9)))} -> biere blanche Allemagne Paulaner hefe weiss 50cl
B13: {=IF(ROW()-9>COUNTIF(Feuil1!$E:$E,">0"),"",INDEX(Feuil1!A:A,SMALL(IF(Feuil1!$E:$E>0,ROW($E:$E),""),ROW()-9)))} -> 13130 | C13: {=IF(ROW()-9>COUNTIF(Feuil1!$E:$E,">0"),"",INDEX(Feuil1!B:B,SMALL(IF(Feuil1!$E:$E>0,ROW($E:$E),""),ROW()-9)))} -> Biere Franziskanner kristal 50cl
B14: {=IF(ROW()-9>COUNTIF(Feuil1!$E:$E,">0"),"",INDEX(Feuil1!A:A,SMALL(IF(Feuil1!$E:$E>0,ROW($E:$E),""),ROW()-9)))} -> 691320 | C14: {=IF(ROW()-9>COUNTIF(Feuil1!$E:$E,">0"),"",INDEX(Feuil1!B:B,SMALL(IF(Feuil1!$E:$E>0,ROW($E:$E),""),ROW()-9)))} -> Biere Duvel Belgique spécialité 33 cl
B15: {=IF(ROW()-9>COUNTIF(Feuil1!$E:$E,">0"),"",INDEX(Feuil1!A:A,SMALL(IF(Feuil1!$E:$E>0,ROW($E:$E),""),ROW()-9)))} -> 691335 | C15: {=IF(ROW()-9>COUNTIF(Feuil1!$E:$E,">0"),"",INDEX(Feuil1!B:B,SMALL(IF(Feuil1!$E:$E>0,ROW($E:$E),""),ROW()-9)))} -> Biere Tsingao 33cl chine
B16: {=IF(ROW()-9>COUNTIF(Feuil1!$E:$E,">0"),"",INDEX(Feuil1!A:A,SMALL(IF(Feuil1!$E:$E>0,ROW($E:$E),""),ROW()-9)))} -> 691313 | C16: {=IF(ROW()-9>COUNTIF(Feuil1!$E:$E,">0"),"",INDEX(Feuil1!B:B,SMALL(IF(Feuil1!$E:$E>0,ROW($E:$E),""),ROW()-9)))} -> Biere chimay rouge 33cl Belgique
B17: {=IF(ROW()-9>COUNTIF(Feuil1!$E:$E,">0"),"",INDEX(Feuil1!A:A,SMALL(IF(Feuil1!$E:$E>0,ROW($E:$E),""),ROW()-9)))} -> 691314 | C17: {=IF(ROW()-9>COUNTIF(Feuil1!$E:$E,">0"),"",INDEX(Feuil1!B:B,SMALL(IF(Feuil1!$E:$E>0,ROW($E:$E),""),ROW()-9)))} -> Biere chimay bleue 33cl Belgique trappiste
B18: {=IF(ROW()-9>COUNTIF(Feuil1!$E:$E,">0"),"",INDEX(Feuil1!A:A,SMALL(IF(Feuil1!$E:$E>0,ROW($E:$E),""),ROW()-9)))} -> 10810 | C18: {=IF(ROW()-9>COUNTIF(Feuil1!$E:$E,">0"),"",INDEX(Feuil1!B:B,SMALL(IF(Feuil1!$E:$E>0,ROW($E:$E),""),ROW()-9)))} -> Biere Piraat 10,5% 33cl
B19: {=IF(ROW()-9>COUNTIF(Feuil1!$E:$E,">0"),"",INDEX(Feuil1!A:A,SMALL(IF(Feuil1!$E:$E>0,ROW($E:$E),""),ROW()-9)))} -> 15271 | C19: {=IF(ROW()-9>COUNTIF(Feuil1!$E:$E,">0"),"",INDEX(Feuil1!B:B,SMALL(IF(Feuil1!$E:$E>0,ROW($E:$E),""),ROW()-9)))} -> Biere La trappe quadruple 33cl
B20: {=IF(ROW()-9>COUNTIF(Feuil1!$E:$E,">0"),"",INDEX(Feuil1!A:A,SMALL(IF(Feuil1!$E:$E>0,ROW($E:$E),""),ROW()-9)))} -> 11400 | C20: {=IF(ROW()-9>COUNTIF(Feuil1!$E:$E,">0"),"",INDEX(Feuil1!B:B,SMALL(IF(Feuil1!$E:$E>0,ROW($E:$E),""),ROW()-9)))} -> Biere Corolus classique brune 33cl
B21: {=IF(ROW()-9>COUNTIF(Feuil1!$E:$E,">0"),"",INDEX(Feuil1!A:A,SMALL(IF(Feuil1!$E:$E>0,ROW($E:$E),""),ROW()-9)))} -> 11402 | C21: {=IF(ROW()-9>COUNTIF(Feuil1!$E:$E,">0"),"",INDEX(Feuil1!B:B,SMALL(IF(Feuil1!$E:$E>0,ROW($E:$E),""),ROW()-9)))} -> Biere corolus ambrio 8% 33cl
... B260: {=IF(ROW()-9>COUNTIF(Feuil1!$E:$E,">0"),"",INDEX(Feuil1!A:A,SMALL(IF(Feuil1!$E:$E>0,ROW($E:$E),""),ROW()-9)))} | C260: {=IF(ROW()-9>COUNTIF(Feuil1!$E:$E,">0"),"",INDEX(Feuil1!B:B,SMALL(IF(Feuil1!$E:$E>0,ROW($E:$E),""),ROW()-9)))}
