Workbook

Sheet Feuil1
A1: numéro | B1: article
A2: 10809 | B2: Biere Gulden draak 9000 33cl 10,5% | E2: =COUNTIF(B2,"*Biere*") -> 1
A3: 10808 | B3: Biere Gulden draak 33cl 10,5% | E3: =COUNTIF(B3,"*Biere*") -> 1
A4: 691327 | B4: biere blanche Allemagne Paulaner hefe weiss 50cl | E4: =COUNTIF(B4,"*Biere*") -> 1
A5: 13130 | B5: Biere Franziskanner kristal 50cl | E5: =COUNTIF(B5,"*Biere*") -> 1
A6: 691320 | B6: Biere Duvel Belgique spécialité 33 cl | E6: =COUNTIF(B6,"*Biere*") -> 1
A7: 691335 | B7: Biere Tsingao 33cl chine | E7: =COUNTIF(B7,"*Biere*") -> 1
A8: 691313 | B8: Biere chimay rouge 33cl Belgique | E8: =COUNTIF(B8,"*Biere*") -> 1
A9: 691314 | B9: Biere chimay bleue 33cl Belgique trappiste | E9: =COUNTIF(B9,"*Biere*") -> 1
A10: 10810 | B10: Biere Piraat 10,5% 33cl | E10: =COUNTIF(B10,"*Biere*") -> 1
A11: 15271 | B11: Biere La trappe quadruple 33cl | E11: =COUNTIF(B11,"*Biere*") -> 1
A12: 11400 | B12: Biere Corolus classique brune 33cl | E12: =COUNTIF(B12,"*Biere*") -> 1
A13: 11402 | B13: Biere corolus ambrio 8% 33cl | E13: =COUNTIF(B13,"*Biere*") -> 1
... A39: 15745 | B39: Biere Tytskie premium Pologne 50cl | E39: =COUNTIF(B39,"*Biere*") -> 1
A40: 11372 | B40: Biere bonsecours ambree 8% 33cl Belgique | D40: Belgique | E40: =COUNTIF(B40,"*Biere*") -> 1
A41: 691315 | B41: Biere Saint bernardus 8 Prior Belgique 33cl | E41: =COUNTIF(B41,"*Biere*") -> 1
A42: 12431 | B42: Biere Petrus triple 33cl | E42: =COUNTIF(B42,"*Biere*") -> 1
A43: 691311 | B43: Biere richefort Belgique trapiste 10% 33cl | E43: =COUNTIF(B43,"*Biere*") -> 1
A44: 691309 | B44: Biere richefort Belgique trapiste 6% 33cl | E44: =COUNTIF(B44,"*Biere*") -> 1
A45: 691318 | B45: Biere kwak Belgique spécialité 33cl | E45: =COUNTIF(B45,"*Biere*") -> 1
A46: 800503 | B46: Biere La chouffe 33cl | E46: =COUNTIF(B46,"*Biere*") -> 1
A47: 800504 | B47: Biere Maredsous triple ambrée 33cl | E47: =COUNTIF(B47,"*Biere*") -> 1
A48: 12341 | B48: Biere Maredsous blonde 33cl | E48: =COUNTIF(B48,"*Biere*") -> 1
A49: 12697 | B49: Biere Val dieu blonde 33cl | E49: =COUNTIF(B49,"*Biere*") -> 1
A50: 301 | B50: Biere La gauloise 33cl | E50: =COUNTIF(B50,"*Biere*") -> 1
A51: 691323 | B51: Biere Lindermans la pecheresse lambic 25 cl | E51: =COUNTIF(B51,"*Biere*") -> 1
A52: 11655 | B52: Biere Lindermans framboise 25cl | E52: =COUNTIF(B52,"*Biere*") -> 1
... A67: 800693 | B67: Biere Isaac baladin Italie 33cl | E67: =COUNTIF(B67,"*Biere*") -> 1
A68: 499326 | B68: Chianti classiqo Terre de Palio vin rouge | C68: VR | E68: =COUNTIF(B68,"*Biere*") -> 0
A69: 499311 | B69: Valpolicella Bertani 2012 Vin rouge | C69: VR | E69: =COUNTIF(B69,"*Biere*") -> 0
A70: 73005 | B70: Barbera piemonte Ricossa | C70: ? | E70: =COUNTIF(B70,"*Biere*") -> 0
A71: 73000 | B71: Toro tempranillo vina altamar vin rouge | C71: VR | E71: =COUNTIF(B71,"*Biere*") -> 0
A72: 73006 | B72: Toro tempranillo vina altamar vin rouge | C72: VR | E72: =COUNTIF(B72,"*Biere*") -> 0
A73: 800333 | B73: vin d'Espagne ribiera del duero vin rouge Pena Noble 2013 | C73: VR | E73: =COUNTIF(B73,"*Biere*") -> 0
A74: 73001 | B74: vin Monte pulciano d'abbruzzo | C74: ? | E74: =COUNTIF(B74,"*Biere*") -> 0
A75: 73002 | B75: Vin vina tobia | C75: ? | E75: =COUNTIF(B75,"*Biere*") -> 0
A76: 498225 | B76: Vin la chamiza argentine 2012 | C76: ? | E76: =COUNTIF(B76,"*Biere*") -> 0
A77: 498201 | B77: Vin etchart torrontes blanc | C77: VB | E77: =COUNTIF(B77,"*Biere*") -> 0
A78: 73004 | B78: Vin san felie mendoza argetine | C78: ? | E78: =COUNTIF(B78,"*Biere*") -> 0
A79: 498130 | B79: Vin bischop's leap nouvelle Zelande 2011 | C79: ? | E79: =COUNTIF(B79,"*Biere*") -> 0
...

Sheet Feuil2
C2: Mots recherchés
B3: mot 1
B4: mot 2
B5: mot 3
B6: mot 4
B9: code | C9: désignation
B10: {=IF(ROW()-9>COUNTIF(Feuil1!$E:$E,">0"),"",INDEX(Feuil1!A:A,SMALL(IF(Feuil1!$E:$E>0,ROW($E:$E),""),ROW()-9)))} -> 10809 | C10: {=IF(ROW()-9>COUNTIF(Feuil1!$E:$E,">0"),"",INDEX(Feuil1!B:B,SMALL(IF(Feuil1!$E:$E>0,ROW($E:$E),""),ROW()-9)))} -> Biere Gulden draak 9000 33cl 10,5%
B11: {=IF(ROW()-9>COUNTIF(Feuil1!$E:$E,">0"),"",INDEX(Feuil1!A:A,SMALL(IF(Feuil1!$E:$E>0,ROW($E:$E),""),ROW()-9)))} -> 10808 | C11: {=IF(ROW()-9>COUNTIF(Feuil1!$E:$E,">0"),"",INDEX(Feuil1!B:B,SMALL(IF(Feuil1!$E:$E>0,ROW($E:$E),""),ROW()-9)))} -> Biere Gulden draak 33cl 10,5%
B12: {=IF(ROW()-9>COUNTIF(Feuil1!$E:$E,">0"),"",INDEX(Feuil1!A:A,SMALL(IF(Feuil1!$E:$E>0,ROW($E:$E),""),ROW()-9)))} -> 691327 | C12: {=IF(ROW()-9>COUNTIF(Feuil1!$E:$E,">0"),"",INDEX(Feuil1!B:B,SMALL(IF(Feuil1!$E:$E>0,ROW($E:$E),""),ROW()-9)))} -> biere blanche Allemagne Paulaner hefe weiss 50cl
B13: {=IF(ROW()-9>COUNTIF(Feuil1!$E:$E,">0"),"",INDEX(Feuil1!A:A,SMALL(IF(Feuil1!$E:$E>0,ROW($E:$E),""),ROW()-9)))} -> 13130 | C13: {=IF(ROW()-9>COUNTIF(Feuil1!$E:$E,">0"),"",INDEX(Feuil1!B:B,SMALL(IF(Feuil1!$E:$E>0,ROW($E:$E),""),ROW()-9)))} -> Biere Franziskanner kristal 50cl
B14: {=IF(ROW()-9>COUNTIF(Feuil1!$E:$E,">0"),"",INDEX(Feuil1!A:A,SMALL(IF(Feuil1!$E:$E>0,ROW($E:$E),""),ROW()-9)))} -> 691320 | C14: {=IF(ROW()-9>COUNTIF(Feuil1!$E:$E,">0"),"",INDEX(Feuil1!B:B,SMALL(IF(Feuil1!$E:$E>0,ROW($E:$E),""),ROW()-9)))} -> Biere Duvel Belgique spécialité 33 cl
B15: {=IF(ROW()-9>COUNTIF(Feuil1!$E:$E,">0"),"",INDEX(Feuil1!A:A,SMALL(IF(Feuil1!$E:$E>0,ROW($E:$E),""),ROW()-9)))} -> 691335 | C15: {=IF(ROW()-9>COUNTIF(Feuil1!$E:$E,">0"),"",INDEX(Feuil1!B:B,SMALL(IF(Feuil1!$E:$E>0,ROW($E:$E),""),ROW()-9)))} -> Biere Tsingao 33cl chine
B16: {=IF(ROW()-9>COUNTIF(Feuil1!$E:$E,">0"),"",INDEX(Feuil1!A:A,SMALL(IF(Feuil1!$E:$E>0,ROW($E:$E),""),ROW()-9)))} -> 691313 | C16: {=IF(ROW()-9>COUNTIF(Feuil1!$E:$E,">0"),"",INDEX(Feuil1!B:B,SMALL(IF(Feuil1!$E:$E>0,ROW($E:$E),""),ROW()-9)))} -> Biere chimay rouge 33cl Belgique
B17: {=IF(ROW()-9>COUNTIF(Feuil1!$E:$E,">0"),"",INDEX(Feuil1!A:A,SMALL(IF(Feuil1!$E:$E>0,ROW($E:$E),""),ROW()-9)))} -> 691314 | C17: {=IF(ROW()-9>COUNTIF(Feuil1!$E:$E,">0"),"",INDEX(Feuil1!B:B,SMALL(IF(Feuil1!$E:$E>0,ROW($E:$E),""),ROW()-9)))} -> Biere chimay bleue 33cl Belgique trappiste
B18: {=IF(ROW()-9>COUNTIF(Feuil1!$E:$E,">0"),"",INDEX(Feuil1!A:A,SMALL(IF(Feuil1!$E:$E>0,ROW($E:$E),""),ROW()-9)))} -> 10810 | C18: {=IF(ROW()-9>COUNTIF(Feuil1!$E:$E,">0"),"",INDEX(Feuil1!B:B,SMALL(IF(Feuil1!$E:$E>0,ROW($E:$E),""),ROW()-9)))} -> Biere Piraat 10,5% 33cl
B19: {=IF(ROW()-9>COUNTIF(Feuil1!$E:$E,">0"),"",INDEX(Feuil1!A:A,SMALL(IF(Feuil1!$E:$E>0,ROW($E:$E),""),ROW()-9)))} -> 15271 | C19: {=IF(ROW()-9>COUNTIF(Feuil1!$E:$E,">0"),"",INDEX(Feuil1!B:B,SMALL(IF(Feuil1!$E:$E>0,ROW($E:$E),""),ROW()-9)))} -> Biere La trappe quadruple 33cl
B20: {=IF(ROW()-9>COUNTIF(Feuil1!$E:$E,">0"),"",INDEX(Feuil1!A:A,SMALL(IF(Feuil1!$E:$E>0,ROW($E:$E),""),ROW()-9)))} -> 11400 | C20: {=IF(ROW()-9>COUNTIF(Feuil1!$E:$E,">0"),"",INDEX(Feuil1!B:B,SMALL(IF(Feuil1!$E:$E>0,ROW($E:$E),""),ROW()-9)))} -> Biere Corolus classique brune 33cl
B21: {=IF(ROW()-9>COUNTIF(Feuil1!$E:$E,">0"),"",INDEX(Feuil1!A:A,SMALL(IF(Feuil1!$E:$E>0,ROW($E:$E),""),ROW()-9)))} -> 11402 | C21: {=IF(ROW()-9>COUNTIF(Feuil1!$E:$E,">0"),"",INDEX(Feuil1!B:B,SMALL(IF(Feuil1!$E:$E>0,ROW($E:$E),""),ROW()-9)))} -> Biere corolus ambrio 8% 33cl
... B260: {=IF(ROW()-9>COUNTIF(Feuil1!$E:$E,">0"),"",INDEX(Feuil1!A:A,SMALL(IF(Feuil1!$E:$E>0,ROW($E:$E),""),ROW()-9)))} | C260: {=IF(ROW()-9>COUNTIF(Feuil1!$E:$E,">0"),"",INDEX(Feuil1!B:B,SMALL(IF(Feuil1!$E:$E>0,ROW($E:$E),""),ROW()-9)))}
