Workbook

Sheet Feuil1
A2: A | B2: 10
A3: B | B3: 20
A4: C | B4: 30
A5: B | B5: 40
A6: B | B6: 50
A7: C | B7: 60
A8: A | B8: 70
A9: C | B9: 80
A10: C | B10: 90

Sheet Feuil2
A2: {=IF(ROW()-1>COUNTIF(Feuil1!$A:$A,"A"),"",INDEX(Feuil1!A:A,SMALL(IF(Feuil1!$A:$A="A",ROW($B$1:$B$100),""),ROW()-1)))} -> A | B2: {=IF(ROW()-1>COUNTIF(Feuil1!$A:$A,"A"),"",INDEX(Feuil1!B:B,SMALL(IF(Feuil1!$A:$A="A",ROW($B$1:$B$100),""),ROW()-1)))} -> 10 | D2: {=IF(ROW()-1>COUNTIF(Feuil1!$A:$A,"B"),"",INDEX(Feuil1!A:A,SMALL(IF(Feuil1!$A:$A="B",ROW($B$1:$B$100),""),ROW()-1)))} -> B | E2: {=IF(ROW()-1>COUNTIF(Feuil1!$A:$A,"B"),"",INDEX(Feuil1!B:B,SMALL(IF(Feuil1!$A:$A="B",ROW($B$1:$B$100),""),ROW()-1)))} -> 20 | G2: {=IF(ROW()-1>COUNTIF(Feuil1!$A:$A,"C"),"",INDEX(Feuil1!A:A,SMALL(IF(Feuil1!$A:$A="C",ROW($B$1:$B$100),""),ROW()-1)))} -> C | H2: {=IF(ROW()-1>COUNTIF(Feuil1!$A:$A,"C"),"",INDEX(Feuil1!B:B,SMALL(IF(Feuil1!$A:$A="C",ROW($B$1:$B$100),""),ROW()-1)))} -> 30
A3: {=IF(ROW()-1>COUNTIF(Feuil1!$A:$A,"A"),"",INDEX(Feuil1!A:A,SMALL(IF(Feuil1!$A:$A="A",ROW($B$1:$B$100),""),ROW()-1)))} -> A | B3: {=IF(ROW()-1>COUNTIF(Feuil1!$A:$A,"A"),"",INDEX(Feuil1!B:B,SMALL(IF(Feuil1!$A:$A="A",ROW($B$1:$B$100),""),ROW()-1)))} -> 70 | D3: {=IF(ROW()-1>COUNTIF(Feuil1!$A:$A,"B"),"",INDEX(Feuil1!A:A,SMALL(IF(Feuil1!$A:$A="B",ROW($B$1:$B$100),""),ROW()-1)))} -> B | E3: {=IF(ROW()-1>COUNTIF(Feuil1!$A:$A,"B"),"",INDEX(Feuil1!B:B,SMALL(IF(Feuil1!$A:$A="B",ROW($B$1:$B$100),""),ROW()-1)))} -> 40 | G3: {=IF(ROW()-1>COUNTIF(Feuil1!$A:$A,"C"),"",INDEX(Feuil1!A:A,SMALL(IF(Feuil1!$A:$A="C",ROW($B$1:$B$100),""),ROW()-1)))} -> C | H3: {=IF(ROW()-1>COUNTIF(Feuil1!$A:$A,"C"),"",INDEX(Feuil1!B:B,SMALL(IF(Feuil1!$A:$A="C",ROW($B$1:$B$100),""),ROW()-1)))} -> 60
A4: {=IF(ROW()-1>COUNTIF(Feuil1!$A:$A,"A"),"",INDEX(Feuil1!A:A,SMALL(IF(Feuil1!$A:$A="A",ROW($B$1:$B$100),""),ROW()-1)))} | B4: {=IF(ROW()-1>COUNTIF(Feuil1!$A:$A,"A"),"",INDEX(Feuil1!B:B,SMALL(IF(Feuil1!$A:$A="A",ROW($B$1:$B$100),""),ROW()-1)))} | D4: {=IF(ROW()-1>COUNTIF(Feuil1!$A:$A,"B"),"",INDEX(Feuil1!A:A,SMALL(IF(Feuil1!$A:$A="B",ROW($B$1:$B$100),""),ROW()-1)))} -> B | E4: {=IF(ROW()-1>COUNTIF(Feuil1!$A:$A,"B"),"",INDEX(Feuil1!B:B,SMALL(IF(Feuil1!$A:$A="B",ROW($B$1:$B$100),""),ROW()-1)))} -> 50 | G4: {=IF(ROW()-1>COUNTIF(Feuil1!$A:$A,"C"),"",INDEX(Feuil1!A:A,SMALL(IF(Feuil1!$A:$A="C",ROW($B$1:$B$100),""),ROW()-1)))} -> C | H4: {=IF(ROW()-1>COUNTIF(Feuil1!$A:$A,"C"),"",INDEX(Feuil1!B:B,SMALL(IF(Feuil1!$A:$A="C",ROW($B$1:$B$100),""),ROW()-1)))} -> 80
A5: {=IF(ROW()-1>COUNTIF(Feuil1!$A:$A,"A"),"",INDEX(Feuil1!A:A,SMALL(IF(Feuil1!$A:$A="A",ROW($B$1:$B$100),""),ROW()-1)))} | B5: {=IF(ROW()-1>COUNTIF(Feuil1!$A:$A,"A"),"",INDEX(Feuil1!B:B,SMALL(IF(Feuil1!$A:$A="A",ROW($B$1:$B$100),""),ROW()-1)))} | D5: {=IF(ROW()-1>COUNTIF(Feuil1!$A:$A,"B"),"",INDEX(Feuil1!A:A,SMALL(IF(Feuil1!$A:$A="B",ROW($B$1:$B$100),""),ROW()-1)))} | E5: {=IF(ROW()-1>COUNTIF(Feuil1!$A:$A,"B"),"",INDEX(Feuil1!B:B,SMALL(IF(Feuil1!$A:$A="B",ROW($B$1:$B$100),""),ROW()-1)))} | G5: {=IF(ROW()-1>COUNTIF(Feuil1!$A:$A,"C"),"",INDEX(Feuil1!A:A,SMALL(IF(Feuil1!$A:$A="C",ROW($B$1:$B$100),""),ROW()-1)))} -> C | H5: {=IF(ROW()-1>COUNTIF(Feuil1!$A:$A,"C"),"",INDEX(Feuil1!B:B,SMALL(IF(Feuil1!$A:$A="C",ROW($B$1:$B$100),""),ROW()-1)))} -> 90
A6: {=IF(ROW()-1>COUNTIF(Feuil1!$A:$A,"A"),"",INDEX(Feuil1!A:A,SMALL(IF(Feuil1!$A:$A="A",ROW($B$1:$B$100),""),ROW()-1)))} | B6: {=IF(ROW()-1>COUNTIF(Feuil1!$A:$A,"A"),"",INDEX(Feuil1!B:B,SMALL(IF(Feuil1!$A:$A="A",ROW($B$1:$B$100),""),ROW()-1)))} | D6: {=IF(ROW()-1>COUNTIF(Feuil1!$A:$A,"B"),"",INDEX(Feuil1!A:A,SMALL(IF(Feuil1!$A:$A="B",ROW($B$1:$B$100),""),ROW()-1)))} | E6: {=IF(ROW()-1>COUNTIF(Feuil1!$A:$A,"B"),"",INDEX(Feuil1!B:B,SMALL(IF(Feuil1!$A:$A="B",ROW($B$1:$B$100),""),ROW()-1)))} | G6: {=IF(ROW()-1>COUNTIF(Feuil1!$A:$A,"C"),"",INDEX(Feuil1!A:A,SMALL(IF(Feuil1!$A:$A="C",ROW($B$1:$B$100),""),ROW()-1)))} | H6: {=IF(ROW()-1>COUNTIF(Feuil1!$A:$A,"C"),"",INDEX(Feuil1!B:B,SMALL(IF(Feuil1!$A:$A="C",ROW($B$1:$B$100),""),ROW()-1)))}
A7: {=IF(ROW()-1>COUNTIF(Feuil1!$A:$A,"A"),"",INDEX(Feuil1!A:A,SMALL(IF(Feuil1!$A:$A="A",ROW($B$1:$B$100),""),ROW()-1)))} | B7: {=IF(ROW()-1>COUNTIF(Feuil1!$A:$A,"A"),"",INDEX(Feuil1!B:B,SMALL(IF(Feuil1!$A:$A="A",ROW($B$1:$B$100),""),ROW()-1)))} | D7: {=IF(ROW()-1>COUNTIF(Feuil1!$A:$A,"B"),"",INDEX(Feuil1!A:A,SMALL(IF(Feuil1!$A:$A="B",ROW($B$1:$B$100),""),ROW()-1)))} | E7: {=IF(ROW()-1>COUNTIF(Feuil1!$A:$A,"B"),"",INDEX(Feuil1!B:B,SMALL(IF(Feuil1!$A:$A="B",ROW($B$1:$B$100),""),ROW()-1)))} | G7: {=IF(ROW()-1>COUNTIF(Feuil1!$A:$A,"C"),"",INDEX(Feuil1!A:A,SMALL(IF(Feuil1!$A:$A="C",ROW($B$1:$B$100),""),ROW()-1)))} | H7: {=IF(ROW()-1>COUNTIF(Feuil1!$A:$A,"C"),"",INDEX(Feuil1!B:B,SMALL(IF(Feuil1!$A:$A="C",ROW($B$1:$B$100),""),ROW()-1)))}
A8: {=IF(ROW()-1>COUNTIF(Feuil1!$A:$A,"A"),"",INDEX(Feuil1!A:A,SMALL(IF(Feuil1!$A:$A="A",ROW($B$1:$B$100),""),ROW()-1)))} | B8: {=IF(ROW()-1>COUNTIF(Feuil1!$A:$A,"A"),"",INDEX(Feuil1!B:B,SMALL(IF(Feuil1!$A:$A="A",ROW($B$1:$B$100),""),ROW()-1)))} | D8: {=IF(ROW()-1>COUNTIF(Feuil1!$A:$A,"B"),"",INDEX(Feuil1!A:A,SMALL(IF(Feuil1!$A:$A="B",ROW($B$1:$B$100),""),ROW()-1)))} | E8: {=IF(ROW()-1>COUNTIF(Feuil1!$A:$A,"B"),"",INDEX(Feuil1!B:B,SMALL(IF(Feuil1!$A:$A="B",ROW($B$1:$B$100),""),ROW()-1)))} | G8: {=IF(ROW()-1>COUNTIF(Feuil1!$A:$A,"C"),"",INDEX(Feuil1!A:A,SMALL(IF(Feuil1!$A:$A="C",ROW($B$1:$B$100),""),ROW()-1)))} | H8: {=IF(ROW()-1>COUNTIF(Feuil1!$A:$A,"C"),"",INDEX(Feuil1!B:B,SMALL(IF(Feuil1!$A:$A="C",ROW($B$1:$B$100),""),ROW()-1)))}
A9: {=IF(ROW()-1>COUNTIF(Feuil1!$A:$A,"A"),"",INDEX(Feuil1!A:A,SMALL(IF(Feuil1!$A:$A="A",ROW($B$1:$B$100),""),ROW()-1)))} | B9: {=IF(ROW()-1>COUNTIF(Feuil1!$A:$A,"A"),"",INDEX(Feuil1!B:B,SMALL(IF(Feuil1!$A:$A="A",ROW($B$1:$B$100),""),ROW()-1)))} | D9: {=IF(ROW()-1>COUNTIF(Feuil1!$A:$A,"B"),"",INDEX(Feuil1!A:A,SMALL(IF(Feuil1!$A:$A="B",ROW($B$1:$B$100),""),ROW()-1)))} | E9: {=IF(ROW()-1>COUNTIF(Feuil1!$A:$A,"B"),"",INDEX(Feuil1!B:B,SMALL(IF(Feuil1!$A:$A="B",ROW($B$1:$B$100),""),ROW()-1)))} | G9: {=IF(ROW()-1>COUNTIF(Feuil1!$A:$A,"C"),"",INDEX(Feuil1!A:A,SMALL(IF(Feuil1!$A:$A="C",ROW($B$1:$B$100),""),ROW()-1)))} | H9: {=IF(ROW()-1>COUNTIF(Feuil1!$A:$A,"C"),"",INDEX(Feuil1!B:B,SMALL(IF(Feuil1!$A:$A="C",ROW($B$1:$B$100),""),ROW()-1)))}
A10: {=IF(ROW()-1>COUNTIF(Feuil1!$A:$A,"A"),"",INDEX(Feuil1!A:A,SMALL(IF(Feuil1!$A:$A="A",ROW($B$1:$B$100),""),ROW()-1)))} | B10: {=IF(ROW()-1>COUNTIF(Feuil1!$A:$A,"A"),"",INDEX(Feuil1!B:B,SMALL(IF(Feuil1!$A:$A="A",ROW($B$1:$B$100),""),ROW()-1)))} | D10: {=IF(ROW()-1>COUNTIF(Feuil1!$A:$A,"B"),"",INDEX(Feuil1!A:A,SMALL(IF(Feuil1!$A:$A="B",ROW($B$1:$B$100),""),ROW()-1)))} | E10: {=IF(ROW()-1>COUNTIF(Feuil1!$A:$A,"B"),"",INDEX(Feuil1!B:B,SMALL(IF(Feuil1!$A:$A="B",ROW($B$1:$B$100),""),ROW()-1)))} | G10: {=IF(ROW()-1>COUNTIF(Feuil1!$A:$A,"C"),"",INDEX(Feuil1!A:A,SMALL(IF(Feuil1!$A:$A="C",ROW($B$1:$B$100),""),ROW()-1)))} | H10: {=IF(ROW()-1>COUNTIF(Feuil1!$A:$A,"C"),"",INDEX(Feuil1!B:B,SMALL(IF(Feuil1!$A:$A="C",ROW($B$1:$B$100),""),ROW()-1)))}
A11: {=IF(ROW()-1>COUNTIF(Feuil1!A:A,"A"),"",INDEX(Feuil1!A:A,SMALL(IF(Feuil1!A:A="A",ROW($B$1:$B$100),""),ROW()-1)))}
A12: {=IF(ROW()-1>COUNTIF(Feuil1!A:A,"A"),"",INDEX(Feuil1!A:A,SMALL(IF(Feuil1!A:A="A",ROW($B$1:$B$100),""),ROW()-1)))}
A13: {=IF(ROW()-1>COUNTIF(Feuil1!A:A,"A"),"",INDEX(Feuil1!A:A,SMALL(IF(Feuil1!A:A="A",ROW($B$1:$B$100),""),ROW()-1)))}
A14: {=IF(ROW()-1>COUNTIF(Feuil1!A:A,"A"),"",INDEX(Feuil1!A:A,SMALL(IF(Feuil1!A:A="A",ROW($B$1:$B$100),""),ROW()-1)))}
