Workbook

Sheet RECAP
A1: RECAPITULATIF INDIVIDUEL FMPA AQUATIQUE
A2: ANNEE 2019
B3: Nom : | C3: LEFRANCOIS
A7: Observation : | C7: 0
A10: FMPA SAV
A11: N° | B11: Dates | C11: Lieux | D11: Thèmes
A12: 1 | B12: {=IF(ROW()-11>COUNTIF(NOMS!$Q$15:$Q$150,"1"),"",INDEX(NOMS!C:C,SMALL(IF(NOMS!$Q$15:$Q$150=1,ROW($A$15:$A$150),""),ROW()-11)))} -> 43544 | C12: {=IF(ROW()-11>COUNTIF(NOMS!$Q$15:$Q$150,"1"),"",INDEX(NOMS!F:F,SMALL(IF(NOMS!$Q$15:$Q$150=1,ROW($A$15:$A$150),""),ROW()-11)))} -> DIEPPE | D12: {=IF(ROW()-11>COUNTIF(NOMS!$Q$15:$Q$150,"1"),"",INDEX(NOMS!E:E,SMALL(IF(NOMS!$Q$15:$Q$150=1,ROW($A$15:$A$150),""),ROW()-11)))} -> FMPA LOCAL HTG
A13: 2 | B13: {=IF(ROW()-11>COUNTIF(NOMS!$Q$15:$Q$150,"1"),"",INDEX(NOMS!C:C,SMALL(IF(NOMS!$Q$15:$Q$150=1,ROW($A$15:$A$150),""),ROW()-11)))} -> 43553 | C13: {=IF(ROW()-11>COUNTIF(NOMS!$Q$15:$Q$150,"1"),"",INDEX(NOMS!F:F,SMALL(IF(NOMS!$Q$15:$Q$150=1,ROW($A$15:$A$150),""),ROW()-11)))} -> EST | D13: {=IF(ROW()-11>COUNTIF(NOMS!$Q$15:$Q$150,"1"),"",INDEX(NOMS!E:E,SMALL(IF(NOMS!$Q$15:$Q$150=1,ROW($A$15:$A$150),""),ROW()-11)))} -> FMPA TEST DEPT.
A14: 3 | B14: {=IF(ROW()-11>COUNTIF(NOMS!$Q$15:$Q$150,"1"),"",INDEX(NOMS!C:C,SMALL(IF(NOMS!$Q$15:$Q$150=1,ROW($A$15:$A$150),""),ROW()-11)))} -> 43598 | C14: {=IF(ROW()-11>COUNTIF(NOMS!$Q$15:$Q$150,"1"),"",INDEX(NOMS!F:F,SMALL(IF(NOMS!$Q$15:$Q$150=1,ROW($A$15:$A$150),""),ROW()-11)))} -> DIEPPE | D14: {=IF(ROW()-11>COUNTIF(NOMS!$Q$15:$Q$150,"1"),"",INDEX(NOMS!E:E,SMALL(IF(NOMS!$Q$15:$Q$150=1,ROW($A$15:$A$150),""),ROW()-11)))} -> FMPA LOCAL HTG
A15: 4 | B15: {=IF(ROW()-11>COUNTIF(NOMS!$Q$15:$Q$150,"1"),"",INDEX(NOMS!C:C,SMALL(IF(NOMS!$Q$15:$Q$150=1,ROW($A$15:$A$150),""),ROW()-11)))} -> 43605 | C15: {=IF(ROW()-11>COUNTIF(NOMS!$Q$15:$Q$150,"1"),"",INDEX(NOMS!F:F,SMALL(IF(NOMS!$Q$15:$Q$150=1,ROW($A$15:$A$150),""),ROW()-11)))} -> EST | D15: {=IF(ROW()-11>COUNTIF(NOMS!$Q$15:$Q$150,"1"),"",INDEX(NOMS!E:E,SMALL(IF(NOMS!$Q$15:$Q$150=1,ROW($A$15:$A$150),""),ROW()-11)))} -> FMPA SAV 3
A16: 5 | B16: {=IF(ROW()-11>COUNTIF(NOMS!$Q$15:$Q$150,"1"),"",INDEX(NOMS!C:C,SMALL(IF(NOMS!$Q$15:$Q$150=1,ROW($A$15:$A$150),""),ROW()-11)))} -> 43712 | C16: {=IF(ROW()-11>COUNTIF(NOMS!$Q$15:$Q$150,"1"),"",INDEX(NOMS!F:F,SMALL(IF(NOMS!$Q$15:$Q$150=1,ROW($A$15:$A$150),""),ROW()-11)))} -> DIEPPE | D16: {=IF(ROW()-11>COUNTIF(NOMS!$Q$15:$Q$150,"1"),"",INDEX(NOMS!E:E,SMALL(IF(NOMS!$Q$15:$Q$150=1,ROW($A$15:$A$150),""),ROW()-11)))} -> FMPA LOCAL HTG
A17: 6 | B17: {=IF(ROW()-11>COUNTIF(NOMS!$Q$15:$Q$150,"1"),"",INDEX(NOMS!C:C,SMALL(IF(NOMS!$Q$15:$Q$150=1,ROW($A$15:$A$150),""),ROW()-11)))} -> 43796 | C17: {=IF(ROW()-11>COUNTIF(NOMS!$Q$15:$Q$150,"1"),"",INDEX(NOMS!F:F,SMALL(IF(NOMS!$Q$15:$Q$150=1,ROW($A$15:$A$150),""),ROW()-11)))} -> DIEPPE | D17: {=IF(ROW()-11>COUNTIF(NOMS!$Q$15:$Q$150,"1"),"",INDEX(NOMS!E:E,SMALL(IF(NOMS!$Q$15:$Q$150=1,ROW($A$15:$A$150),""),ROW()-11)))} -> FMPA LOCAL HTG
A18: 7 | B18: {=IF(ROW()-11>COUNTIF(NOMS!$Q$15:$Q$150,"1"),"",INDEX(NOMS!C:C,SMALL(IF(NOMS!$Q$15:$Q$150=1,ROW($A$15:$A$150),""),ROW()-11)))} | C18: {=IF(ROW()-11>COUNTIF(NOMS!$Q$15:$Q$150,"1"),"",INDEX(NOMS!F:F,SMALL(IF(NOMS!$Q$15:$Q$150=1,ROW($A$15:$A$150),""),ROW()-11)))} | D18: {=IF(ROW()-11>COUNTIF(NOMS!$Q$15:$Q$150,"1"),"",INDEX(NOMS!E:E,SMALL(IF(NOMS!$Q$15:$Q$150=1,ROW($A$15:$A$150),""),ROW()-11)))}
A19: 8 | B19: {=IF(ROW()-11>COUNTIF(NOMS!$Q$15:$Q$150,"1"),"",INDEX(NOMS!C:C,SMALL(IF(NOMS!$Q$15:$Q$150=1,ROW($A$15:$A$150),""),ROW()-11)))} | C19: {=IF(ROW()-11>COUNTIF(NOMS!$Q$15:$Q$150,"1"),"",INDEX(NOMS!F:F,SMALL(IF(NOMS!$Q$15:$Q$150=1,ROW($A$15:$A$150),""),ROW()-11)))} | D19: {=IF(ROW()-11>COUNTIF(NOMS!$Q$15:$Q$150,"1"),"",INDEX(NOMS!E:E,SMALL(IF(NOMS!$Q$15:$Q$150=1,ROW($A$15:$A$150),""),ROW()-11)))}
A20: 9 | B20: {=IF(ROW()-11>COUNTIF(NOMS!$Q$15:$Q$150,"1"),"",INDEX(NOMS!C:C,SMALL(IF(NOMS!$Q$15:$Q$150=1,ROW($A$15:$A$150),""),ROW()-11)))} | C20: {=IF(ROW()-11>COUNTIF(NOMS!$Q$15:$Q$150,"1"),"",INDEX(NOMS!F:F,SMALL(IF(NOMS!$Q$15:$Q$150=1,ROW($A$15:$A$150),""),ROW()-11)))} | D20: {=IF(ROW()-11>COUNTIF(NOMS!$Q$15:$Q$150,"1"),"",INDEX(NOMS!E:E,SMALL(IF(NOMS!$Q$15:$Q$150=1,ROW($A$15:$A$150),""),ROW()-11)))}
A21: 10 | B21: {=IF(ROW()-11>COUNTIF(NOMS!$Q$15:$Q$150,"1"),"",INDEX(NOMS!C:C,SMALL(IF(NOMS!$Q$15:$Q$150=1,ROW($A$15:$A$150),""),ROW()-11)))} | C21: {=IF(ROW()-11>COUNTIF(NOMS!$Q$15:$Q$150,"1"),"",INDEX(NOMS!F:F,SMALL(IF(NOMS!$Q$15:$Q$150=1,ROW($A$15:$A$150),""),ROW()-11)))} | D21: {=IF(ROW()-11>COUNTIF(NOMS!$Q$15:$Q$150,"1"),"",INDEX(NOMS!E:E,SMALL(IF(NOMS!$Q$15:$Q$150=1,ROW($A$15:$A$150),""),ROW()-11)))}
A22: 11 | B22: {=IF(ROW()-11>COUNTIF(NOMS!$Q$15:$Q$150,"1"),"",INDEX(NOMS!C:C,SMALL(IF(NOMS!$Q$15:$Q$150=1,ROW($A$15:$A$150),""),ROW()-11)))} | C22: {=IF(ROW()-11>COUNTIF(NOMS!$Q$15:$Q$150,"1"),"",INDEX(NOMS!F:F,SMALL(IF(NOMS!$Q$15:$Q$150=1,ROW($A$15:$A$150),""),ROW()-11)))} | D22: {=IF(ROW()-11>COUNTIF(NOMS!$Q$15:$Q$150,"1"),"",INDEX(NOMS!E:E,SMALL(IF(NOMS!$Q$15:$Q$150=1,ROW($A$15:$A$150),""),ROW()-11)))}
A23: 12 | B23: {=IF(ROW()-11>COUNTIF(NOMS!$Q$15:$Q$150,"1"),"",INDEX(NOMS!C:C,SMALL(IF(NOMS!$Q$15:$Q$150=1,ROW($A$15:$A$150),""),ROW()-11)))} | C23: {=IF(ROW()-11>COUNTIF(NOMS!$Q$15:$Q$150,"1"),"",INDEX(NOMS!F:F,SMALL(IF(NOMS!$Q$15:$Q$150=1,ROW($A$15:$A$150),""),ROW()-11)))} | D23: {=IF(ROW()-11>COUNTIF(NOMS!$Q$15:$Q$150,"1"),"",INDEX(NOMS!E:E,SMALL(IF(NOMS!$Q$15:$Q$150=1,ROW($A$15:$A$150),""),ROW()-11)))}
... A71: 60 | B71: {=IF(ROW()-11>COUNTIF(NOMS!$Q$15:$Q$150,"1"),"",INDEX(NOMS!C:C,SMALL(IF(NOMS!$Q$15:$Q$150=1,ROW($A$15:$A$150),""),ROW()-11)))} | C71: {=IF(ROW()-11>COUNTIF(NOMS!$Q$15:$Q$150,"1"),"",INDEX(NOMS!F:F,SMALL(IF(NOMS!$Q$15:$Q$150=1,ROW($A$15:$A$150),""),ROW()-11)))} | D71: {=IF(ROW()-11>COUNTIF(NOMS!$Q$15:$Q$150,"1"),"",INDEX(NOMS!E:E,SMALL(IF(NOMS!$Q$15:$Q$150=1,ROW($A$15:$A$150),""),ROW()-11)))}

Sheet NOMS
A13: SEMESTRES | B13: JOURS | C13: DATES | D13: EQ. DE GARDE | E13: THEMES | F13: LIEUX | G13: NOMS DES AGENTS
G14: 1 | H14: 2 | I14: 3 | J14: 4 | K14: 5 | L14: 6 | M14: 7 | N14: 8 | O14: 9 | P14: 10 | Q14: =COUNTIF(G14:K14,RECAP!$C$3) -> 0
A15: SEMESTRE 1 | B15: =TEXT(C15,"Jjj") -> mar | C15: 43487 | D15: C | E15: FMPA LOCAL HTG | F15: DIEPPE | Q15: =COUNTIF(G15:K15,RECAP!$C$3) -> 0 | Z15: =CONCATENATE($E15,G15) -> FMPA LOCAL HTG | AA15: =CONCATENATE($E15,H15) -> FMPA LOCAL HTG | AB15: =CONCATENATE($E15,I15) -> FMPA LOCAL HTG | AC15: =CONCATENATE($E15,J15) -> FMPA LOCAL HTG | AD15: =CONCATENATE($E15,K15) -> FMPA LOCAL HTG | AE15: =CONCATENATE($E15,L15) -> FMPA LOCAL HTG | AF15: =CONCATENATE($E15,M15) -> FMPA LOCAL HTG | AG15: =CONCATENATE($E15,N15) -> FMPA LOCAL HTG | ... AI15: =CONCATENATE($E15,P15) -> FMPA LOCAL HTG | AJ15: =CONCATENATE($E15,#REF!) -> #REF! | AK15: =CONCATENATE($E15,Q15) -> FMPA LOCAL HTG0 | AL15: =CONCATENATE($E15,R15) -> FMPA LOCAL HTG | AM15: =CONCATENATE($E15,S15) -> FMPA LOCAL HTG | AN15: =CONCATENATE($E15,T15) -> FMPA LOCAL HTG | AO15: =CONCATENATE($E15,U15) -> FMPA LOCAL HTG | AP15: =CONCATENATE($E15,V15) -> FMPA LOCAL HTG | AQ15: =CONCATENATE($E15,W15) -> FMPA LOCAL HTG | AR15: =CONCATENATE($E15,X15) -> FMPA LOCAL HTG | AS15: =CONCATENATE($E15,Y15) -> FMPA LOCAL HTG
B16: =TEXT(C16,"Jjj") -> mer | C16: 43488 | D16: A | E16: FMPA LOCAL HTG | F16: DIEPPE | Q16: =COUNTIF(G16:K16,RECAP!$C$3) -> 0 | Z16: =CONCATENATE($E16,G16) -> FMPA LOCAL HTG | AA16: =CONCATENATE($E16,H16) -> FMPA LOCAL HTG | AB16: =CONCATENATE($E16,I16) -> FMPA LOCAL HTG | AC16: =CONCATENATE($E16,J16) -> FMPA LOCAL HTG | AD16: =CONCATENATE($E16,K16) -> FMPA LOCAL HTG | AE16: =CONCATENATE($E16,L16) -> FMPA LOCAL HTG | AF16: =CONCATENATE($E16,M16) -> FMPA LOCAL HTG | AG16: =CONCATENATE($E16,N16) -> FMPA LOCAL HTG | ... AI16: =CONCATENATE($E16,P16) -> FMPA LOCAL HTG | AJ16: =CONCATENATE($E16,#REF!) -> #REF! | AK16: =CONCATENATE($E16,Q16) -> FMPA LOCAL HTG0 | AL16: =CONCATENATE($E16,R16) -> FMPA LOCAL HTG | AM16: =CONCATENATE($E16,S16) -> FMPA LOCAL HTG | AN16: =CONCATENATE($E16,T16) -> FMPA LOCAL HTG | AO16: =CONCATENATE($E16,U16) -> FMPA LOCAL HTG | AP16: =CONCATENATE($E16,V16) -> FMPA LOCAL HTG | AQ16: =CONCATENATE($E16,W16) -> FMPA LOCAL HTG | AR16: =CONCATENATE($E16,X16) -> FMPA LOCAL HTG | AS16: =CONCATENATE($E16,Y16) -> FMPA LOCAL HTG
B17: =TEXT(C17,"Jjj") -> mer | C17: 43516 | D17: B | E17: FMPA LOCAL HTG | F17: DIEPPE | Q17: =COUNTIF(G17:K17,RECAP!$C$3) -> 0 | Z17: =CONCATENATE($E17,G17) -> FMPA LOCAL HTG | AA17: =CONCATENATE($E17,H17) -> FMPA LOCAL HTG | AB17: =CONCATENATE($E17,I17) -> FMPA LOCAL HTG | AC17: =CONCATENATE($E17,J17) -> FMPA LOCAL HTG | AD17: =CONCATENATE($E17,K17) -> FMPA LOCAL HTG | AE17: =CONCATENATE($E17,L17) -> FMPA LOCAL HTG | AF17: =CONCATENATE($E17,M17) -> FMPA LOCAL HTG | AG17: =CONCATENATE($E17,N17) -> FMPA LOCAL HTG | ... AI17: =CONCATENATE($E17,P17) -> FMPA LOCAL HTG | AJ17: =CONCATENATE($E17,#REF!) -> #REF! | AK17: =CONCATENATE($E17,Q17) -> FMPA LOCAL HTG0 | AL17: =CONCATENATE($E17,R17) -> FMPA LOCAL HTG | AM17: =CONCATENATE($E17,S17) -> FMPA LOCAL HTG | AN17: =CONCATENATE($E17,T17) -> FMPA LOCAL HTG | AO17: =CONCATENATE($E17,U17) -> FMPA LOCAL HTG | AP17: =CONCATENATE($E17,V17) -> FMPA LOCAL HTG | AQ17: =CONCATENATE($E17,W17) -> FMPA LOCAL HTG | AR17: =CONCATENATE($E17,X17) -> FMPA LOCAL HTG | AS17: =CONCATENATE($E17,Y17) -> FMPA LOCAL HTG
B18: =TEXT(C18,"Jjj") -> ven | C18: 43518 | D18: A | E18: FMPA LOCAL HTG | F18: DIEPPE | G18: YAHIAOUI | Q18: =COUNTIF(G18:K18,RECAP!$C$3) -> 0 | Z18: =CONCATENATE($E18,G18) -> FMPA LOCAL HTGYAHIAOUI | AA18: =CONCATENATE($E18,H18) -> FMPA LOCAL HTG | AB18: =CONCATENATE($E18,I18) -> FMPA LOCAL HTG | AC18: =CONCATENATE($E18,J18) -> FMPA LOCAL HTG | AD18: =CONCATENATE($E18,K18) -> FMPA LOCAL HTG | AE18: =CONCATENATE($E18,L18) -> FMPA LOCAL HTG | AF18: =CONCATENATE($E18,M18) -> FMPA LOCAL HTG | AG18: =CONCATENATE($E18,N18) -> FMPA LOCAL HTG | ... AI18: =CONCATENATE($E18,P18) -> FMPA LOCAL HTG | AJ18: =CONCATENATE($E18,#REF!) -> #REF! | AK18: =CONCATENATE($E18,Q18) -> FMPA LOCAL HTG0 | AL18: =CONCATENATE($E18,R18) -> FMPA LOCAL HTG | AM18: =CONCATENATE($E18,S18) -> FMPA LOCAL HTG | AN18: =CONCATENATE($E18,T18) -> FMPA LOCAL HTG | AO18: =CONCATENATE($E18,U18) -> FMPA LOCAL HTG | AP18: =CONCATENATE($E18,V18) -> FMPA LOCAL HTG | AQ18: =CONCATENATE($E18,W18) -> FMPA LOCAL HTG | AR18: =CONCATENATE($E18,X18) -> FMPA LOCAL HTG | AS18: =CONCATENATE($E18,Y18) -> FMPA LOCAL HTG
B19: =TEXT(C19,"Jjj") -> jeu | C19: 43524 | D19: A | E19: FMPA TEST DEPT. | F19: SUD | G19: DUPLESSIS | Q19: =COUNTIF(G19:K19,RECAP!$C$3) -> 0 | Z19: =CONCATENATE($E19,G19) -> FMPA TEST DEPT.DUPLESSIS | AA19: =CONCATENATE($E19,H19) -> FMPA TEST DEPT. | AB19: =CONCATENATE($E19,I19) -> FMPA TEST DEPT. | AC19: =CONCATENATE($E19,J19) -> FMPA TEST DEPT. | AD19: =CONCATENATE($E19,K19) -> FMPA TEST DEPT. | AE19: =CONCATENATE($E19,L19) -> FMPA TEST DEPT. | AF19: =CONCATENATE($E19,M19) -> FMPA TEST DEPT. | AG19: =CONCATENATE($E19,N19) -> FMPA TEST DEPT. | ... AI19: =CONCATENATE($E19,P19) -> FMPA TEST DEPT. | AJ19: =CONCATENATE($E19,#REF!) -> #REF! | AK19: =CONCATENATE($E19,Q19) -> FMPA TEST DEPT.0 | AL19: =CONCATENATE($E19,R19) -> FMPA TEST DEPT. | AM19: =CONCATENATE($E19,S19) -> FMPA TEST DEPT. | AN19: =CONCATENATE($E19,T19) -> FMPA TEST DEPT. | AO19: =CONCATENATE($E19,U19) -> FMPA TEST DEPT. | AP19: =CONCATENATE($E19,V19) -> FMPA TEST DEPT. | AQ19: =CONCATENATE($E19,W19) -> FMPA TEST DEPT. | AR19: =CONCATENATE($E19,X19) -> FMPA TEST DEPT. | AS19: =CONCATENATE($E19,Y19) -> FMPA TEST DEPT.
B20: =TEXT(C20,"Jjj") -> ven | C20: 43525 | D20: B | E20: FMPA TEST DEPT. | F20: EST | G20: JAMET | Q20: =COUNTIF(G20:K20,RECAP!$C$3) -> 0 | Z20: =CONCATENATE($E20,G20) -> FMPA TEST DEPT.JAMET | AA20: =CONCATENATE($E20,H20) -> FMPA TEST DEPT. | AB20: =CONCATENATE($E20,I20) -> FMPA TEST DEPT. | AC20: =CONCATENATE($E20,J20) -> FMPA TEST DEPT. | AD20: =CONCATENATE($E20,K20) -> FMPA TEST DEPT. | AE20: =CONCATENATE($E20,L20) -> FMPA TEST DEPT. | AF20: =CONCATENATE($E20,M20) -> FMPA TEST DEPT. | AG20: =CONCATENATE($E20,N20) -> FMPA TEST DEPT. | ... AI20: =CONCATENATE($E20,P20) -> FMPA TEST DEPT. | AJ20: =CONCATENATE($E20,#REF!) -> #REF! | AK20: =CONCATENATE($E20,Q20) -> FMPA TEST DEPT.0 | AL20: =CONCATENATE($E20,R20) -> FMPA TEST DEPT. | AM20: =CONCATENATE($E20,S20) -> FMPA TEST DEPT. | AN20: =CONCATENATE($E20,T20) -> FMPA TEST DEPT. | AO20: =CONCATENATE($E20,U20) -> FMPA TEST DEPT. | AP20: =CONCATENATE($E20,V20) -> FMPA TEST DEPT. | AQ20: =CONCATENATE($E20,W20) -> FMPA TEST DEPT. | AR20: =CONCATENATE($E20,X20) -> FMPA TEST DEPT. | AS20: =CONCATENATE($E20,Y20) -> FMPA TEST DEPT.
B21: =TEXT(C21,"Jjj") -> sam | C21: 43526 | D21: C | E21: FMPA TEST DEPT. | F21: SUD | Q21: =COUNTIF(G21:K21,RECAP!$C$3) -> 0 | Z21: =CONCATENATE($E21,G21) -> FMPA TEST DEPT. | AA21: =CONCATENATE($E21,H21) -> FMPA TEST DEPT. | AB21: =CONCATENATE($E21,I21) -> FMPA TEST DEPT. | AC21: =CONCATENATE($E21,J21) -> FMPA TEST DEPT. | AD21: =CONCATENATE($E21,K21) -> FMPA TEST DEPT. | AE21: =CONCATENATE($E21,L21) -> FMPA TEST DEPT. | AF21: =CONCATENATE($E21,M21) -> FMPA TEST DEPT. | AG21: =CONCATENATE($E21,N21) -> FMPA TEST DEPT. | ... AI21: =CONCATENATE($E21,P21) -> FMPA TEST DEPT. | AJ21: =CONCATENATE($E21,#REF!) -> #REF! | AK21: =CONCATENATE($E21,Q21) -> FMPA TEST DEPT.0 | AL21: =CONCATENATE($E21,R21) -> FMPA TEST DEPT. | AM21: =CONCATENATE($E21,S21) -> FMPA TEST DEPT. | AN21: =CONCATENATE($E21,T21) -> FMPA TEST DEPT. | AO21: =CONCATENATE($E21,U21) -> FMPA TEST DEPT. | AP21: =CONCATENATE($E21,V21) -> FMPA TEST DEPT. | AQ21: =CONCATENATE($E21,W21) -> FMPA TEST DEPT. | AR21: =CONCATENATE($E21,X21) -> FMPA TEST DEPT. | AS21: =CONCATENATE($E21,Y21) -> FMPA TEST DEPT.
B22: =TEXT(C22,"Jjj") -> jeu | C22: 43538 | D22: C | E22: FMPA TEST DEPT. | F22: OUEST | Q22: =COUNTIF(G22:K22,RECAP!$C$3) -> 0 | Z22: =CONCATENATE($E22,G22) -> FMPA TEST DEPT. | AA22: =CONCATENATE($E22,H22) -> FMPA TEST DEPT. | AB22: =CONCATENATE($E22,I22) -> FMPA TEST DEPT. | AC22: =CONCATENATE($E22,J22) -> FMPA TEST DEPT. | AD22: =CONCATENATE($E22,K22) -> FMPA TEST DEPT. | AE22: =CONCATENATE($E22,L22) -> FMPA TEST DEPT. | AF22: =CONCATENATE($E22,M22) -> FMPA TEST DEPT. | AG22: =CONCATENATE($E22,N22) -> FMPA TEST DEPT. | ... AI22: =CONCATENATE($E22,P22) -> FMPA TEST DEPT. | AJ22: =CONCATENATE($E22,#REF!) -> #REF! | AK22: =CONCATENATE($E22,Q22) -> FMPA TEST DEPT.0 | AL22: =CONCATENATE($E22,R22) -> FMPA TEST DEPT. | AM22: =CONCATENATE($E22,S22) -> FMPA TEST DEPT. | AN22: =CONCATENATE($E22,T22) -> FMPA TEST DEPT. | AO22: =CONCATENATE($E22,U22) -> FMPA TEST DEPT. | AP22: =CONCATENATE($E22,V22) -> FMPA TEST DEPT. | AQ22: =CONCATENATE($E22,W22) -> FMPA TEST DEPT. | AR22: =CONCATENATE($E22,X22) -> FMPA TEST DEPT. | AS22: =CONCATENATE($E22,Y22) -> FMPA TEST DEPT.
B23: =TEXT(C23,"Jjj") -> ven | C23: 43539 | D23: A | E23: FMPA TEST DEPT. | F23: EST | G23: CHARTIER | Q23: =COUNTIF(G23:K23,RECAP!$C$3) -> 0 | Z23: =CONCATENATE($E23,G23) -> FMPA TEST DEPT.CHARTIER | AA23: =CONCATENATE($E23,H23) -> FMPA TEST DEPT. | AB23: =CONCATENATE($E23,I23) -> FMPA TEST DEPT. | AC23: =CONCATENATE($E23,J23) -> FMPA TEST DEPT. | AD23: =CONCATENATE($E23,K23) -> FMPA TEST DEPT. | AE23: =CONCATENATE($E23,L23) -> FMPA TEST DEPT. | AF23: =CONCATENATE($E23,M23) -> FMPA TEST DEPT. | AG23: =CONCATENATE($E23,N23) -> FMPA TEST DEPT. | ... AI23: =CONCATENATE($E23,P23) -> FMPA TEST DEPT. | AJ23: =CONCATENATE($E23,#REF!) -> #REF! | AK23: =CONCATENATE($E23,Q23) -> FMPA TEST DEPT.0 | AL23: =CONCATENATE($E23,R23) -> FMPA TEST DEPT. | AM23: =CONCATENATE($E23,S23) -> FMPA TEST DEPT. | AN23: =CONCATENATE($E23,T23) -> FMPA TEST DEPT. | AO23: =CONCATENATE($E23,U23) -> FMPA TEST DEPT. | AP23: =CONCATENATE($E23,V23) -> FMPA TEST DEPT. | AQ23: =CONCATENATE($E23,W23) -> FMPA TEST DEPT. | AR23: =CONCATENATE($E23,X23) -> FMPA TEST DEPT. | AS23: =CONCATENATE($E23,Y23) -> FMPA TEST DEPT.
B24: =TEXT(C24,"Jjj") -> mer | C24: 43544 | D24: C | E24: FMPA LOCAL HTG | F24: DIEPPE | G24: HERVE | H24: LENOIR | I24: LEFRANCOIS | Q24: =COUNTIF(G24:K24,RECAP!$C$3) -> 1 | Z24: =CONCATENATE($E24,G24) -> FMPA LOCAL HTGHERVE | AA24: =CONCATENATE($E24,H24) -> FMPA LOCAL HTGLENOIR | AB24: =CONCATENATE($E24,I24) -> FMPA LOCAL HTGLEFRANCOIS | AC24: =CONCATENATE($E24,J24) -> FMPA LOCAL HTG | AD24: =CONCATENATE($E24,K24) -> FMPA LOCAL HTG | AE24: =CONCATENATE($E24,L24) -> FMPA LOCAL HTG | AF24: =CONCATENATE($E24,M24) -> FMPA LOCAL HTG | AG24: =CONCATENATE($E24,N24) -> FMPA LOCAL HTG | ... AI24: =CONCATENATE($E24,P24) -> FMPA LOCAL HTG | AJ24: =CONCATENATE($E24,#REF!) -> #REF! | AK24: =CONCATENATE($E24,Q24) -> FMPA LOCAL HTG1 | AL24: =CONCATENATE($E24,R24) -> FMPA LOCAL HTG | AM24: =CONCATENATE($E24,S24) -> FMPA LOCAL HTG | AN24: =CONCATENATE($E24,T24) -> FMPA LOCAL HTG | AO24: =CONCATENATE($E24,U24) -> FMPA LOCAL HTG | AP24: =CONCATENATE($E24,V24) -> FMPA LOCAL HTG | AQ24: =CONCATENATE($E24,W24) -> FMPA LOCAL HTG | AR24: =CONCATENATE($E24,X24) -> FMPA LOCAL HTG | AS24: =CONCATENATE($E24,Y24) -> FMPA LOCAL HTG
B25: =TEXT(C25,"Jjj") -> ven | C25: 43546 | D25: B | E25: FMPA LOCAL HTG | F25: DIEPPE | Q25: =COUNTIF(G25:K25,RECAP!$C$3) -> 0 | Z25: =CONCATENATE($E25,G25) -> FMPA LOCAL HTG | AA25: =CONCATENATE($E25,H25) -> FMPA LOCAL HTG | AB25: =CONCATENATE($E25,I25) -> FMPA LOCAL HTG | AC25: =CONCATENATE($E25,J25) -> FMPA LOCAL HTG | AD25: =CONCATENATE($E25,K25) -> FMPA LOCAL HTG | AE25: =CONCATENATE($E25,L25) -> FMPA LOCAL HTG | AF25: =CONCATENATE($E25,M25) -> FMPA LOCAL HTG | AG25: =CONCATENATE($E25,N25) -> FMPA LOCAL HTG | ... AI25: =CONCATENATE($E25,P25) -> FMPA LOCAL HTG | AJ25: =CONCATENATE($E25,#REF!) -> #REF! | AK25: =CONCATENATE($E25,Q25) -> FMPA LOCAL HTG0 | AL25: =CONCATENATE($E25,R25) -> FMPA LOCAL HTG | AM25: =CONCATENATE($E25,S25) -> FMPA LOCAL HTG | AN25: =CONCATENATE($E25,T25) -> FMPA LOCAL HTG | AO25: =CONCATENATE($E25,U25) -> FMPA LOCAL HTG | AP25: =CONCATENATE($E25,V25) -> FMPA LOCAL HTG | AQ25: =CONCATENATE($E25,W25) -> FMPA LOCAL HTG | AR25: =CONCATENATE($E25,X25) -> FMPA LOCAL HTG | AS25: =CONCATENATE($E25,Y25) -> FMPA LOCAL HTG
B26: =TEXT(C26,"Jjj") -> ven | C26: 43553 | D26: C | E26: FMPA TEST DEPT. | F26: EST | G26: VIOGNE | H26: LEFRANCOIS | I26: GRANDSIRE | J26: HERVE | K26: DUVAL | Q26: =COUNTIF(G26:K26,RECAP!$C$3) -> 1 | Z26: =CONCATENATE($E26,G26) -> FMPA TEST DEPT.VIOGNE | AA26: =CONCATENATE($E26,H26) -> FMPA TEST DEPT.LEFRANCOIS | AB26: =CONCATENATE($E26,I26) -> FMPA TEST DEPT.GRANDSIRE | AC26: =CONCATENATE($E26,J26) -> FMPA TEST DEPT.HERVE | AD26: =CONCATENATE($E26,K26) -> FMPA TEST DEPT.DUVAL | AE26: =CONCATENATE($E26,L26) -> FMPA TEST DEPT. | AF26: =CONCATENATE($E26,M26) -> FMPA TEST DEPT. | AG26: =CONCATENATE($E26,N26) -> FMPA TEST DEPT. | ... AI26: =CONCATENATE($E26,P26) -> FMPA TEST DEPT. | AJ26: =CONCATENATE($E26,#REF!) -> #REF! | AK26: =CONCATENATE($E26,Q26) -> FMPA TEST DEPT.1 | AL26: =CONCATENATE($E26,R26) -> FMPA TEST DEPT. | AM26: =CONCATENATE($E26,S26) -> FMPA TEST DEPT. | AN26: =CONCATENATE($E26,T26) -> FMPA TEST DEPT. | AO26: =CONCATENATE($E26,U26) -> FMPA TEST DEPT. | AP26: =CONCATENATE($E26,V26) -> FMPA TEST DEPT. | AQ26: =CONCATENATE($E26,W26) -> FMPA TEST DEPT. | AR26: =CONCATENATE($E26,X26) -> FMPA TEST DEPT. | AS26: =CONCATENATE($E26,Y26) -> FMPA TEST DEPT.
B27: =TEXT(C27,"Jjj") -> sam | C27: 43554 | D27: A | E27: FMPA TEST DEPT. | F27: OUEST | Q27: =COUNTIF(G27:K27,RECAP!$C$3) -> 0 | Z27: =CONCATENATE($E27,G27) -> FMPA TEST DEPT. | AA27: =CONCATENATE($E27,H27) -> FMPA TEST DEPT. | AB27: =CONCATENATE($E27,I27) -> FMPA TEST DEPT. | AC27: =CONCATENATE($E27,J27) -> FMPA TEST DEPT. | AD27: =CONCATENATE($E27,K27) -> FMPA TEST DEPT. | AE27: =CONCATENATE($E27,L27) -> FMPA TEST DEPT. | AF27: =CONCATENATE($E27,M27) -> FMPA TEST DEPT. | AG27: =CONCATENATE($E27,N27) -> FMPA TEST DEPT. | ... AI27: =CONCATENATE($E27,P27) -> FMPA TEST DEPT. | AJ27: =CONCATENATE($E27,#REF!) -> #REF! | AK27: =CONCATENATE($E27,Q27) -> FMPA TEST DEPT.0 | AL27: =CONCATENATE($E27,R27) -> FMPA TEST DEPT. | AM27: =CONCATENATE($E27,S27) -> FMPA TEST DEPT. | AN27: =CONCATENATE($E27,T27) -> FMPA TEST DEPT. | AO27: =CONCATENATE($E27,U27) -> FMPA TEST DEPT. | AP27: =CONCATENATE($E27,V27) -> FMPA TEST DEPT. | AQ27: =CONCATENATE($E27,W27) -> FMPA TEST DEPT. | AR27: =CONCATENATE($E27,X27) -> FMPA TEST DEPT. | AS27: =CONCATENATE($E27,Y27) -> FMPA TEST DEPT.
B28: =TEXT(C28,"Jjj") -> ven | C28: 43560 | D28: A | E28: FMPA LOCAL HTG | F28: DIEPPE | G28: YAHIAOUI | H28: DUVAL | I28: LABOULAIS | Q28: =COUNTIF(G28:K28,RECAP!$C$3) -> 0 | Z28: =CONCATENATE($E28,G28) -> FMPA LOCAL HTGYAHIAOUI | AA28: =CONCATENATE($E28,H28) -> FMPA LOCAL HTGDUVAL | AB28: =CONCATENATE($E28,I28) -> FMPA LOCAL HTGLABOULAIS | AC28: =CONCATENATE($E28,J28) -> FMPA LOCAL HTG | AD28: =CONCATENATE($E28,K28) -> FMPA LOCAL HTG | AE28: =CONCATENATE($E28,L28) -> FMPA LOCAL HTG | AF28: =CONCATENATE($E28,M28) -> FMPA LOCAL HTG | AG28: =CONCATENATE($E28,N28) -> FMPA LOCAL HTG | ... AI28: =CONCATENATE($E28,P28) -> FMPA LOCAL HTG | AJ28: =CONCATENATE($E28,#REF!) -> #REF! | AK28: =CONCATENATE($E28,Q28) -> FMPA LOCAL HTG0 | AL28: =CONCATENATE($E28,R28) -> FMPA LOCAL HTG | AM28: =CONCATENATE($E28,S28) -> FMPA LOCAL HTG | AN28: =CONCATENATE($E28,T28) -> FMPA LOCAL HTG | AO28: =CONCATENATE($E28,U28) -> FMPA LOCAL HTG | AP28: =CONCATENATE($E28,V28) -> FMPA LOCAL HTG | AQ28: =CONCATENATE($E28,W28) -> FMPA LOCAL HTG | AR28: =CONCATENATE($E28,X28) -> FMPA LOCAL HTG | AS28: =CONCATENATE($E28,Y28) -> FMPA LOCAL HTG
B29: =TEXT(C29,"Jjj") -> mer | C29: 43579 | D29: B | E29: FMPA LOCAL HTG | F29: DIEPPE | Q29: =COUNTIF(G29:K29,RECAP!$C$3) -> 0 | Z29: =CONCATENATE($E29,G29) -> FMPA LOCAL HTG | AA29: =CONCATENATE($E29,H29) -> FMPA LOCAL HTG | AB29: =CONCATENATE($E29,I29) -> FMPA LOCAL HTG | AC29: =CONCATENATE($E29,J29) -> FMPA LOCAL HTG | AD29: =CONCATENATE($E29,K29) -> FMPA LOCAL HTG | AE29: =CONCATENATE($E29,L29) -> FMPA LOCAL HTG | AF29: =CONCATENATE($E29,M29) -> FMPA LOCAL HTG | AG29: =CONCATENATE($E29,N29) -> FMPA LOCAL HTG | ... AI29: =CONCATENATE($E29,P29) -> FMPA LOCAL HTG | AJ29: =CONCATENATE($E29,#REF!) -> #REF! | AK29: =CONCATENATE($E29,Q30) -> FMPA LOCAL HTG1 | AL29: =CONCATENATE($E29,R29) -> FMPA LOCAL HTG | AM29: =CONCATENATE($E29,S29) -> FMPA LOCAL HTG | AN29: =CONCATENATE($E29,T29) -> FMPA LOCAL HTG | AO29: =CONCATENATE($E29,U29) -> FMPA LOCAL HTG | AP29: =CONCATENATE($E29,V29) -> FMPA LOCAL HTG | AQ29: =CONCATENATE($E29,W29) -> FMPA LOCAL HTG | AR29: =CONCATENATE($E29,X29) -> FMPA LOCAL HTG | AS29: =CONCATENATE($E29,Y29) -> FMPA LOCAL HTG
B30: =TEXT(C30,"Jjj") -> lun | C30: 43598 | D30: C | E30: FMPA LOCAL HTG | F30: DIEPPE | G30: VIOGNE | H30: LENOIR | I30: LEFRANCOIS | J30: GRANDSIRE | K30: PAILLETTE | Q30: =COUNTIF(G30:K30,RECAP!$C$3) -> 1 | Z30: =CONCATENATE($E30,G30) -> FMPA LOCAL HTGVIOGNE | AA30: =CONCATENATE($E30,H30) -> FMPA LOCAL HTGLENOIR | AB30: =CONCATENATE($E30,I30) -> FMPA LOCAL HTGLEFRANCOIS | AC30: =CONCATENATE($E30,J30) -> FMPA LOCAL HTGGRANDSIRE | AD30: =CONCATENATE($E30,K30) -> FMPA LOCAL HTGPAILLETTE | AE30: =CONCATENATE($E30,L30) -> FMPA LOCAL HTG | AF30: =CONCATENATE($E30,M30) -> FMPA LOCAL HTG | AG30: =CONCATENATE($E30,N30) -> FMPA LOCAL HTG | ... AI30: =CONCATENATE($E30,P30) -> FMPA LOCAL HTG | AJ30: =CONCATENATE($E30,#REF!) -> #REF! | AK30: =CONCATENATE($E30,#REF!) -> #REF! | AL30: =CONCATENATE($E30,R30) -> FMPA LOCAL HTG | AM30: =CONCATENATE($E30,S30) -> FMPA LOCAL HTG | AN30: =CONCATENATE($E30,T30) -> FMPA LOCAL HTG | AO30: =CONCATENATE($E30,U30) -> FMPA LOCAL HTG | AP30: =CONCATENATE($E30,V30) -> FMPA LOCAL HTG | AQ30: =CONCATENATE($E30,W30) -> FMPA LOCAL HTG | AR30: =CONCATENATE($E30,X30) -> FMPA LOCAL HTG | AS30: =CONCATENATE($E30,Y30) -> FMPA LOCAL HTG
B31: =TEXT(C31,"Jjj") -> ven | C31: 43602 | D31: A | E31: FMPA TEST DEPT. | F31: EST | G31: JAN | H31: DOLE | I31: LABOULAIS | J31: PAILLETTE | Q31: =COUNTIF(G31:K31,RECAP!$C$3) -> 0 | Z31: =CONCATENATE($E31,G31) -> FMPA TEST DEPT.JAN | AA31: =CONCATENATE($E31,H31) -> FMPA TEST DEPT.DOLE | AB31: =CONCATENATE($E31,I31) -> FMPA TEST DEPT.LABOULAIS | AC31: =CONCATENATE($E31,J31) -> FMPA TEST DEPT.PAILLETTE | AD31: =CONCATENATE($E31,K31) -> FMPA TEST DEPT. | AE31: =CONCATENATE($E31,L31) -> FMPA TEST DEPT. | AF31: =CONCATENATE($E31,M31) -> FMPA TEST DEPT. | AG31: =CONCATENATE($E31,N31) -> FMPA TEST DEPT. | ... AI31: =CONCATENATE($E31,P31) -> FMPA TEST DEPT. | AJ31: =CONCATENATE($E31,#REF!) -> #REF! | AK31: =CONCATENATE($E31,Q31) -> FMPA TEST DEPT.0 | AL31: =CONCATENATE($E31,R31) -> FMPA TEST DEPT. | AM31: =CONCATENATE($E31,S31) -> FMPA TEST DEPT. | AN31: =CONCATENATE($E31,T31) -> FMPA TEST DEPT. | AO31: =CONCATENATE($E31,U31) -> FMPA TEST DEPT. | AP31: =CONCATENATE($E31,V31) -> FMPA TEST DEPT. | AQ31: =CONCATENATE($E31,W31) -> FMPA TEST DEPT. | AR31: =CONCATENATE($E31,X31) -> FMPA TEST DEPT. | AS31: =CONCATENATE($E31,Y31) -> FMPA TEST DEPT.
B32: =TEXT(C32,"Jjj") -> sam | C32: 43603 | D32: B | E32: FMPA TEST DEPT. | F32: SUD | Q32: =COUNTIF(G32:K32,RECAP!$C$3) -> 0 | Z32: =CONCATENATE($E32,G32) -> FMPA TEST DEPT. | AA32: =CONCATENATE($E32,H32) -> FMPA TEST DEPT. | AB32: =CONCATENATE($E32,I32) -> FMPA TEST DEPT. | AC32: =CONCATENATE($E32,J32) -> FMPA TEST DEPT. | AD32: =CONCATENATE($E32,K32) -> FMPA TEST DEPT. | AE32: =CONCATENATE($E32,L32) -> FMPA TEST DEPT. | AF32: =CONCATENATE($E32,M32) -> FMPA TEST DEPT. | AG32: =CONCATENATE($E32,N32) -> FMPA TEST DEPT. | ... AI32: =CONCATENATE($E32,P32) -> FMPA TEST DEPT. | AJ32: =CONCATENATE($E32,#REF!) -> #REF! | AK32: =CONCATENATE($E32,Q32) -> FMPA TEST DEPT.0 | AL32: =CONCATENATE($E32,R32) -> FMPA TEST DEPT. | AM32: =CONCATENATE($E32,S32) -> FMPA TEST DEPT. | AN32: =CONCATENATE($E32,T32) -> FMPA TEST DEPT. | AO32: =CONCATENATE($E32,U32) -> FMPA TEST DEPT. | AP32: =CONCATENATE($E32,V32) -> FMPA TEST DEPT. | AQ32: =CONCATENATE($E32,W32) -> FMPA TEST DEPT. | AR32: =CONCATENATE($E32,X32) -> FMPA TEST DEPT. | AS32: =CONCATENATE($E32,Y32) -> FMPA TEST DEPT.
B33: =TEXT(C33,"Jjj") -> lun | C33: 43605 | D33: A | E33: FMPA SAV 3 | F33: EST | G33: ROCHETTE | H33: YAHIAOUI | I33: JAN | J33: LEFRANCOIS | Q33: =COUNTIF(G33:K33,RECAP!$C$3) -> 1 | Z33: =CONCATENATE($E33,G33) -> FMPA SAV 3ROCHETTE | AA33: =CONCATENATE($E33,H33) -> FMPA SAV 3YAHIAOUI | AB33: =CONCATENATE($E33,I33) -> FMPA SAV 3JAN | AC33: =CONCATENATE($E33,J33) -> FMPA SAV 3LEFRANCOIS | AD33: =CONCATENATE($E33,K33) -> FMPA SAV 3 | AE33: =CONCATENATE($E33,L33) -> FMPA SAV 3 | AF33: =CONCATENATE($E33,M33) -> FMPA SAV 3 | AG33: =CONCATENATE($E33,N33) -> FMPA SAV 3 | ... AI33: =CONCATENATE($E33,P33) -> FMPA SAV 3 | AJ33: =CONCATENATE($E33,#REF!) -> #REF! | AK33: =CONCATENATE($E33,Q33) -> FMPA SAV 31 | AL33: =CONCATENATE($E33,R33) -> FMPA SAV 3 | AM33: =CONCATENATE($E33,S33) -> FMPA SAV 3 | AN33: =CONCATENATE($E33,T33) -> FMPA SAV 3 | AO33: =CONCATENATE($E33,U33) -> FMPA SAV 3 | AP33: =CONCATENATE($E33,V33) -> FMPA SAV 3 | AQ33: =CONCATENATE($E33,W33) -> FMPA SAV 3 | AR33: =CONCATENATE($E33,X33) -> FMPA SAV 3 | AS33: =CONCATENATE($E33,Y33) -> FMPA SAV 3
B34: =TEXT(C34,"Jjj") -> mar | C34: 43606 | D34: B | E34: FMPA SAV 3 | F34: OUEST | G34: JAMET | H34: VIOGNE | Q34: =COUNTIF(G34:K34,RECAP!$C$3) -> 0 | Z34: =CONCATENATE($E34,G34) -> FMPA SAV 3JAMET | AA34: =CONCATENATE($E34,H34) -> FMPA SAV 3VIOGNE | AB34: =CONCATENATE($E34,I34) -> FMPA SAV 3 | AC34: =CONCATENATE($E34,J34) -> FMPA SAV 3 | AD34: =CONCATENATE($E34,K34) -> FMPA SAV 3 | AE34: =CONCATENATE($E34,L34) -> FMPA SAV 3 | AF34: =CONCATENATE($E34,M34) -> FMPA SAV 3 | AG34: =CONCATENATE($E34,N34) -> FMPA SAV 3 | ... AI34: =CONCATENATE($E34,P34) -> FMPA SAV 3 | AJ34: =CONCATENATE($E34,#REF!) -> #REF! | AK34: =CONCATENATE($E34,Q34) -> FMPA SAV 30 | AL34: =CONCATENATE($E34,R34) -> FMPA SAV 3 | AM34: =CONCATENATE($E34,S34) -> FMPA SAV 3 | AN34: =CONCATENATE($E34,T34) -> FMPA SAV 3 | AO34: =CONCATENATE($E34,U34) -> FMPA SAV 3 | AP34: =CONCATENATE($E34,V34) -> FMPA SAV 3 | AQ34: =CONCATENATE($E34,W34) -> FMPA SAV 3 | AR34: =CONCATENATE($E34,X34) -> FMPA SAV 3 | AS34: =CONCATENATE($E34,Y34) -> FMPA SAV 3
B35: =TEXT(C35,"Jjj") -> mar | C35: 43606 | D35: B | E35: FMPA LOCAL HTG | F35: DIEPPE | Q35: =COUNTIF(G35:K35,RECAP!$C$3) -> 0 | Z35: =CONCATENATE($E35,G35) -> FMPA LOCAL HTG | AA35: =CONCATENATE($E35,H35) -> FMPA LOCAL HTG | AB35: =CONCATENATE($E35,I35) -> FMPA LOCAL HTG | AC35: =CONCATENATE($E35,J35) -> FMPA LOCAL HTG | AD35: =CONCATENATE($E35,K35) -> FMPA LOCAL HTG | AE35: =CONCATENATE($E35,L35) -> FMPA LOCAL HTG | AF35: =CONCATENATE($E35,M35) -> FMPA LOCAL HTG | AG35: =CONCATENATE($E35,N35) -> FMPA LOCAL HTG | ... AI35: =CONCATENATE($E35,P35) -> FMPA LOCAL HTG | AJ35: =CONCATENATE($E35,#REF!) -> #REF! | AK35: =CONCATENATE($E35,Q35) -> FMPA LOCAL HTG0 | AL35: =CONCATENATE($E35,R35) -> FMPA LOCAL HTG | AM35: =CONCATENATE($E35,S35) -> FMPA LOCAL HTG | AN35: =CONCATENATE($E35,T35) -> FMPA LOCAL HTG | AO35: =CONCATENATE($E35,U35) -> FMPA LOCAL HTG | AP35: =CONCATENATE($E35,V35) -> FMPA LOCAL HTG | AQ35: =CONCATENATE($E35,W35) -> FMPA LOCAL HTG | AR35: =CONCATENATE($E35,X35) -> FMPA LOCAL HTG | AS35: =CONCATENATE($E35,Y35) -> FMPA LOCAL HTG
B36: =TEXT(C36,"Jjj") -> mer | C36: 43607 | D36: C | E36: FMPA LOCAL HTG | F36: DIEPPE | G36: HERVE | H36: VIOGNE | Q36: =COUNTIF(G36:K36,RECAP!$C$3) -> 0 | Z36: =CONCATENATE($E36,G36) -> FMPA LOCAL HTGHERVE | AA36: =CONCATENATE($E36,H36) -> FMPA LOCAL HTGVIOGNE | AB36: =CONCATENATE($E36,I36) -> FMPA LOCAL HTG | AC36: =CONCATENATE($E36,J36) -> FMPA LOCAL HTG | AD36: =CONCATENATE($E36,K36) -> FMPA LOCAL HTG | AE36: =CONCATENATE($E36,L36) -> FMPA LOCAL HTG | AF36: =CONCATENATE($E36,M36) -> FMPA LOCAL HTG | AG36: =CONCATENATE($E36,N36) -> FMPA LOCAL HTG | ... AI36: =CONCATENATE($E36,P36) -> FMPA LOCAL HTG | AJ36: =CONCATENATE($E36,#REF!) -> #REF! | AK36: =CONCATENATE($E36,Q36) -> FMPA LOCAL HTG0 | AL36: =CONCATENATE($E36,R36) -> FMPA LOCAL HTG | AM36: =CONCATENATE($E36,S36) -> FMPA LOCAL HTG | AN36: =CONCATENATE($E36,T36) -> FMPA LOCAL HTG | AO36: =CONCATENATE($E36,U36) -> FMPA LOCAL HTG | AP36: =CONCATENATE($E36,V36) -> FMPA LOCAL HTG | AQ36: =CONCATENATE($E36,W36) -> FMPA LOCAL HTG | AR36: =CONCATENATE($E36,X36) -> FMPA LOCAL HTG | AS36: =CONCATENATE($E36,Y36) -> FMPA LOCAL HTG
B37: =TEXT(C37,"Jjj") -> mer | C37: 43621 | D37: B | E37: FMPA LOCAL HTG | F37: DIEPPE | G37: DUVAL | Q37: =COUNTIF(G37:K37,RECAP!$C$3) -> 0 | Z37: =CONCATENATE($E37,G37) -> FMPA LOCAL HTGDUVAL | AA37: =CONCATENATE($E37,H37) -> FMPA LOCAL HTG | AB37: =CONCATENATE($E37,I37) -> FMPA LOCAL HTG | AC37: =CONCATENATE($E37,J37) -> FMPA LOCAL HTG | AD37: =CONCATENATE($E37,K37) -> FMPA LOCAL HTG | AE37: =CONCATENATE($E37,L37) -> FMPA LOCAL HTG | AF37: =CONCATENATE($E37,M37) -> FMPA LOCAL HTG | AG37: =CONCATENATE($E37,N37) -> FMPA LOCAL HTG | ... AI37: =CONCATENATE($E37,P37) -> FMPA LOCAL HTG | AJ37: =CONCATENATE($E37,#REF!) -> #REF! | AK37: =CONCATENATE($E37,Q37) -> FMPA LOCAL HTG0 | AL37: =CONCATENATE($E37,R37) -> FMPA LOCAL HTG | AM37: =CONCATENATE($E37,S37) -> FMPA LOCAL HTG | AN37: =CONCATENATE($E37,T37) -> FMPA LOCAL HTG | AO37: =CONCATENATE($E37,U37) -> FMPA LOCAL HTG | AP37: =CONCATENATE($E37,V37) -> FMPA LOCAL HTG | AQ37: =CONCATENATE($E37,W37) -> FMPA LOCAL HTG | AR37: =CONCATENATE($E37,X37) -> FMPA LOCAL HTG | AS37: =CONCATENATE($E37,Y37) -> FMPA LOCAL HTG
B38: =TEXT(C38,"Jjj") -> ven | C38: 43623 | D38: A | E38: FMPA LOCAL HTG | F38: DIEPPE | G38: PAILLETTE | Q38: =COUNTIF(G38:K38,RECAP!$C$3) -> 0 | Z38: =CONCATENATE($E38,G38) -> FMPA LOCAL HTGPAILLETTE | AA38: =CONCATENATE($E38,H38) -> FMPA LOCAL HTG | AB38: =CONCATENATE($E38,I38) -> FMPA LOCAL HTG | AC38: =CONCATENATE($E38,J38) -> FMPA LOCAL HTG | AD38: =CONCATENATE($E38,K38) -> FMPA LOCAL HTG | AE38: =CONCATENATE($E38,L38) -> FMPA LOCAL HTG | AF38: =CONCATENATE($E38,M38) -> FMPA LOCAL HTG | AG38: =CONCATENATE($E38,N38) -> FMPA LOCAL HTG | ... AI38: =CONCATENATE($E38,P38) -> FMPA LOCAL HTG | AJ38: =CONCATENATE($E38,#REF!) -> #REF! | AK38: =CONCATENATE($E38,Q38) -> FMPA LOCAL HTG0 | AL38: =CONCATENATE($E38,R38) -> FMPA LOCAL HTG | AM38: =CONCATENATE($E38,S38) -> FMPA LOCAL HTG | AN38: =CONCATENATE($E38,T38) -> FMPA LOCAL HTG | AO38: =CONCATENATE($E38,U38) -> FMPA LOCAL HTG | AP38: =CONCATENATE($E38,V38) -> FMPA LOCAL HTG | AQ38: =CONCATENATE($E38,W38) -> FMPA LOCAL HTG | AR38: =CONCATENATE($E38,X38) -> FMPA LOCAL HTG | AS38: =CONCATENATE($E38,Y38) -> FMPA LOCAL HTG
A39: SEMESTRE 2 | B39: =TEXT(C39,"Jjj") -> mer | C39: 43649 | D39: C | E39: FMPA LOCAL HTG | F39: DIEPPE | G39: LENOIR | H39: DUVAL | Q39: =COUNTIF(G39:K39,RECAP!$C$3) -> 0 | Z39: =CONCATENATE($E39,G39) -> FMPA LOCAL HTGLENOIR | AA39: =CONCATENATE($E39,H39) -> FMPA LOCAL HTGDUVAL | AB39: =CONCATENATE($E39,I39) -> FMPA LOCAL HTG | AC39: =CONCATENATE($E39,J39) -> FMPA LOCAL HTG | AD39: =CONCATENATE($E39,K39) -> FMPA LOCAL HTG | AE39: =CONCATENATE($E39,L39) -> FMPA LOCAL HTG | AF39: =CONCATENATE($E39,M39) -> FMPA LOCAL HTG | AG39: =CONCATENATE($E39,N39) -> FMPA LOCAL HTG | ... AI39: =CONCATENATE($E39,P39) -> FMPA LOCAL HTG | AJ39: =CONCATENATE($E39,#REF!) -> #REF! | AK39: =CONCATENATE($E39,Q39) -> FMPA LOCAL HTG0 | AL39: =CONCATENATE($E39,R39) -> FMPA LOCAL HTG | AM39: =CONCATENATE($E39,S39) -> FMPA LOCAL HTG | AN39: =CONCATENATE($E39,T39) -> FMPA LOCAL HTG | AO39: =CONCATENATE($E39,U39) -> FMPA LOCAL HTG | AP39: =CONCATENATE($E39,V39) -> FMPA LOCAL HTG | AQ39: =CONCATENATE($E39,W39) -> FMPA LOCAL HTG | AR39: =CONCATENATE($E39,X39) -> FMPA LOCAL HTG | AS39: =CONCATENATE($E39,Y39) -> FMPA LOCAL HTG
B40: =TEXT(C40,"Jjj") -> ven | C40: 43651 | D40: B | E40: FMPA LOCAL HTG | F40: DIEPPE | Q40: =COUNTIF(G40:K40,RECAP!$C$3) -> 0 | Z40: =CONCATENATE($E40,G40) -> FMPA LOCAL HTG | AA40: =CONCATENATE($E40,H40) -> FMPA LOCAL HTG | AB40: =CONCATENATE($E40,I40) -> FMPA LOCAL HTG | AC40: =CONCATENATE($E40,J40) -> FMPA LOCAL HTG | AD40: =CONCATENATE($E40,K40) -> FMPA LOCAL HTG | AE40: =CONCATENATE($E40,L40) -> FMPA LOCAL HTG | AF40: =CONCATENATE($E40,M40) -> FMPA LOCAL HTG | AG40: =CONCATENATE($E40,N40) -> FMPA LOCAL HTG | ... AI40: =CONCATENATE($E40,P40) -> FMPA LOCAL HTG | AJ40: =CONCATENATE($E40,#REF!) -> #REF! | AK40: =CONCATENATE($E40,Q40) -> FMPA LOCAL HTG0 | AL40: =CONCATENATE($E40,R40) -> FMPA LOCAL HTG | AM40: =CONCATENATE($E40,S40) -> FMPA LOCAL HTG | AN40: =CONCATENATE($E40,T40) -> FMPA LOCAL HTG | AO40: =CONCATENATE($E40,U40) -> FMPA LOCAL HTG | AP40: =CONCATENATE($E40,V40) -> FMPA LOCAL HTG | AQ40: =CONCATENATE($E40,W40) -> FMPA LOCAL HTG | AR40: =CONCATENATE($E40,X40) -> FMPA LOCAL HTG | AS40: =CONCATENATE($E40,Y40) -> FMPA LOCAL HTG
B41: =TEXT(C41,"Jjj") -> mar | C41: 43711 | D41: B | E41: FMPA LOCAL HTG | F41: DIEPPE | G41: LABOULAIS | Q41: =COUNTIF(G41:K41,RECAP!$C$3) -> 0 | Z41: =CONCATENATE($E41,G41) -> FMPA LOCAL HTGLABOULAIS | AA41: =CONCATENATE($E41,H41) -> FMPA LOCAL HTG | AB41: =CONCATENATE($E41,I41) -> FMPA LOCAL HTG | AC41: =CONCATENATE($E41,J41) -> FMPA LOCAL HTG | AD41: =CONCATENATE($E41,K41) -> FMPA LOCAL HTG | AE41: =CONCATENATE($E41,L41) -> FMPA LOCAL HTG | AF41: =CONCATENATE($E41,M41) -> FMPA LOCAL HTG | AG41: =CONCATENATE($E41,N41) -> FMPA LOCAL HTG | ... AI41: =CONCATENATE($E41,P41) -> FMPA LOCAL HTG | AJ41: =CONCATENATE($E41,#REF!) -> #REF! | AK41: =CONCATENATE($E41,Q41) -> FMPA LOCAL HTG0 | AL41: =CONCATENATE($E41,R41) -> FMPA LOCAL HTG | AM41: =CONCATENATE($E41,S41) -> FMPA LOCAL HTG | AN41: =CONCATENATE($E41,T41) -> FMPA LOCAL HTG | AO41: =CONCATENATE($E41,U41) -> FMPA LOCAL HTG | AP41: =CONCATENATE($E41,V41) -> FMPA LOCAL HTG | AQ41: =CONCATENATE($E41,W41) -> FMPA LOCAL HTG | AR41: =CONCATENATE($E41,X41) -> FMPA LOCAL HTG | AS41: =CONCATENATE($E41,Y41) -> FMPA LOCAL HTG
B42: =TEXT(C42,"Jjj") -> mer | C42: 43712 | D42: C | E42: FMPA LOCAL HTG | F42: DIEPPE | G42: HERVE | H42: VIOGNE | I42: LEFRANCOIS | J42: GRANDSIRE | K42: PAILLETTE | Q42: =COUNTIF(G42:K42,RECAP!$C$3) -> 1 | Z42: =CONCATENATE($E42,G42) -> FMPA LOCAL HTGHERVE | AA42: =CONCATENATE($E42,H42) -> FMPA LOCAL HTGVIOGNE | AB42: =CONCATENATE($E42,I42) -> FMPA LOCAL HTGLEFRANCOIS | AC42: =CONCATENATE($E42,J42) -> FMPA LOCAL HTGGRANDSIRE | AD42: =CONCATENATE($E42,K42) -> FMPA LOCAL HTGPAILLETTE | AE42: =CONCATENATE($E42,L42) -> FMPA LOCAL HTG | AF42: =CONCATENATE($E42,M42) -> FMPA LOCAL HTG | AG42: =CONCATENATE($E42,N42) -> FMPA LOCAL HTG | ... AI42: =CONCATENATE($E42,P42) -> FMPA LOCAL HTG | AJ42: =CONCATENATE($E42,#REF!) -> #REF! | AK42: =CONCATENATE($E42,Q42) -> FMPA LOCAL HTG1 | AL42: =CONCATENATE($E42,R42) -> FMPA LOCAL HTG | AM42: =CONCATENATE($E42,S42) -> FMPA LOCAL HTG | AN42: =CONCATENATE($E42,T42) -> FMPA LOCAL HTG | AO42: =CONCATENATE($E42,U42) -> FMPA LOCAL HTG | AP42: =CONCATENATE($E42,V42) -> FMPA LOCAL HTG | AQ42: =CONCATENATE($E42,W42) -> FMPA LOCAL HTG | AR42: =CONCATENATE($E42,X42) -> FMPA LOCAL HTG | AS42: =CONCATENATE($E42,Y42) -> FMPA LOCAL HTG
B43: =TEXT(C43,"Jjj") -> lun | C43: 43717 | D43: B | E43: FMPA SAV 3 | F43: EST | G43: DUVAL | H43: LABOULAIS | Q43: =COUNTIF(G43:K43,RECAP!$C$3) -> 0 | Z43: =CONCATENATE($E43,G43) -> FMPA SAV 3DUVAL | AA43: =CONCATENATE($E43,H43) -> FMPA SAV 3LABOULAIS | AB43: =CONCATENATE($E43,I43) -> FMPA SAV 3 | AC43: =CONCATENATE($E43,J43) -> FMPA SAV 3 | AD43: =CONCATENATE($E43,K43) -> FMPA SAV 3 | AE43: =CONCATENATE($E43,L43) -> FMPA SAV 3 | AF43: =CONCATENATE($E43,M43) -> FMPA SAV 3 | AG43: =CONCATENATE($E43,N43) -> FMPA SAV 3 | ... AI43: =CONCATENATE($E43,P43) -> FMPA SAV 3 | AJ43: =CONCATENATE($E43,#REF!) -> #REF! | AK43: =CONCATENATE($E43,Q43) -> FMPA SAV 30 | AL43: =CONCATENATE($E43,R43) -> FMPA SAV 3 | AM43: =CONCATENATE($E43,S43) -> FMPA SAV 3 | AN43: =CONCATENATE($E43,T43) -> FMPA SAV 3 | AO43: =CONCATENATE($E43,U43) -> FMPA SAV 3 | AP43: =CONCATENATE($E43,V43) -> FMPA SAV 3 | AQ43: =CONCATENATE($E43,W43) -> FMPA SAV 3 | AR43: =CONCATENATE($E43,X43) -> FMPA SAV 3 | AS43: =CONCATENATE($E43,Y43) -> FMPA SAV 3
B44: =TEXT(C44,"Jjj") -> mar | C44: 43718 | D44: C | E44: FMPA SAV 3 | F44: OUEST | Q44: =COUNTIF(G44:K44,RECAP!$C$3) -> 0 | Z44: =CONCATENATE($E44,G44) -> FMPA SAV 3 | AA44: =CONCATENATE($E44,H44) -> FMPA SAV 3 | AB44: =CONCATENATE($E44,I44) -> FMPA SAV 3 | AC44: =CONCATENATE($E44,J44) -> FMPA SAV 3 | AD44: =CONCATENATE($E44,K44) -> FMPA SAV 3 | AE44: =CONCATENATE($E44,L44) -> FMPA SAV 3 | AF44: =CONCATENATE($E44,M44) -> FMPA SAV 3 | AG44: =CONCATENATE($E44,N44) -> FMPA SAV 3 | ... AI44: =CONCATENATE($E44,P44) -> FMPA SAV 3 | AJ44: =CONCATENATE($E44,#REF!) -> #REF! | AK44: =CONCATENATE($E44,Q44) -> FMPA SAV 30 | AL44: =CONCATENATE($E44,R44) -> FMPA SAV 3 | AM44: =CONCATENATE($E44,S44) -> FMPA SAV 3 | AN44: =CONCATENATE($E44,T44) -> FMPA SAV 3 | AO44: =CONCATENATE($E44,U44) -> FMPA SAV 3 | AP44: =CONCATENATE($E44,V44) -> FMPA SAV 3 | AQ44: =CONCATENATE($E44,W44) -> FMPA SAV 3 | AR44: =CONCATENATE($E44,X44) -> FMPA SAV 3 | AS44: =CONCATENATE($E44,Y44) -> FMPA SAV 3
B45: =TEXT(C45,"Jjj") -> mer | C45: 43719 | D45: A | E45: FMPA SAV 3 | F45: OUEST | Q45: =COUNTIF(G45:K45,RECAP!$C$3) -> 0 | Z45: =CONCATENATE($E45,G45) -> FMPA SAV 3 | AA45: =CONCATENATE($E45,H45) -> FMPA SAV 3 | AB45: =CONCATENATE($E45,I45) -> FMPA SAV 3 | AC45: =CONCATENATE($E45,J45) -> FMPA SAV 3 | AD45: =CONCATENATE($E45,K45) -> FMPA SAV 3 | AE45: =CONCATENATE($E45,L45) -> FMPA SAV 3 | AF45: =CONCATENATE($E45,M45) -> FMPA SAV 3 | AG45: =CONCATENATE($E45,N45) -> FMPA SAV 3 | ... AI45: =CONCATENATE($E45,P45) -> FMPA SAV 3 | AJ45: =CONCATENATE($E45,#REF!) -> #REF! | AK45: =CONCATENATE($E45,Q45) -> FMPA SAV 30 | AL45: =CONCATENATE($E45,R45) -> FMPA SAV 3 | AM45: =CONCATENATE($E45,S45) -> FMPA SAV 3 | AN45: =CONCATENATE($E45,T45) -> FMPA SAV 3 | AO45: =CONCATENATE($E45,U45) -> FMPA SAV 3 | AP45: =CONCATENATE($E45,V45) -> FMPA SAV 3 | AQ45: =CONCATENATE($E45,W45) -> FMPA SAV 3 | AR45: =CONCATENATE($E45,X45) -> FMPA SAV 3 | AS45: =CONCATENATE($E45,Y45) -> FMPA SAV 3
B46: =TEXT(C46,"Jjj") -> jeu | C46: 43720 | D46: B | E46: FMPA TEST DEPT. | F46: SUD | G46: LENOIR | Q46: =COUNTIF(G46:K46,RECAP!$C$3) -> 0 | Z46: =CONCATENATE($E46,G46) -> FMPA TEST DEPT.LENOIR | AA46: =CONCATENATE($E46,H46) -> FMPA TEST DEPT. | AB46: =CONCATENATE($E46,I46) -> FMPA TEST DEPT. | AC46: =CONCATENATE($E46,J46) -> FMPA TEST DEPT. | AD46: =CONCATENATE($E46,K46) -> FMPA TEST DEPT. | AE46: =CONCATENATE($E46,L46) -> FMPA TEST DEPT. | AF46: =CONCATENATE($E46,M46) -> FMPA TEST DEPT. | AG46: =CONCATENATE($E46,N46) -> FMPA TEST DEPT. | ... AI46: =CONCATENATE($E46,P46) -> FMPA TEST DEPT. | AJ46: =CONCATENATE($E46,#REF!) -> #REF! | AK46: =CONCATENATE($E46,Q46) -> FMPA TEST DEPT.0 | AL46: =CONCATENATE($E46,R46) -> FMPA TEST DEPT. | AM46: =CONCATENATE($E46,S46) -> FMPA TEST DEPT. | AN46: =CONCATENATE($E46,T46) -> FMPA TEST DEPT. | AO46: =CONCATENATE($E46,U46) -> FMPA TEST DEPT. | AP46: =CONCATENATE($E46,V46) -> FMPA TEST DEPT. | AQ46: =CONCATENATE($E46,W46) -> FMPA TEST DEPT. | AR46: =CONCATENATE($E46,X46) -> FMPA TEST DEPT. | AS46: =CONCATENATE($E46,Y46) -> FMPA TEST DEPT.
B47: =TEXT(C47,"Jjj") -> ven | C47: 43721 | D47: C | E47: FMPA TEST DEPT. | F47: OUEST | G47: CAZIN | Q47: =COUNTIF(G47:K47,RECAP!$C$3) -> 0 | Z47: =CONCATENATE($E47,G47) -> FMPA TEST DEPT.CAZIN | AA47: =CONCATENATE($E47,H47) -> FMPA TEST DEPT. | AB47: =CONCATENATE($E47,I47) -> FMPA TEST DEPT. | AC47: =CONCATENATE($E47,J47) -> FMPA TEST DEPT. | AD47: =CONCATENATE($E47,K47) -> FMPA TEST DEPT. | AE47: =CONCATENATE($E47,L47) -> FMPA TEST DEPT. | AF47: =CONCATENATE($E47,M47) -> FMPA TEST DEPT. | AG47: =CONCATENATE($E47,N47) -> FMPA TEST DEPT. | ... AI47: =CONCATENATE($E47,P47) -> FMPA TEST DEPT. | AJ47: =CONCATENATE($E47,#REF!) -> #REF! | AK47: =CONCATENATE($E47,Q47) -> FMPA TEST DEPT.0 | AL47: =CONCATENATE($E47,R47) -> FMPA TEST DEPT. | AM47: =CONCATENATE($E47,S47) -> FMPA TEST DEPT. | AN47: =CONCATENATE($E47,T47) -> FMPA TEST DEPT. | AO47: =CONCATENATE($E47,U47) -> FMPA TEST DEPT. | AP47: =CONCATENATE($E47,V47) -> FMPA TEST DEPT. | AQ47: =CONCATENATE($E47,W47) -> FMPA TEST DEPT. | AR47: =CONCATENATE($E47,X47) -> FMPA TEST DEPT. | AS47: =CONCATENATE($E47,Y47) -> FMPA TEST DEPT.
B48: =TEXT(C48,"Jjj") -> mar | C48: 43732 | D48: B | E48: FMPA TEST DEPT. | F48: OUEST | G48: THEBAULT | H48: HIEL REY | I48: MICHOT | Q48: =COUNTIF(G48:K48,RECAP!$C$3) -> 0 | Z48: =CONCATENATE($E48,G48) -> FMPA TEST DEPT.THEBAULT | AA48: =CONCATENATE($E48,H48) -> FMPA TEST DEPT.HIEL REY | AB48: =CONCATENATE($E48,I48) -> FMPA TEST DEPT.MICHOT | AC48: =CONCATENATE($E48,J48) -> FMPA TEST DEPT. | AD48: =CONCATENATE($E48,K48) -> FMPA TEST DEPT. | AE48: =CONCATENATE($E48,L48) -> FMPA TEST DEPT. | AF48: =CONCATENATE($E48,M48) -> FMPA TEST DEPT. | AG48: =CONCATENATE($E48,N48) -> FMPA TEST DEPT. | ... AI48: =CONCATENATE($E48,P48) -> FMPA TEST DEPT. | AJ48: =CONCATENATE($E48,#REF!) -> #REF! | AK48: =CONCATENATE($E48,Q48) -> FMPA TEST DEPT.0 | AL48: =CONCATENATE($E48,R48) -> FMPA TEST DEPT. | AM48: =CONCATENATE($E48,S48) -> FMPA TEST DEPT. | AN48: =CONCATENATE($E48,T48) -> FMPA TEST DEPT. | AO48: =CONCATENATE($E48,U48) -> FMPA TEST DEPT. | AP48: =CONCATENATE($E48,V48) -> FMPA TEST DEPT. | AQ48: =CONCATENATE($E48,W48) -> FMPA TEST DEPT. | AR48: =CONCATENATE($E48,X48) -> FMPA TEST DEPT. | AS48: =CONCATENATE($E48,Y48) -> FMPA TEST DEPT.
B49: =TEXT(C49,"Jjj") -> mer | C49: 43733 | D49: C | E49: FMPA TEST DEPT. | F49: SUD | Q49: =COUNTIF(G49:K49,RECAP!$C$3) -> 0 | Z49: =CONCATENATE($E49,G49) -> FMPA TEST DEPT. | AA49: =CONCATENATE($E49,H49) -> FMPA TEST DEPT. | AB49: =CONCATENATE($E49,I49) -> FMPA TEST DEPT. | AC49: =CONCATENATE($E49,J49) -> FMPA TEST DEPT. | AD49: =CONCATENATE($E49,K49) -> FMPA TEST DEPT. | AE49: =CONCATENATE($E49,L49) -> FMPA TEST DEPT. | AF49: =CONCATENATE($E49,M49) -> FMPA TEST DEPT. | AG49: =CONCATENATE($E49,N49) -> FMPA TEST DEPT. | ... AI49: =CONCATENATE($E49,P49) -> FMPA TEST DEPT. | AJ49: =CONCATENATE($E49,#REF!) -> #REF! | AK49: =CONCATENATE($E49,Q49) -> FMPA TEST DEPT.0 | AL49: =CONCATENATE($E49,R49) -> FMPA TEST DEPT. | AM49: =CONCATENATE($E49,S49) -> FMPA TEST DEPT. | AN49: =CONCATENATE($E49,T49) -> FMPA TEST DEPT. | AO49: =CONCATENATE($E49,U49) -> FMPA TEST DEPT. | AP49: =CONCATENATE($E49,V49) -> FMPA TEST DEPT. | AQ49: =CONCATENATE($E49,W49) -> FMPA TEST DEPT. | AR49: =CONCATENATE($E49,X49) -> FMPA TEST DEPT. | AS49: =CONCATENATE($E49,Y49) -> FMPA TEST DEPT.
B50: =TEXT(C50,"Jjj") -> lun | C50: 43738 | D50: B | E50: FMPA LOCAL HTG | F50: DIEPPE | Q50: =COUNTIF(G50:K50,RECAP!$C$3) -> 0 | Z50: =CONCATENATE($E50,G50) -> FMPA LOCAL HTG | AA50: =CONCATENATE($E50,H50) -> FMPA LOCAL HTG | AB50: =CONCATENATE($E50,I50) -> FMPA LOCAL HTG | AC50: =CONCATENATE($E50,J50) -> FMPA LOCAL HTG | AD50: =CONCATENATE($E50,K50) -> FMPA LOCAL HTG | AE50: =CONCATENATE($E50,L50) -> FMPA LOCAL HTG | AF50: =CONCATENATE($E50,M50) -> FMPA LOCAL HTG | AG50: =CONCATENATE($E50,N50) -> FMPA LOCAL HTG | ... AI50: =CONCATENATE($E50,P50) -> FMPA LOCAL HTG | AJ50: =CONCATENATE($E50,#REF!) -> #REF! | AK50: =CONCATENATE($E50,Q50) -> FMPA LOCAL HTG0 | AL50: =CONCATENATE($E50,R50) -> FMPA LOCAL HTG | AM50: =CONCATENATE($E50,S50) -> FMPA LOCAL HTG | AN50: =CONCATENATE($E50,T50) -> FMPA LOCAL HTG | AO50: =CONCATENATE($E50,U50) -> FMPA LOCAL HTG | AP50: =CONCATENATE($E50,V50) -> FMPA LOCAL HTG | AQ50: =CONCATENATE($E50,W50) -> FMPA LOCAL HTG | AR50: =CONCATENATE($E50,X50) -> FMPA LOCAL HTG | AS50: =CONCATENATE($E50,Y50) -> FMPA LOCAL HTG
B51: =TEXT(C51,"Jjj") -> mar | C51: 43739 | D51: C | E51: FMPA LOCAL HTG | F51: DIEPPE | G51: PAILLETTE | Q51: =COUNTIF(G51:K51,RECAP!$C$3) -> 0 | Z51: =CONCATENATE($E51,G51) -> FMPA LOCAL HTGPAILLETTE | AA51: =CONCATENATE($E51,H51) -> FMPA LOCAL HTG | AB51: =CONCATENATE($E51,I51) -> FMPA LOCAL HTG | AC51: =CONCATENATE($E51,J51) -> FMPA LOCAL HTG | AD51: =CONCATENATE($E51,K51) -> FMPA LOCAL HTG | AE51: =CONCATENATE($E51,L51) -> FMPA LOCAL HTG | AF51: =CONCATENATE($E51,M51) -> FMPA LOCAL HTG | AG51: =CONCATENATE($E51,N51) -> FMPA LOCAL HTG | ... AI51: =CONCATENATE($E51,P51) -> FMPA LOCAL HTG | AJ51: =CONCATENATE($E51,#REF!) -> #REF! | AK51: =CONCATENATE($E51,Q51) -> FMPA LOCAL HTG0 | AL51: =CONCATENATE($E51,R51) -> FMPA LOCAL HTG | AM51: =CONCATENATE($E51,S51) -> FMPA LOCAL HTG | AN51: =CONCATENATE($E51,T51) -> FMPA LOCAL HTG | AO51: =CONCATENATE($E51,U51) -> FMPA LOCAL HTG | AP51: =CONCATENATE($E51,V51) -> FMPA LOCAL HTG | AQ51: =CONCATENATE($E51,W51) -> FMPA LOCAL HTG | AR51: =CONCATENATE($E51,X51) -> FMPA LOCAL HTG | AS51: =CONCATENATE($E51,Y51) -> FMPA LOCAL HTG
B52: =TEXT(C52,"Jjj") -> mer | C52: 43740 | D52: A | E52: FMPA LOCAL HTG | F52: DIEPPE | Q52: =COUNTIF(G52:K52,RECAP!$C$3) -> 0 | Z52: =CONCATENATE($E52,G52) -> FMPA LOCAL HTG | AA52: =CONCATENATE($E52,H52) -> FMPA LOCAL HTG | AB52: =CONCATENATE($E52,I52) -> FMPA LOCAL HTG | AC52: =CONCATENATE($E52,J52) -> FMPA LOCAL HTG | AD52: =CONCATENATE($E52,K52) -> FMPA LOCAL HTG | AE52: =CONCATENATE($E52,L52) -> FMPA LOCAL HTG | AF52: =CONCATENATE($E52,M52) -> FMPA LOCAL HTG | AG52: =CONCATENATE($E52,N52) -> FMPA LOCAL HTG | ... AI52: =CONCATENATE($E52,P52) -> FMPA LOCAL HTG | AJ52: =CONCATENATE($E52,#REF!) -> #REF! | AK52: =CONCATENATE($E52,Q52) -> FMPA LOCAL HTG0 | AL52: =CONCATENATE($E52,R52) -> FMPA LOCAL HTG | AM52: =CONCATENATE($E52,S52) -> FMPA LOCAL HTG | AN52: =CONCATENATE($E52,T52) -> FMPA LOCAL HTG | AO52: =CONCATENATE($E52,U52) -> FMPA LOCAL HTG | AP52: =CONCATENATE($E52,V52) -> FMPA LOCAL HTG | AQ52: =CONCATENATE($E52,W52) -> FMPA LOCAL HTG | AR52: =CONCATENATE($E52,X52) -> FMPA LOCAL HTG | AS52: =CONCATENATE($E52,Y52) -> FMPA LOCAL HTG
B53: =TEXT(C53,"Jjj") -> ven | C53: 43749 | D53: A | E53: FMPA TEST DEPT. | F53: OUEST | G53: ROCHETTE | H53: YAHIAOUI | Q53: =COUNTIF(G53:K53,RECAP!$C$3) -> 0 | Z53: =CONCATENATE($E53,G53) -> FMPA TEST DEPT.ROCHETTE | AA53: =CONCATENATE($E53,H53) -> FMPA TEST DEPT.YAHIAOUI | AB53: =CONCATENATE($E53,I53) -> FMPA TEST DEPT. | AC53: =CONCATENATE($E53,J53) -> FMPA TEST DEPT. | AD53: =CONCATENATE($E53,K53) -> FMPA TEST DEPT. | AE53: =CONCATENATE($E53,L53) -> FMPA TEST DEPT. | AF53: =CONCATENATE($E53,M53) -> FMPA TEST DEPT. | AG53: =CONCATENATE($E53,N53) -> FMPA TEST DEPT. | ... AI53: =CONCATENATE($E53,P53) -> FMPA TEST DEPT. | AJ53: =CONCATENATE($E53,#REF!) -> #REF! | AK53: =CONCATENATE($E53,Q53) -> FMPA TEST DEPT.0 | AL53: =CONCATENATE($E53,R53) -> FMPA TEST DEPT. | AM53: =CONCATENATE($E53,S53) -> FMPA TEST DEPT. | AN53: =CONCATENATE($E53,T53) -> FMPA TEST DEPT. | AO53: =CONCATENATE($E53,U53) -> FMPA TEST DEPT. | AP53: =CONCATENATE($E53,V53) -> FMPA TEST DEPT. | AQ53: =CONCATENATE($E53,W53) -> FMPA TEST DEPT. | AR53: =CONCATENATE($E53,X53) -> FMPA TEST DEPT. | AS53: =CONCATENATE($E53,Y53) -> FMPA TEST DEPT.
B54: =TEXT(C54,"Jjj") -> sam | C54: 43750 | D54: B | E54: FMPA TEST DEPT. | F54: OUEST | Q54: =COUNTIF(G54:K54,RECAP!$C$3) -> 0 | Z54: =CONCATENATE($E54,G54) -> FMPA TEST DEPT. | AA54: =CONCATENATE($E54,H54) -> FMPA TEST DEPT. | AB54: =CONCATENATE($E54,I54) -> FMPA TEST DEPT. | AC54: =CONCATENATE($E54,J54) -> FMPA TEST DEPT. | AD54: =CONCATENATE($E54,K54) -> FMPA TEST DEPT. | AE54: =CONCATENATE($E54,L54) -> FMPA TEST DEPT. | AF54: =CONCATENATE($E54,M54) -> FMPA TEST DEPT. | AG54: =CONCATENATE($E54,N54) -> FMPA TEST DEPT. | ... AI54: =CONCATENATE($E54,P54) -> FMPA TEST DEPT. | AJ54: =CONCATENATE($E54,#REF!) -> #REF! | AK54: =CONCATENATE($E54,Q54) -> FMPA TEST DEPT.0 | AL54: =CONCATENATE($E54,R54) -> FMPA TEST DEPT. | AM54: =CONCATENATE($E54,S54) -> FMPA TEST DEPT. | AN54: =CONCATENATE($E54,T54) -> FMPA TEST DEPT. | AO54: =CONCATENATE($E54,U54) -> FMPA TEST DEPT. | AP54: =CONCATENATE($E54,V54) -> FMPA TEST DEPT. | AQ54: =CONCATENATE($E54,W54) -> FMPA TEST DEPT. | AR54: =CONCATENATE($E54,X54) -> FMPA TEST DEPT. | AS54: =CONCATENATE($E54,Y54) -> FMPA TEST DEPT.
B55: =TEXT(C55,"Jjj") -> lun | C55: 43794 | D55: A | E55: FMPA LOCAL HTG | F55: DIEPPE | G55: DUVAL | H55: LABOULAIS | Q55: =COUNTIF(G55:K55,RECAP!$C$3) -> 0 | Z55: =CONCATENATE($E55,G55) -> FMPA LOCAL HTGDUVAL | AA55: =CONCATENATE($E55,H55) -> FMPA LOCAL HTGLABOULAIS | AB55: =CONCATENATE($E55,I55) -> FMPA LOCAL HTG | AC55: =CONCATENATE($E55,J55) -> FMPA LOCAL HTG | AD55: =CONCATENATE($E55,K55) -> FMPA LOCAL HTG | AE55: =CONCATENATE($E55,L55) -> FMPA LOCAL HTG | AF55: =CONCATENATE($E55,M55) -> FMPA LOCAL HTG | AG55: =CONCATENATE($E55,N55) -> FMPA LOCAL HTG | ... AI55: =CONCATENATE($E55,P55) -> FMPA LOCAL HTG | AJ55: =CONCATENATE($E55,#REF!) -> #REF! | AK55: =CONCATENATE($E55,Q55) -> FMPA LOCAL HTG0 | AL55: =CONCATENATE($E55,R55) -> FMPA LOCAL HTG | AM55: =CONCATENATE($E55,S55) -> FMPA LOCAL HTG | AN55: =CONCATENATE($E55,T55) -> FMPA LOCAL HTG | AO55: =CONCATENATE($E55,U55) -> FMPA LOCAL HTG | AP55: =CONCATENATE($E55,V55) -> FMPA LOCAL HTG | AQ55: =CONCATENATE($E55,W55) -> FMPA LOCAL HTG | AR55: =CONCATENATE($E55,X55) -> FMPA LOCAL HTG | AS55: =CONCATENATE($E55,Y55) -> FMPA LOCAL HTG
B56: =TEXT(C56,"Jjj") -> mar | C56: 43795 | D56: B | E56: FMPA LOCAL HTG | F56: DIEPPE | Q56: =COUNTIF(G56:K56,RECAP!$C$3) -> 0 | Z56: =CONCATENATE($E56,G56) -> FMPA LOCAL HTG | AA56: =CONCATENATE($E56,H56) -> FMPA LOCAL HTG | AB56: =CONCATENATE($E56,I56) -> FMPA LOCAL HTG | AC56: =CONCATENATE($E56,J56) -> FMPA LOCAL HTG | AD56: =CONCATENATE($E56,K56) -> FMPA LOCAL HTG | AE56: =CONCATENATE($E56,L56) -> FMPA LOCAL HTG | AF56: =CONCATENATE($E56,M56) -> FMPA LOCAL HTG | AG56: =CONCATENATE($E56,N56) -> FMPA LOCAL HTG | ... AI56: =CONCATENATE($E56,P56) -> FMPA LOCAL HTG | AJ56: =CONCATENATE($E56,#REF!) -> #REF! | AK56: =CONCATENATE($E56,Q56) -> FMPA LOCAL HTG0 | AL56: =CONCATENATE($E56,R56) -> FMPA LOCAL HTG | AM56: =CONCATENATE($E56,S56) -> FMPA LOCAL HTG | AN56: =CONCATENATE($E56,T56) -> FMPA LOCAL HTG | AO56: =CONCATENATE($E56,U56) -> FMPA LOCAL HTG | AP56: =CONCATENATE($E56,V56) -> FMPA LOCAL HTG | AQ56: =CONCATENATE($E56,W56) -> FMPA LOCAL HTG | AR56: =CONCATENATE($E56,X56) -> FMPA LOCAL HTG | AS56: =CONCATENATE($E56,Y56) -> FMPA LOCAL HTG
B57: =TEXT(C57,"Jjj") -> mer | C57: 43796 | D57: C | E57: FMPA LOCAL HTG | F57: DIEPPE | G57: HERVE | H57: VIOGNE | I57: LENOIR | J57: LEFRANCOIS | K57: GRANDSIRE | Q57: =COUNTIF(G57:K57,RECAP!$C$3) -> 1 | Z57: =CONCATENATE($E57,G57) -> FMPA LOCAL HTGHERVE | AA57: =CONCATENATE($E57,H57) -> FMPA LOCAL HTGVIOGNE | AB57: =CONCATENATE($E57,I57) -> FMPA LOCAL HTGLENOIR | AC57: =CONCATENATE($E57,J57) -> FMPA LOCAL HTGLEFRANCOIS | AD57: =CONCATENATE($E57,K57) -> FMPA LOCAL HTGGRANDSIRE | AE57: =CONCATENATE($E57,L57) -> FMPA LOCAL HTG | AF57: =CONCATENATE($E57,M57) -> FMPA LOCAL HTG | AG57: =CONCATENATE($E57,N57) -> FMPA LOCAL HTG | ... AI57: =CONCATENATE($E57,P57) -> FMPA LOCAL HTG | AJ57: =CONCATENATE($E57,#REF!) -> #REF! | AK57: =CONCATENATE($E57,Q57) -> FMPA LOCAL HTG1 | AL57: =CONCATENATE($E57,R57) -> FMPA LOCAL HTG | AM57: =CONCATENATE($E57,S57) -> FMPA LOCAL HTG | AN57: =CONCATENATE($E57,T57) -> FMPA LOCAL HTG | AO57: =CONCATENATE($E57,U57) -> FMPA LOCAL HTG | AP57: =CONCATENATE($E57,V57) -> FMPA LOCAL HTG | AQ57: =CONCATENATE($E57,W57) -> FMPA LOCAL HTG | AR57: =CONCATENATE($E57,X57) -> FMPA LOCAL HTG | AS57: =CONCATENATE($E57,Y57) -> FMPA LOCAL HTG
B58: =TEXT(C58,"Jjj") -> ven | C58: 43812 | D58: A | E58: FMPA LOCAL HTG | F58: DIEPPE | Q58: =COUNTIF(G58:K58,RECAP!$C$3) -> 0 | Z58: =CONCATENATE($E58,G58) -> FMPA LOCAL HTG | AA58: =CONCATENATE($E58,H58) -> FMPA LOCAL HTG | AB58: =CONCATENATE($E58,I58) -> FMPA LOCAL HTG | AC58: =CONCATENATE($E58,J58) -> FMPA LOCAL HTG | AD58: =CONCATENATE($E58,K58) -> FMPA LOCAL HTG | AE58: =CONCATENATE($E58,L58) -> FMPA LOCAL HTG | AF58: =CONCATENATE($E58,M58) -> FMPA LOCAL HTG | AG58: =CONCATENATE($E58,N58) -> FMPA LOCAL HTG | ... AI58: =CONCATENATE($E58,P58) -> FMPA LOCAL HTG | AJ58: =CONCATENATE($E58,#REF!) -> #REF! | AK58: =CONCATENATE($E58,Q58) -> FMPA LOCAL HTG0 | AL58: =CONCATENATE($E58,R58) -> FMPA LOCAL HTG | AM58: =CONCATENATE($E58,S58) -> FMPA LOCAL HTG | AN58: =CONCATENATE($E58,T58) -> FMPA LOCAL HTG | AO58: =CONCATENATE($E58,U58) -> FMPA LOCAL HTG | AP58: =CONCATENATE($E58,V58) -> FMPA LOCAL HTG | AQ58: =CONCATENATE($E58,W58) -> FMPA LOCAL HTG | AR58: =CONCATENATE($E58,X58) -> FMPA LOCAL HTG | AS58: =CONCATENATE($E58,Y58) -> FMPA LOCAL HTG
B59: =TEXT(C59,"Jjj") -> sam | C59: 43813 | D59: B | E59: FMPA LOCAL HTG | F59: DIEPPE | Q59: =COUNTIF(G59:K59,RECAP!$C$3) -> 0 | Z59: =CONCATENATE($E59,G59) -> FMPA LOCAL HTG | AA59: =CONCATENATE($E59,H59) -> FMPA LOCAL HTG | AB59: =CONCATENATE($E59,I59) -> FMPA LOCAL HTG | AC59: =CONCATENATE($E59,J59) -> FMPA LOCAL HTG | AD59: =CONCATENATE($E59,K59) -> FMPA LOCAL HTG | AE59: =CONCATENATE($E59,L59) -> FMPA LOCAL HTG | AF59: =CONCATENATE($E59,M59) -> FMPA LOCAL HTG | AG59: =CONCATENATE($E59,N59) -> FMPA LOCAL HTG | ... AI59: =CONCATENATE($E59,P59) -> FMPA LOCAL HTG | AJ59: =CONCATENATE($E59,#REF!) -> #REF! | AK59: =CONCATENATE($E59,Q59) -> FMPA LOCAL HTG0 | AL59: =CONCATENATE($E59,R59) -> FMPA LOCAL HTG | AM59: =CONCATENATE($E59,S59) -> FMPA LOCAL HTG | AN59: =CONCATENATE($E59,T59) -> FMPA LOCAL HTG | AO59: =CONCATENATE($E59,U59) -> FMPA LOCAL HTG | AP59: =CONCATENATE($E59,V59) -> FMPA LOCAL HTG | AQ59: =CONCATENATE($E59,W59) -> FMPA LOCAL HTG | AR59: =CONCATENATE($E59,X59) -> FMPA LOCAL HTG | AS59: =CONCATENATE($E59,Y59) -> FMPA LOCAL HTG
Q60: =COUNTIF(G60:K60,RECAP!$C$3) -> 0 | Z60: =CONCATENATE($E60,G60) | AA60: =CONCATENATE($E60,H60) | AB60: =CONCATENATE($E60,I60) | AC60: =CONCATENATE($E60,J60) | AD60: =CONCATENATE($E60,K60) | AE60: =CONCATENATE($E60,L60) | AF60: =CONCATENATE($E60,M60) | AG60: =CONCATENATE($E60,N60) | ... AI60: =CONCATENATE($E60,P60) | AJ60: =CONCATENATE($E60,#REF!) -> #REF! | AK60: =CONCATENATE($E60,Q60) -> 0 | AL60: =CONCATENATE($E60,R60) | AM60: =CONCATENATE($E60,S60) | AN60: =CONCATENATE($E60,T60) | AO60: =CONCATENATE($E60,U60) | AP60: =CONCATENATE($E60,V60) | AQ60: =CONCATENATE($E60,W60) | AR60: =CONCATENATE($E60,X60) | AS60: =CONCATENATE($E60,Y60)
Q61: =COUNTIF(G61:K61,RECAP!$C$3) -> 0 | Z61: =CONCATENATE($E61,G61) | AA61: =CONCATENATE($E61,H61) | AB61: =CONCATENATE($E61,I61) | AC61: =CONCATENATE($E61,J61) | AD61: =CONCATENATE($E61,K61) | AE61: =CONCATENATE($E61,L61) | AF61: =CONCATENATE($E61,M61) | AG61: =CONCATENATE($E61,N61) | ... AI61: =CONCATENATE($E61,P61) | AJ61: =CONCATENATE($E61,#REF!) -> #REF! | AK61: =CONCATENATE($E61,Q61) -> 0 | AL61: =CONCATENATE($E61,R61) | AM61: =CONCATENATE($E61,S61) | AN61: =CONCATENATE($E61,T61) | AO61: =CONCATENATE($E61,U61) | AP61: =CONCATENATE($E61,V61) | AQ61: =CONCATENATE($E61,W61) | AR61: =CONCATENATE($E61,X61) | AS61: =CONCATENATE($E61,Y61)
Q62: =COUNTIF(G62:K62,RECAP!$C$3) -> 0 | Z62: =CONCATENATE($E62,G62) | AA62: =CONCATENATE($E62,H62) | AB62: =CONCATENATE($E62,I62) | AC62: =CONCATENATE($E62,J62) | AD62: =CONCATENATE($E62,K62) | AE62: =CONCATENATE($E62,L62) | AF62: =CONCATENATE($E62,M62) | AG62: =CONCATENATE($E62,N62) | ... AI62: =CONCATENATE($E62,P62) | AJ62: =CONCATENATE($E62,#REF!) -> #REF! | AK62: =CONCATENATE($E62,Q62) -> 0 | AL62: =CONCATENATE($E62,R62) | AM62: =CONCATENATE($E62,S62) | AN62: =CONCATENATE($E62,T62) | AO62: =CONCATENATE($E62,U62) | AP62: =CONCATENATE($E62,V62) | AQ62: =CONCATENATE($E62,W62) | AR62: =CONCATENATE($E62,X62) | AS62: =CONCATENATE($E62,Y62)
Q63: =COUNTIF(G63:K63,RECAP!$C$3) -> 0 | Z63: =CONCATENATE($E63,G63) | AA63: =CONCATENATE($E63,H63) | AB63: =CONCATENATE($E63,I63) | AC63: =CONCATENATE($E63,J63) | AD63: =CONCATENATE($E63,K63) | AE63: =CONCATENATE($E63,L63) | AF63: =CONCATENATE($E63,M63) | AG63: =CONCATENATE($E63,N63) | ... AI63: =CONCATENATE($E63,P63) | AJ63: =CONCATENATE($E63,#REF!) -> #REF! | AK63: =CONCATENATE($E63,Q63) -> 0 | AL63: =CONCATENATE($E63,R63) | AM63: =CONCATENATE($E63,S63) | AN63: =CONCATENATE($E63,T63) | AO63: =CONCATENATE($E63,U63) | AP63: =CONCATENATE($E63,V63) | AQ63: =CONCATENATE($E63,W63) | AR63: =CONCATENATE($E63,X63) | AS63: =CONCATENATE($E63,Y63)
Q64: =COUNTIF(G64:K64,RECAP!$C$3) -> 0 | Z64: =CONCATENATE($E64,G64) | AA64: =CONCATENATE($E64,H64) | AB64: =CONCATENATE($E64,I64) | AC64: =CONCATENATE($E64,J64) | AD64: =CONCATENATE($E64,K64) | AE64: =CONCATENATE($E64,L64) | AF64: =CONCATENATE($E64,M64) | AG64: =CONCATENATE($E64,N64) | ... AI64: =CONCATENATE($E64,P64) | AJ64: =CONCATENATE($E64,#REF!) -> #REF! | AK64: =CONCATENATE($E64,Q64) -> 0 | AL64: =CONCATENATE($E64,R64) | AM64: =CONCATENATE($E64,S64) | AN64: =CONCATENATE($E64,T64) | AO64: =CONCATENATE($E64,U64) | AP64: =CONCATENATE($E64,V64) | AQ64: =CONCATENATE($E64,W64) | AR64: =CONCATENATE($E64,X64) | AS64: =CONCATENATE($E64,Y64)
Q65: =COUNTIF(G65:K65,RECAP!$C$3) -> 0 | Z65: =CONCATENATE($E65,G65) | AA65: =CONCATENATE($E65,H65) | AB65: =CONCATENATE($E65,I65) | AC65: =CONCATENATE($E65,J65) | AD65: =CONCATENATE($E65,K65) | AE65: =CONCATENATE($E65,L65) | AF65: =CONCATENATE($E65,M65) | AG65: =CONCATENATE($E65,N65) | ... AI65: =CONCATENATE($E65,P65) | AJ65: =CONCATENATE($E65,#REF!) -> #REF! | AK65: =CONCATENATE($E65,Q65) -> 0 | AL65: =CONCATENATE($E65,R65) | AM65: =CONCATENATE($E65,S65) | AN65: =CONCATENATE($E65,T65) | AO65: =CONCATENATE($E65,U65) | AP65: =CONCATENATE($E65,V65) | AQ65: =CONCATENATE($E65,W65) | AR65: =CONCATENATE($E65,X65) | AS65: =CONCATENATE($E65,Y65)
Q66: =COUNTIF(G66:K66,RECAP!$C$3) -> 0 | Z66: =CONCATENATE($E66,G66) | AA66: =CONCATENATE($E66,H66) | AB66: =CONCATENATE($E66,I66) | AC66: =CONCATENATE($E66,J66) | AD66: =CONCATENATE($E66,K66) | AE66: =CONCATENATE($E66,L66) | AF66: =CONCATENATE($E66,M66) | AG66: =CONCATENATE($E66,N66) | ... AI66: =CONCATENATE($E66,P66) | AJ66: =CONCATENATE($E66,#REF!) -> #REF! | AK66: =CONCATENATE($E66,Q66) -> 0 | AL66: =CONCATENATE($E66,R66) | AM66: =CONCATENATE($E66,S66) | AN66: =CONCATENATE($E66,T66) | AO66: =CONCATENATE($E66,U66) | AP66: =CONCATENATE($E66,V66) | AQ66: =CONCATENATE($E66,W66) | AR66: =CONCATENATE($E66,X66) | AS66: =CONCATENATE($E66,Y66)
Q67: =COUNTIF(G67:K67,RECAP!$C$3) -> 0 | Z67: =CONCATENATE($E67,G67) | AA67: =CONCATENATE($E67,H67) | AB67: =CONCATENATE($E67,I67) | AC67: =CONCATENATE($E67,J67) | AD67: =CONCATENATE($E67,K67) | AE67: =CONCATENATE($E67,L67) | AF67: =CONCATENATE($E67,M67) | AG67: =CONCATENATE($E67,N67) | ... AI67: =CONCATENATE($E67,P67) | AJ67: =CONCATENATE($E67,#REF!) -> #REF! | AK67: =CONCATENATE($E67,Q67) -> 0 | AL67: =CONCATENATE($E67,R67) | AM67: =CONCATENATE($E67,S67) | AN67: =CONCATENATE($E67,T67) | AO67: =CONCATENATE($E67,U67) | AP67: =CONCATENATE($E67,V67) | AQ67: =CONCATENATE($E67,W67) | AR67: =CONCATENATE($E67,X67) | AS67: =CONCATENATE($E67,Y67)
Q68: =COUNTIF(G68:K68,RECAP!$C$3) -> 0 | Z68: =CONCATENATE($E68,G68) | AA68: =CONCATENATE($E68,H68) | AB68: =CONCATENATE($E68,I68) | AC68: =CONCATENATE($E68,J68) | AD68: =CONCATENATE($E68,K68) | AE68: =CONCATENATE($E68,L68) | AF68: =CONCATENATE($E68,M68) | AG68: =CONCATENATE($E68,N68) | ... AI68: =CONCATENATE($E68,P68) | AJ68: =CONCATENATE($E68,#REF!) -> #REF! | AK68: =CONCATENATE($E68,Q68) -> 0 | AL68: =CONCATENATE($E68,R68) | AM68: =CONCATENATE($E68,S68) | AN68: =CONCATENATE($E68,T68) | AO68: =CONCATENATE($E68,U68) | AP68: =CONCATENATE($E68,V68) | AQ68: =CONCATENATE($E68,W68) | AR68: =CONCATENATE($E68,X68) | AS68: =CONCATENATE($E68,Y68)
Q69: =COUNTIF(G69:K69,RECAP!$C$3) -> 0 | Z69: =CONCATENATE($E69,G69) | AA69: =CONCATENATE($E69,H69) | AB69: =CONCATENATE($E69,I69) | AC69: =CONCATENATE($E69,J69) | AD69: =CONCATENATE($E69,K69) | AE69: =CONCATENATE($E69,L69) | AF69: =CONCATENATE($E69,M69) | AG69: =CONCATENATE($E69,N69) | ... AI69: =CONCATENATE($E69,P69) | AJ69: =CONCATENATE($E69,#REF!) -> #REF! | AK69: =CONCATENATE($E69,Q69) -> 0 | AL69: =CONCATENATE($E69,R69) | AM69: =CONCATENATE($E69,S69) | AN69: =CONCATENATE($E69,T69) | AO69: =CONCATENATE($E69,U69) | AP69: =CONCATENATE($E69,V69) | AQ69: =CONCATENATE($E69,W69) | AR69: =CONCATENATE($E69,X69) | AS69: =CONCATENATE($E69,Y69)
Z70: =CONCATENATE($E70,G70) | AA70: =CONCATENATE($E70,H70) | AB70: =CONCATENATE($E70,I70) | AC70: =CONCATENATE($E70,J70) | AD70: =CONCATENATE($E70,K70) | AE70: =CONCATENATE($E70,L70) | AF70: =CONCATENATE($E70,M70) | AG70: =CONCATENATE($E70,N70) | ... AI70: =CONCATENATE($E70,P70) | AJ70: =CONCATENATE($E70,#REF!) -> #REF! | AK70: =CONCATENATE($E70,Q70) | AL70: =CONCATENATE($E70,R70) | AM70: =CONCATENATE($E70,S70) | AN70: =CONCATENATE($E70,T70) | AO70: =CONCATENATE($E70,U70) | AP70: =CONCATENATE($E70,V70) | AQ70: =CONCATENATE($E70,W70) | AR70: =CONCATENATE($E70,X70) | AS70: =CONCATENATE($E70,Y70)
Z71: =CONCATENATE($E71,G71) | AA71: =CONCATENATE($E71,H71) | AB71: =CONCATENATE($E71,I71) | AC71: =CONCATENATE($E71,J71) | AD71: =CONCATENATE($E71,K71) | AE71: =CONCATENATE($E71,L71) | AF71: =CONCATENATE($E71,M71) | AG71: =CONCATENATE($E71,N71) | ... AI71: =CONCATENATE($E71,P71) | AJ71: =CONCATENATE($E71,#REF!) -> #REF! | AK71: =CONCATENATE($E71,Q71) | AL71: =CONCATENATE($E71,R71) | AM71: =CONCATENATE($E71,S71) | AN71: =CONCATENATE($E71,T71) | AO71: =CONCATENATE($E71,U71) | AP71: =CONCATENATE($E71,V71) | AQ71: =CONCATENATE($E71,W71) | AR71: =CONCATENATE($E71,X71) | AS71: =CONCATENATE($E71,Y71)
Z72: =CONCATENATE($E72,G72) | AA72: =CONCATENATE($E72,H72) | AB72: =CONCATENATE($E72,I72) | AC72: =CONCATENATE($E72,J72) | AD72: =CONCATENATE($E72,K72) | AE72: =CONCATENATE($E72,L72) | AF72: =CONCATENATE($E72,M72) | AG72: =CONCATENATE($E72,N72) | ... AI72: =CONCATENATE($E72,P72) | AJ72: =CONCATENATE($E72,#REF!) -> #REF! | AK72: =CONCATENATE($E72,Q72) | AL72: =CONCATENATE($E72,R72) | AM72: =CONCATENATE($E72,S72) | AN72: =CONCATENATE($E72,T72) | AO72: =CONCATENATE($E72,U72) | AP72: =CONCATENATE($E72,V72) | AQ72: =CONCATENATE($E72,W72) | AR72: =CONCATENATE($E72,X72) | AS72: =CONCATENATE($E72,Y72)
Z73: =CONCATENATE($E73,G73) | AA73: =CONCATENATE($E73,H73) | AB73: =CONCATENATE($E73,I73) | AC73: =CONCATENATE($E73,J73) | AD73: =CONCATENATE($E73,K73) | AE73: =CONCATENATE($E73,L73) | AF73: =CONCATENATE($E73,M73) | AG73: =CONCATENATE($E73,N73) | ... AI73: =CONCATENATE($E73,P73) | AJ73: =CONCATENATE($E73,#REF!) -> #REF! | AK73: =CONCATENATE($E73,Q73) | AL73: =CONCATENATE($E73,R73) | AM73: =CONCATENATE($E73,S73) | AN73: =CONCATENATE($E73,T73) | AO73: =CONCATENATE($E73,U73) | AP73: =CONCATENATE($E73,V73) | AQ73: =CONCATENATE($E73,W73) | AR73: =CONCATENATE($E73,X73) | AS73: =CONCATENATE($E73,Y73)
Z74: =CONCATENATE($E74,G74) | AA74: =CONCATENATE($E74,H74) | AB74: =CONCATENATE($E74,I74) | AC74: =CONCATENATE($E74,J74) | AD74: =CONCATENATE($E74,K74) | AE74: =CONCATENATE($E74,L74) | AF74: =CONCATENATE($E74,M74) | AG74: =CONCATENATE($E74,N74) | ... AI74: =CONCATENATE($E74,P74) | AJ74: =CONCATENATE($E74,#REF!) -> #REF! | AK74: =CONCATENATE($E74,Q74) | AL74: =CONCATENATE($E74,R74) | AM74: =CONCATENATE($E74,S74) | AN74: =CONCATENATE($E74,T74) | AO74: =CONCATENATE($E74,U74) | AP74: =CONCATENATE($E74,V74) | AQ74: =CONCATENATE($E74,W74) | AR74: =CONCATENATE($E74,X74) | AS74: =CONCATENATE($E74,Y74)
Z75: =CONCATENATE($E75,G75) | AA75: =CONCATENATE($E75,H75) | AB75: =CONCATENATE($E75,I75) | AC75: =CONCATENATE($E75,J75) | AD75: =CONCATENATE($E75,K75) | AE75: =CONCATENATE($E75,L75) | AF75: =CONCATENATE($E75,M75) | AG75: =CONCATENATE($E75,N75) | ... AI75: =CONCATENATE($E75,P75) | AJ75: =CONCATENATE($E75,#REF!) -> #REF! | AK75: =CONCATENATE($E75,Q75) | AL75: =CONCATENATE($E75,R75) | AM75: =CONCATENATE($E75,S75) | AN75: =CONCATENATE($E75,T75) | AO75: =CONCATENATE($E75,U75) | AP75: =CONCATENATE($E75,V75) | AQ75: =CONCATENATE($E75,W75) | AR75: =CONCATENATE($E75,X75) | AS75: =CONCATENATE($E75,Y75)
Z76: =CONCATENATE($E76,G76) | AA76: =CONCATENATE($E76,H76) | AB76: =CONCATENATE($E76,I76) | AC76: =CONCATENATE($E76,J76) | AD76: =CONCATENATE($E76,K76) | AE76: =CONCATENATE($E76,L76) | AF76: =CONCATENATE($E76,M76) | AG76: =CONCATENATE($E76,N76) | ... AI76: =CONCATENATE($E76,P76) | AJ76: =CONCATENATE($E76,#REF!) -> #REF! | AK76: =CONCATENATE($E76,Q76) | AL76: =CONCATENATE($E76,R76) | AM76: =CONCATENATE($E76,S76) | AN76: =CONCATENATE($E76,T76) | AO76: =CONCATENATE($E76,U76) | AP76: =CONCATENATE($E76,V76) | AQ76: =CONCATENATE($E76,W76) | AR76: =CONCATENATE($E76,X76) | AS76: =CONCATENATE($E76,Y76)
Z77: =CONCATENATE($E77,G77) | AA77: =CONCATENATE($E77,H77) | AB77: =CONCATENATE($E77,I77) | AC77: =CONCATENATE($E77,J77) | AD77: =CONCATENATE($E77,K77) | AE77: =CONCATENATE($E77,L77) | AF77: =CONCATENATE($E77,M77) | AG77: =CONCATENATE($E77,N77) | ... AI77: =CONCATENATE($E77,P77) | AJ77: =CONCATENATE($E77,#REF!) -> #REF! | AK77: =CONCATENATE($E77,Q77) | AL77: =CONCATENATE($E77,R77) | AM77: =CONCATENATE($E77,S77) | AN77: =CONCATENATE($E77,T77) | AO77: =CONCATENATE($E77,U77) | AP77: =CONCATENATE($E77,V77) | AQ77: =CONCATENATE($E77,W77) | AR77: =CONCATENATE($E77,X77) | AS77: =CONCATENATE($E77,Y77)
Z78: =CONCATENATE($E78,G78) | AA78: =CONCATENATE($E78,H78) | AB78: =CONCATENATE($E78,I78) | AC78: =CONCATENATE($E78,J78) | AD78: =CONCATENATE($E78,K78) | AE78: =CONCATENATE($E78,L78) | AF78: =CONCATENATE($E78,M78) | AG78: =CONCATENATE($E78,N78) | ... AI78: =CONCATENATE($E78,P78) | AJ78: =CONCATENATE($E78,#REF!) -> #REF! | AK78: =CONCATENATE($E78,Q78) | AL78: =CONCATENATE($E78,R78) | AM78: =CONCATENATE($E78,S78) | AN78: =CONCATENATE($E78,T78) | AO78: =CONCATENATE($E78,U78) | AP78: =CONCATENATE($E78,V78) | AQ78: =CONCATENATE($E78,W78) | AR78: =CONCATENATE($E78,X78) | AS78: =CONCATENATE($E78,Y78)
Z79: =CONCATENATE($E79,G79) | AA79: =CONCATENATE($E79,H79) | AB79: =CONCATENATE($E79,I79) | AC79: =CONCATENATE($E79,J79) | AD79: =CONCATENATE($E79,K79) | AE79: =CONCATENATE($E79,L79) | AF79: =CONCATENATE($E79,M79) | AG79: =CONCATENATE($E79,N79) | ... AI79: =CONCATENATE($E79,P79) | AJ79: =CONCATENATE($E79,#REF!) -> #REF! | AK79: =CONCATENATE($E79,Q79) | AL79: =CONCATENATE($E79,R79) | AM79: =CONCATENATE($E79,S79) | AN79: =CONCATENATE($E79,T79) | AO79: =CONCATENATE($E79,U79) | AP79: =CONCATENATE($E79,V79) | AQ79: =CONCATENATE($E79,W79) | AR79: =CONCATENATE($E79,X79) | AS79: =CONCATENATE($E79,Y79)
Z80: =CONCATENATE($E80,G80) | AA80: =CONCATENATE($E80,H80) | AB80: =CONCATENATE($E80,I80) | AC80: =CONCATENATE($E80,J80) | AD80: =CONCATENATE($E80,K80) | AE80: =CONCATENATE($E80,L80) | AF80: =CONCATENATE($E80,M80) | AG80: =CONCATENATE($E80,N80) | ... AI80: =CONCATENATE($E80,P80) | AJ80: =CONCATENATE($E80,#REF!) -> #REF! | AK80: =CONCATENATE($E80,Q80) | AL80: =CONCATENATE($E80,R80) | AM80: =CONCATENATE($E80,S80) | AN80: =CONCATENATE($E80,T80) | AO80: =CONCATENATE($E80,U80) | AP80: =CONCATENATE($E80,V80) | AQ80: =CONCATENATE($E80,W80) | AR80: =CONCATENATE($E80,X80) | AS80: =CONCATENATE($E80,Y80)
Z81: =CONCATENATE($E81,G81) | AA81: =CONCATENATE($E81,H81) | AB81: =CONCATENATE($E81,I81) | AC81: =CONCATENATE($E81,J81) | AD81: =CONCATENATE($E81,K81) | AE81: =CONCATENATE($E81,L81) | AF81: =CONCATENATE($E81,M81) | AG81: =CONCATENATE($E81,N81) | ... AI81: =CONCATENATE($E81,P81) | AJ81: =CONCATENATE($E81,#REF!) -> #REF! | AK81: =CONCATENATE($E81,Q81) | AL81: =CONCATENATE($E81,R81) | AM81: =CONCATENATE($E81,S81) | AN81: =CONCATENATE($E81,T81) | AO81: =CONCATENATE($E81,U81) | AP81: =CONCATENATE($E81,V81) | AQ81: =CONCATENATE($E81,W81) | AR81: =CONCATENATE($E81,X81) | AS81: =CONCATENATE($E81,Y81)
... Z114: =CONCATENATE($E114,G114) | AA114: =CONCATENATE($E114,H114) | AB114: =CONCATENATE($E114,I114) | AC114: =CONCATENATE($E114,J114) | AD114: =CONCATENATE($E114,K114) | AE114: =CONCATENATE($E114,L114) | AF114: =CONCATENATE($E114,M114) | AG114: =CONCATENATE($E114,N114) | ... AI114: =CONCATENATE($E114,P114) | AJ114: =CONCATENATE($E114,#REF!) -> #REF! | AK114: =CONCATENATE($E114,Q114) | AL114: =CONCATENATE($E114,R114) | AM114: =CONCATENATE($E114,S114) | AN114: =CONCATENATE($E114,T114) | AO114: =CONCATENATE($E114,U114) | AP114: =CONCATENATE($E114,V114) | AQ114: =CONCATENATE($E114,W114) | AR114: =CONCATENATE($E114,X114) | AS114: =CONCATENATE($E114,Y114)
