Workbook

Sheet Feuil1
B3: Commune | C3: Département | D3: Région | E3: Parlementaire
B4: {=IFERROR(INDEX(Nom!$A:$A,SMALL(IF(Nom!$B:$B=B$3,IF(Nom!$C:$C=$B$11,ROW(A:A),"")),ROW(1:1))),"")} -> Commune b | C4: {=IFERROR(INDEX(Nom!$A:$A,SMALL(IF(Nom!$B:$B=C$3,IF(Nom!$C:$C=$B$11,ROW(B:B),"")),ROW(1:1))),"")} -> Département d | D4: {=IFERROR(INDEX(Nom!$A:$A,SMALL(IF(Nom!$B:$B=D$3,IF(Nom!$C:$C=$B$11,ROW(C:C),"")),ROW(1:1))),"")} | E4: {=IFERROR(INDEX(Nom!$A:$A,SMALL(IF(Nom!$B:$B=E$3,IF(Nom!$C:$C=$B$11,ROW(D:D),"")),ROW(1:1))),"")} -> Député d
B5: {=IFERROR(INDEX(Nom!$A:$A,SMALL(IF(Nom!$B:$B=B$3,IF(Nom!$C:$C=$B$11,ROW(A:A),"")),ROW(2:2))),"")} -> Commune c | C5: {=IFERROR(INDEX(Nom!$A:$A,SMALL(IF(Nom!$B:$B=C$3,IF(Nom!$C:$C=$B$11,ROW(B:B),"")),ROW(2:2))),"")} | D5: {=IFERROR(INDEX(Nom!$A:$A,SMALL(IF(Nom!$B:$B=D$3,IF(Nom!$C:$C=$B$11,ROW(C:C),"")),ROW(2:2))),"")} | E5: {=IFERROR(INDEX(Nom!$A:$A,SMALL(IF(Nom!$B:$B=E$3,IF(Nom!$C:$C=$B$11,ROW(D:D),"")),ROW(2:2))),"")} -> député e
B6: {=IFERROR(INDEX(Nom!$A:$A,SMALL(IF(Nom!$B:$B=B$3,IF(Nom!$C:$C=$B$11,ROW(A:A),"")),ROW(3:3))),"")} | C6: {=IFERROR(INDEX(Nom!$A:$A,SMALL(IF(Nom!$B:$B=C$3,IF(Nom!$C:$C=$B$11,ROW(B:B),"")),ROW(3:3))),"")} | D6: {=IFERROR(INDEX(Nom!$A:$A,SMALL(IF(Nom!$B:$B=D$3,IF(Nom!$C:$C=$B$11,ROW(C:C),"")),ROW(3:3))),"")} | E6: {=IFERROR(INDEX(Nom!$A:$A,SMALL(IF(Nom!$B:$B=E$3,IF(Nom!$C:$C=$B$11,ROW(D:D),"")),ROW(3:3))),"")}
B7: {=IFERROR(INDEX(Nom!$A:$A,SMALL(IF(Nom!$B:$B=B$3,IF(Nom!$C:$C=$B$11,ROW(A:A),"")),ROW(4:4))),"")} | C7: {=IFERROR(INDEX(Nom!$A:$A,SMALL(IF(Nom!$B:$B=C$3,IF(Nom!$C:$C=$B$11,ROW(B:B),"")),ROW(4:4))),"")} | D7: {=IFERROR(INDEX(Nom!$A:$A,SMALL(IF(Nom!$B:$B=D$3,IF(Nom!$C:$C=$B$11,ROW(C:C),"")),ROW(4:4))),"")} | E7: {=IFERROR(INDEX(Nom!$A:$A,SMALL(IF(Nom!$B:$B=E$3,IF(Nom!$C:$C=$B$11,ROW(D:D),"")),ROW(4:4))),"")}
B8: {=IFERROR(INDEX(Nom!$A:$A,SMALL(IF(Nom!$B:$B=B$3,IF(Nom!$C:$C=$B$11,ROW(A:A),"")),ROW(5:5))),"")} | C8: {=IFERROR(INDEX(Nom!$A:$A,SMALL(IF(Nom!$B:$B=C$3,IF(Nom!$C:$C=$B$11,ROW(B:B),"")),ROW(5:5))),"")} | D8: {=IFERROR(INDEX(Nom!$A:$A,SMALL(IF(Nom!$B:$B=D$3,IF(Nom!$C:$C=$B$11,ROW(C:C),"")),ROW(5:5))),"")} | E8: {=IFERROR(INDEX(Nom!$A:$A,SMALL(IF(Nom!$B:$B=E$3,IF(Nom!$C:$C=$B$11,ROW(D:D),"")),ROW(5:5))),"")}
B9: {=IFERROR(INDEX(Nom!$A:$A,SMALL(IF(Nom!$B:$B=B$3,IF(Nom!$C:$C=$B$11,ROW(A:A),"")),ROW(6:6))),"")} | C9: {=IFERROR(INDEX(Nom!$A:$A,SMALL(IF(Nom!$B:$B=C$3,IF(Nom!$C:$C=$B$11,ROW(B:B),"")),ROW(6:6))),"")} | D9: {=IFERROR(INDEX(Nom!$A:$A,SMALL(IF(Nom!$B:$B=D$3,IF(Nom!$C:$C=$B$11,ROW(C:C),"")),ROW(6:6))),"")} | E9: {=IFERROR(INDEX(Nom!$A:$A,SMALL(IF(Nom!$B:$B=E$3,IF(Nom!$C:$C=$B$11,ROW(D:D),"")),ROW(6:6))),"")}
B10: {=IFERROR(INDEX(Nom!$A:$A,SMALL(IF(Nom!$B:$B=B$3,IF(Nom!$C:$C=$B$11,ROW(A:A),"")),ROW(7:7))),"")} | C10: {=IFERROR(INDEX(Nom!$A:$A,SMALL(IF(Nom!$B:$B=C$3,IF(Nom!$C:$C=$B$11,ROW(B:B),"")),ROW(7:7))),"")} | D10: {=IFERROR(INDEX(Nom!$A:$A,SMALL(IF(Nom!$B:$B=D$3,IF(Nom!$C:$C=$B$11,ROW(C:C),"")),ROW(7:7))),"")} | E10: {=IFERROR(INDEX(Nom!$A:$A,SMALL(IF(Nom!$B:$B=E$3,IF(Nom!$C:$C=$B$11,ROW(D:D),"")),ROW(7:7))),"")}
A11: Code géographique | B11: 78

Sheet Nom
A1: Nom financeur | B1: Type | C1: Code géographique
A2: Département a | B2: Département | C2: 33
A3: Département b | B3: Département | C3: 35
A4: Commune a | B4: Commune | C4: 33
A5: Député a | B5: Parlementaire | C5: 33
A6: Député b | B6: Parlementaire | C6: 37
A7: Député c | B7: Parlementaire | C7: 72
A8: Département c | B8: Département | C8: 72
A9: Département d | B9: Département | C9: 78
A10: Député d | B10: Parlementaire | C10: 78
A11: député e | B11: Parlementaire | C11: 78
A12: Commune b | B12: Commune | C12: 78
A13: Commune c | B13: Commune | C13: 78
