Workbook

Sheet Feuil1
B1: 1 | C1: 18 | H1: =COUNTIFS(H3:H2000,B1,I3:I2000,C1) -> 17 | J1: =SUMPRODUCT((H3:H2000=B1)*(I3:I2000=C1)) -> 17
B3: 24 | C3: 15 | D3: 1 | E3: 2 | F3: 16 | H3: {=IFERROR(SMALL(IF(COUNTIF($B$1:$F$1,$B3:$F3)>0,$B3:$F3),COLUMN(A:A)),"")} -> 1 | I3: {=IFERROR(SMALL(IF(COUNTIF($B$1:$F$1,$B3:$F3)>0,$B3:$F3),COLUMN(B:B)),"")}
B4: 1 | C4: 18 | D4: 13 | E4: 45 | F4: 24 | H4: {=IFERROR(SMALL(IF(COUNTIF($B$1:$F$1,$B4:$F4)>0,$B4:$F4),COLUMN(A:A)),"")} -> 1 | I4: {=IFERROR(SMALL(IF(COUNTIF($B$1:$F$1,$B4:$F4)>0,$B4:$F4),COLUMN(B:B)),"")} -> 18
B5: 19 | C5: 41 | D5: 35 | E5: 34 | F5: 5 | H5: {=IFERROR(SMALL(IF(COUNTIF($B$1:$F$1,$B5:$F5)>0,$B5:$F5),COLUMN(A:A)),"")} | I5: {=IFERROR(SMALL(IF(COUNTIF($B$1:$F$1,$B5:$F5)>0,$B5:$F5),COLUMN(B:B)),"")}
B6: 4 | C6: 18 | D6: 45 | E6: 1 | F6: 12 | H6: {=IFERROR(SMALL(IF(COUNTIF($B$1:$F$1,$B6:$F6)>0,$B6:$F6),COLUMN(A:A)),"")} -> 1 | I6: {=IFERROR(SMALL(IF(COUNTIF($B$1:$F$1,$B6:$F6)>0,$B6:$F6),COLUMN(B:B)),"")} -> 18
B7: 26 | C7: 19 | D7: 33 | E7: 42 | F7: 32 | H7: {=IFERROR(SMALL(IF(COUNTIF($B$1:$F$1,$B7:$F7)>0,$B7:$F7),COLUMN(A:A)),"")} | I7: {=IFERROR(SMALL(IF(COUNTIF($B$1:$F$1,$B7:$F7)>0,$B7:$F7),COLUMN(B:B)),"")}
B8: 25 | C8: 24 | D8: 35 | E8: 26 | F8: 37 | H8: {=IFERROR(SMALL(IF(COUNTIF($B$1:$F$1,$B8:$F8)>0,$B8:$F8),COLUMN(A:A)),"")} | I8: {=IFERROR(SMALL(IF(COUNTIF($B$1:$F$1,$B8:$F8)>0,$B8:$F8),COLUMN(B:B)),"")}
B9: 1 | C9: 27 | D9: 2 | E9: 11 | F9: 29 | H9: {=IFERROR(SMALL(IF(COUNTIF($B$1:$F$1,$B9:$F9)>0,$B9:$F9),COLUMN(A:A)),"")} -> 1 | I9: {=IFERROR(SMALL(IF(COUNTIF($B$1:$F$1,$B9:$F9)>0,$B9:$F9),COLUMN(B:B)),"")}
B10: 2 | C10: 45 | D10: 20 | E10: 18 | F10: 33 | H10: {=IFERROR(SMALL(IF(COUNTIF($B$1:$F$1,$B10:$F10)>0,$B10:$F10),COLUMN(A:A)),"")} -> 18 | I10: {=IFERROR(SMALL(IF(COUNTIF($B$1:$F$1,$B10:$F10)>0,$B10:$F10),COLUMN(B:B)),"")}
B11: 3 | C11: 44 | D11: 27 | E11: 38 | F11: 31 | H11: {=IFERROR(SMALL(IF(COUNTIF($B$1:$F$1,$B11:$F11)>0,$B11:$F11),COLUMN(A:A)),"")} | I11: {=IFERROR(SMALL(IF(COUNTIF($B$1:$F$1,$B11:$F11)>0,$B11:$F11),COLUMN(B:B)),"")}
B12: 29 | C12: 45 | D12: 24 | E12: 20 | F12: 13 | H12: {=IFERROR(SMALL(IF(COUNTIF($B$1:$F$1,$B12:$F12)>0,$B12:$F12),COLUMN(A:A)),"")} | I12: {=IFERROR(SMALL(IF(COUNTIF($B$1:$F$1,$B12:$F12)>0,$B12:$F12),COLUMN(B:B)),"")}
B13: 18 | C13: 22 | D13: 1 | E13: 13 | F13: 28 | H13: {=IFERROR(SMALL(IF(COUNTIF($B$1:$F$1,$B13:$F13)>0,$B13:$F13),COLUMN(A:A)),"")} -> 1 | I13: {=IFERROR(SMALL(IF(COUNTIF($B$1:$F$1,$B13:$F13)>0,$B13:$F13),COLUMN(B:B)),"")} -> 18
B14: 5 | C14: 31 | D14: 43 | E14: 50 | F14: 19 | H14: {=IFERROR(SMALL(IF(COUNTIF($B$1:$F$1,$B14:$F14)>0,$B14:$F14),COLUMN(A:A)),"")} | I14: {=IFERROR(SMALL(IF(COUNTIF($B$1:$F$1,$B14:$F14)>0,$B14:$F14),COLUMN(B:B)),"")}
... B1032: 29 | C1032: 30 | D1032: 41 | E1032: 40 | F1032: 36 | H1032: {=IFERROR(SMALL(IF(COUNTIF($B$1:$F$1,$B1032:$F1032)>0,$B1032:$F1032),COLUMN(A:A)),"")} | I1032: {=IFERROR(SMALL(IF(COUNTIF($B$1:$F$1,$B1032:$F1032)>0,$B1032:$F1032),COLUMN(B:B)),"")}

Sheet Feuil2
A1: Boule | B1: Nb de fois | D1: boule | E1: nb de fois
A3: 1 | B3: =COUNTIF(Feuil1!$B$3:$F$1032,A3) -> 104 | D3: 50 | E3: 87
A4: =A3+1 -> 2 | B4: =COUNTIF(Feuil1!$B$3:$F$1032,A4) -> 89
A5: =A4+1 -> 3 | B5: =COUNTIF(Feuil1!$B$3:$F$1032,A5) -> 102 | H5: boule | I5: nb
A6: =A5+1 -> 4 | B6: =COUNTIF(Feuil1!$B$3:$F$1032,A6) -> 116 | D6: 4 | E6: 116 | H6: 50 | I6: 122
A7: =A6+1 -> 5 | B7: =COUNTIF(Feuil1!$B$3:$F$1032,A7) -> 108 | H7: 44 | I7: 120
A8: =A7+1 -> 6 | B8: =COUNTIF(Feuil1!$B$3:$F$1032,A8) -> 101 | H8: 19 | I8: 118
A9: =A8+1 -> 7 | B9: =COUNTIF(Feuil1!$B$3:$F$1032,A9) -> 107 | H9: 4 | I9: 116
A10: =A9+1 -> 8 | B10: =COUNTIF(Feuil1!$B$3:$F$1032,A10) -> 92 | H10: 23 | I10: 116
A11: =A10+1 -> 9 | B11: =COUNTIF(Feuil1!$B$3:$F$1032,A11) -> 95 | H11: 10 | I11: 115
A12: =A11+1 -> 10 | B12: =COUNTIF(Feuil1!$B$3:$F$1032,A12) -> 114 | D12: 10 | E12: 115 | H12: 37 | I12: 115
A13: =A12+1 -> 11 | B13: =COUNTIF(Feuil1!$B$3:$F$1032,A13) -> 110 | D13: 11 | E13: 110 | H13: 26 | I13: 114
A14: =A13+1 -> 12 | B14: =COUNTIF(Feuil1!$B$3:$F$1032,A14) -> 102 | D14: 44 | E14: 77 | H14: 38 | I14: 114
A15: =A14+1 -> 13 | B15: =COUNTIF(Feuil1!$B$3:$F$1032,A15) -> 104 | H15: 49 | I15: 113
A16: =A15+1 -> 14 | B16: =COUNTIF(Feuil1!$B$3:$F$1032,A16) -> 110 | D16: 38 | E16: 76 | H16: 25 | I16: 112
A17: =A16+1 -> 15 | B17: =COUNTIF(Feuil1!$B$3:$F$1032,A17) -> 104 | H17: 21 | I17: 111
A18: =A17+1 -> 16 | B18: =COUNTIF(Feuil1!$B$3:$F$1032,A18) -> 97 | D18: 23 | E18: 74 | H18: 30 | I18: 111
A19: =A18+1 -> 17 | B19: =COUNTIF(Feuil1!$B$3:$F$1032,A19) -> 110 | H19: 11 | I19: 110
A20: =A19+1 -> 18 | B20: =COUNTIF(Feuil1!$B$3:$F$1032,A20) -> 95 | H20: 14 | I20: 110
A21: =A20+1 -> 19 | B21: =COUNTIF(Feuil1!$B$3:$F$1032,A21) -> 118 | D21: 37 | E21: 74 | H21: 17 | I21: 110
A22: =A21+1 -> 20 | B22: =COUNTIF(Feuil1!$B$3:$F$1032,A22) -> 101 | H22: 29 | I22: 110
A23: =A22+1 -> 21 | B23: =COUNTIF(Feuil1!$B$3:$F$1032,A23) -> 111
A24: =A23+1 -> 22 | B24: =COUNTIF(Feuil1!$B$3:$F$1032,A24) -> 94
A25: =A24+1 -> 23 | B25: =COUNTIF(Feuil1!$B$3:$F$1032,A25) -> 115 | D25: 1 | E25: 73
A26: =A25+1 -> 24 | B26: =COUNTIF(Feuil1!$B$3:$F$1032,A26) -> 108
A27: =A26+1 -> 25 | B27: =COUNTIF(Feuil1!$B$3:$F$1032,A27) -> 112 | D27: 12 | E27: 73
A28: =A27+1 -> 26 | B28: =COUNTIF(Feuil1!$B$3:$F$1032,A28) -> 114
A29: =A28+1 -> 27 | B29: =COUNTIF(Feuil1!$B$3:$F$1032,A29) -> 108
A30: =A29+1 -> 28 | B30: =COUNTIF(Feuil1!$B$3:$F$1032,A30) -> 102
A31: =A30+1 -> 29 | B31: =COUNTIF(Feuil1!$B$3:$F$1032,A31) -> 110 | D31: 14 | E31: 73
A32: =A31+1 -> 30 | B32: =COUNTIF(Feuil1!$B$3:$F$1032,A32) -> 110
A33: =A32+1 -> 31 | B33: =COUNTIF(Feuil1!$B$3:$F$1032,A33) -> 96
A34: =A33+1 -> 32 | B34: =COUNTIF(Feuil1!$B$3:$F$1032,A34) -> 87
A35: =A34+1 -> 33 | B35: =COUNTIF(Feuil1!$B$3:$F$1032,A35) -> 85
A36: =A35+1 -> 34 | B36: =COUNTIF(Feuil1!$B$3:$F$1032,A36) -> 93
A37: =A36+1 -> 35 | B37: =COUNTIF(Feuil1!$B$3:$F$1032,A37) -> 102
A38: =A37+1 -> 36 | B38: =COUNTIF(Feuil1!$B$3:$F$1032,A38) -> 98 | D38: 25 | E38: 73
A39: =A38+1 -> 37 | B39: =COUNTIF(Feuil1!$B$3:$F$1032,A39) -> 115 | D39: 42 | E39: 73
A40: =A39+1 -> 38 | B40: =COUNTIF(Feuil1!$B$3:$F$1032,A40) -> 114 | D40: 16 | E40: 71
A41: =A40+1 -> 39 | B41: =COUNTIF(Feuil1!$B$3:$F$1032,A41) -> 96
...

Sheet Feuil3
A1: étoile | B1: nb de fois | E1: étoile | F1: nb de fois
A2: 1 | B2: =COUNTIF(Feuil1!#REF!,Feuil3!$A$2) -> #REF! | E2: 5 | F2: 146
A3: 2 | B3: =COUNTIF(Feuil1!#REF!,Feuil3!$A$3) -> #REF! | E3: 3 | F3: 145
A4: 3 | B4: =COUNTIF(Feuil1!#REF!,Feuil3!$A$4) -> #REF! | E4: 2 | F4: 142
A5: 4 | B5: =COUNTIF(Feuil1!#REF!,Feuil3!$A$5) -> #REF! | E5: 8 | F5: 134
A6: 5 | B6: =COUNTIF(Feuil1!#REF!,Feuil3!$A$6) -> #REF! | E6: 9 | F6: 134
A7: 6 | B7: =COUNTIF(Feuil1!#REF!,Feuil3!$A$7) -> #REF! | E7: 7 | F7: 133
A8: 7 | B8: =COUNTIF(Feuil1!#REF!,Feuil3!$A$8) -> #REF! | E8: 1 | F8: 132
A9: 8 | B9: =COUNTIF(Feuil1!#REF!,Feuil3!$A$9) -> #REF! | E9: 6 | F9: 127
A10: 9 | B10: =COUNTIF(Feuil1!#REF!,Feuil3!$A$10) -> #REF! | E10: 4 | F10: 120
A11: 10 | B11: =COUNTIF(Feuil1!#REF!,Feuil3!$A$11) -> #REF! | E11: 10 | F11: 54
A12: 11 | B12: =COUNTIF(Feuil1!#REF!,Feuil3!$A$12) -> #REF! | E12: 11 | F12: 50
