Workbook

Sheet Liste facture
A1: Numéro de facture | B1: Montant | C1: Dossier
A2: X1 | B2: -100 | C2: 1 | D2: =COUNTIF(C$2:C$100,C$2:C$100) -> 2
A3: X2 | B3: 100 | C3: 1 | D3: =COUNTIF(C$2:C$100,C$2:C$100) -> 2
A4: X3 | B4: 500 | C4: 2 | D4: =COUNTIF(C$2:C$100,C$2:C$100) -> 1
A5: X4 | B5: 750 | C5: 3 | D5: =COUNTIF(C$2:C$100,C$2:C$100) -> 1
A6: X5 | B6: 500 | C6: 4 | D6: =COUNTIF(C$2:C$100,C$2:C$100) -> 1
A7: X6 | B7: 450 | C7: 5 | D7: =COUNTIF(C$2:C$100,C$2:C$100) -> 2
A8: X7 | B8: -450 | C8: 5 | D8: =COUNTIF(C$2:C$100,C$2:C$100) -> 2
A9: X8 | B9: 300 | C9: 6 | D9: =COUNTIF(C$2:C$100,C$2:C$100) -> 1
A10: X9 | B10: 50 | C10: 7 | D10: =COUNTIF(C$2:C$100,C$2:C$100) -> 1
A11: X10 | B11: 55 | C11: 8 | D11: =COUNTIF(C$2:C$100,C$2:C$100) -> 1

Sheet Avoirs à neutraliser
A1: Dossier | B1: Numéro de facture | C1: Montant | E1: Dossier | F1: Numéro de facture | G1: Montant
A2: 1 | B2: X1 | C2: -100 | E2: {=IF(ROW()-1>COUNTIF('Liste facture'!$D:$D,">1"),"",INDEX('Liste facture'!C:C,SMALL(IF('Liste facture'!$D:$D>1,ROW(E:E),""),ROW()-1)))} -> 1 | F2: {=IF(ROW()-1>COUNTIF('Liste facture'!$D:$D,">1"),"",INDEX('Liste facture'!A:A,SMALL(IF('Liste facture'!$D:$D>1,ROW(F:F),""),ROW()-1)))} -> X1 | G2: {=IF(ROW()-1>COUNTIF('Liste facture'!$D:$D,">1"),"",INDEX('Liste facture'!B:B,SMALL(IF('Liste facture'!$D:$D>1,ROW(G:G),""),ROW()-1)))} -> -100
A3: 1 | B3: X2 | C3: 100 | E3: {=IF(ROW()-1>COUNTIF('Liste facture'!$D:$D,">1"),"",INDEX('Liste facture'!C:C,SMALL(IF('Liste facture'!$D:$D>1,ROW(E:E),""),ROW()-1)))} -> 1 | F3: {=IF(ROW()-1>COUNTIF('Liste facture'!$D:$D,">1"),"",INDEX('Liste facture'!A:A,SMALL(IF('Liste facture'!$D:$D>1,ROW(F:F),""),ROW()-1)))} -> X2 | G3: {=IF(ROW()-1>COUNTIF('Liste facture'!$D:$D,">1"),"",INDEX('Liste facture'!B:B,SMALL(IF('Liste facture'!$D:$D>1,ROW(G:G),""),ROW()-1)))} -> 100
A4: 5 | B4: X6 | C4: 450 | E4: {=IF(ROW()-1>COUNTIF('Liste facture'!$D:$D,">1"),"",INDEX('Liste facture'!C:C,SMALL(IF('Liste facture'!$D:$D>1,ROW(E:E),""),ROW()-1)))} -> 5 | F4: {=IF(ROW()-1>COUNTIF('Liste facture'!$D:$D,">1"),"",INDEX('Liste facture'!A:A,SMALL(IF('Liste facture'!$D:$D>1,ROW(F:F),""),ROW()-1)))} -> X6 | G4: {=IF(ROW()-1>COUNTIF('Liste facture'!$D:$D,">1"),"",INDEX('Liste facture'!B:B,SMALL(IF('Liste facture'!$D:$D>1,ROW(G:G),""),ROW()-1)))} -> 450
A5: 5 | B5: X7 | C5: -450 | E5: {=IF(ROW()-1>COUNTIF('Liste facture'!$D:$D,">1"),"",INDEX('Liste facture'!C:C,SMALL(IF('Liste facture'!$D:$D>1,ROW(E:E),""),ROW()-1)))} -> 5 | F5: {=IF(ROW()-1>COUNTIF('Liste facture'!$D:$D,">1"),"",INDEX('Liste facture'!A:A,SMALL(IF('Liste facture'!$D:$D>1,ROW(F:F),""),ROW()-1)))} -> X7 | G5: {=IF(ROW()-1>COUNTIF('Liste facture'!$D:$D,">1"),"",INDEX('Liste facture'!B:B,SMALL(IF('Liste facture'!$D:$D>1,ROW(G:G),""),ROW()-1)))} -> -450
E6: {=IF(ROW()-1>COUNTIF('Liste facture'!$D:$D,">1"),"",INDEX('Liste facture'!C:C,SMALL(IF('Liste facture'!$D:$D>1,ROW(E:E),""),ROW()-1)))} | F6: {=IF(ROW()-1>COUNTIF('Liste facture'!$D:$D,">1"),"",INDEX('Liste facture'!A:A,SMALL(IF('Liste facture'!$D:$D>1,ROW(F:F),""),ROW()-1)))}
E7: {=IF(ROW()-1>COUNTIF('Liste facture'!$D:$D,">1"),"",INDEX('Liste facture'!C:C,SMALL(IF('Liste facture'!$D:$D>1,ROW(E:E),""),ROW()-1)))} | F7: {=IF(ROW()-1>COUNTIF('Liste facture'!$D:$D,">1"),"",INDEX('Liste facture'!A:A,SMALL(IF('Liste facture'!$D:$D>1,ROW(F:F),""),ROW()-1)))}
E8: {=IF(ROW()-1>COUNTIF('Liste facture'!$D:$D,">1"),"",INDEX('Liste facture'!C:C,SMALL(IF('Liste facture'!$D:$D>1,ROW(E:E),""),ROW()-1)))} | F8: {=IF(ROW()-1>COUNTIF('Liste facture'!$D:$D,">1"),"",INDEX('Liste facture'!A:A,SMALL(IF('Liste facture'!$D:$D>1,ROW(F:F),""),ROW()-1)))}
E9: {=IF(ROW()-1>COUNTIF('Liste facture'!$D:$D,">1"),"",INDEX('Liste facture'!C:C,SMALL(IF('Liste facture'!$D:$D>1,ROW(E:E),""),ROW()-1)))} | F9: {=IF(ROW()-1>COUNTIF('Liste facture'!$D:$D,">1"),"",INDEX('Liste facture'!A:A,SMALL(IF('Liste facture'!$D:$D>1,ROW(F:F),""),ROW()-1)))}
F10: {=IF(ROW()-1>COUNTIF('Liste facture'!$D:$D,">1"),"",INDEX('Liste facture'!A:A,SMALL(IF('Liste facture'!$D:$D>1,ROW(F:F),""),ROW()-1)))}
