Workbook

Sheet suivi_vente 
A1: Date de vente | B1: Libelle vendeur | C1: Code Famille | D1: Qté | E1: Prix TTC | F1: Taux de marge | G1: Marge brute
A2: 20180507 | B2: Sonia | C2: PURIO | D2: 1 | E2: 34.99 | G2: =E2*F2 -> 0
A3: 20180507 | B3: Sonia | C3: EPILH | D3: 1 | E3: 54.996 | G3: =E3*F3 -> 0
A4: 20180507 | B4: Joseph | C4: EPILH | D4: 0 | E4: -5.004 | G4: =E4*F4 -> 0
A5: 20180507 | B5: Sonia | C5: TV06 | D5: 2 | E5: 2380 | F5: 0.1 | G5: =E5*F5 -> 238
A6: 20180507 | B6: MathŽo | C6: CONCT | D6: 1 | E6: 219 | G6: =E6*F6 -> 0
A7: 20180507 | B7: Sylvain | C7: CONCT | D7: 1 | E7: 289 | G7: =E7*F7 -> 0
A8: 20180507 | B8: Sylvain | C8: TV06 | D8: 3 | E8: 3200 | F8: 0.15 | G8: =E8*F8 -> 480

Sheet Multimédia
A1: Qté | B1: Prix TTC | C1: Taux de marge | D1: Marge brute
A2: {=IF(ROW()-1>COUNTIF('suivi_vente '!$C:$C,"TV06 "),"",INDEX('suivi_vente '!D:D,SMALL(IF('suivi_vente '!$C:$C="TV06 ",ROW($A$1:$A$10),""),ROW()-1)))} -> 2 | B2: {=IF(ROW()-1>COUNTIF('suivi_vente '!$C:$C,"TV06 "),"",INDEX('suivi_vente '!E:E,SMALL(IF('suivi_vente '!$C:$C="TV06 ",ROW($A$1:$A$10),""),ROW()-1)))} -> 2380 | C2: {=IF(ROW()-1>COUNTIF('suivi_vente '!$C:$C,"TV06 "),"",INDEX('suivi_vente '!F:F,SMALL(IF('suivi_vente '!$C:$C="TV06 ",ROW($A$1:$A$10),""),ROW()-1)))} -> 0.1 | D2: {=IF(ROW()-1>COUNTIF('suivi_vente '!$C:$C,"TV06 "),"",INDEX('suivi_vente '!G:G,SMALL(IF('suivi_vente '!$C:$C="TV06 ",ROW($A$1:$A$10),""),ROW()-1)))} -> 238
A3: {=IF(ROW()-1>COUNTIF('suivi_vente '!$C:$C,"TV06 "),"",INDEX('suivi_vente '!D:D,SMALL(IF('suivi_vente '!$C:$C="TV06 ",ROW($A$1:$A$10),""),ROW()-1)))} -> 3 | B3: {=IF(ROW()-1>COUNTIF('suivi_vente '!$C:$C,"TV06 "),"",INDEX('suivi_vente '!E:E,SMALL(IF('suivi_vente '!$C:$C="TV06 ",ROW($A$1:$A$10),""),ROW()-1)))} -> 3200 | C3: {=IF(ROW()-1>COUNTIF('suivi_vente '!$C:$C,"TV06 "),"",INDEX('suivi_vente '!F:F,SMALL(IF('suivi_vente '!$C:$C="TV06 ",ROW($A$1:$A$10),""),ROW()-1)))} -> 0.15 | D3: {=IF(ROW()-1>COUNTIF('suivi_vente '!$C:$C,"TV06 "),"",INDEX('suivi_vente '!G:G,SMALL(IF('suivi_vente '!$C:$C="TV06 ",ROW($A$1:$A$10),""),ROW()-1)))} -> 480
A4: {=IF(ROW()-1>COUNTIF('suivi_vente '!$C:$C,"TV06 "),"",INDEX('suivi_vente '!D:D,SMALL(IF('suivi_vente '!$C:$C="TV06 ",ROW($A$1:$A$10),""),ROW()-1)))} | B4: {=IF(ROW()-1>COUNTIF('suivi_vente '!$C:$C,"TV06 "),"",INDEX('suivi_vente '!E:E,SMALL(IF('suivi_vente '!$C:$C="TV06 ",ROW($A$1:$A$10),""),ROW()-1)))} | C4: {=IF(ROW()-1>COUNTIF('suivi_vente '!$C:$C,"TV06 "),"",INDEX('suivi_vente '!F:F,SMALL(IF('suivi_vente '!$C:$C="TV06 ",ROW($A$1:$A$10),""),ROW()-1)))} | D4: {=IF(ROW()-1>COUNTIF('suivi_vente '!$C:$C,"TV06 "),"",INDEX('suivi_vente '!G:G,SMALL(IF('suivi_vente '!$C:$C="TV06 ",ROW($A$1:$A$10),""),ROW()-1)))}
A5: {=IF(ROW()-1>COUNTIF('suivi_vente '!$C:$C,"TV06 "),"",INDEX('suivi_vente '!D:D,SMALL(IF('suivi_vente '!$C:$C="TV06 ",ROW($A$1:$A$10),""),ROW()-1)))} | B5: {=IF(ROW()-1>COUNTIF('suivi_vente '!$C:$C,"TV06 "),"",INDEX('suivi_vente '!E:E,SMALL(IF('suivi_vente '!$C:$C="TV06 ",ROW($A$1:$A$10),""),ROW()-1)))} | C5: {=IF(ROW()-1>COUNTIF('suivi_vente '!$C:$C,"TV06 "),"",INDEX('suivi_vente '!F:F,SMALL(IF('suivi_vente '!$C:$C="TV06 ",ROW($A$1:$A$10),""),ROW()-1)))} | D5: {=IF(ROW()-1>COUNTIF('suivi_vente '!$C:$C,"TV06 "),"",INDEX('suivi_vente '!G:G,SMALL(IF('suivi_vente '!$C:$C="TV06 ",ROW($A$1:$A$10),""),ROW()-1)))}
A6: {=IF(ROW()-1>COUNTIF('suivi_vente '!$C:$C,"TV06 "),"",INDEX('suivi_vente '!D:D,SMALL(IF('suivi_vente '!$C:$C="TV06 ",ROW($A$1:$A$10),""),ROW()-1)))} | B6: {=IF(ROW()-1>COUNTIF('suivi_vente '!$C:$C,"TV06 "),"",INDEX('suivi_vente '!E:E,SMALL(IF('suivi_vente '!$C:$C="TV06 ",ROW($A$1:$A$10),""),ROW()-1)))} | C6: {=IF(ROW()-1>COUNTIF('suivi_vente '!$C:$C,"TV06 "),"",INDEX('suivi_vente '!F:F,SMALL(IF('suivi_vente '!$C:$C="TV06 ",ROW($A$1:$A$10),""),ROW()-1)))} | D6: {=IF(ROW()-1>COUNTIF('suivi_vente '!$C:$C,"TV06 "),"",INDEX('suivi_vente '!G:G,SMALL(IF('suivi_vente '!$C:$C="TV06 ",ROW($A$1:$A$10),""),ROW()-1)))}
A7: {=IF(ROW()-1>COUNTIF('suivi_vente '!$C:$C,"TV06 "),"",INDEX('suivi_vente '!D:D,SMALL(IF('suivi_vente '!$C:$C="TV06 ",ROW($A$1:$A$10),""),ROW()-1)))} | B7: {=IF(ROW()-1>COUNTIF('suivi_vente '!$C:$C,"TV06 "),"",INDEX('suivi_vente '!E:E,SMALL(IF('suivi_vente '!$C:$C="TV06 ",ROW($A$1:$A$10),""),ROW()-1)))} | C7: {=IF(ROW()-1>COUNTIF('suivi_vente '!$C:$C,"TV06 "),"",INDEX('suivi_vente '!F:F,SMALL(IF('suivi_vente '!$C:$C="TV06 ",ROW($A$1:$A$10),""),ROW()-1)))} | D7: {=IF(ROW()-1>COUNTIF('suivi_vente '!$C:$C,"TV06 "),"",INDEX('suivi_vente '!G:G,SMALL(IF('suivi_vente '!$C:$C="TV06 ",ROW($A$1:$A$10),""),ROW()-1)))}
A8: {=IF(ROW()-1>COUNTIF('suivi_vente '!$C:$C,"TV06 "),"",INDEX('suivi_vente '!D:D,SMALL(IF('suivi_vente '!$C:$C="TV06 ",ROW($A$1:$A$10),""),ROW()-1)))} | B8: {=IF(ROW()-1>COUNTIF('suivi_vente '!$C:$C,"TV06 "),"",INDEX('suivi_vente '!E:E,SMALL(IF('suivi_vente '!$C:$C="TV06 ",ROW($A$1:$A$10),""),ROW()-1)))} | C8: {=IF(ROW()-1>COUNTIF('suivi_vente '!$C:$C,"TV06 "),"",INDEX('suivi_vente '!F:F,SMALL(IF('suivi_vente '!$C:$C="TV06 ",ROW($A$1:$A$10),""),ROW()-1)))} | D8: {=IF(ROW()-1>COUNTIF('suivi_vente '!$C:$C,"TV06 "),"",INDEX('suivi_vente '!G:G,SMALL(IF('suivi_vente '!$C:$C="TV06 ",ROW($A$1:$A$10),""),ROW()-1)))}
A9: {=IF(ROW()-1>COUNTIF('suivi_vente '!$C:$C,"TV06 "),"",INDEX('suivi_vente '!D:D,SMALL(IF('suivi_vente '!$C:$C="TV06 ",ROW($A$1:$A$10),""),ROW()-1)))} | B9: {=IF(ROW()-1>COUNTIF('suivi_vente '!$C:$C,"TV06 "),"",INDEX('suivi_vente '!E:E,SMALL(IF('suivi_vente '!$C:$C="TV06 ",ROW($A$1:$A$10),""),ROW()-1)))} | C9: {=IF(ROW()-1>COUNTIF('suivi_vente '!$C:$C,"TV06 "),"",INDEX('suivi_vente '!F:F,SMALL(IF('suivi_vente '!$C:$C="TV06 ",ROW($A$1:$A$10),""),ROW()-1)))} | D9: {=IF(ROW()-1>COUNTIF('suivi_vente '!$C:$C,"TV06 "),"",INDEX('suivi_vente '!G:G,SMALL(IF('suivi_vente '!$C:$C="TV06 ",ROW($A$1:$A$10),""),ROW()-1)))}
A10: {=IF(ROW()-1>COUNTIF('suivi_vente '!$C:$C,"TV06 "),"",INDEX('suivi_vente '!D:D,SMALL(IF('suivi_vente '!$C:$C="TV06 ",ROW($A$1:$A$10),""),ROW()-1)))} | B10: {=IF(ROW()-1>COUNTIF('suivi_vente '!$C:$C,"TV06 "),"",INDEX('suivi_vente '!E:E,SMALL(IF('suivi_vente '!$C:$C="TV06 ",ROW($A$1:$A$10),""),ROW()-1)))} | C10: {=IF(ROW()-1>COUNTIF('suivi_vente '!$C:$C,"TV06 "),"",INDEX('suivi_vente '!F:F,SMALL(IF('suivi_vente '!$C:$C="TV06 ",ROW($A$1:$A$10),""),ROW()-1)))} | D10: {=IF(ROW()-1>COUNTIF('suivi_vente '!$C:$C,"TV06 "),"",INDEX('suivi_vente '!G:G,SMALL(IF('suivi_vente '!$C:$C="TV06 ",ROW($A$1:$A$10),""),ROW()-1)))}
