Workbook

Sheet Feuil1
A1: C1 | B1: C2 | C1: C3 | D1: C4 | E1: C5 | F1: C6 | G1: C7 | H1: C8 | I1: C9
A2: données | B2: données | C2: données | D2: données | E2: données | F2: données | G2: 1 | H2: données | I2: données
A3: données | B3: données | C3: données | D3: données | E3: données | F3: données | G3: 2 | H3: données | I3: données
A4: données | B4: données | C4: données | D4: données | E4: données | F4: données | G4: 3 | H4: données | I4: données
A5: données | B5: données | C5: données | D5: données | E5: données | F5: données | G5: 4 | H5: données | I5: données
A6: données | B6: données | C6: données | D6: données | E6: données | F6: données | G6: 5 | H6: données | I6: données
A7: données | C7: données | D7: données | E7: données | F7: données | G7: 6 | H7: données | I7: données
A8: données | B8: données | C8: données | D8: données | E8: données | F8: données | G8: 7 | H8: données | I8: données
A9: données | B9: données | C9: données | D9: données | E9: données | F9: données | G9: 8 | H9: données
A10: données | B10: données | C10: données | D10: données | E10: données | F10: données | G10: 9 | H10: données | I10: données
A11: données | B11: données | C11: données | D11: données | E11: données | F11: données | G11: 10 | H11: données | I11: données
A12: données | B12: données | C12: données | D12: données | E12: données | F12: données | G12: 11 | H12: données | I12: données
A13: données | B13: données | C13: données | D13: données | E13: données | F13: données | G13: 12 | H13: données | I13: données
A14: données | B14: données | C14: données | D14: données | F14: données | G14: 13 | H14: données | I14: données
A15: données | B15: données | C15: données | D15: données | E15: données | F15: données | G15: 14 | H15: données | I15: données
A16: données | B16: données | C16: données | D16: données | E16: données | F16: données | G16: 15 | H16: données | I16: données
A17: données | B17: données | C17: données | D17: données | E17: données | F17: données | G17: 16 | H17: données | I17: données
A18: données | B18: données | C18: données | D18: données | E18: données | F18: données | G18: 17 | H18: données | I18: données
A19: données | B19: données | C19: données | D19: données | E19: données | F19: données | G19: 18 | H19: données
A20: données | B20: données | C20: données | D20: données | E20: données | F20: données | G20: 19 | H20: données
A21: données | B21: données | C21: données | D21: données | E21: données | F21: données | G21: 20 | H21: données | I21: données
A22: données | B22: données | C22: données | D22: données | E22: données | F22: données | G22: 21 | H22: données | I22: données
A23: données | B23: données | C23: données | D23: données | E23: données | F23: données | H23: données | I23: données
A24: données | C24: données | D24: données | E24: données | F24: données | G24: 23 | H24: données | I24: données
A25: données | B25: données | C25: données | D25: données | E25: données | F25: données | G25: 24 | H25: données | I25: données
A26: données | B26: données | C26: données | D26: données | E26: données | F26: données | G26: 25 | H26: données | I26: données
A27: données | B27: données | C27: données | D27: données | E27: données | F27: données | G27: 26 | H27: données | I27: données
A28: données | B28: données | C28: données | D28: données | E28: données | F28: données | G28: 27 | H28: données | I28: données
A29: données | B29: données | C29: données | D29: données | E29: données | F29: données | G29: 28 | H29: données | I29: données
A30: données | B30: données | C30: données | D30: données | E30: données | F30: données | G30: 29 | H30: données | I30: données
A31: données | B31: données | C31: données | D31: données | E31: données | F31: données | G31: 30 | H31: données | I31: données
A32: données | B32: données | C32: données | D32: données | E32: données | G32: 31 | H32: données | I32: données
A33: données | B33: données | C33: données | D33: données | E33: données | F33: données | G33: 32 | H33: données
A34: données | B34: données | C34: données | D34: données | E34: données | F34: données | G34: 33 | H34: données | I34: données
A35: données | B35: données | C35: données | D35: données | E35: données | F35: données | G35: 34 | H35: données | I35: données

Sheet Feuil2
A1: C7
A2: 1 | D2: =IFERROR(VLOOKUP(A2,Feuil1!$G$2:$G$35,1,0),"NP") -> 1 | F2: {=IF(ROW()-1>COUNTIF($D$1:$D$100,"NP"),"",INDEX($A$1:$A$100,SMALL(IF($D$1:$D$100="NP",ROW($A$1:$A$100),""),ROW()-1)))} -> 22
A3: 2 | D3: =IFERROR(VLOOKUP(A3,Feuil1!$G$2:$G$35,1,0),"NP") -> 2 | F3: {=IF(ROW()-1>COUNTIF($D$1:$D$100,"NP"),"",INDEX($A$1:$A$100,SMALL(IF($D$1:$D$100="NP",ROW($A$1:$A$100),""),ROW()-1)))} -> 35
A4: 3 | D4: =IFERROR(VLOOKUP(A4,Feuil1!$G$2:$G$35,1,0),"NP") -> 3 | F4: {=IF(ROW()-1>COUNTIF($D$1:$D$100,"NP"),"",INDEX($A$1:$A$100,SMALL(IF($D$1:$D$100="NP",ROW($A$1:$A$100),""),ROW()-1)))} -> 36
A5: 4 | D5: =IFERROR(VLOOKUP(A5,Feuil1!$G$2:$G$35,1,0),"NP") -> 4 | F5: {=IF(ROW()-1>COUNTIF($D$1:$D$100,"NP"),"",INDEX($A$1:$A$100,SMALL(IF($D$1:$D$100="NP",ROW($A$1:$A$100),""),ROW()-1)))}
A6: 5 | D6: =IFERROR(VLOOKUP(A6,Feuil1!$G$2:$G$35,1,0),"NP") -> 5 | F6: {=IF(ROW()-1>COUNTIF($D$1:$D$100,"NP"),"",INDEX($A$1:$A$100,SMALL(IF($D$1:$D$100="NP",ROW($A$1:$A$100),""),ROW()-1)))} | H6: La colonne D peut être déplacée ou masquée
A7: 6 | D7: =IFERROR(VLOOKUP(A7,Feuil1!$G$2:$G$35,1,0),"NP") -> 6 | F7: {=IF(ROW()-1>COUNTIF($D$1:$D$100,"NP"),"",INDEX($A$1:$A$100,SMALL(IF($D$1:$D$100="NP",ROW($A$1:$A$100),""),ROW()-1)))}
A8: 7 | D8: =IFERROR(VLOOKUP(A8,Feuil1!$G$2:$G$35,1,0),"NP") -> 7 | F8: {=IF(ROW()-1>COUNTIF($D$1:$D$100,"NP"),"",INDEX($A$1:$A$100,SMALL(IF($D$1:$D$100="NP",ROW($A$1:$A$100),""),ROW()-1)))}
A9: 8 | D9: =IFERROR(VLOOKUP(A9,Feuil1!$G$2:$G$35,1,0),"NP") -> 8 | F9: {=IF(ROW()-1>COUNTIF($D$1:$D$100,"NP"),"",INDEX($A$1:$A$100,SMALL(IF($D$1:$D$100="NP",ROW($A$1:$A$100),""),ROW()-1)))}
A10: 9 | D10: =IFERROR(VLOOKUP(A10,Feuil1!$G$2:$G$35,1,0),"NP") -> 9 | F10: {=IF(ROW()-1>COUNTIF($D$1:$D$100,"NP"),"",INDEX($A$1:$A$100,SMALL(IF($D$1:$D$100="NP",ROW($A$1:$A$100),""),ROW()-1)))}
A11: 10 | D11: =IFERROR(VLOOKUP(A11,Feuil1!$G$2:$G$35,1,0),"NP") -> 10
A12: 11 | D12: =IFERROR(VLOOKUP(A12,Feuil1!$G$2:$G$35,1,0),"NP") -> 11
A13: 12 | D13: =IFERROR(VLOOKUP(A13,Feuil1!$G$2:$G$35,1,0),"NP") -> 12
A14: 13 | D14: =IFERROR(VLOOKUP(A14,Feuil1!$G$2:$G$35,1,0),"NP") -> 13
A15: 14 | D15: =IFERROR(VLOOKUP(A15,Feuil1!$G$2:$G$35,1,0),"NP") -> 14
A16: 15 | D16: =IFERROR(VLOOKUP(A16,Feuil1!$G$2:$G$35,1,0),"NP") -> 15
A17: 16 | D17: =IFERROR(VLOOKUP(A17,Feuil1!$G$2:$G$35,1,0),"NP") -> 16
A18: 17 | D18: =IFERROR(VLOOKUP(A18,Feuil1!$G$2:$G$35,1,0),"NP") -> 17
A19: 18 | D19: =IFERROR(VLOOKUP(A19,Feuil1!$G$2:$G$35,1,0),"NP") -> 18
A20: 19 | D20: =IFERROR(VLOOKUP(A20,Feuil1!$G$2:$G$35,1,0),"NP") -> 19
A21: 20 | D21: =IFERROR(VLOOKUP(A21,Feuil1!$G$2:$G$35,1,0),"NP") -> 20
A22: 21 | D22: =IFERROR(VLOOKUP(A22,Feuil1!$G$2:$G$35,1,0),"NP") -> 21
... A37: 36 | D37: =IFERROR(VLOOKUP(A37,Feuil1!$G$2:$G$35,1,0),"NP") -> NP
