Workbook

Sheet tableau à faire
A1: N° Pièce | B1: REF pièce | C1: HT | D1: TVA | E1: TTC
A2: {=IF(ROW()-1>COUNTIF('tableau de base'!AA:AA,1),"",INDEX('tableau de base'!D:D,SMALL(IF('tableau de base'!AA:AA=1,ROW(A:A),""),ROW()-1)))} -> 0527 | B2: =IFERROR(VLOOKUP(A2,'tableau de base'!$D$2:$E$16,2,0),"") -> AVFN0068 | C2: {=IF(ROW()-1>COUNTIF('tableau de base'!AB:AB,1),"",INDEX('tableau de base'!K:K,SMALL(IF('tableau de base'!AB:AB=1,ROW(A:A),""),ROW()-1)))} -> 26.83 | D2: {=IF(ROW()-1>COUNTIF('tableau de base'!AC:AC,1),"",INDEX('tableau de base'!K:K,SMALL(IF('tableau de base'!AC:AC=1,ROW(A:A),""),ROW()-1)))} -> 5.37 | E2: {=IF(ROW()-1>COUNTIF('tableau de base'!AD:AD,1),"",INDEX('tableau de base'!J:J,SMALL(IF('tableau de base'!AD:AD=1,ROW(A:A),""),ROW()-1)))} -> 32.2
A3: {=IF(ROW()-1>COUNTIF('tableau de base'!AA:AA,1),"",INDEX('tableau de base'!D:D,SMALL(IF('tableau de base'!AA:AA=1,ROW(A:A),""),ROW()-1)))} -> 0458 | B3: =IFERROR(VLOOKUP(A3,'tableau de base'!$D$2:$E$16,2,0),"") -> AVFP0015 | C3: {=IF(ROW()-1>COUNTIF('tableau de base'!AB:AB,1),"",INDEX('tableau de base'!K:K,SMALL(IF('tableau de base'!AB:AB=1,ROW(A:A),""),ROW()-1)))} -> 822.2 | D3: {=IF(ROW()-1>COUNTIF('tableau de base'!AC:AC,1),"",INDEX('tableau de base'!K:K,SMALL(IF('tableau de base'!AC:AC=1,ROW(A:A),""),ROW()-1)))} -> 164.44 | E3: {=IF(ROW()-1>COUNTIF('tableau de base'!AD:AD,1),"",INDEX('tableau de base'!J:J,SMALL(IF('tableau de base'!AD:AD=1,ROW(A:A),""),ROW()-1)))} -> 986.64
A4: {=IF(ROW()-1>COUNTIF('tableau de base'!AA:AA,1),"",INDEX('tableau de base'!D:D,SMALL(IF('tableau de base'!AA:AA=1,ROW(A:A),""),ROW()-1)))} -> 0457 | B4: =IFERROR(VLOOKUP(A4,'tableau de base'!$D$2:$E$16,2,0),"") -> AVFP0014 | C4: {=IF(ROW()-1>COUNTIF('tableau de base'!AB:AB,1),"",INDEX('tableau de base'!K:K,SMALL(IF('tableau de base'!AB:AB=1,ROW(A:A),""),ROW()-1)))} -> 571.44 | D4: {=IF(ROW()-1>COUNTIF('tableau de base'!AC:AC,1),"",INDEX('tableau de base'!K:K,SMALL(IF('tableau de base'!AC:AC=1,ROW(A:A),""),ROW()-1)))} -> 114.29 | E4: {=IF(ROW()-1>COUNTIF('tableau de base'!AD:AD,1),"",INDEX('tableau de base'!J:J,SMALL(IF('tableau de base'!AD:AD=1,ROW(A:A),""),ROW()-1)))} -> 685.73
A5: {=IF(ROW()-1>COUNTIF('tableau de base'!AA:AA,1),"",INDEX('tableau de base'!D:D,SMALL(IF('tableau de base'!AA:AA=1,ROW(A:A),""),ROW()-1)))} -> 0456 | B5: =IFERROR(VLOOKUP(A5,'tableau de base'!$D$2:$E$16,2,0),"") -> AVFP0013 | C5: {=IF(ROW()-1>COUNTIF('tableau de base'!AB:AB,1),"",INDEX('tableau de base'!K:K,SMALL(IF('tableau de base'!AB:AB=1,ROW(A:A),""),ROW()-1)))} -> 8146.03 | D5: {=IF(ROW()-1>COUNTIF('tableau de base'!AC:AC,1),"",INDEX('tableau de base'!K:K,SMALL(IF('tableau de base'!AC:AC=1,ROW(A:A),""),ROW()-1)))} -> 814.6 | E5: {=IF(ROW()-1>COUNTIF('tableau de base'!AD:AD,1),"",INDEX('tableau de base'!J:J,SMALL(IF('tableau de base'!AD:AD=1,ROW(A:A),""),ROW()-1)))} -> 8960.63
A6: {=IF(ROW()-1>COUNTIF('tableau de base'!AA:AA,1),"",INDEX('tableau de base'!D:D,SMALL(IF('tableau de base'!AA:AA=1,ROW(A:A),""),ROW()-1)))} -> 0455 | B6: =IFERROR(VLOOKUP(A6,'tableau de base'!$D$2:$E$16,2,0),"") -> AVFP0012 | C6: {=IF(ROW()-1>COUNTIF('tableau de base'!AB:AB,1),"",INDEX('tableau de base'!K:K,SMALL(IF('tableau de base'!AB:AB=1,ROW(A:A),""),ROW()-1)))} -> 7538.69 | D6: {=IF(ROW()-1>COUNTIF('tableau de base'!AC:AC,1),"",INDEX('tableau de base'!K:K,SMALL(IF('tableau de base'!AC:AC=1,ROW(A:A),""),ROW()-1)))} -> 753.87 | E6: {=IF(ROW()-1>COUNTIF('tableau de base'!AD:AD,1),"",INDEX('tableau de base'!J:J,SMALL(IF('tableau de base'!AD:AD=1,ROW(A:A),""),ROW()-1)))} -> 8292.56
A7: {=IF(ROW()-1>COUNTIF('tableau de base'!AA:AA,1),"",INDEX('tableau de base'!D:D,SMALL(IF('tableau de base'!AA:AA=1,ROW(A:A),""),ROW()-1)))} | B7: =IFERROR(VLOOKUP(A7,'tableau de base'!$D$2:$E$16,2,0),"") | C7: {=IF(ROW()-1>COUNTIF('tableau de base'!AB:AB,1),"",INDEX('tableau de base'!K:K,SMALL(IF('tableau de base'!AB:AB=1,ROW(A:A),""),ROW()-1)))} | D7: {=IF(ROW()-1>COUNTIF('tableau de base'!AC:AC,1),"",INDEX('tableau de base'!K:K,SMALL(IF('tableau de base'!AC:AC=1,ROW(A:A),""),ROW()-1)))} | E7: {=IF(ROW()-1>COUNTIF('tableau de base'!AD:AD,1),"",INDEX('tableau de base'!J:J,SMALL(IF('tableau de base'!AD:AD=1,ROW(A:A),""),ROW()-1)))}
A8: {=IF(ROW()-1>COUNTIF('tableau de base'!AA:AA,1),"",INDEX('tableau de base'!D:D,SMALL(IF('tableau de base'!AA:AA=1,ROW(A:A),""),ROW()-1)))} | B8: =IFERROR(VLOOKUP(A8,'tableau de base'!$D$2:$E$16,2,0),"") | C8: {=IF(ROW()-1>COUNTIF('tableau de base'!AB:AB,1),"",INDEX('tableau de base'!K:K,SMALL(IF('tableau de base'!AB:AB=1,ROW(A:A),""),ROW()-1)))} | D8: {=IF(ROW()-1>COUNTIF('tableau de base'!AC:AC,1),"",INDEX('tableau de base'!K:K,SMALL(IF('tableau de base'!AC:AC=1,ROW(A:A),""),ROW()-1)))} | E8: {=IF(ROW()-1>COUNTIF('tableau de base'!AD:AD,1),"",INDEX('tableau de base'!J:J,SMALL(IF('tableau de base'!AD:AD=1,ROW(A:A),""),ROW()-1)))}
A9: {=IF(ROW()-1>COUNTIF('tableau de base'!AA:AA,1),"",INDEX('tableau de base'!D:D,SMALL(IF('tableau de base'!AA:AA=1,ROW(A:A),""),ROW()-1)))} | B9: =IFERROR(VLOOKUP(A9,'tableau de base'!$D$2:$E$16,2,0),"") | C9: {=IF(ROW()-1>COUNTIF('tableau de base'!AB:AB,1),"",INDEX('tableau de base'!K:K,SMALL(IF('tableau de base'!AB:AB=1,ROW(A:A),""),ROW()-1)))} | D9: {=IF(ROW()-1>COUNTIF('tableau de base'!AC:AC,1),"",INDEX('tableau de base'!K:K,SMALL(IF('tableau de base'!AC:AC=1,ROW(A:A),""),ROW()-1)))} | E9: {=IF(ROW()-1>COUNTIF('tableau de base'!AD:AD,1),"",INDEX('tableau de base'!J:J,SMALL(IF('tableau de base'!AD:AD=1,ROW(A:A),""),ROW()-1)))}
A10: {=IF(ROW()-1>COUNTIF('tableau de base'!AA:AA,1),"",INDEX('tableau de base'!D:D,SMALL(IF('tableau de base'!AA:AA=1,ROW(A:A),""),ROW()-1)))} | B10: =IFERROR(VLOOKUP(A10,'tableau de base'!$D$2:$E$16,2,0),"") | C10: {=IF(ROW()-1>COUNTIF('tableau de base'!AB:AB,1),"",INDEX('tableau de base'!K:K,SMALL(IF('tableau de base'!AB:AB=1,ROW(A:A),""),ROW()-1)))} | D10: {=IF(ROW()-1>COUNTIF('tableau de base'!AC:AC,1),"",INDEX('tableau de base'!K:K,SMALL(IF('tableau de base'!AC:AC=1,ROW(A:A),""),ROW()-1)))} | E10: {=IF(ROW()-1>COUNTIF('tableau de base'!AD:AD,1),"",INDEX('tableau de base'!J:J,SMALL(IF('tableau de base'!AD:AD=1,ROW(A:A),""),ROW()-1)))}

Sheet tableau de base
A1: ID Pièce | B1: CodeJournal | C1: DateEcriture | D1: NuméroPièce | E1: RéférencePièce | F1: CompteGénéral | G1: CompteAuxiliaire | H1: Intitulé | I1: DateEchéance | J1: MontantDébit | K1: MontantCrédit | L1: ID Pièce
A2: 70067 | B2: VENTES | C2: 42002 | D2: 0527 | E2: AVFN0068 | F2: 41100000 | G2: 4112DREUIL1 | H2: Fact. AVFN0068 - DIVERS REXEL - DREUILLET lucie | I2: 42002 | J2: 32.2 | K2: 0 | L2: 70067 | AA2: =IF(ISTEXT(D2),1,0) -> 1 | AB2: =IF(LEFT(F2,1)="7",1,"") | AC2: =IF(LEFT(F2,3)="445",1,"") | AD2: =IF(LEFT(F2,3)="411",1,"") -> 1
A3: 70067 | E3: AVFN0068 | F3: 70711000 | H3: Fact. AVFN0068 - DIVERS REXEL - DREUILLET lucie | J3: 0 | K3: 26.83 | L3: 70067 | AA3: =IF(ISTEXT(D3),1,0) -> 0 | AB3: =IF(LEFT(F3,1)="7",1,"") -> 1 | AC3: =IF(LEFT(F3,3)="445",1,"") | AD3: =IF(LEFT(F3,3)="411",1,"")
A4: 70067 | E4: AVFN0068 | F4: 44571600 | H4: Fact. AVFN0068 - DIVERS REXEL - DREUILLET lucie | J4: 0 | K4: 5.37 | L4: 70067 | AA4: =IF(ISTEXT(D4),1,0) -> 0 | AB4: =IF(LEFT(F4,1)="7",1,"") | AC4: =IF(LEFT(F4,3)="445",1,"") -> 1 | AD4: =IF(LEFT(F4,3)="411",1,"")
A5: 69620 | B5: VENTES | C5: 41997 | D5: 0458 | E5: AVFP0015 | F5: 41100000 | G5: 4112CLERMO1 | H5: Fact. AVFP0015 - IFSI MODIFICATIONS - CLERMONT VILLE | I5: 42035 | J5: 986.64 | K5: 0 | L5: 69620 | AA5: =IF(ISTEXT(D5),1,0) -> 1 | AB5: =IF(LEFT(F5,1)="7",1,"") | AC5: =IF(LEFT(F5,3)="445",1,"") | AD5: =IF(LEFT(F5,3)="411",1,"") -> 1
A6: 69620 | E6: AVFP0015 | F6: 70441000 | H6: Fact. AVFP0015 - IFSI MODIFICATIONS - CLERMONT VILLE | J6: 0 | K6: 822.2 | L6: 69620 | AA6: =IF(ISTEXT(D6),1,0) -> 0 | AB6: =IF(LEFT(F6,1)="7",1,"") -> 1 | AC6: =IF(LEFT(F6,3)="445",1,"") | AD6: =IF(LEFT(F6,3)="411",1,"")
A7: 69620 | E7: AVFP0015 | F7: 44571600 | H7: Fact. AVFP0015 - IFSI MODIFICATIONS - CLERMONT VILLE | J7: 0 | K7: 164.44 | L7: 69620 | AA7: =IF(ISTEXT(D7),1,0) -> 0 | AB7: =IF(LEFT(F7,1)="7",1,"") | AC7: =IF(LEFT(F7,3)="445",1,"") -> 1 | AD7: =IF(LEFT(F7,3)="411",1,"")
A8: 69619 | B8: VENTES | C8: 41997 | D8: 0457 | E8: AVFP0014 | F8: 41100000 | G8: 4112CLERMO1 | H8: Fact. AVFP0014 - PLOMBERIE IFSI - CLERMONT VILLE | I8: 42035 | J8: 685.73 | K8: 0 | L8: 69619 | AA8: =IF(ISTEXT(D8),1,0) -> 1 | AB8: =IF(LEFT(F8,1)="7",1,"") | AC8: =IF(LEFT(F8,3)="445",1,"") | AD8: =IF(LEFT(F8,3)="411",1,"") -> 1
A9: 69619 | E9: AVFP0014 | F9: 70441000 | H9: Fact. AVFP0014 - PLOMBERIE IFSI - CLERMONT VILLE | J9: 0 | K9: 571.44 | L9: 69619 | AA9: =IF(ISTEXT(D9),1,0) -> 0 | AB9: =IF(LEFT(F9,1)="7",1,"") -> 1 | AC9: =IF(LEFT(F9,3)="445",1,"") | AD9: =IF(LEFT(F9,3)="411",1,"")
A10: 69619 | E10: AVFP0014 | F10: 44571600 | H10: Fact. AVFP0014 - PLOMBERIE IFSI - CLERMONT VILLE | J10: 0 | K10: 114.29 | L10: 69619 | AA10: =IF(ISTEXT(D10),1,0) -> 0 | AB10: =IF(LEFT(F10,1)="7",1,"") | AC10: =IF(LEFT(F10,3)="445",1,"") -> 1 | AD10: =IF(LEFT(F10,3)="411",1,"")
A11: 69618 | B11: VENTES | C11: 41997 | D11: 0456 | E11: AVFP0013 | F11: 41100000 | G11: 4112CLERMO1 | H11: Fact. AVFP0013 - LEGRAND DU SAULLE - CLERMONT VILLE | I11: 42035 | J11: 8960.63 | K11: 0 | L11: 69618 | AA11: =IF(ISTEXT(D11),1,0) -> 1 | AB11: =IF(LEFT(F11,1)="7",1,"") | AC11: =IF(LEFT(F11,3)="445",1,"") | AD11: =IF(LEFT(F11,3)="411",1,"") -> 1
A12: 69618 | E12: AVFP0013 | F12: 70442000 | H12: Fact. AVFP0013 - LEGRAND DU SAULLE - CLERMONT VILLE | J12: 0 | K12: 8146.03 | L12: 69618 | AA12: =IF(ISTEXT(D12),1,0) -> 0 | AB12: =IF(LEFT(F12,1)="7",1,"") -> 1 | AC12: =IF(LEFT(F12,3)="445",1,"") | AD12: =IF(LEFT(F12,3)="411",1,"")
A13: 69618 | E13: AVFP0013 | F13: 44571200 | H13: Fact. AVFP0013 - LEGRAND DU SAULLE - CLERMONT VILLE | J13: 0 | K13: 814.6 | L13: 69618 | AA13: =IF(ISTEXT(D13),1,0) -> 0 | AB13: =IF(LEFT(F13,1)="7",1,"") | AC13: =IF(LEFT(F13,3)="445",1,"") -> 1 | AD13: =IF(LEFT(F13,3)="411",1,"")
A14: 69617 | B14: VENTES | C14: 41997 | D14: 0455 | E14: AVFP0012 | F14: 41100000 | G14: 4112CLERMO1 | H14: Fact. AVFP0012 - M KLEIN PLOM - CLERMONT VILLE | I14: 42035 | J14: 8292.56 | K14: 0 | L14: 69617 | AA14: =IF(ISTEXT(D14),1,0) -> 1 | AB14: =IF(LEFT(F14,1)="7",1,"") | AC14: =IF(LEFT(F14,3)="445",1,"") | AD14: =IF(LEFT(F14,3)="411",1,"") -> 1
A15: 69617 | E15: AVFP0012 | F15: 70442000 | H15: Fact. AVFP0012 - M KLEIN PLOM - CLERMONT VILLE | J15: 0 | K15: 7538.69 | L15: 69617 | AA15: =IF(ISTEXT(D15),1,0) -> 0 | AB15: =IF(LEFT(F15,1)="7",1,"") -> 1 | AC15: =IF(LEFT(F15,3)="445",1,"") | AD15: =IF(LEFT(F15,3)="411",1,"")
A16: 69617 | E16: AVFP0012 | F16: 44571200 | H16: Fact. AVFP0012 - M KLEIN PLOM - CLERMONT VILLE | J16: 0 | K16: 753.87 | L16: 69617 | AA16: =IF(ISTEXT(D16),1,0) -> 0 | AB16: =IF(LEFT(F16,1)="7",1,"") | AC16: =IF(LEFT(F16,3)="445",1,"") -> 1 | AD16: =IF(LEFT(F16,3)="411",1,"")
AA17: =IF(ISTEXT(D17),1,0) -> 0 | AB17: =IF(LEFT(F17,1)="7",1,"") | AC17: =IF(LEFT(F17,3)="445",1,"") | AD17: =IF(LEFT(F17,3)="411",1,"")
AA18: =IF(ISTEXT(D18),1,0) -> 0 | AB18: =IF(LEFT(F18,1)="7",1,"") | AC18: =IF(LEFT(F18,3)="445",1,"") | AD18: =IF(LEFT(F18,3)="411",1,"")
AA19: =IF(ISTEXT(D19),1,0) -> 0 | AB19: =IF(LEFT(F19,1)="7",1,"") | AC19: =IF(LEFT(F19,3)="445",1,"") | AD19: =IF(LEFT(F19,3)="411",1,"")
AA20: =IF(ISTEXT(D20),1,0) -> 0 | AB20: =IF(LEFT(F20,1)="7",1,"") | AC20: =IF(LEFT(F20,3)="445",1,"") | AD20: =IF(LEFT(F20,3)="411",1,"")
AA21: =IF(ISTEXT(D21),1,0) -> 0 | AB21: =IF(LEFT(F21,1)="7",1,"") | AC21: =IF(LEFT(F21,3)="445",1,"") | AD21: =IF(LEFT(F21,3)="411",1,"")
AA22: =IF(ISTEXT(D22),1,0) -> 0 | AB22: =IF(LEFT(F22,1)="7",1,"") | AC22: =IF(LEFT(F22,3)="445",1,"") | AD22: =IF(LEFT(F22,3)="411",1,"")
AA23: =IF(ISTEXT(D23),1,0) -> 0 | AB23: =IF(LEFT(F23,1)="7",1,"") | AC23: =IF(LEFT(F23,3)="445",1,"") | AD23: =IF(LEFT(F23,3)="411",1,"")
AA24: =IF(ISTEXT(D24),1,0) -> 0 | AB24: =IF(LEFT(F24,1)="7",1,"") | AC24: =IF(LEFT(F24,3)="445",1,"") | AD24: =IF(LEFT(F24,3)="411",1,"")
AA25: =IF(ISTEXT(D25),1,0) -> 0 | AB25: =IF(LEFT(F25,1)="7",1,"") | AC25: =IF(LEFT(F25,3)="445",1,"") | AD25: =IF(LEFT(F25,3)="411",1,"")
AA26: =IF(ISTEXT(D26),1,0) -> 0 | AB26: =IF(LEFT(F26,1)="7",1,"") | AC26: =IF(LEFT(F26,3)="445",1,"") | AD26: =IF(LEFT(F26,3)="411",1,"")
AA27: =IF(ISTEXT(D27),1,0) -> 0 | AB27: =IF(LEFT(F27,1)="7",1,"") | AC27: =IF(LEFT(F27,3)="445",1,"") | AD27: =IF(LEFT(F27,3)="411",1,"")
AA28: =IF(ISTEXT(D28),1,0) -> 0 | AB28: =IF(LEFT(F28,1)="7",1,"") | AC28: =IF(LEFT(F28,3)="445",1,"") | AD28: =IF(LEFT(F28,3)="411",1,"")
... AA103: =IF(ISTEXT(D103),1,0) -> 0 | AB103: =IF(LEFT(F103,1)="7",1,"") | AC103: =IF(LEFT(F103,3)="445",1,"") | AD103: =IF(LEFT(F103,3)="411",1,"")
