Workbook
Name CH1X: ' '!$B$3:$RT$3
Name CH2X: ' '!$B$4:$RT$4
Name CH3X: ' '!$B$5:$RT$5
Name ENTREE: Chambres!$H$7
Name Jours: ' '!$B$2:$RT$2
Name N°: Chambres!$H$5
Name SORTIE: Chambres!$H$11

Sheet Chambres
A1: Chambres | B1: Noms | C1: Entrée | D1: Sortie | F1: RESERVATION | I1: X
A2: 2 | B2: X | C2: 43475 | D2: 43485
A3: 2 | B3: Y | C3: 43490 | D3: 43494 | G3: ETAT DE LA SALLE EST | H3: =IF(N°=1,IF(SUMPRODUCT((Jours>=ENTREE)*(Jours<=SORTIE)*(CH1X))=0,"Libre","Occupé"),IF(N°=2,IF(SUMPRODUCT((Jours>=ENTREE)*(Jours<=SORTIE)*(CH2X))=0,"Libre","Occupé"),IF(N°=3,IF(SUMPRODUCT((Jours>=ENTREE)*(Jours<=SORTIE)*(CH3X))=0,"Libre","Occupé"),""))) -> Libre
A4: 3 | B4: Z | C4: 43480 | D4: 43482
A5: 1 | B5: T | C5: 43492 | D5: 43503 | G5: NUMÉRO DE LA SALLE | H5: 2
G7: DATE D'ENTREE | H7: 43486
G9: NOMBRE DE JOUR | H9: =H11-H7+1 -> 4
G11: DATE DE SORTIE | H11: 43489

Sheet  
B2: 43466 | C2: 43467 | D2: 43468 | E2: 43469 | F2: 43470 | G2: 43471 | H2: 43472 | I2: 43473 | J2: 43474 | K2: 43475 | L2: 43476 | M2: 43477 | N2: 43478 | O2: 43479 | P2: 43480 | Q2: 43481 | R2: 43482 | S2: 43483 | T2: 43484 | U2: 43485 | V2: 43486 | W2: 43487 | X2: 43488 | Y2: 43489 | Z2: 43490 | AA2: 43491 | AB2: 43492 | AC2: 43493 | AD2: 43494 | AE2: 43495 | AF2: 43496 | AG2: 43497 | AH2: 43498 | AI2: 43499 | AJ2: 43500 | AK2: 43501 | AL2: 43502 | AM2: 43503 | AN2: 43504 | AO2: 43505 | AP2: 43506 | AQ2: 43507 | AR2: 43508 | AS2: 43509 | AT2: 43510 | AU2: 43511 | AV2: 43512 | AW2: 43513 | AX2: 43514 | AY2: 43515 | AZ2: 43516 | BA2: 43517 | BB2: 43518 | BC2: 43519 | BD2: 43520 | BE2: 43521 | BF2: 43522 | BG2: 43523 | BH2: 43524 | BI2: 43525 | BJ2: 43526 | BK2: 43527 | BL2: 43528 | BM2: 43529 | BN2: 43530 | BO2: 43531 | BP2: 43532 | BQ2: 43533 | BR2: 43534 | BS2: 43535 | BT2: 43536 | BU2: 43537 | BV2: 43538 | BW2: 43539 | BX2: 43540 | BY2: 43541 | BZ2: 43542 | CA2: 43543 | CB2: 43544 | CC2: 43545 | CD2: 43546 | CE2: 43547 | CF2: 43548 | CG2: 43549 | CH2: 43550 | CI2: 43551 | CJ2: 43552 | CK2: 43553 | CL2: 43554 | CM2: 43555 | CN2: 43556 | CO2: 43557 | CP2: 43558 | CQ2: 43559 | CR2: 43560 | CS2: 43561 | CT2: 43562 | CU2: 43563 | CV2: 43564 | CW2: 43565 | CX2: 43566 | CY2: 43567 | CZ2: 43568 | DA2: 43569 | DB2: 43570 | DC2: 43571 | DD2: 43572 | DE2: 43573 | DF2: 43574 | DG2: 43575 | DH2: 43576 | DI2: 43577 | DJ2: 43578 | DK2: 43579 | DL2: 43580 | DM2: 43581 | DN2: 43582 | DO2: 43583 | DP2: 43584 | DQ2: 43585 | DR2: 43586 | DS2: 43587 | DT2: 43588 | DU2: 43589 | DV2: 43590 | DW2: 43591 | DX2: 43592 | DY2: 43593 | DZ2: 43594 | EA2: 43595 | EB2: 43596 | EC2: 43597 | ED2: 43598 | EE2: 43599 | EF2: 43600 | EG2: 43601 | EH2: 43602 | EI2: 43603 | EJ2: 43604 | EK2: 43605 | EL2: 43606 | EM2: 43607 | EN2: 43608 | EO2: 43609 | EP2: 43610 | EQ2: 43611 | ER2: 43612 | ES2: 43613 | ET2: 43614 | EU2: 43615 | EV2: 43616 | EW2: 43617 | EX2: 43618 | EY2: 43619 | EZ2: 43620 | FA2: 43621 | FB2: 43622 | FC2: 43623 | FD2: 43624 | FE2: 43625 | FF2: 43626 | FG2: 43627 | FH2: 43628 | FI2: 43629 | FJ2: 43630 | FK2: 43631 | FL2: 43632 | FM2: 43633 | FN2: 43634 | FO2: 43635 | FP2: 43636 | FQ2: 43637 | FR2: 43638 | FS2: 43639 | FT2: 43640 | FU2: 43641 | FV2: 43642 | FW2: 43643 | FX2: 43644 | FY2: 43645 | FZ2: 43646 | GA2: 43647 | GB2: 43648 | GC2: 43649 | GD2: 43650 | GE2: 43651 | GF2: 43652 | GG2: 43653 | GH2: 43654 | GI2: 43655 | GJ2: 43656 | GK2: 43657 | GL2: 43658 | GM2: 43659 | GN2: 43660 | GO2: 43661 | GP2: 43662 | GQ2: 43663 | GR2: 43664 | GS2: 43665 | GT2: 43666 | GU2: 43667 | GV2: 43668 | GW2: 43669 | GX2: 43670 | GY2: 43671 | GZ2: 43672 | HA2: 43673 | HB2: 43674 | HC2: 43675 | HD2: 43676 | HE2: 43677 | HF2: 43678 | HG2: 43679 | HH2: 43680 | HI2: 43681 | HJ2: 43682 | HK2: 43683 | HL2: 43684 | HM2: 43685 | HN2: 43686 | HO2: 43687 | HP2: 43688 | HQ2: 43689 | HR2: 43690 | HS2: 43691 | HT2: 43692 | HU2: 43693 | HV2: 43694 | HW2: 43695 | HX2: 43696 | HY2: 43697 | HZ2: 43698 | IA2: 43699 | IB2: 43700 | IC2: 43701 | ID2: 43702 | IE2: 43703 | IF2: 43704 | IG2: 43705 | IH2: 43706 | II2: 43707 | IJ2: 43708 | IK2: 43709 | IL2: 43710 | IM2: 43711 | IN2: 43712 | IO2: 43713 | IP2: 43714 | IQ2: 43715 | IR2: 43716 | IS2: 43717 | IT2: 43718 | IU2: 43719 | IV2: 43720 | IW2: 43721 | IX2: 43722 | IY2: 43723 | IZ2: 43724 | JA2: 43725 | JB2: 43726 | JC2: 43727 | JD2: 43728 | JE2: 43729 | JF2: 43730 | JG2: 43731 | JH2: 43732 | JI2: 43733 | JJ2: 43734 | JK2: 43735 | JL2: 43736 | JM2: 43737 | JN2: 43738 | JO2: 43739 | JP2: 43740 | JQ2: 43741 | JR2: 43742 | JS2: 43743 | JT2: 43744 | JU2: 43745 | JV2: 43746 | JW2: 43747 | JX2: 43748 | JY2: 43749 | JZ2: 43750 | KA2: 43751 | KB2: 43752 | KC2: 43753 | KD2: 43754 | KE2: 43755 | KF2: 43756 | KG2: 43757 | KH2: 43758 | KI2: 43759 | KJ2: 43760 | KK2: 43761 | KL2: 43762 | KM2: 43763 | KN2: 43764 | KO2: 43765 | KP2: 43766 | KQ2: 43767 | KR2: 43768 | KS2: 43769 | KT2: 43770 | KU2: 43771 | KV2: 43772 | KW2: 43773 | KX2: 43774 | KY2: 43775 | KZ2: 43776 | LA2: 43777 | LB2: 43778 | LC2: 43779 | LD2: 43780 | LE2: 43781 | LF2: 43782 | LG2: 43783 | LH2: 43784 | LI2: 43785 | LJ2: 43786 | LK2: 43787 | LL2: 43788 | LM2: 43789 | LN2: 43790 | LO2: 43791 | LP2: 43792 | LQ2: 43793 | LR2: 43794 | LS2: 43795 | LT2: 43796 | LU2: 43797 | LV2: 43798 | LW2: 43799 | LX2: 43800 | LY2: 43801 | LZ2: 43802 | MA2: 43803 | MB2: 43804 | MC2: 43805 | MD2: 43806 | ME2: 43807 | MF2: 43808 | MG2: 43809 | MH2: 43810 | MI2: 43811 | MJ2: 43812 | MK2: 43813 | ML2: 43814 | MM2: 43815 | MN2: 43816 | MO2: 43817 | MP2: 43818 | MQ2: 43819 | MR2: 43820 | MS2: 43821 | MT2: 43822 | MU2: 43823 | MV2: 43824 | MW2: 43825 | MX2: 43826 | MY2: 43827 | MZ2: 43828 | NA2: 43829 | NB2: 43830 | NC2: 43831 | ND2: 43832 | NE2: 43833 | NF2: 43834 | NG2: 43835 | NH2: 43836 | NI2: 43837 | NJ2: 43838 | NK2: 43839 | NL2: 43840 | NM2: 43841 | NN2: 43842 | NO2: 43843 | NP2: 43844 | NQ2: 43845 | NR2: 43846 | NS2: 43847 | NT2: 43848 | NU2: 43849 | NV2: 43850 | NW2: 43851 | NX2: 43852 | NY2: 43853 | NZ2: 43854 | OA2: 43855 | OB2: 43856 | OC2: 43857 | OD2: 43858 | OE2: 43859 | OF2: 43860 | OG2: 43861 | OH2: 43862 | OI2: 43863 | OJ2: 43864 | OK2: 43865 | OL2: 43866 | OM2: 43867 | ON2: 43868 | OO2: 43869 | OP2: 43870 | OQ2: 43871 | OR2: 43872 | OS2: 43873 | OT2: 43874 | OU2: 43875 | OV2: 43876 | OW2: 43877 | OX2: 43878 | OY2: 43879 | OZ2: 43880 | PA2: 43881 | PB2: 43882 | PC2: 43883 | PD2: 43884 | PE2: 43885 | PF2: 43886 | PG2: 43887 | PH2: 43888 | PI2: 43889 | PJ2: 43890 | PK2: 43891 | PL2: 43892 | PM2: 43893 | PN2: 43894 | PO2: 43895 | PP2: 43896 | PQ2: 43897 | PR2: 43898 | PS2: 43899 | PT2: 43900 | PU2: 43901 | PV2: 43902 | PW2: 43903 | PX2: 43904 | PY2: 43905 | PZ2: 43906 | QA2: 43907 | QB2: 43908 | QC2: 43909 | QD2: 43910 | QE2: 43911 | QF2: 43912 | QG2: 43913 | QH2: 43914 | QI2: 43915 | QJ2: 43916 | QK2: 43917 | QL2: 43918 | QM2: 43919 | QN2: 43920 | QO2: 43921 | QP2: 43922 | QQ2: 43923 | QR2: 43924 | QS2: 43925 | QT2: 43926 | QU2: 43927 | QV2: 43928 | QW2: 43929 | QX2: 43930 | QY2: 43931 | QZ2: 43932 | RA2: 43933 | RB2: 43934 | RC2: 43935 | RD2: 43936 | RE2: 43937 | RF2: 43938 | RG2: 43939 | RH2: 43940 | RI2: 43941 | RJ2: 43942 | RK2: 43943 | RL2: 43944 | RM2: 43945 | RN2: 43946 | RO2: 43947 | RP2: 43948 | RQ2: 43949 | RR2: 43950 | RS2: 43951 | RT2: 43952
A3: CH1 | B3: =SUMPRODUCT((Chambres!$A$2:$A$5=1)*(Chambres!$C$2:$C$5<=B2)*((Chambres!$D$2:$D$5>=B2))) -> 0 | C3: =SUMPRODUCT((Chambres!$A$2:$A$5=1)*(Chambres!$C$2:$C$5<=C2)*((Chambres!$D$2:$D$5>=C2))) -> 0 | D3: =SUMPRODUCT((Chambres!$A$2:$A$5=1)*(Chambres!$C$2:$C$5<=D2)*((Chambres!$D$2:$D$5>=D2))) -> 0 | E3: =SUMPRODUCT((Chambres!$A$2:$A$5=1)*(Chambres!$C$2:$C$5<=E2)*((Chambres!$D$2:$D$5>=E2))) -> 0 | F3: =SUMPRODUCT((Chambres!$A$2:$A$5=1)*(Chambres!$C$2:$C$5<=F2)*((Chambres!$D$2:$D$5>=F2))) -> 0 | G3: =SUMPRODUCT((Chambres!$A$2:$A$5=1)*(Chambres!$C$2:$C$5<=G2)*((Chambres!$D$2:$D$5>=G2))) -> 0 | H3: =SUMPRODUCT((Chambres!$A$2:$A$5=1)*(Chambres!$C$2:$C$5<=H2)*((Chambres!$D$2:$D$5>=H2))) -> 0 | I3: =SUMPRODUCT((Chambres!$A$2:$A$5=1)*(Chambres!$C$2:$C$5<=I2)*((Chambres!$D$2:$D$5>=I2))) -> 0 | ... RT3: =SUMPRODUCT((Chambres!$A$2:$A$5=1)*(Chambres!$C$2:$C$5<=RT2)*((Chambres!$D$2:$D$5>=RT2))) -> 0
A4: CH2 | B4: =SUMPRODUCT((Chambres!$A$2:$A$5=2)*(Chambres!$C$2:$C$5<=B2)*((Chambres!$D$2:$D$5>=B2))) -> 0 | C4: =SUMPRODUCT((Chambres!$A$2:$A$5=2)*(Chambres!$C$2:$C$5<=C2)*((Chambres!$D$2:$D$5>=C2))) -> 0 | D4: =SUMPRODUCT((Chambres!$A$2:$A$5=2)*(Chambres!$C$2:$C$5<=D2)*((Chambres!$D$2:$D$5>=D2))) -> 0 | E4: =SUMPRODUCT((Chambres!$A$2:$A$5=2)*(Chambres!$C$2:$C$5<=E2)*((Chambres!$D$2:$D$5>=E2))) -> 0 | F4: =SUMPRODUCT((Chambres!$A$2:$A$5=2)*(Chambres!$C$2:$C$5<=F2)*((Chambres!$D$2:$D$5>=F2))) -> 0 | G4: =SUMPRODUCT((Chambres!$A$2:$A$5=2)*(Chambres!$C$2:$C$5<=G2)*((Chambres!$D$2:$D$5>=G2))) -> 0 | H4: =SUMPRODUCT((Chambres!$A$2:$A$5=2)*(Chambres!$C$2:$C$5<=H2)*((Chambres!$D$2:$D$5>=H2))) -> 0 | I4: =SUMPRODUCT((Chambres!$A$2:$A$5=2)*(Chambres!$C$2:$C$5<=I2)*((Chambres!$D$2:$D$5>=I2))) -> 0 | ... RT4: =SUMPRODUCT((Chambres!$A$2:$A$5=2)*(Chambres!$C$2:$C$5<=RT2)*((Chambres!$D$2:$D$5>=RT2))) -> 0
A5: CH3 | B5: =SUMPRODUCT((Chambres!$A$2:$A$5=3)*(Chambres!$C$2:$C$5<=B2)*((Chambres!$D$2:$D$5>=B2))) -> 0 | C5: =SUMPRODUCT((Chambres!$A$2:$A$5=3)*(Chambres!$C$2:$C$5<=C2)*((Chambres!$D$2:$D$5>=C2))) -> 0 | D5: =SUMPRODUCT((Chambres!$A$2:$A$5=3)*(Chambres!$C$2:$C$5<=D2)*((Chambres!$D$2:$D$5>=D2))) -> 0 | E5: =SUMPRODUCT((Chambres!$A$2:$A$5=3)*(Chambres!$C$2:$C$5<=E2)*((Chambres!$D$2:$D$5>=E2))) -> 0 | F5: =SUMPRODUCT((Chambres!$A$2:$A$5=3)*(Chambres!$C$2:$C$5<=F2)*((Chambres!$D$2:$D$5>=F2))) -> 0 | G5: =SUMPRODUCT((Chambres!$A$2:$A$5=3)*(Chambres!$C$2:$C$5<=G2)*((Chambres!$D$2:$D$5>=G2))) -> 0 | H5: =SUMPRODUCT((Chambres!$A$2:$A$5=3)*(Chambres!$C$2:$C$5<=H2)*((Chambres!$D$2:$D$5>=H2))) -> 0 | I5: =SUMPRODUCT((Chambres!$A$2:$A$5=3)*(Chambres!$C$2:$C$5<=I2)*((Chambres!$D$2:$D$5>=I2))) -> 0 | ... RT5: =SUMPRODUCT((Chambres!$A$2:$A$5=3)*(Chambres!$C$2:$C$5<=RT2)*((Chambres!$D$2:$D$5>=RT2))) -> 0
