Workbook

Sheet Feuil1
A1: numéro | B1: article
A2: 10809 | B2: Biere Gulden draak 9000 33cl 10,5% | E2: =COUNTIFS(B2,'2 mots'!$C$3,B2,'2 mots'!$C$4) -> 0 | F2: =COUNTIF(B2,'1 mot'!$C$3) -> 1
A3: 10808 | B3: Biere Gulden draak 33cl 10,5% | E3: =COUNTIFS(B3,'2 mots'!$C$3,B3,'2 mots'!$C$4) -> 0 | F3: =COUNTIF(B3,'1 mot'!$C$3) -> 1
A4: 691327 | B4: biere blanche Allemagne Paulaner hefe weiss 50cl | E4: =COUNTIFS(B4,'2 mots'!$C$3,B4,'2 mots'!$C$4) -> 1 | F4: =COUNTIF(B4,'1 mot'!$C$3) -> 1
A5: 13130 | B5: Biere Franziskanner kristal 50cl | E5: =COUNTIFS(B5,'2 mots'!$C$3,B5,'2 mots'!$C$4) -> 0 | F5: =COUNTIF(B5,'1 mot'!$C$3) -> 1
A6: 691320 | B6: Biere Duvel Belgique spécialité 33 cl | E6: =COUNTIFS(B6,'2 mots'!$C$3,B6,'2 mots'!$C$4) -> 0 | F6: =COUNTIF(B6,'1 mot'!$C$3) -> 1
A7: 691335 | B7: Biere Tsingao 33cl chine | E7: =COUNTIFS(B7,'2 mots'!$C$3,B7,'2 mots'!$C$4) -> 0 | F7: =COUNTIF(B7,'1 mot'!$C$3) -> 1
A8: 691313 | B8: Biere chimay rouge 33cl Belgique | E8: =COUNTIFS(B8,'2 mots'!$C$3,B8,'2 mots'!$C$4) -> 0 | F8: =COUNTIF(B8,'1 mot'!$C$3) -> 1
A9: 691314 | B9: Biere chimay bleue 33cl Belgique trappiste | E9: =COUNTIFS(B9,'2 mots'!$C$3,B9,'2 mots'!$C$4) -> 0 | F9: =COUNTIF(B9,'1 mot'!$C$3) -> 1
A10: 10810 | B10: Biere Piraat 10,5% 33cl | E10: =COUNTIFS(B10,'2 mots'!$C$3,B10,'2 mots'!$C$4) -> 0 | F10: =COUNTIF(B10,'1 mot'!$C$3) -> 1
A11: 15271 | B11: Biere La trappe quadruple 33cl | E11: =COUNTIFS(B11,'2 mots'!$C$3,B11,'2 mots'!$C$4) -> 0 | F11: =COUNTIF(B11,'1 mot'!$C$3) -> 1
A12: 11400 | B12: Biere Corolus classique brune 33cl | E12: =COUNTIFS(B12,'2 mots'!$C$3,B12,'2 mots'!$C$4) -> 0 | F12: =COUNTIF(B12,'1 mot'!$C$3) -> 1
A13: 11402 | B13: Biere corolus ambrio 8% 33cl | E13: =COUNTIFS(B13,'2 mots'!$C$3,B13,'2 mots'!$C$4) -> 0 | F13: =COUNTIF(B13,'1 mot'!$C$3) -> 1
... A39: 15745 | B39: Biere Tytskie premium Pologne 50cl | E39: =COUNTIFS(B39,'2 mots'!$C$3,B39,'2 mots'!$C$4) -> 0 | F39: =COUNTIF(B39,'1 mot'!$C$3) -> 1
A40: 11372 | B40: Biere bonsecours ambree 8% 33cl Belgique | D40: Belgique | E40: =COUNTIFS(B40,'2 mots'!$C$3,B40,'2 mots'!$C$4) -> 0 | F40: =COUNTIF(B40,'1 mot'!$C$3) -> 1
A41: 691315 | B41: Biere Saint bernardus 8 Prior Belgique 33cl | E41: =COUNTIFS(B41,'2 mots'!$C$3,B41,'2 mots'!$C$4) -> 0 | F41: =COUNTIF(B41,'1 mot'!$C$3) -> 1
A42: 12431 | B42: Biere Petrus triple 33cl | E42: =COUNTIFS(B42,'2 mots'!$C$3,B42,'2 mots'!$C$4) -> 0 | F42: =COUNTIF(B42,'1 mot'!$C$3) -> 1
A43: 691311 | B43: Biere richefort Belgique trapiste 10% 33cl | E43: =COUNTIFS(B43,'2 mots'!$C$3,B43,'2 mots'!$C$4) -> 0 | F43: =COUNTIF(B43,'1 mot'!$C$3) -> 1
A44: 691309 | B44: Biere richefort Belgique trapiste 6% 33cl | E44: =COUNTIFS(B44,'2 mots'!$C$3,B44,'2 mots'!$C$4) -> 0 | F44: =COUNTIF(B44,'1 mot'!$C$3) -> 1
A45: 691318 | B45: Biere kwak Belgique spécialité 33cl | E45: =COUNTIFS(B45,'2 mots'!$C$3,B45,'2 mots'!$C$4) -> 0 | F45: =COUNTIF(B45,'1 mot'!$C$3) -> 1
A46: 800503 | B46: Biere La chouffe 33cl | E46: =COUNTIFS(B46,'2 mots'!$C$3,B46,'2 mots'!$C$4) -> 0 | F46: =COUNTIF(B46,'1 mot'!$C$3) -> 1
A47: 800504 | B47: Biere Maredsous triple ambrée 33cl | E47: =COUNTIFS(B47,'2 mots'!$C$3,B47,'2 mots'!$C$4) -> 0 | F47: =COUNTIF(B47,'1 mot'!$C$3) -> 1
A48: 12341 | B48: Biere Maredsous blonde 33cl | E48: =COUNTIFS(B48,'2 mots'!$C$3,B48,'2 mots'!$C$4) -> 0 | F48: =COUNTIF(B48,'1 mot'!$C$3) -> 1
A49: 12697 | B49: Biere Val dieu blonde 33cl | E49: =COUNTIFS(B49,'2 mots'!$C$3,B49,'2 mots'!$C$4) -> 0 | F49: =COUNTIF(B49,'1 mot'!$C$3) -> 1
A50: 301 | B50: Biere La gauloise 33cl | E50: =COUNTIFS(B50,'2 mots'!$C$3,B50,'2 mots'!$C$4) -> 0 | F50: =COUNTIF(B50,'1 mot'!$C$3) -> 1
A51: 691323 | B51: Biere Lindermans la pecheresse lambic 25 cl | E51: =COUNTIFS(B51,'2 mots'!$C$3,B51,'2 mots'!$C$4) -> 0 | F51: =COUNTIF(B51,'1 mot'!$C$3) -> 1
A52: 11655 | B52: Biere Lindermans framboise 25cl | E52: =COUNTIFS(B52,'2 mots'!$C$3,B52,'2 mots'!$C$4) -> 0 | F52: =COUNTIF(B52,'1 mot'!$C$3) -> 1
... A67: 800693 | B67: Biere Isaac baladin Italie 33cl | E67: =COUNTIFS(B67,'2 mots'!$C$3,B67,'2 mots'!$C$4) -> 0 | F67: =COUNTIF(B67,'1 mot'!$C$3) -> 1
A68: 499326 | B68: Chianti classiqo Terre de Palio vin rouge | C68: VR | E68: =COUNTIFS(B68,'2 mots'!$C$3,B68,'2 mots'!$C$4) -> 0 | F68: =COUNTIF(B68,'1 mot'!$C$3) -> 0
A69: 499311 | B69: Valpolicella Bertani 2012 Vin rouge | C69: VR | E69: =COUNTIFS(B69,'2 mots'!$C$3,B69,'2 mots'!$C$4) -> 0 | F69: =COUNTIF(B69,'1 mot'!$C$3) -> 0
A70: 73005 | B70: Barbera piemonte Ricossa | C70: ? | E70: =COUNTIFS(B70,'2 mots'!$C$3,B70,'2 mots'!$C$4) -> 0 | F70: =COUNTIF(B70,'1 mot'!$C$3) -> 0
A71: 73000 | B71: Toro tempranillo vina altamar vin rouge | C71: VR | E71: =COUNTIFS(B71,'2 mots'!$C$3,B71,'2 mots'!$C$4) -> 0 | F71: =COUNTIF(B71,'1 mot'!$C$3) -> 0
A72: 73006 | B72: Toro tempranillo vina altamar vin rouge | C72: VR | E72: =COUNTIFS(B72,'2 mots'!$C$3,B72,'2 mots'!$C$4) -> 0 | F72: =COUNTIF(B72,'1 mot'!$C$3) -> 0
A73: 800333 | B73: vin d'Espagne ribiera del duero vin rouge Pena Noble 2013 | C73: VR | E73: =COUNTIFS(B73,'2 mots'!$C$3,B73,'2 mots'!$C$4) -> 0 | F73: =COUNTIF(B73,'1 mot'!$C$3) -> 0
A74: 73001 | B74: vin Monte pulciano d'abbruzzo | C74: ? | E74: =COUNTIFS(B74,'2 mots'!$C$3,B74,'2 mots'!$C$4) -> 0 | F74: =COUNTIF(B74,'1 mot'!$C$3) -> 0
A75: 73002 | B75: Vin vina tobia | C75: ? | E75: =COUNTIFS(B75,'2 mots'!$C$3,B75,'2 mots'!$C$4) -> 0 | F75: =COUNTIF(B75,'1 mot'!$C$3) -> 0
A76: 498225 | B76: Vin la chamiza argentine 2012 | C76: ? | E76: =COUNTIFS(B76,'2 mots'!$C$3,B76,'2 mots'!$C$4) -> 0 | F76: =COUNTIF(B76,'1 mot'!$C$3) -> 0
A77: 498201 | B77: Vin etchart torrontes blanc | C77: VB | E77: =COUNTIFS(B77,'2 mots'!$C$3,B77,'2 mots'!$C$4) -> 0 | F77: =COUNTIF(B77,'1 mot'!$C$3) -> 0
A78: 73004 | B78: Vin san felie mendoza argetine | C78: ? | E78: =COUNTIFS(B78,'2 mots'!$C$3,B78,'2 mots'!$C$4) -> 0 | F78: =COUNTIF(B78,'1 mot'!$C$3) -> 0
A79: 498130 | B79: Vin bischop's leap nouvelle Zelande 2011 | C79: ? | E79: =COUNTIFS(B79,'2 mots'!$C$3,B79,'2 mots'!$C$4) -> 0 | F79: =COUNTIF(B79,'1 mot'!$C$3) -> 0
...

Sheet 1 mot
C2: Mots recherchés
B3: mot 1 | C3: *biere*
B8: code | C8: désignation
B9: {=IF(ROW()-8>COUNTIF(Feuil1!$F:$F,">0"),"",INDEX(Feuil1!A:A,SMALL(IF(Feuil1!$F:$F>0,ROW($F:$F),""),ROW()-8)))} -> 10809 | C9: {=IF(ROW()-8>COUNTIF(Feuil1!$F:$F,">0"),"",INDEX(Feuil1!B:B,SMALL(IF(Feuil1!$F:$F>0,ROW($F:$F),""),ROW()-8)))} -> Biere Gulden draak 9000 33cl 10,5%
B10: {=IF(ROW()-8>COUNTIF(Feuil1!$F:$F,">0"),"",INDEX(Feuil1!A:A,SMALL(IF(Feuil1!$F:$F>0,ROW($F:$F),""),ROW()-8)))} -> 10808 | C10: {=IF(ROW()-8>COUNTIF(Feuil1!$F:$F,">0"),"",INDEX(Feuil1!B:B,SMALL(IF(Feuil1!$F:$F>0,ROW($F:$F),""),ROW()-8)))} -> Biere Gulden draak 33cl 10,5%
B11: {=IF(ROW()-8>COUNTIF(Feuil1!$F:$F,">0"),"",INDEX(Feuil1!A:A,SMALL(IF(Feuil1!$F:$F>0,ROW($F:$F),""),ROW()-8)))} -> 691327 | C11: {=IF(ROW()-8>COUNTIF(Feuil1!$F:$F,">0"),"",INDEX(Feuil1!B:B,SMALL(IF(Feuil1!$F:$F>0,ROW($F:$F),""),ROW()-8)))} -> biere blanche Allemagne Paulaner hefe weiss 50cl
B12: {=IF(ROW()-8>COUNTIF(Feuil1!$F:$F,">0"),"",INDEX(Feuil1!A:A,SMALL(IF(Feuil1!$F:$F>0,ROW($F:$F),""),ROW()-8)))} -> 13130 | C12: {=IF(ROW()-8>COUNTIF(Feuil1!$F:$F,">0"),"",INDEX(Feuil1!B:B,SMALL(IF(Feuil1!$F:$F>0,ROW($F:$F),""),ROW()-8)))} -> Biere Franziskanner kristal 50cl
B13: {=IF(ROW()-8>COUNTIF(Feuil1!$F:$F,">0"),"",INDEX(Feuil1!A:A,SMALL(IF(Feuil1!$F:$F>0,ROW($F:$F),""),ROW()-8)))} -> 691320 | C13: {=IF(ROW()-8>COUNTIF(Feuil1!$F:$F,">0"),"",INDEX(Feuil1!B:B,SMALL(IF(Feuil1!$F:$F>0,ROW($F:$F),""),ROW()-8)))} -> Biere Duvel Belgique spécialité 33 cl
B14: {=IF(ROW()-8>COUNTIF(Feuil1!$F:$F,">0"),"",INDEX(Feuil1!A:A,SMALL(IF(Feuil1!$F:$F>0,ROW($F:$F),""),ROW()-8)))} -> 691335 | C14: {=IF(ROW()-8>COUNTIF(Feuil1!$F:$F,">0"),"",INDEX(Feuil1!B:B,SMALL(IF(Feuil1!$F:$F>0,ROW($F:$F),""),ROW()-8)))} -> Biere Tsingao 33cl chine
B15: {=IF(ROW()-8>COUNTIF(Feuil1!$F:$F,">0"),"",INDEX(Feuil1!A:A,SMALL(IF(Feuil1!$F:$F>0,ROW($F:$F),""),ROW()-8)))} -> 691313 | C15: {=IF(ROW()-8>COUNTIF(Feuil1!$F:$F,">0"),"",INDEX(Feuil1!B:B,SMALL(IF(Feuil1!$F:$F>0,ROW($F:$F),""),ROW()-8)))} -> Biere chimay rouge 33cl Belgique
B16: {=IF(ROW()-8>COUNTIF(Feuil1!$F:$F,">0"),"",INDEX(Feuil1!A:A,SMALL(IF(Feuil1!$F:$F>0,ROW($F:$F),""),ROW()-8)))} -> 691314 | C16: {=IF(ROW()-8>COUNTIF(Feuil1!$F:$F,">0"),"",INDEX(Feuil1!B:B,SMALL(IF(Feuil1!$F:$F>0,ROW($F:$F),""),ROW()-8)))} -> Biere chimay bleue 33cl Belgique trappiste
B17: {=IF(ROW()-8>COUNTIF(Feuil1!$F:$F,">0"),"",INDEX(Feuil1!A:A,SMALL(IF(Feuil1!$F:$F>0,ROW($F:$F),""),ROW()-8)))} -> 10810 | C17: {=IF(ROW()-8>COUNTIF(Feuil1!$F:$F,">0"),"",INDEX(Feuil1!B:B,SMALL(IF(Feuil1!$F:$F>0,ROW($F:$F),""),ROW()-8)))} -> Biere Piraat 10,5% 33cl
B18: {=IF(ROW()-8>COUNTIF(Feuil1!$F:$F,">0"),"",INDEX(Feuil1!A:A,SMALL(IF(Feuil1!$F:$F>0,ROW($F:$F),""),ROW()-8)))} -> 15271 | C18: {=IF(ROW()-8>COUNTIF(Feuil1!$F:$F,">0"),"",INDEX(Feuil1!B:B,SMALL(IF(Feuil1!$F:$F>0,ROW($F:$F),""),ROW()-8)))} -> Biere La trappe quadruple 33cl
B19: {=IF(ROW()-8>COUNTIF(Feuil1!$F:$F,">0"),"",INDEX(Feuil1!A:A,SMALL(IF(Feuil1!$F:$F>0,ROW($F:$F),""),ROW()-8)))} -> 11400 | C19: {=IF(ROW()-8>COUNTIF(Feuil1!$F:$F,">0"),"",INDEX(Feuil1!B:B,SMALL(IF(Feuil1!$F:$F>0,ROW($F:$F),""),ROW()-8)))} -> Biere Corolus classique brune 33cl
B20: {=IF(ROW()-8>COUNTIF(Feuil1!$F:$F,">0"),"",INDEX(Feuil1!A:A,SMALL(IF(Feuil1!$F:$F>0,ROW($F:$F),""),ROW()-8)))} -> 11402 | C20: {=IF(ROW()-8>COUNTIF(Feuil1!$F:$F,">0"),"",INDEX(Feuil1!B:B,SMALL(IF(Feuil1!$F:$F>0,ROW($F:$F),""),ROW()-8)))} -> Biere corolus ambrio 8% 33cl
... B240: {=IF(ROW()-8>COUNTIF(Feuil1!$F:$F,">0"),"",INDEX(Feuil1!A:A,SMALL(IF(Feuil1!$F:$F>0,ROW($F:$F),""),ROW()-8)))} | C240: {=IF(ROW()-8>COUNTIF(Feuil1!$F:$F,">0"),"",INDEX(Feuil1!B:B,SMALL(IF(Feuil1!$F:$F>0,ROW($F:$F),""),ROW()-8)))}
C241: {=IF(ROW()-9>COUNTIF(Feuil1!$E:$E,">0"),"",INDEX(Feuil1!B:B,SMALL(IF(Feuil1!$E:$E>0,ROW($E:$E),""),ROW()-9)))}
C242: {=IF(ROW()-9>COUNTIF(Feuil1!$E:$E,">0"),"",INDEX(Feuil1!B:B,SMALL(IF(Feuil1!$E:$E>0,ROW($E:$E),""),ROW()-9)))}
C243: {=IF(ROW()-9>COUNTIF(Feuil1!$E:$E,">0"),"",INDEX(Feuil1!B:B,SMALL(IF(Feuil1!$E:$E>0,ROW($E:$E),""),ROW()-9)))}
C244: {=IF(ROW()-9>COUNTIF(Feuil1!$E:$E,">0"),"",INDEX(Feuil1!B:B,SMALL(IF(Feuil1!$E:$E>0,ROW($E:$E),""),ROW()-9)))}
C245: {=IF(ROW()-9>COUNTIF(Feuil1!$E:$E,">0"),"",INDEX(Feuil1!B:B,SMALL(IF(Feuil1!$E:$E>0,ROW($E:$E),""),ROW()-9)))}
C246: {=IF(ROW()-9>COUNTIF(Feuil1!$E:$E,">0"),"",INDEX(Feuil1!B:B,SMALL(IF(Feuil1!$E:$E>0,ROW($E:$E),""),ROW()-9)))}
C247: {=IF(ROW()-9>COUNTIF(Feuil1!$E:$E,">0"),"",INDEX(Feuil1!B:B,SMALL(IF(Feuil1!$E:$E>0,ROW($E:$E),""),ROW()-9)))}
C248: {=IF(ROW()-9>COUNTIF(Feuil1!$E:$E,">0"),"",INDEX(Feuil1!B:B,SMALL(IF(Feuil1!$E:$E>0,ROW($E:$E),""),ROW()-9)))}
C249: {=IF(ROW()-9>COUNTIF(Feuil1!$E:$E,">0"),"",INDEX(Feuil1!B:B,SMALL(IF(Feuil1!$E:$E>0,ROW($E:$E),""),ROW()-9)))}
C250: {=IF(ROW()-9>COUNTIF(Feuil1!$E:$E,">0"),"",INDEX(Feuil1!B:B,SMALL(IF(Feuil1!$E:$E>0,ROW($E:$E),""),ROW()-9)))}
C251: {=IF(ROW()-9>COUNTIF(Feuil1!$E:$E,">0"),"",INDEX(Feuil1!B:B,SMALL(IF(Feuil1!$E:$E>0,ROW($E:$E),""),ROW()-9)))}
C252: {=IF(ROW()-9>COUNTIF(Feuil1!$E:$E,">0"),"",INDEX(Feuil1!B:B,SMALL(IF(Feuil1!$E:$E>0,ROW($E:$E),""),ROW()-9)))}
... C259: {=IF(ROW()-9>COUNTIF(Feuil1!$E:$E,">0"),"",INDEX(Feuil1!B:B,SMALL(IF(Feuil1!$E:$E>0,ROW($E:$E),""),ROW()-9)))}
B280: {=IF(ROW()-8>COUNTIF(Feuil1!$F:$F,">0"),"",INDEX(Feuil1!A:A,SMALL(IF(Feuil1!$F:$F>0,ROW($F:$F),""),ROW()-8)))}

Sheet 2 mots
C2: Mots recherchés
B3: mot 1 | C3: *biere*
B4: mot 2 | C4: *blanche*
B9: code | C9: désignation
B10: {=IF(ROW()-9>COUNTIF(Feuil1!$E:$E,">0"),"",INDEX(Feuil1!A:A,SMALL(IF(Feuil1!$E:$E>0,ROW($E:$E),""),ROW()-9)))} -> 691327 | C10: {=IF(ROW()-9>COUNTIF(Feuil1!$E:$E,">0"),"",INDEX(Feuil1!B:B,SMALL(IF(Feuil1!$E:$E>0,ROW($E:$E),""),ROW()-9)))} -> biere blanche Allemagne Paulaner hefe weiss 50cl
B11: {=IF(ROW()-9>COUNTIF(Feuil1!$E:$E,">0"),"",INDEX(Feuil1!A:A,SMALL(IF(Feuil1!$E:$E>0,ROW($E:$E),""),ROW()-9)))} -> 11265 | C11: {=IF(ROW()-9>COUNTIF(Feuil1!$E:$E,">0"),"",INDEX(Feuil1!B:B,SMALL(IF(Feuil1!$E:$E>0,ROW($E:$E),""),ROW()-9)))} -> Biere blanche de Namure 4,5% 25cl
B12: {=IF(ROW()-9>COUNTIF(Feuil1!$E:$E,">0"),"",INDEX(Feuil1!A:A,SMALL(IF(Feuil1!$E:$E>0,ROW($E:$E),""),ROW()-9)))} -> 11295 | C12: {=IF(ROW()-9>COUNTIF(Feuil1!$E:$E,">0"),"",INDEX(Feuil1!B:B,SMALL(IF(Feuil1!$E:$E>0,ROW($E:$E),""),ROW()-9)))} -> Biere blanche des neiges 33cl
B13: {=IF(ROW()-9>COUNTIF(Feuil1!$E:$E,">0"),"",INDEX(Feuil1!A:A,SMALL(IF(Feuil1!$E:$E>0,ROW($E:$E),""),ROW()-9)))} -> 800292 | C13: {=IF(ROW()-9>COUNTIF(Feuil1!$E:$E,">0"),"",INDEX(Feuil1!B:B,SMALL(IF(Feuil1!$E:$E>0,ROW($E:$E),""),ROW()-9)))} -> Biere Colomba blanche de corse 33cl
B14: {=IF(ROW()-9>COUNTIF(Feuil1!$E:$E,">0"),"",INDEX(Feuil1!A:A,SMALL(IF(Feuil1!$E:$E>0,ROW($E:$E),""),ROW()-9)))} -> 11281 | C14: {=IF(ROW()-9>COUNTIF(Feuil1!$E:$E,">0"),"",INDEX(Feuil1!B:B,SMALL(IF(Feuil1!$E:$E>0,ROW($E:$E),""),ROW()-9)))} -> Biere blanche de bruxelle 4,5% 33cl
B15: {=IF(ROW()-9>COUNTIF(Feuil1!$E:$E,">0"),"",INDEX(Feuil1!A:A,SMALL(IF(Feuil1!$E:$E>0,ROW($E:$E),""),ROW()-9)))} -> 15394 | C15: {=IF(ROW()-9>COUNTIF(Feuil1!$E:$E,">0"),"",INDEX(Feuil1!B:B,SMALL(IF(Feuil1!$E:$E>0,ROW($E:$E),""),ROW()-9)))} -> Biere celis white blanche 25cl
B16: {=IF(ROW()-9>COUNTIF(Feuil1!$E:$E,">0"),"",INDEX(Feuil1!A:A,SMALL(IF(Feuil1!$E:$E>0,ROW($E:$E),""),ROW()-9)))} -> 10507 | C16: {=IF(ROW()-9>COUNTIF(Feuil1!$E:$E,">0"),"",INDEX(Feuil1!B:B,SMALL(IF(Feuil1!$E:$E>0,ROW($E:$E),""),ROW()-9)))} -> Biere brasserie de cime aiguille blanche 75cl 5%
B17: {=IF(ROW()-9>COUNTIF(Feuil1!$E:$E,">0"),"",INDEX(Feuil1!A:A,SMALL(IF(Feuil1!$E:$E>0,ROW($E:$E),""),ROW()-9)))} -> 800292 | C17: {=IF(ROW()-9>COUNTIF(Feuil1!$E:$E,">0"),"",INDEX(Feuil1!B:B,SMALL(IF(Feuil1!$E:$E>0,ROW($E:$E),""),ROW()-9)))} -> Biere Colomba blanche de corse 33cl
B18: {=IF(ROW()-9>COUNTIF(Feuil1!$E:$E,">0"),"",INDEX(Feuil1!A:A,SMALL(IF(Feuil1!$E:$E>0,ROW($E:$E),""),ROW()-9)))} -> 11295 | C18: {=IF(ROW()-9>COUNTIF(Feuil1!$E:$E,">0"),"",INDEX(Feuil1!B:B,SMALL(IF(Feuil1!$E:$E>0,ROW($E:$E),""),ROW()-9)))} -> Biere blanche des neiges 33cl
B19: {=IF(ROW()-9>COUNTIF(Feuil1!$E:$E,">0"),"",INDEX(Feuil1!A:A,SMALL(IF(Feuil1!$E:$E>0,ROW($E:$E),""),ROW()-9)))} -> 15394 | C19: {=IF(ROW()-9>COUNTIF(Feuil1!$E:$E,">0"),"",INDEX(Feuil1!B:B,SMALL(IF(Feuil1!$E:$E>0,ROW($E:$E),""),ROW()-9)))} -> Biere celis white blanche 25cl
B20: {=IF(ROW()-9>COUNTIF(Feuil1!$E:$E,">0"),"",INDEX(Feuil1!A:A,SMALL(IF(Feuil1!$E:$E>0,ROW($E:$E),""),ROW()-9)))} -> 11281 | C20: {=IF(ROW()-9>COUNTIF(Feuil1!$E:$E,">0"),"",INDEX(Feuil1!B:B,SMALL(IF(Feuil1!$E:$E>0,ROW($E:$E),""),ROW()-9)))} -> Biere blanche de bruxelle 4,5% 33cl
B21: {=IF(ROW()-9>COUNTIF(Feuil1!$E:$E,">0"),"",INDEX(Feuil1!A:A,SMALL(IF(Feuil1!$E:$E>0,ROW($E:$E),""),ROW()-9)))} -> 691327 | C21: {=IF(ROW()-9>COUNTIF(Feuil1!$E:$E,">0"),"",INDEX(Feuil1!B:B,SMALL(IF(Feuil1!$E:$E>0,ROW($E:$E),""),ROW()-9)))} -> Biere Paulaner Hefe weiss blanche allemagne 50cl
... B260: {=IF(ROW()-9>COUNTIF(Feuil1!$E:$E,">0"),"",INDEX(Feuil1!A:A,SMALL(IF(Feuil1!$E:$E>0,ROW($E:$E),""),ROW()-9)))} | C260: {=IF(ROW()-9>COUNTIF(Feuil1!$E:$E,">0"),"",INDEX(Feuil1!B:B,SMALL(IF(Feuil1!$E:$E>0,ROW($E:$E),""),ROW()-9)))}
