Workbook

Sheet Feuil1
A1: numéro | B1: article
A2: 10809 | B2: Biere Gulden draak 9000 33cl 10,5% | E2: =COUNTIFS(B2,'2 mots'!$C$3,B2,'2 mots'!$C$4) -> 0 | F2: =COUNTIF(B2,'1 mot'!$C$3) -> 1
A3: 10808 | B3: Biere Gulden draak 33cl 10,5% | E3: =COUNTIFS(B3,'2 mots'!$C$3,B3,'2 mots'!$C$4) -> 0 | F3: =COUNTIF(B3,'1 mot'!$C$3) -> 1
A4: 691327 | B4: biere blanche Allemagne Paulaner hefe weiss 50cl | E4: =COUNTIFS(B4,'2 mots'!$C$3,B4,'2 mots'!$C$4) -> 1 | F4: =COUNTIF(B4,'1 mot'!$C$3) -> 1
A5: 13130 | B5: Biere Franziskanner kristal 50cl | E5: =COUNTIFS(B5,'2 mots'!$C$3,B5,'2 mots'!$C$4) -> 0 | F5: =COUNTIF(B5,'1 mot'!$C$3) -> 1
A6: 691320 | B6: Biere Duvel Belgique spécialité 33 cl | E6: =COUNTIFS(B6,'2 mots'!$C$3,B6,'2 mots'!$C$4) -> 0 | F6: =COUNTIF(B6,'1 mot'!$C$3) -> 1
A7: 691335 | B7: Biere Tsingao 33cl chine | E7: =COUNTIFS(B7,'2 mots'!$C$3,B7,'2 mots'!$C$4) -> 0 | F7: =COUNTIF(B7,'1 mot'!$C$3) -> 1
A8: 691313 | B8: Biere chimay rouge 33cl Belgique | E8: =COUNTIFS(B8,'2 mots'!$C$3,B8,'2 mots'!$C$4) -> 0 | F8: =COUNTIF(B8,'1 mot'!$C$3) -> 1
A9: 691314 | B9: Biere chimay bleue 33cl Belgique trappiste | E9: =COUNTIFS(B9,'2 mots'!$C$3,B9,'2 mots'!$C$4) -> 0 | F9: =COUNTIF(B9,'1 mot'!$C$3) -> 1
A10: 10810 | B10: Biere Piraat 10,5% 33cl | E10: =COUNTIFS(B10,'2 mots'!$C$3,B10,'2 mots'!$C$4) -> 0 | F10: =COUNTIF(B10,'1 mot'!$C$3) -> 1
A11: 15271 | B11: Biere La trappe quadruple 33cl | E11: =COUNTIFS(B11,'2 mots'!$C$3,B11,'2 mots'!$C$4) -> 0 | F11: =COUNTIF(B11,'1 mot'!$C$3) -> 1
A12: 11400 | B12: Biere Corolus classique brune 33cl | E12: =COUNTIFS(B12,'2 mots'!$C$3,B12,'2 mots'!$C$4) -> 0 | F12: =COUNTIF(B12,'1 mot'!$C$3) -> 1
A13: 11402 | B13: Biere corolus ambrio 8% 33cl | E13: =COUNTIFS(B13,'2 mots'!$C$3,B13,'2 mots'!$C$4) -> 0 | F13: =COUNTIF(B13,'1 mot'!$C$3) -> 1
... A39: 15745 | B39: Biere Tytskie premium Pologne 50cl | E39: =COUNTIFS(B39,'2 mots'!$C$3,B39,'2 mots'!$C$4) -> 0 | F39: =COUNTIF(B39,'1 mot'!$C$3) -> 1
A40: 11372 | B40: Biere bonsecours ambree 8% 33cl Belgique | D40: Belgique | E40: =COUNTIFS(B40,'2 mots'!$C$3,B40,'2 mots'!$C$4) -> 0 | F40: =COUNTIF(B40,'1 mot'!$C$3) -> 1
A41: 691315 | B41: Biere Saint bernardus 8 Prior Belgique 33cl | E41: =COUNTIFS(B41,'2 mots'!$C$3,B41,'2 mots'!$C$4) -> 0 | F41: =COUNTIF(B41,'1 mot'!$C$3) -> 1
A42: 12431 | B42: Biere Petrus triple 33cl | E42: =COUNTIFS(B42,'2 mots'!$C$3,B42,'2 mots'!$C$4) -> 0 | F42: =COUNTIF(B42,'1 mot'!$C$3) -> 1
A43: 691311 | B43: Biere richefort Belgique trapiste 10% 33cl | E43: =COUNTIFS(B43,'2 mots'!$C$3,B43,'2 mots'!$C$4) -> 0 | F43: =COUNTIF(B43,'1 mot'!$C$3) -> 1
A44: 691309 | B44: Biere richefort Belgique trapiste 6% 33cl | E44: =COUNTIFS(B44,'2 mots'!$C$3,B44,'2 mots'!$C$4) -> 0 | F44: =COUNTIF(B44,'1 mot'!$C$3) -> 1
A45: 691318 | B45: Biere kwak Belgique spécialité 33cl | E45: =COUNTIFS(B45,'2 mots'!$C$3,B45,'2 mots'!$C$4) -> 0 | F45: =COUNTIF(B45,'1 mot'!$C$3) -> 1
A46: 800503 | B46: Biere La chouffe 33cl | E46: =COUNTIFS(B46,'2 mots'!$C$3,B46,'2 mots'!$C$4) -> 0 | F46: =COUNTIF(B46,'1 mot'!$C$3) -> 1
A47: 800504 | B47: Biere Maredsous triple ambrée 33cl | E47: =COUNTIFS(B47,'2 mots'!$C$3,B47,'2 mots'!$C$4) -> 0 | F47: =COUNTIF(B47,'1 mot'!$C$3) -> 1
A48: 12341 | B48: Biere Maredsous blonde 33cl | E48: =COUNTIFS(B48,'2 mots'!$C$3,B48,'2 mots'!$C$4) -> 0 | F48: =COUNTIF(B48,'1 mot'!$C$3) -> 1
A49: 12697 | B49: Biere Val dieu blonde 33cl | E49: =COUNTIFS(B49,'2 mots'!$C$3,B49,'2 mots'!$C$4) -> 0 | F49: =COUNTIF(B49,'1 mot'!$C$3) -> 1
A50: 301 | B50: Biere La gauloise 33cl | E50: =COUNTIFS(B50,'2 mots'!$C$3,B50,'2 mots'!$C$4) -> 0 | F50: =COUNTIF(B50,'1 mot'!$C$3) -> 1
A51: 691323 | B51: Biere Lindermans la pecheresse lambic 25 cl | E51: =COUNTIFS(B51,'2 mots'!$C$3,B51,'2 mots'!$C$4) -> 0 | F51: =COUNTIF(B51,'1 mot'!$C$3) -> 1
A52: 11655 | B52: Biere Lindermans framboise 25cl | E52: =COUNTIFS(B52,'2 mots'!$C$3,B52,'2 mots'!$C$4) -> 0 | F52: =COUNTIF(B52,'1 mot'!$C$3) -> 1
... A67: 800693 | B67: Biere Isaac baladin Italie 33cl | E67: =COUNTIFS(B67,'2 mots'!$C$3,B67,'2 mots'!$C$4) -> 0 | F67: =COUNTIF(B67,'1 mot'!$C$3) -> 1
A68: 499326 | B68: Chianti classiqo Terre de Palio vin rouge | C68: VR | E68: =COUNTIFS(B68,'2 mots'!$C$3,B68,'2 mots'!$C$4) -> 0 | F68: =COUNTIF(B68,'1 mot'!$C$3) -> 0
A69: 499311 | B69: Valpolicella Bertani 2012 Vin rouge | C69: VR | E69: =COUNTIFS(B69,'2 mots'!$C$3,B69,'2 mots'!$C$4) -> 0 | F69: =COUNTIF(B69,'1 mot'!$C$3) -> 0
A70: 73005 | B70: Barbera piemonte Ricossa | C70: ? | E70: =COUNTIFS(B70,'2 mots'!$C$3,B70,'2 mots'!$C$4) -> 0 | F70: =COUNTIF(B70,'1 mot'!$C$3) -> 0
A71: 73000 | B71: Toro tempranillo vina altamar vin rouge | C71: VR | E71: =COUNTIFS(B71,'2 mots'!$C$3,B71,'2 mots'!$C$4) -> 0 | F71: =COUNTIF(B71,'1 mot'!$C$3) -> 0
A72: 73006 | B72: Toro tempranillo vina altamar vin rouge | C72: VR | E72: =COUNTIFS(B72,'2 mots'!$C$3,B72,'2 mots'!$C$4) -> 0 | F72: =COUNTIF(B72,'1 mot'!$C$3) -> 0
A73: 800333 | B73: vin d'Espagne ribiera del duero vin rouge Pena Noble 2013 | C73: VR | E73: =COUNTIFS(B73,'2 mots'!$C$3,B73,'2 mots'!$C$4) -> 0 | F73: =COUNTIF(B73,'1 mot'!$C$3) -> 0
A74: 73001 | B74: vin Monte pulciano d'abbruzzo | C74: ? | E74: =COUNTIFS(B74,'2 mots'!$C$3,B74,'2 mots'!$C$4) -> 0 | F74: =COUNTIF(B74,'1 mot'!$C$3) -> 0
A75: 73002 | B75: Vin vina tobia | C75: ? | E75: =COUNTIFS(B75,'2 mots'!$C$3,B75,'2 mots'!$C$4) -> 0 | F75: =COUNTIF(B75,'1 mot'!$C$3) -> 0
A76: 498225 | B76: Vin la chamiza argentine 2012 | C76: ? | E76: =COUNTIFS(B76,'2 mots'!$C$3,B76,'2 mots'!$C$4) -> 0 | F76: =COUNTIF(B76,'1 mot'!$C$3) -> 0
A77: 498201 | B77: Vin etchart torrontes blanc | C77: VB | E77: =COUNTIFS(B77,'2 mots'!$C$3,B77,'2 mots'!$C$4) -> 0 | F77: =COUNTIF(B77,'1 mot'!$C$3) -> 0
A78: 73004 | B78: Vin san felie mendoza argetine | C78: ? | E78: =COUNTIFS(B78,'2 mots'!$C$3,B78,'2 mots'!$C$4) -> 0 | F78: =COUNTIF(B78,'1 mot'!$C$3) -> 0
A79: 498130 | B79: Vin bischop's leap nouvelle Zelande 2011 | C79: ? | E79: =COUNTIFS(B79,'2 mots'!$C$3,B79,'2 mots'!$C$4) -> 0 | F79: =COUNTIF(B79,'1 mot'!$C$3) -> 0
... A84: 498001 | B84: Vin oude kaapchenin blanc afrique du sud vin blanc | C84: VB | E84: =COUNTIFS(B84,'2 mots'!$C$3,B84,'2 mots'!$C$4) -> 0 | F84: =COUNTIF(B84,'1 mot'!$C$3) -> 0
A85: 1024 | B85: Verre fruity white 35cl CS7000 | E85: =COUNTIFS(B85,'2 mots'!$C$3,B85,'2 mots'!$C$4) -> 0 | F85: =COUNTIF(B85,'1 mot'!$C$3) -> 0
A86: 1032 | B86: Verre Open up sweet 27cl | E86: =COUNTIFS(B86,'2 mots'!$C$3,B86,'2 mots'!$C$4) -> 0 | F86: =COUNTIF(B86,'1 mot'!$C$3) -> 0
A87: 1009 | B87: Verre coffret 2 verres universal tannic 55cl | E87: =COUNTIFS(B87,'2 mots'!$C$3,B87,'2 mots'!$C$4) -> 0 | F87: =COUNTIF(B87,'1 mot'!$C$3) -> 0
A88: 1026 | B88: Verre oaky white 41cl | E88: =COUNTIFS(B88,'2 mots'!$C$3,B88,'2 mots'!$C$4) -> 0 | F88: =COUNTIF(B88,'1 mot'!$C$3) -> 0
A89: 1002 | B89: Verre universal tasting 40cl CS5004 | E89: =COUNTIFS(B89,'2 mots'!$C$3,B89,'2 mots'!$C$4) -> 0 | F89: =COUNTIF(B89,'1 mot'!$C$3) -> 0
A90: 1001 | B90: Verre pro tasting 32cl CS502 | E90: =COUNTIFS(B90,'2 mots'!$C$3,B90,'2 mots'!$C$4) -> 0 | F90: =COUNTIF(B90,'1 mot'!$C$3) -> 0
A91: 1022 | B91: Verre round 37cl | E91: =COUNTIFS(B91,'2 mots'!$C$3,B91,'2 mots'!$C$4) -> 0 | F91: =COUNTIF(B91,'1 mot'!$C$3) -> 0
A92: 1021 | B92: Verre pro tasting blind test 32cl | E92: =COUNTIFS(B92,'2 mots'!$C$3,B92,'2 mots'!$C$4) -> 0 | F92: =COUNTIF(B92,'1 mot'!$C$3) -> 0
A93: 1012 | B93: Verre sift 47cl | E93: =COUNTIFS(B93,'2 mots'!$C$3,B93,'2 mots'!$C$4) -> 0 | F93: =COUNTIF(B93,'1 mot'!$C$3) -> 0
A94: 1029 | B94: Verre flute floralp 21cl | E94: =COUNTIFS(B94,'2 mots'!$C$3,B94,'2 mots'!$C$4) -> 0 | F94: =COUNTIF(B94,'1 mot'!$C$3) -> 0
A95: 1008 | B95: Verre forme haute 35cl | E95: =COUNTIFS(B95,'2 mots'!$C$3,B95,'2 mots'!$C$4) -> 0 | F95: =COUNTIF(B95,'1 mot'!$C$3) -> 0
A96: 8194 | B96: Verre Aksace 15cl | E96: =COUNTIFS(B96,'2 mots'!$C$3,B96,'2 mots'!$C$4) -> 0 | F96: =COUNTIF(B96,'1 mot'!$C$3) -> 0
... A276: 1030 | B276: Coffret entre terre et mer | E276: =COUNTIFS(B276,'2 mots'!$C$3,B276,'2 mots'!$C$4) -> 0 | F276: =COUNTIF(B276,'1 mot'!$C$3) -> 0
B277: coffret bois pelaquie | E277: =COUNTIFS(B277,'2 mots'!$C$3,B277,'2 mots'!$C$4) -> 0 | F277: =COUNTIF(B277,'1 mot'!$C$3) -> 0
A278: 78 | B278: corbeille gourmande | E278: =COUNTIFS(B278,'2 mots'!$C$3,B278,'2 mots'!$C$4) -> 0 | F278: =COUNTIF(B278,'1 mot'!$C$3) -> 0
A279: 9501 | B279: sachet nougat tendre | E279: =COUNTIFS(B279,'2 mots'!$C$3,B279,'2 mots'!$C$4) -> 0 | F279: =COUNTIF(B279,'1 mot'!$C$3) -> 0
A280: 9500 | B280: Sac papillottes 200gr | E280: =COUNTIFS(B280,'2 mots'!$C$3,B280,'2 mots'!$C$4) -> 0 | F280: =COUNTIF(B280,'1 mot'!$C$3) -> 0
A281: 9503 | B281: Sachet assortiment provencale 200gr | E281: =COUNTIFS(B281,'2 mots'!$C$3,B281,'2 mots'!$C$4) -> 0 | F281: =COUNTIF(B281,'1 mot'!$C$3) -> 0
A282: 9539 | B282: Sachet nougat dur | E282: =COUNTIFS(B282,'2 mots'!$C$3,B282,'2 mots'!$C$4) -> 0 | F282: =COUNTIF(B282,'1 mot'!$C$3) -> 0
A283: 9546 | B283: Pate de nougat miel d'oranger 100gr | E283: =COUNTIFS(B283,'2 mots'!$C$3,B283,'2 mots'!$C$4) -> 0 | F283: =COUNTIF(B283,'1 mot'!$C$3) -> 0
A284: 9511 | B284: Pate 15 nougat et 10 calissons 275 gr | E284: =COUNTIFS(B284,'2 mots'!$C$3,B284,'2 mots'!$C$4) -> 0 | F284: =COUNTIF(B284,'1 mot'!$C$3) -> 0
A285: 9505 | B285: Barre de nougat tendre au caramel beurre salé | E285: =COUNTIFS(B285,'2 mots'!$C$3,B285,'2 mots'!$C$4) -> 0 | F285: =COUNTIF(B285,'1 mot'!$C$3) -> 0
A286: 9522 | B286: Etui 21 petits calissons | E286: =COUNTIFS(B286,'2 mots'!$C$3,B286,'2 mots'!$C$4) -> 0 | F286: =COUNTIF(B286,'1 mot'!$C$3) -> 0
A287: 9536 | B287: Boite fer 20 calissons | E287: =COUNTIFS(B287,'2 mots'!$C$3,B287,'2 mots'!$C$4) -> 0 | F287: =COUNTIF(B287,'1 mot'!$C$3) -> 0
A288: 9507 | B288: boite fer vespa 32 dominos nougats tendres 270 gr | E288: =COUNTIFS(B288,'2 mots'!$C$3,B288,'2 mots'!$C$4) -> 0 | F288: =COUNTIF(B288,'1 mot'!$C$3) -> 0
A289: 11012 | B289: Confit d'oignon doux des cevennes | E289: =COUNTIFS(B289,'2 mots'!$C$3,B289,'2 mots'!$C$4) -> 0 | F289: =COUNTIF(B289,'1 mot'!$C$3) -> 0
... A307: 726015 | B307: Foie gras de canard entier bocal 115gr | E307: =COUNTIFS(B307,'2 mots'!$C$3,B307,'2 mots'!$C$4) -> 0 | F307: =COUNTIF(B307,'1 mot'!$C$3) -> 0
B308: bloc de foie gras de canard boite 195gr | E308: =COUNTIFS(B308,'2 mots'!$C$3,B308,'2 mots'!$C$4) -> 0 | F308: =COUNTIF(B308,'1 mot'!$C$3) -> 0
A309: 726013 | B309: mousse au foie de canard au piment d'espelette | E309: =COUNTIFS(B309,'2 mots'!$C$3,B309,'2 mots'!$C$4) -> 0 | F309: =COUNTIF(B309,'1 mot'!$C$3) -> 0
A310: 723001 | B310: toastinade de canard tomates et piments d'espelette | E310: =COUNTIFS(B310,'2 mots'!$C$3,B310,'2 mots'!$C$4) -> 0 | F310: =COUNTIF(B310,'1 mot'!$C$3) -> 0
A311: 723002 | B311: toastinade de canard miel et fromage de chevre | E311: =COUNTIFS(B311,'2 mots'!$C$3,B311,'2 mots'!$C$4) -> 0 | F311: =COUNTIF(B311,'1 mot'!$C$3) -> 0
A312: 726017 | B312: confit de canard 2 cuisses boite 740gr | E312: =COUNTIFS(B312,'2 mots'!$C$3,B312,'2 mots'!$C$4) -> 0 | F312: =COUNTIF(B312,'1 mot'!$C$3) -> 0
A313: 726003 | B313: rillettes pur canard bocal 180gr | E313: =COUNTIFS(B313,'2 mots'!$C$3,B313,'2 mots'!$C$4) -> 0 | F313: =COUNTIF(B313,'1 mot'!$C$3) -> 0
A314: 726007 | B314: terrine de canard forestiere bocal 180gr | E314: =COUNTIFS(B314,'2 mots'!$C$3,B314,'2 mots'!$C$4) -> 0 | F314: =COUNTIF(B314,'1 mot'!$C$3) -> 0
A315: 726009 | B315: Terrine de sanglier bocal 190gr | E315: =COUNTIFS(B315,'2 mots'!$C$3,B315,'2 mots'!$C$4) -> 0 | F315: =COUNTIF(B315,'1 mot'!$C$3) -> 0
A316: 1337 | B316: Couteau victorinox 0,9553 | E316: =COUNTIFS(B316,'2 mots'!$C$3,B316,'2 mots'!$C$4) -> 0 | F316: =COUNTIF(B316,'1 mot'!$C$3) -> 0
A317: 1307 | B317: Couteau victorinox 1,6703 | E317: =COUNTIFS(B317,'2 mots'!$C$3,B317,'2 mots'!$C$4) -> 0 | F317: =COUNTIF(B317,'1 mot'!$C$3) -> 0
A318: 1351 | B318: Couteau victorinox PIONEER ALOX BLEU 0,8201,4 | E318: =COUNTIFS(B318,'2 mots'!$C$3,B318,'2 mots'!$C$4) -> 0 | F318: =COUNTIF(B318,'1 mot'!$C$3) -> 0
A319: 1344 | B319: Couteau victorinox 0,8873,4 | E319: =COUNTIFS(B319,'2 mots'!$C$3,B319,'2 mots'!$C$4) -> 0 | F319: =COUNTIF(B319,'1 mot'!$C$3) -> 0
A320: 1304 | B320: Couteau victorinox 1,3703 UGE | E320: =COUNTIFS(B320,'2 mots'!$C$3,B320,'2 mots'!$C$4) -> 0 | F320: =COUNTIF(B320,'1 mot'!$C$3) -> 0
... A356: 7936 | B356: Vodka cristal 70cl | E356: =COUNTIFS(B356,'2 mots'!$C$3,B356,'2 mots'!$C$4) -> 0 | F356: =COUNTIF(B356,'1 mot'!$C$3) -> 0
A357: 5910 | B357: fine de chateauneuf du pape domaine saint-benoit | C357: Eau de vie | E357: =COUNTIFS(B357,'2 mots'!$C$3,B357,'2 mots'!$C$4) -> 0 | F357: =COUNTIF(B357,'1 mot'!$C$3) -> 0
A358: 8123 | B358: Porte bouteille inox | E358: =COUNTIFS(B358,'2 mots'!$C$3,B358,'2 mots'!$C$4) -> 0 | F358: =COUNTIF(B358,'1 mot'!$C$3) -> 0
A359: 1014 | B359: Verre à coktail 30cl | E359: =COUNTIFS(B359,'2 mots'!$C$3,B359,'2 mots'!$C$4) -> 0 | F359: =COUNTIF(B359,'1 mot'!$C$3) -> 0
A360: 8209 | B360: Porte bouteille inox | E360: =COUNTIFS(B360,'2 mots'!$C$3,B360,'2 mots'!$C$4) -> 0 | F360: =COUNTIF(B360,'1 mot'!$C$3) -> 0
A361: 8002 | B361: Rapid ice champagne or | E361: =COUNTIFS(B361,'2 mots'!$C$3,B361,'2 mots'!$C$4) -> 0 | F361: =COUNTIF(B361,'1 mot'!$C$3) -> 0
A362: 8159 | B362: Rapid ice argent | E362: =COUNTIFS(B362,'2 mots'!$C$3,B362,'2 mots'!$C$4) -> 0 | F362: =COUNTIF(B362,'1 mot'!$C$3) -> 0
A363: 8135 | B363: Verre Cofret vin rouge milano | E363: =COUNTIFS(B363,'2 mots'!$C$3,B363,'2 mots'!$C$4) -> 0 | F363: =COUNTIF(B363,'1 mot'!$C$3) -> 0
A364: 8119 | B364: Rafraichisseur nomade screwpull rouge et noir | E364: =COUNTIFS(B364,'2 mots'!$C$3,B364,'2 mots'!$C$4) -> 0 | F364: =COUNTIF(B364,'1 mot'!$C$3) -> 0
A365: 9122 | B365: set barbecue | E365: =COUNTIFS(B365,'2 mots'!$C$3,B365,'2 mots'!$C$4) -> 0 | F365: =COUNTIF(B365,'1 mot'!$C$3) -> 0
A366: 804 | B366: Box golden parachute | E366: =COUNTIFS(B366,'2 mots'!$C$3,B366,'2 mots'!$C$4) -> 0 | F366: =COUNTIF(B366,'1 mot'!$C$3) -> 0
A367: 8122 | B367: Coffret bois décor feuilles | E367: =COUNTIFS(B367,'2 mots'!$C$3,B367,'2 mots'!$C$4) -> 0 | F367: =COUNTIF(B367,'1 mot'!$C$3) -> 0
A368: 802 | B368: coffet ustensiles à coktail | E368: =COUNTIFS(B368,'2 mots'!$C$3,B368,'2 mots'!$C$4) -> 0 | F368: =COUNTIF(B368,'1 mot'!$C$3) -> 0
A369: 18975 | B369: Whisky Coffret arran 10 ans 2 verre | C369: Whisky | E369: =COUNTIFS(B369,'2 mots'!$C$3,B369,'2 mots'!$C$4) -> 0 | F369: =COUNTIF(B369,'1 mot'!$C$3) -> 0
A370: 11072 | B370: plateau inox | E370: =COUNTIFS(B370,'2 mots'!$C$3,B370,'2 mots'!$C$4) -> 0 | F370: =COUNTIF(B370,'1 mot'!$C$3) -> 0
A371: 8217 | B371: Verre coffret gris 4 verres INAO | E371: =COUNTIFS(B371,'2 mots'!$C$3,B371,'2 mots'!$C$4) -> 0 | F371: =COUNTIF(B371,'1 mot'!$C$3) -> 0
A372: 8291 | B372: Seau alu une bouteille | E372: =COUNTIFS(B372,'2 mots'!$C$3,B372,'2 mots'!$C$4) -> 0 | F372: =COUNTIF(B372,'1 mot'!$C$3) -> 0
A373: 590311 | B373: Whisky of the world 4 wit | C373: Whisky | E373: =COUNTIFS(B373,'2 mots'!$C$3,B373,'2 mots'!$C$4) -> 0 | F373: =COUNTIF(B373,'1 mot'!$C$3) -> 0
A374: 5101 | B374: Whisky coffet 6 whiskies 24cl whiskies of the world | C374: Whisky | E374: =COUNTIFS(B374,'2 mots'!$C$3,B374,'2 mots'!$C$4) -> 0 | F374: =COUNTIF(B374,'1 mot'!$C$3) -> 0
...

Sheet 1 mot
C2: Mots recherchés
B3: mot 1 | C3: *biere*
B8: code | C8: désignation
B9: {=IF(ROW()-8>COUNTIF(Feuil1!$F:$F,">0"),"",INDEX(Feuil1!A:A,SMALL(IF(Feuil1!$F:$F>0,ROW($F:$F),""),ROW()-8)))} -> 10809 | C9: {=IF(ROW()-8>COUNTIF(Feuil1!$F:$F,">0"),"",INDEX(Feuil1!B:B,SMALL(IF(Feuil1!$F:$F>0,ROW($F:$F),""),ROW()-8)))} -> Biere Gulden draak 9000 33cl 10,5%
B10: {=IF(ROW()-8>COUNTIF(Feuil1!$F:$F,">0"),"",INDEX(Feuil1!A:A,SMALL(IF(Feuil1!$F:$F>0,ROW($F:$F),""),ROW()-8)))} -> 10808 | C10: {=IF(ROW()-8>COUNTIF(Feuil1!$F:$F,">0"),"",INDEX(Feuil1!B:B,SMALL(IF(Feuil1!$F:$F>0,ROW($F:$F),""),ROW()-8)))} -> Biere Gulden draak 33cl 10,5%
B11: {=IF(ROW()-8>COUNTIF(Feuil1!$F:$F,">0"),"",INDEX(Feuil1!A:A,SMALL(IF(Feuil1!$F:$F>0,ROW($F:$F),""),ROW()-8)))} -> 691327 | C11: {=IF(ROW()-8>COUNTIF(Feuil1!$F:$F,">0"),"",INDEX(Feuil1!B:B,SMALL(IF(Feuil1!$F:$F>0,ROW($F:$F),""),ROW()-8)))} -> biere blanche Allemagne Paulaner hefe weiss 50cl
B12: {=IF(ROW()-8>COUNTIF(Feuil1!$F:$F,">0"),"",INDEX(Feuil1!A:A,SMALL(IF(Feuil1!$F:$F>0,ROW($F:$F),""),ROW()-8)))} -> 13130 | C12: {=IF(ROW()-8>COUNTIF(Feuil1!$F:$F,">0"),"",INDEX(Feuil1!B:B,SMALL(IF(Feuil1!$F:$F>0,ROW($F:$F),""),ROW()-8)))} -> Biere Franziskanner kristal 50cl
B13: {=IF(ROW()-8>COUNTIF(Feuil1!$F:$F,">0"),"",INDEX(Feuil1!A:A,SMALL(IF(Feuil1!$F:$F>0,ROW($F:$F),""),ROW()-8)))} -> 691320 | C13: {=IF(ROW()-8>COUNTIF(Feuil1!$F:$F,">0"),"",INDEX(Feuil1!B:B,SMALL(IF(Feuil1!$F:$F>0,ROW($F:$F),""),ROW()-8)))} -> Biere Duvel Belgique spécialité 33 cl
B14: {=IF(ROW()-8>COUNTIF(Feuil1!$F:$F,">0"),"",INDEX(Feuil1!A:A,SMALL(IF(Feuil1!$F:$F>0,ROW($F:$F),""),ROW()-8)))} -> 691335 | C14: {=IF(ROW()-8>COUNTIF(Feuil1!$F:$F,">0"),"",INDEX(Feuil1!B:B,SMALL(IF(Feuil1!$F:$F>0,ROW($F:$F),""),ROW()-8)))} -> Biere Tsingao 33cl chine
B15: {=IF(ROW()-8>COUNTIF(Feuil1!$F:$F,">0"),"",INDEX(Feuil1!A:A,SMALL(IF(Feuil1!$F:$F>0,ROW($F:$F),""),ROW()-8)))} -> 691313 | C15: {=IF(ROW()-8>COUNTIF(Feuil1!$F:$F,">0"),"",INDEX(Feuil1!B:B,SMALL(IF(Feuil1!$F:$F>0,ROW($F:$F),""),ROW()-8)))} -> Biere chimay rouge 33cl Belgique
B16: {=IF(ROW()-8>COUNTIF(Feuil1!$F:$F,">0"),"",INDEX(Feuil1!A:A,SMALL(IF(Feuil1!$F:$F>0,ROW($F:$F),""),ROW()-8)))} -> 691314 | C16: {=IF(ROW()-8>COUNTIF(Feuil1!$F:$F,">0"),"",INDEX(Feuil1!B:B,SMALL(IF(Feuil1!$F:$F>0,ROW($F:$F),""),ROW()-8)))} -> Biere chimay bleue 33cl Belgique trappiste
B17: {=IF(ROW()-8>COUNTIF(Feuil1!$F:$F,">0"),"",INDEX(Feuil1!A:A,SMALL(IF(Feuil1!$F:$F>0,ROW($F:$F),""),ROW()-8)))} -> 10810 | C17: {=IF(ROW()-8>COUNTIF(Feuil1!$F:$F,">0"),"",INDEX(Feuil1!B:B,SMALL(IF(Feuil1!$F:$F>0,ROW($F:$F),""),ROW()-8)))} -> Biere Piraat 10,5% 33cl
B18: {=IF(ROW()-8>COUNTIF(Feuil1!$F:$F,">0"),"",INDEX(Feuil1!A:A,SMALL(IF(Feuil1!$F:$F>0,ROW($F:$F),""),ROW()-8)))} -> 15271 | C18: {=IF(ROW()-8>COUNTIF(Feuil1!$F:$F,">0"),"",INDEX(Feuil1!B:B,SMALL(IF(Feuil1!$F:$F>0,ROW($F:$F),""),ROW()-8)))} -> Biere La trappe quadruple 33cl
B19: {=IF(ROW()-8>COUNTIF(Feuil1!$F:$F,">0"),"",INDEX(Feuil1!A:A,SMALL(IF(Feuil1!$F:$F>0,ROW($F:$F),""),ROW()-8)))} -> 11400 | C19: {=IF(ROW()-8>COUNTIF(Feuil1!$F:$F,">0"),"",INDEX(Feuil1!B:B,SMALL(IF(Feuil1!$F:$F>0,ROW($F:$F),""),ROW()-8)))} -> Biere Corolus classique brune 33cl
B20: {=IF(ROW()-8>COUNTIF(Feuil1!$F:$F,">0"),"",INDEX(Feuil1!A:A,SMALL(IF(Feuil1!$F:$F>0,ROW($F:$F),""),ROW()-8)))} -> 11402 | C20: {=IF(ROW()-8>COUNTIF(Feuil1!$F:$F,">0"),"",INDEX(Feuil1!B:B,SMALL(IF(Feuil1!$F:$F>0,ROW($F:$F),""),ROW()-8)))} -> Biere corolus ambrio 8% 33cl
... B240: {=IF(ROW()-8>COUNTIF(Feuil1!$F:$F,">0"),"",INDEX(Feuil1!A:A,SMALL(IF(Feuil1!$F:$F>0,ROW($F:$F),""),ROW()-8)))} | C240: {=IF(ROW()-8>COUNTIF(Feuil1!$F:$F,">0"),"",INDEX(Feuil1!B:B,SMALL(IF(Feuil1!$F:$F>0,ROW($F:$F),""),ROW()-8)))}
C241: {=IF(ROW()-9>COUNTIF(Feuil1!$E:$E,">0"),"",INDEX(Feuil1!B:B,SMALL(IF(Feuil1!$E:$E>0,ROW($E:$E),""),ROW()-9)))}
C242: {=IF(ROW()-9>COUNTIF(Feuil1!$E:$E,">0"),"",INDEX(Feuil1!B:B,SMALL(IF(Feuil1!$E:$E>0,ROW($E:$E),""),ROW()-9)))}
C243: {=IF(ROW()-9>COUNTIF(Feuil1!$E:$E,">0"),"",INDEX(Feuil1!B:B,SMALL(IF(Feuil1!$E:$E>0,ROW($E:$E),""),ROW()-9)))}
C244: {=IF(ROW()-9>COUNTIF(Feuil1!$E:$E,">0"),"",INDEX(Feuil1!B:B,SMALL(IF(Feuil1!$E:$E>0,ROW($E:$E),""),ROW()-9)))}
C245: {=IF(ROW()-9>COUNTIF(Feuil1!$E:$E,">0"),"",INDEX(Feuil1!B:B,SMALL(IF(Feuil1!$E:$E>0,ROW($E:$E),""),ROW()-9)))}
C246: {=IF(ROW()-9>COUNTIF(Feuil1!$E:$E,">0"),"",INDEX(Feuil1!B:B,SMALL(IF(Feuil1!$E:$E>0,ROW($E:$E),""),ROW()-9)))}
C247: {=IF(ROW()-9>COUNTIF(Feuil1!$E:$E,">0"),"",INDEX(Feuil1!B:B,SMALL(IF(Feuil1!$E:$E>0,ROW($E:$E),""),ROW()-9)))}
C248: {=IF(ROW()-9>COUNTIF(Feuil1!$E:$E,">0"),"",INDEX(Feuil1!B:B,SMALL(IF(Feuil1!$E:$E>0,ROW($E:$E),""),ROW()-9)))}
C249: {=IF(ROW()-9>COUNTIF(Feuil1!$E:$E,">0"),"",INDEX(Feuil1!B:B,SMALL(IF(Feuil1!$E:$E>0,ROW($E:$E),""),ROW()-9)))}
C250: {=IF(ROW()-9>COUNTIF(Feuil1!$E:$E,">0"),"",INDEX(Feuil1!B:B,SMALL(IF(Feuil1!$E:$E>0,ROW($E:$E),""),ROW()-9)))}
C251: {=IF(ROW()-9>COUNTIF(Feuil1!$E:$E,">0"),"",INDEX(Feuil1!B:B,SMALL(IF(Feuil1!$E:$E>0,ROW($E:$E),""),ROW()-9)))}
C252: {=IF(ROW()-9>COUNTIF(Feuil1!$E:$E,">0"),"",INDEX(Feuil1!B:B,SMALL(IF(Feuil1!$E:$E>0,ROW($E:$E),""),ROW()-9)))}
... C259: {=IF(ROW()-9>COUNTIF(Feuil1!$E:$E,">0"),"",INDEX(Feuil1!B:B,SMALL(IF(Feuil1!$E:$E>0,ROW($E:$E),""),ROW()-9)))}
B280: {=IF(ROW()-8>COUNTIF(Feuil1!$F:$F,">0"),"",INDEX(Feuil1!A:A,SMALL(IF(Feuil1!$F:$F>0,ROW($F:$F),""),ROW()-8)))}

Sheet 2 mots
C2: Mots recherchés
B3: mot 1 | C3: *biere*
B4: mot 2 | C4: *blanche*
B9: code | C9: désignation
B10: {=IF(ROW()-9>COUNTIF(Feuil1!$E:$E,">0"),"",INDEX(Feuil1!A:A,SMALL(IF(Feuil1!$E:$E>0,ROW($E:$E),""),ROW()-9)))} -> 691327 | C10: {=IF(ROW()-9>COUNTIF(Feuil1!$E:$E,">0"),"",INDEX(Feuil1!B:B,SMALL(IF(Feuil1!$E:$E>0,ROW($E:$E),""),ROW()-9)))} -> biere blanche Allemagne Paulaner hefe weiss 50cl
B11: {=IF(ROW()-9>COUNTIF(Feuil1!$E:$E,">0"),"",INDEX(Feuil1!A:A,SMALL(IF(Feuil1!$E:$E>0,ROW($E:$E),""),ROW()-9)))} -> 11265 | C11: {=IF(ROW()-9>COUNTIF(Feuil1!$E:$E,">0"),"",INDEX(Feuil1!B:B,SMALL(IF(Feuil1!$E:$E>0,ROW($E:$E),""),ROW()-9)))} -> Biere blanche de Namure 4,5% 25cl
B12: {=IF(ROW()-9>COUNTIF(Feuil1!$E:$E,">0"),"",INDEX(Feuil1!A:A,SMALL(IF(Feuil1!$E:$E>0,ROW($E:$E),""),ROW()-9)))} -> 11295 | C12: {=IF(ROW()-9>COUNTIF(Feuil1!$E:$E,">0"),"",INDEX(Feuil1!B:B,SMALL(IF(Feuil1!$E:$E>0,ROW($E:$E),""),ROW()-9)))} -> Biere blanche des neiges 33cl
B13: {=IF(ROW()-9>COUNTIF(Feuil1!$E:$E,">0"),"",INDEX(Feuil1!A:A,SMALL(IF(Feuil1!$E:$E>0,ROW($E:$E),""),ROW()-9)))} -> 800292 | C13: {=IF(ROW()-9>COUNTIF(Feuil1!$E:$E,">0"),"",INDEX(Feuil1!B:B,SMALL(IF(Feuil1!$E:$E>0,ROW($E:$E),""),ROW()-9)))} -> Biere Colomba blanche de corse 33cl
B14: {=IF(ROW()-9>COUNTIF(Feuil1!$E:$E,">0"),"",INDEX(Feuil1!A:A,SMALL(IF(Feuil1!$E:$E>0,ROW($E:$E),""),ROW()-9)))} -> 11281 | C14: {=IF(ROW()-9>COUNTIF(Feuil1!$E:$E,">0"),"",INDEX(Feuil1!B:B,SMALL(IF(Feuil1!$E:$E>0,ROW($E:$E),""),ROW()-9)))} -> Biere blanche de bruxelle 4,5% 33cl
B15: {=IF(ROW()-9>COUNTIF(Feuil1!$E:$E,">0"),"",INDEX(Feuil1!A:A,SMALL(IF(Feuil1!$E:$E>0,ROW($E:$E),""),ROW()-9)))} -> 15394 | C15: {=IF(ROW()-9>COUNTIF(Feuil1!$E:$E,">0"),"",INDEX(Feuil1!B:B,SMALL(IF(Feuil1!$E:$E>0,ROW($E:$E),""),ROW()-9)))} -> Biere celis white blanche 25cl
B16: {=IF(ROW()-9>COUNTIF(Feuil1!$E:$E,">0"),"",INDEX(Feuil1!A:A,SMALL(IF(Feuil1!$E:$E>0,ROW($E:$E),""),ROW()-9)))} -> 10507 | C16: {=IF(ROW()-9>COUNTIF(Feuil1!$E:$E,">0"),"",INDEX(Feuil1!B:B,SMALL(IF(Feuil1!$E:$E>0,ROW($E:$E),""),ROW()-9)))} -> Biere brasserie de cime aiguille blanche 75cl 5%
B17: {=IF(ROW()-9>COUNTIF(Feuil1!$E:$E,">0"),"",INDEX(Feuil1!A:A,SMALL(IF(Feuil1!$E:$E>0,ROW($E:$E),""),ROW()-9)))} -> 800292 | C17: {=IF(ROW()-9>COUNTIF(Feuil1!$E:$E,">0"),"",INDEX(Feuil1!B:B,SMALL(IF(Feuil1!$E:$E>0,ROW($E:$E),""),ROW()-9)))} -> Biere Colomba blanche de corse 33cl
B18: {=IF(ROW()-9>COUNTIF(Feuil1!$E:$E,">0"),"",INDEX(Feuil1!A:A,SMALL(IF(Feuil1!$E:$E>0,ROW($E:$E),""),ROW()-9)))} -> 11295 | C18: {=IF(ROW()-9>COUNTIF(Feuil1!$E:$E,">0"),"",INDEX(Feuil1!B:B,SMALL(IF(Feuil1!$E:$E>0,ROW($E:$E),""),ROW()-9)))} -> Biere blanche des neiges 33cl
B19: {=IF(ROW()-9>COUNTIF(Feuil1!$E:$E,">0"),"",INDEX(Feuil1!A:A,SMALL(IF(Feuil1!$E:$E>0,ROW($E:$E),""),ROW()-9)))} -> 15394 | C19: {=IF(ROW()-9>COUNTIF(Feuil1!$E:$E,">0"),"",INDEX(Feuil1!B:B,SMALL(IF(Feuil1!$E:$E>0,ROW($E:$E),""),ROW()-9)))} -> Biere celis white blanche 25cl
B20: {=IF(ROW()-9>COUNTIF(Feuil1!$E:$E,">0"),"",INDEX(Feuil1!A:A,SMALL(IF(Feuil1!$E:$E>0,ROW($E:$E),""),ROW()-9)))} -> 11281 | C20: {=IF(ROW()-9>COUNTIF(Feuil1!$E:$E,">0"),"",INDEX(Feuil1!B:B,SMALL(IF(Feuil1!$E:$E>0,ROW($E:$E),""),ROW()-9)))} -> Biere blanche de bruxelle 4,5% 33cl
B21: {=IF(ROW()-9>COUNTIF(Feuil1!$E:$E,">0"),"",INDEX(Feuil1!A:A,SMALL(IF(Feuil1!$E:$E>0,ROW($E:$E),""),ROW()-9)))} -> 691327 | C21: {=IF(ROW()-9>COUNTIF(Feuil1!$E:$E,">0"),"",INDEX(Feuil1!B:B,SMALL(IF(Feuil1!$E:$E>0,ROW($E:$E),""),ROW()-9)))} -> Biere Paulaner Hefe weiss blanche allemagne 50cl
... B260: {=IF(ROW()-9>COUNTIF(Feuil1!$E:$E,">0"),"",INDEX(Feuil1!A:A,SMALL(IF(Feuil1!$E:$E>0,ROW($E:$E),""),ROW()-9)))} | C260: {=IF(ROW()-9>COUNTIF(Feuil1!$E:$E,">0"),"",INDEX(Feuil1!B:B,SMALL(IF(Feuil1!$E:$E>0,ROW($E:$E),""),ROW()-9)))}
