Workbook

Sheet base de données
A1: Produits | B1: Type de mur | C1: Prix linéaire
A2: Charpente 1 | B2: Mur 1 | C2: 1.37
A3: Isolant 1 | B3: Mur 1 | C3: 1.25
A4: Clous et Vis 1 | B4: Mur 1 | C4: 0.5
A5: Charpente 2 | B5: Mur 2 | C5: 2.5
A6: Isolant 2 | B6: Mur 2 | C6: 2.8
A7: Clous et Vis 2 | B7: Mur 2 | C7: 0.75
A8: Charpente 3 | B8: Mur 3 | C8: 3
A9: Isolant 3 | B9: Mur 3 | C9: 3.5
A10: Clous et Vis 3 | B10: Mur 3 | C10: 1

Sheet soumission
A1: Type | B1: Composantes | C1: Quantité | D1: Prix/pied linéaire | E1: Total
A2: Mur 3 | B2: {=IF(ROW()-1>COUNTIF('base de données'!B:B,$A$2),"",INDEX('base de données'!A:A,SMALL(IF('base de données'!B:B=$A$2,ROW(A:A),""),ROW()-1)))} -> Charpente 3 | C2: 25 | D2: =IFERROR(VLOOKUP(soumission!B2,'base de données'!$A$1:$C$10,3),0) -> 3 | E2: =C2*D2 -> 75
B3: {=IF(ROW()-1>COUNTIF('base de données'!B:B,$A$2),"",INDEX('base de données'!A:A,SMALL(IF('base de données'!B:B=$A$2,ROW(A:A),""),ROW()-1)))} -> Isolant 3 | C3: 2 | D3: =IFERROR(VLOOKUP(soumission!B3,'base de données'!$A$1:$C$10,3),0) -> 3.5 | E3: =C3*D3 -> 7
B4: {=IF(ROW()-1>COUNTIF('base de données'!B:B,$A$2),"",INDEX('base de données'!A:A,SMALL(IF('base de données'!B:B=$A$2,ROW(A:A),""),ROW()-1)))} -> Clous et Vis 3 | C4: 3 | D4: =IFERROR(VLOOKUP(soumission!B4,'base de données'!$A$1:$C$10,3),0) -> 3 | E4: =C4*D4 -> 9
D5: =IFERROR(VLOOKUP(soumission!B5,'base de données'!$A$1:$C$10,3),0) -> 0 | E5: =C5*D5 -> 0
D6: =IFERROR(VLOOKUP(soumission!B6,'base de données'!$A$1:$C$10,3),0) -> 0 | E6: =C6*D6 -> 0
A7: Mur 3 | B7: {=IF(ROW()-6>COUNTIF('base de données'!B:B,$A$7),"",INDEX('base de données'!A:A,SMALL(IF('base de données'!B:B=$A$7,ROW(A:A),""),ROW()-6)))} -> Charpente 3 | C7: 10 | D7: =IFERROR(VLOOKUP(soumission!B7,'base de données'!$A$1:$C$10,3),0) -> 3 | E7: =C7*D7 -> 30
B8: {=IF(ROW()-6>COUNTIF('base de données'!B:B,$A$7),"",INDEX('base de données'!A:A,SMALL(IF('base de données'!B:B=$A$7,ROW(A:A),""),ROW()-6)))} -> Isolant 3 | C8: 1 | D8: =IFERROR(VLOOKUP(soumission!B8,'base de données'!$A$1:$C$10,3),0) -> 3.5 | E8: =C8*D8 -> 3.5
B9: {=IF(ROW()-6>COUNTIF('base de données'!B:B,$A$7),"",INDEX('base de données'!A:A,SMALL(IF('base de données'!B:B=$A$7,ROW(A:A),""),ROW()-6)))} -> Clous et Vis 3 | C9: 2 | D9: =IFERROR(VLOOKUP(soumission!B9,'base de données'!$A$1:$C$10,3),0) -> 3 | E9: =C9*D9 -> 6
B10: {=IF(ROW()-6>COUNTIF('base de données'!B:B,$A$7),"",INDEX('base de données'!A:A,SMALL(IF('base de données'!B:B=$A$7,ROW(A:A),""),ROW()-6)))} | D10: =IFERROR(VLOOKUP(soumission!B10,'base de données'!$A$1:$C$10,3),0) -> 0 | E10: =C10*D10 -> 0
D11: =IFERROR(VLOOKUP(soumission!B11,'base de données'!$A$1:$C$10,3),0) -> 0 | E11: =C11*D11 -> 0
A12: Mur 1 | B12: {=IF(ROW()-11>COUNTIF('base de données'!B:B,$A$12),"",INDEX('base de données'!A:A,SMALL(IF('base de données'!B:B=$A$12,ROW(A:A),""),ROW()-11)))} -> Charpente 1 | C12: 15 | D12: =IFERROR(VLOOKUP(soumission!B12,'base de données'!$A$1:$C$10,3),0) -> 1.37 | E12: =C12*D12 -> 20.55
B13: {=IF(ROW()-11>COUNTIF('base de données'!B:B,$A$12),"",INDEX('base de données'!A:A,SMALL(IF('base de données'!B:B=$A$12,ROW(A:A),""),ROW()-11)))} -> Isolant 1 | C13: 3 | D13: =IFERROR(VLOOKUP(soumission!B13,'base de données'!$A$1:$C$10,3),0) -> 3 | E13: =C13*D13 -> 9
B14: {=IF(ROW()-11>COUNTIF('base de données'!B:B,$A$12),"",INDEX('base de données'!A:A,SMALL(IF('base de données'!B:B=$A$12,ROW(A:A),""),ROW()-11)))} -> Clous et Vis 1 | C14: 2 | D14: =IFERROR(VLOOKUP(soumission!B14,'base de données'!$A$1:$C$10,3),0) -> 3 | E14: =C14*D14 -> 6
D15: =IFERROR(VLOOKUP(soumission!B15,'base de données'!$A$1:$C$10,3),0) -> 0 | E15: =C15*D15 -> 0
D16: =IFERROR(VLOOKUP(soumission!B16,'base de données'!$A$1:$C$10,3),0) -> 0 | E16: =C16*D16 -> 0
D17: =IFERROR(VLOOKUP(soumission!B17,'base de données'!$A$1:$C$10,3),0) -> 0 | E17: =C17*D17 -> 0
D18: =IFERROR(VLOOKUP(soumission!B18,'base de données'!$A$1:$C$10,3),0) -> 0 | E18: =C18*D18 -> 0
C19: SOUS TOTAL | E19: =SUM(E2:E18) -> 166.05
C20: TPS
C21: TVQ
C22: MONTANT À PAYER | E22: =SUM(E19:E21) -> 166.05

Sheet liste déroulante
A1: Mur 1
A2: Mur 2
A3: Mur 3
A4: Mur 4
