Workbook

Sheet MATRICE
A1: CM100310-0063-07 | C1: ACTIF | D1: 1 | E1: CISCO | F1: WS-3750X-48T | G1: NA | H1: GTI H+4 24/7 | I1: Oxya - Emerainville | J1: OK | K1: 42430 | L1: 42794 | M1: FRANCE | N1: 747244 | O1: 11630
A2: CM100310-0063-07 | C2: ACTIF | D2: 1 | E2: HP | F2: HP DL380 G7 | G2: CZ2039FBGV | H2: GTI H+4 24/7 | I2: Siège - Haussman | J2: OK | K2: 42430 | L2: 42794 | M2: FRANCE | N2: 747218 | O2: 11630
A3: CM100310-0063-07 | C3: ACTIF | D3: 1 | E3: HP | F3: HP DL380G5 5160 2G EU Svr | G3: CZC7441HCB | H3: GTI H+4 24/7 | I3: Oxya - Emerainville | J3: OK | K3: 42430 | L3: 42794 | M3: FRANCE | N3: 747214 | O3: 11630
A4: CM100310-0063-07 | C4: ACTIF | D4: 1 | E4: HP | F4: HP DL380G5 5160 2G EU Svr | G4: CZC74521B6 | H4: GTI H+4 24/7 | I4: Oxya - Emerainville | J4: OK | K4: 42430 | L4: 42794 | M4: FRANCE | N4: 747215 | O4: 11630
A5: CM100310-0063-07 | C5: ACTIF | D5: 1 | E5: HP | F5: HP DL380G5 5160 2G EU Svr | G5: CZC74522Y3 | H5: GTI H+4 24/7 | I5: Oxya - Emerainville | J5: OK | K5: 42430 | L5: 42794 | M5: FRANCE | N5: 747212 | O5: 11630
A6: CM100310-0063-07 | C6: ACTIF | D6: 1 | E6: HP | F6: HP DL380G5 5160 2G EU Svr | G6: CZC74523GG | H6: GTI H+4 24/7 | I6: Oxya - Emerainville | J6: OK | K6: 42430 | L6: 42794 | M6: FRANCE | N6: 747211 | O6: 11630
A7: CM100310-0063-07 | C7: ACTIF | D7: 1 | E7: HP | F7: HP DL380G5 5160 2G EU Svr | G7: CZC74523H2 | H7: GTI H+4 24/7 | I7: Siège - Haussmann | J7: OK | K7: 42430 | L7: 42794 | M7: FRANCE | N7: 747213 | O7: 11630
A8: CM100310-0063-07 | C8: ACTIF | D8: 1 | E8: HP | F8: HP Proliant DL 360 G5 | G8: CZC841A57H | H8: GTI H+4 24/7 | I8: ? | J8: OK | K8: 42430 | L8: 42794 | M8: FRANCE | N8: 747220 | O8: 11630
A9: CM100310-0063-07 | C9: ACTIF | D9: 1 | E9: HP | F9: HP DL370 G6 | G9: CZJ11801QK | H9: GTI H+4 24/7 | I9: Oxya - Emerainville | J9: OK | K9: 42430 | L9: 42794 | M9: FRANCE | N9: 747245 | O9: 11630
A10: CM100310-0063-07 | C10: ACTIF | D10: 1 | E10: HP | F10: HP DL370 G6 | G10: CZJ11809BP | H10: GTI H+4 24/7 | I10: Oxya - Emerainville | J10: OK | K10: 42430 | L10: 42794 | M10: FRANCE | N10: 747246 | O10: 11630
A11: CM100310-0063-07 | C11: ACTIF | D11: 1 | E11: HP | F11: HP DL370 G6 | G11: CZJ11809CB | H11: GTI H+4 24/7 | I11: Oxya - Emerainville | J11: OK | K11: 42430 | L11: 42794 | M11: FRANCE | N11: 747219 | O11: 11630
A12: CM100310-0063-07 | C12: ACTIF | D12: 1 | E12: HP | F12: ProLiant ML350 G4 | G12: DEH63401JT | H12: GTI H+4 24/7 | I12: Siège - Haussman | J12: OK | K12: 42430 | L12: 42794 | M12: FRANCE | N12: 747217 | O12: 11630
... A15: CM100310-0063-07 | C15: ACTIF | D15: 1 | E15: HP | F15: DL380R04 X3.4/800-2M EURO | G15: GB8648X5N7 | H15: GTI H+4 24/7 | I15: Oxya - Emerainville | J15: OK | K15: 42430 | L15: 42794 | M15: FRANCE | N15: 747210 | O15: 11630
A16: CM100310-0063-08 | C16: ACTIF | D16: 1 | E16: CISCO | F16: WS-C3750X-24P-SC3KX-NM-1G-RGC3KXPWR-715WAC | G16: FDO1449R10V | H16: GTI J+1 9*5/7 | I16: tbc | J16: OK | K16: 42430 | L16: 42794 | M16: FRANCE | N16: 758530 | O16: 11805 | P16: NETWORK
A17: CM100310-0063-08 | C17: ACTIF | D17: 1 | E17: CISCO | F17: WS-C3750X-24P-SC3KX-NM-1G-RGC3KXPWR-715WAC | G17: FDO1449Z0TU | H17: GTI J+1 9*5/7 | I17: tbc | J17: OK | K17: 42430 | L17: 42794 | M17: FRANCE | N17: 758531 | O17: 11805 | P17: NETWORK
A18: CM100310-0063-08 | C18: ACTIF | D18: 1 | E18: CISCO | F18: WS-C3750X-24P-SC3KX-NM-1G-RGC3KXPWR-715WAC | G18: FDO1449Z0TX | H18: GTI J+1 9*5/7 | I18: tbc | J18: OK | K18: 42430 | L18: 42794 | M18: FRANCE | N18: 758532 | O18: 11805 | P18: NETWORK
A19: CM100319-0075-13 | C19: EXPIRE | D19: 1 | E19: HP | F19: ProLiant DL360p G8 | G19: CZ3403YEV2 | H19: PLATINUM GTR 4H | I19: telecity / victor Hugo | J19: OK | K19: 42552 | L19: 42643 | M19: FRANCE | N19: 872121 | O19: 13235
A20: CM100319-0075-13 | C20: EXPIRE | D20: 1 | E20: HP | F20: ProLiant DL360p G8 | G20: CZ3403YEV4 | H20: PLATINUM GTR 4H | I20: telecity / victor Hugo | J20: OK | K20: 42552 | L20: 42643 | M20: FRANCE | N20: 872118 | O20: 13235
A21: CM100319-0075-13 | C21: EXPIRE | D21: 1 | E21: HP | F21: ProLiant DL360p G8 | G21: CZ3403YEV6 | H21: PLATINUM GTR 4H | I21: telecity / victor Hugo | J21: OK | K21: 42552 | L21: 42643 | M21: FRANCE | N21: 872119 | O21: 13235
A22: CM100319-0075-13 | C22: EXPIRE | D22: 1 | E22: HP | F22: ProLiant DL360p G8 | G22: CZ3403YEV8 | H22: PLATINUM GTR 4H | I22: telecity / victor Hugo | J22: OK | K22: 42552 | L22: 42643 | M22: FRANCE | N22: 872120 | O22: 13235
A23: CM100319-0075-13 | C23: EXPIRE | D23: 1 | E23: HP | F23: ProLiant DL360p G8 | G23: CZ3403YEWW | H23: PLATINUM GTR 4H | I23: telecity / victor Hugo | J23: OK | K23: 42552 | L23: 42643 | M23: FRANCE | N23: 872117 | O23: 13235
A24: CM100319-0075-13 | C24: EXPIRE | D24: 1 | E24: HP | F24: ProLiant DL360p G8 | G24: CZJ405037J | H24: PLATINUM GTR 4H | I24: telecity / condorcet | J24: OK | K24: 42552 | L24: 42643 | M24: FRANCE | N24: 872122 | O24: 13235
A25: CM100319-0075-13 | C25: EXPIRE | D25: 1 | E25: HP | F25: ProLiant DL360p G8 | G25: CZJ405037Q | H25: PLATINUM GTR 4H | I25: telecity / victor Hugo | J25: OK | K25: 42552 | L25: 42643 | M25: FRANCE | N25: 872124 | O25: 13235
A26: CM100319-0075-13 | C26: EXPIRE | D26: 1 | E26: HP | F26: ProLiant DL360p G8 | G26: CZJ405037R | H26: PLATINUM GTR 4H | I26: telecity / victor Hugo | J26: OK | K26: 42552 | L26: 42643 | M26: FRANCE | N26: 872125 | O26: 13235
A27: CM100319-0075-13 | C27: EXPIRE | D27: 1 | E27: HP | F27: ProLiant DL360p G8 | G27: CZJ4050422 | H27: PLATINUM GTR 4H | I27: telecity / condorcet | J27: OK | K27: 42552 | L27: 42643 | M27: FRANCE | N27: 872123 | O27: 13235
A28: CM100319-0075-13 | C28: EXPIRE | D28: 1 | E28: CISCO | F28: CISCO ASA 5510 | G28: JMX1231L2D4 | H28: PLATINUM | I28: ORLY | J28: OK | K28: 42552 | L28: 42643 | M28: FRANCE | N28: 871641 | O28: 13235
A29: CM100319-0075-13 | C29: EXPIRE | D29: 1 | E29: CISCO | F29: CISCO ASA 5510 | G29: JMX1235L23X | H29: PLATINUM | I29: ORLY | J29: OK | K29: 42552 | L29: 42643 | M29: FRANCE | N29: 871640 | O29: 13235
A30: CM100319-0075-13 | C30: EXPIRE | D30: 1 | E30: DELL | F30: LCD 17” & Keyboard & Touchpad | H30: PLATINUM | J30: OK | K30: 42552 | L30: 42643 | M30: FRANCE | N30: 872032 | O30: 13235
A31: CM100319-0075-13 | C31: EXPIRE | D31: 1 | E31: DELL | F31: PowerEdge 1950 | G31: 1S2H73J | H31: PLATINUM | I31: PARIS | J31: OK | K31: 42552 | L31: 42643 | M31: FRANCE | N31: 871594 | O31: 13235
A32: CM100319-0075-13 | C32: EXPIRE | D32: 1 | E32: DELL | F32: PowerEdge 1950 | G32: 3S2H73J | H32: PLATINUM | I32: PARIS | J32: OK | K32: 42552 | L32: 42643 | M32: FRANCE | N32: 871592 | O32: 13235
A33: CM100319-0075-13 | C33: EXPIRE | D33: 1 | E33: DELL | F33: PowerEdge 1950 | G33: 5JLDN3J | H33: GOLD | I33: MALAKOFF | J33: OK | K33: 42552 | L33: 42643 | M33: FRANCE | N33: 871597 | O33: 13235
A34: CM100319-0075-13 | C34: EXPIRE | D34: 1 | E34: DELL | F34: PowerEdge 1950 | G34: 6JLDN3J | H34: GOLD | I34: MALAKOFF | J34: OK | K34: 42552 | L34: 42643 | M34: FRANCE | N34: 871595 | O34: 13235
A35: CM100319-0075-13 | C35: EXPIRE | D35: 1 | E35: DELL | F35: OptiPlex 760 | G35: 75MZL4J | H35: GOLD | I35: Bièvres | J35: OK | K35: 42552 | L35: 42643 | M35: FRANCE | N35: 872254 | O35: 13235
A36: CM100319-0075-13 | C36: EXPIRE | D36: 1 | E36: DELL | F36: PowerEdge 1950 | G36: 7JLDN3J | H36: GOLD | I36: MALAKOFF | J36: OK | K36: 42552 | L36: 42643 | M36: FRANCE | N36: 871596 | O36: 13235
A37: CM100319-0075-13 | C37: EXPIRE | D37: 1 | E37: DELL | F37: Dell Optiplex 790 Desktop: | G37: 82FK95J | H37: PLATINUM | J37: OK | K37: 42552 | L37: 42643 | M37: FRANCE | N37: 872034 | O37: 13235
A38: CM100319-0075-13 | C38: EXPIRE | D38: 1 | E38: DELL | F38: OptiPlex 760 | G38: 85MZL4J | H38: GOLD | I38: Technopole SM1 | J38: OK | K38: 42552 | L38: 42643 | M38: FRANCE | N38: 872253 | O38: 13235
A39: CM100319-0075-13 | C39: EXPIRE | D39: 1 | E39: DELL | F39: Dell PowerEdge R710 Server | G39: 95GK95J | H39: PLATINUM | J39: OK | K39: 42552 | L39: 42643 | M39: FRANCE | N39: 872031 | O39: 13235
A40: CM100319-0075-13 | C40: EXPIRE | D40: 1 | E40: DELL | F40: PowerEdge R710 | G40: 95GK95J | H40: GOLD | I40: France, concession Eurotunnel, site de Coquelles (Calais) | J40: OK | K40: 42552 | L40: 42643 | M40: FRANCE | N40: 872244 | O40: 13235
A41: CM100319-0075-13 | C41: EXPIRE | D41: 1 | E41: DELL | F41: OptiPlex 760 | G41: BS0937UE0KF | H41: SILVER | I41: VALENTON | J41: OK | K41: 42552 | L41: 42643 | M41: FRANCE | N41: 871892 | O41: 13235
A42: CM100319-0075-13 | C42: EXPIRE | D42: 1 | E42: DELL | F42: OptiPlex 760 | G42: BS0937UE0KN | H42: SILVER | I42: TRAPPES | J42: OK | K42: 42552 | L42: 42643 | M42: FRANCE | N42: 871836 | O42: 13235
...

Sheet RECHERCHE
A6: TAPE NUMERO DE CM | B6: CM100621-0153-12
D10: Qte | E10: Reference | F10: Description | G10: No Serie | H10: SLA | I10: Site | J10: Date_Debut | K10: Date_Fin | L10: Pays | M10: Categorie
D11: =VLOOKUP($B$6,MATRICE!$A$1:$P$1146,4,FALSE) -> 1 | E11: {=IF(ROW()-10>COUNTIF(MATRICE!A:A,$B$6),"",INDEX(MATRICE!E:E,SMALL(IF(MATRICE!A:A=$B$6,ROW(A:A),""),ROW()-10)))} -> COMPAQ | F11: {=IF(ROW()-10>COUNTIF(MATRICE!A:A,$B$6),"",INDEX(MATRICE!F:F,SMALL(IF(MATRICE!A:A=$B$6,ROW(A:A),""),ROW()-10)))} -> EVO D500 Desktop - P4/1.7 Ghz - 815E | G11: {=IF(ROW()-10>COUNTIF(MATRICE!A:A,$B$6),"",INDEX(MATRICE!N:N,SMALL(IF(MATRICE!A:A=$B$6,ROW(A:A),""),ROW()-10)))} -> 942978 | H11: {=IF(ROW()-10>COUNTIF(MATRICE!A:A,$B$6),"",INDEX(MATRICE!H:H,SMALL(IF(MATRICE!A:A=$B$6,ROW(A:A),""),ROW()-10)))} -> 9H-5J | I11: {=IF(ROW()-10>COUNTIF(MATRICE!A:A,$B$6),"",INDEX(MATRICE!I:I,SMALL(IF(MATRICE!A:A=$B$6,ROW(A:A),""),ROW()-10)))} -> PRATICA DI MARE | J11: {=IF(ROW()-10>COUNTIF(MATRICE!A:A,$B$6),"",INDEX(MATRICE!K:K,SMALL(IF(MATRICE!A:A=$B$6,ROW(A:A),""),ROW()-10)))} -> 42736 | K11: {=IF(ROW()-10>COUNTIF(MATRICE!A:A,$B$6),"",INDEX(MATRICE!L:L,SMALL(IF(MATRICE!A:A=$B$6,ROW(A:A),""),ROW()-10)))} -> 42916 | L11: {=IF(ROW()-10>COUNTIF(MATRICE!A:A,$B$6),"",INDEX(MATRICE!M:M,SMALL(IF(MATRICE!A:A=$B$6,ROW(A:A),""),ROW()-10)))} -> ITALY | M11: {=IF(ROW()-10>COUNTIF(MATRICE!A:A,$B$6),"",INDEX(MATRICE!P:P,SMALL(IF(MATRICE!A:A=$B$6,ROW(A:A),""),ROW()-10)))} -> SERVER
E12: {=IF(ROW()-10>COUNTIF(MATRICE!A:A,$B$6),"",INDEX(MATRICE!E:E,SMALL(IF(MATRICE!A:A=$B$6,ROW(A:A),""),ROW()-10)))} -> COMPAQ | F12: {=IF(ROW()-10>COUNTIF(MATRICE!A:A,$B$6),"",INDEX(MATRICE!F:F,SMALL(IF(MATRICE!A:A=$B$6,ROW(A:A),""),ROW()-10)))} -> EVO D500 Desktop - P4/1.7 Ghz - 815E | G12: {=IF(ROW()-10>COUNTIF(MATRICE!A:A,$B$6),"",INDEX(MATRICE!N:N,SMALL(IF(MATRICE!A:A=$B$6,ROW(A:A),""),ROW()-10)))} -> 942979 | H12: {=IF(ROW()-10>COUNTIF(MATRICE!A:A,$B$6),"",INDEX(MATRICE!H:H,SMALL(IF(MATRICE!A:A=$B$6,ROW(A:A),""),ROW()-10)))} -> 9H-5J | I12: {=IF(ROW()-10>COUNTIF(MATRICE!A:A,$B$6),"",INDEX(MATRICE!I:I,SMALL(IF(MATRICE!A:A=$B$6,ROW(A:A),""),ROW()-10)))} -> PRATICA DI MARE | J12: {=IF(ROW()-10>COUNTIF(MATRICE!A:A,$B$6),"",INDEX(MATRICE!K:K,SMALL(IF(MATRICE!A:A=$B$6,ROW(A:A),""),ROW()-10)))} -> 42736 | K12: {=IF(ROW()-10>COUNTIF(MATRICE!A:A,$B$6),"",INDEX(MATRICE!L:L,SMALL(IF(MATRICE!A:A=$B$6,ROW(A:A),""),ROW()-10)))} -> 42916 | L12: {=IF(ROW()-10>COUNTIF(MATRICE!A:A,$B$6),"",INDEX(MATRICE!M:M,SMALL(IF(MATRICE!A:A=$B$6,ROW(A:A),""),ROW()-10)))} -> ITALY | M12: {=IF(ROW()-10>COUNTIF(MATRICE!A:A,$B$6),"",INDEX(MATRICE!P:P,SMALL(IF(MATRICE!A:A=$B$6,ROW(A:A),""),ROW()-10)))} -> SERVER
E13: {=IF(ROW()-10>COUNTIF(MATRICE!A:A,$B$6),"",INDEX(MATRICE!E:E,SMALL(IF(MATRICE!A:A=$B$6,ROW(A:A),""),ROW()-10)))} -> COMPAQ | F13: {=IF(ROW()-10>COUNTIF(MATRICE!A:A,$B$6),"",INDEX(MATRICE!F:F,SMALL(IF(MATRICE!A:A=$B$6,ROW(A:A),""),ROW()-10)))} -> HP D510 CMT P4 2.0GHz-845G-256 Mo-40 Go-CDS-Ethernet | G13: {=IF(ROW()-10>COUNTIF(MATRICE!A:A,$B$6),"",INDEX(MATRICE!N:N,SMALL(IF(MATRICE!A:A=$B$6,ROW(A:A),""),ROW()-10)))} -> 942980 | H13: {=IF(ROW()-10>COUNTIF(MATRICE!A:A,$B$6),"",INDEX(MATRICE!H:H,SMALL(IF(MATRICE!A:A=$B$6,ROW(A:A),""),ROW()-10)))} -> 9H-5J | I13: {=IF(ROW()-10>COUNTIF(MATRICE!A:A,$B$6),"",INDEX(MATRICE!I:I,SMALL(IF(MATRICE!A:A=$B$6,ROW(A:A),""),ROW()-10)))} -> PRATICA DI MARE | J13: {=IF(ROW()-10>COUNTIF(MATRICE!A:A,$B$6),"",INDEX(MATRICE!K:K,SMALL(IF(MATRICE!A:A=$B$6,ROW(A:A),""),ROW()-10)))} -> 42736 | K13: {=IF(ROW()-10>COUNTIF(MATRICE!A:A,$B$6),"",INDEX(MATRICE!L:L,SMALL(IF(MATRICE!A:A=$B$6,ROW(A:A),""),ROW()-10)))} -> 42916 | L13: {=IF(ROW()-10>COUNTIF(MATRICE!A:A,$B$6),"",INDEX(MATRICE!M:M,SMALL(IF(MATRICE!A:A=$B$6,ROW(A:A),""),ROW()-10)))} -> ITALY | M13: {=IF(ROW()-10>COUNTIF(MATRICE!A:A,$B$6),"",INDEX(MATRICE!P:P,SMALL(IF(MATRICE!A:A=$B$6,ROW(A:A),""),ROW()-10)))} -> SERVER
E14: {=IF(ROW()-10>COUNTIF(MATRICE!A:A,$B$6),"",INDEX(MATRICE!E:E,SMALL(IF(MATRICE!A:A=$B$6,ROW(A:A),""),ROW()-10)))} -> COMPAQ | F14: {=IF(ROW()-10>COUNTIF(MATRICE!A:A,$B$6),"",INDEX(MATRICE!F:F,SMALL(IF(MATRICE!A:A=$B$6,ROW(A:A),""),ROW()-10)))} -> HP D510 CMT P4 2.0GHz-845G-256 Mo-40 Go-CDS-Ethernet | G14: {=IF(ROW()-10>COUNTIF(MATRICE!A:A,$B$6),"",INDEX(MATRICE!N:N,SMALL(IF(MATRICE!A:A=$B$6,ROW(A:A),""),ROW()-10)))} -> 942981 | H14: {=IF(ROW()-10>COUNTIF(MATRICE!A:A,$B$6),"",INDEX(MATRICE!H:H,SMALL(IF(MATRICE!A:A=$B$6,ROW(A:A),""),ROW()-10)))} -> 9H-5J | I14: {=IF(ROW()-10>COUNTIF(MATRICE!A:A,$B$6),"",INDEX(MATRICE!I:I,SMALL(IF(MATRICE!A:A=$B$6,ROW(A:A),""),ROW()-10)))} -> PRATICA DI MARE | J14: {=IF(ROW()-10>COUNTIF(MATRICE!A:A,$B$6),"",INDEX(MATRICE!K:K,SMALL(IF(MATRICE!A:A=$B$6,ROW(A:A),""),ROW()-10)))} -> 42736 | K14: {=IF(ROW()-10>COUNTIF(MATRICE!A:A,$B$6),"",INDEX(MATRICE!L:L,SMALL(IF(MATRICE!A:A=$B$6,ROW(A:A),""),ROW()-10)))} -> 42916 | L14: {=IF(ROW()-10>COUNTIF(MATRICE!A:A,$B$6),"",INDEX(MATRICE!M:M,SMALL(IF(MATRICE!A:A=$B$6,ROW(A:A),""),ROW()-10)))} -> ITALY | M14: {=IF(ROW()-10>COUNTIF(MATRICE!A:A,$B$6),"",INDEX(MATRICE!P:P,SMALL(IF(MATRICE!A:A=$B$6,ROW(A:A),""),ROW()-10)))} -> SERVER
E15: {=IF(ROW()-10>COUNTIF(MATRICE!A:A,$B$6),"",INDEX(MATRICE!E:E,SMALL(IF(MATRICE!A:A=$B$6,ROW(A:A),""),ROW()-10)))} -> COMPAQ | F15: {=IF(ROW()-10>COUNTIF(MATRICE!A:A,$B$6),"",INDEX(MATRICE!F:F,SMALL(IF(MATRICE!A:A=$B$6,ROW(A:A),""),ROW()-10)))} -> HP D510 CMT P4 2.0GHz-845G-256 Mo-40 Go-CDS-Ethernet | G15: {=IF(ROW()-10>COUNTIF(MATRICE!A:A,$B$6),"",INDEX(MATRICE!N:N,SMALL(IF(MATRICE!A:A=$B$6,ROW(A:A),""),ROW()-10)))} -> 942982 | H15: {=IF(ROW()-10>COUNTIF(MATRICE!A:A,$B$6),"",INDEX(MATRICE!H:H,SMALL(IF(MATRICE!A:A=$B$6,ROW(A:A),""),ROW()-10)))} -> 9H-5J | I15: {=IF(ROW()-10>COUNTIF(MATRICE!A:A,$B$6),"",INDEX(MATRICE!I:I,SMALL(IF(MATRICE!A:A=$B$6,ROW(A:A),""),ROW()-10)))} -> PRATICA DI MARE | J15: {=IF(ROW()-10>COUNTIF(MATRICE!A:A,$B$6),"",INDEX(MATRICE!K:K,SMALL(IF(MATRICE!A:A=$B$6,ROW(A:A),""),ROW()-10)))} -> 42736 | K15: {=IF(ROW()-10>COUNTIF(MATRICE!A:A,$B$6),"",INDEX(MATRICE!L:L,SMALL(IF(MATRICE!A:A=$B$6,ROW(A:A),""),ROW()-10)))} -> 42916 | L15: {=IF(ROW()-10>COUNTIF(MATRICE!A:A,$B$6),"",INDEX(MATRICE!M:M,SMALL(IF(MATRICE!A:A=$B$6,ROW(A:A),""),ROW()-10)))} -> ITALY | M15: {=IF(ROW()-10>COUNTIF(MATRICE!A:A,$B$6),"",INDEX(MATRICE!P:P,SMALL(IF(MATRICE!A:A=$B$6,ROW(A:A),""),ROW()-10)))} -> SERVER
E16: {=IF(ROW()-10>COUNTIF(MATRICE!A:A,$B$6),"",INDEX(MATRICE!E:E,SMALL(IF(MATRICE!A:A=$B$6,ROW(A:A),""),ROW()-10)))} -> COMPAQ | F16: {=IF(ROW()-10>COUNTIF(MATRICE!A:A,$B$6),"",INDEX(MATRICE!F:F,SMALL(IF(MATRICE!A:A=$B$6,ROW(A:A),""),ROW()-10)))} -> Deskpro EN PIII/1GHz | G16: {=IF(ROW()-10>COUNTIF(MATRICE!A:A,$B$6),"",INDEX(MATRICE!N:N,SMALL(IF(MATRICE!A:A=$B$6,ROW(A:A),""),ROW()-10)))} -> 942987 | H16: {=IF(ROW()-10>COUNTIF(MATRICE!A:A,$B$6),"",INDEX(MATRICE!H:H,SMALL(IF(MATRICE!A:A=$B$6,ROW(A:A),""),ROW()-10)))} -> 9H-5J | I16: {=IF(ROW()-10>COUNTIF(MATRICE!A:A,$B$6),"",INDEX(MATRICE!I:I,SMALL(IF(MATRICE!A:A=$B$6,ROW(A:A),""),ROW()-10)))} -> PRATICA DI MARE | J16: {=IF(ROW()-10>COUNTIF(MATRICE!A:A,$B$6),"",INDEX(MATRICE!K:K,SMALL(IF(MATRICE!A:A=$B$6,ROW(A:A),""),ROW()-10)))} -> 42736 | K16: {=IF(ROW()-10>COUNTIF(MATRICE!A:A,$B$6),"",INDEX(MATRICE!L:L,SMALL(IF(MATRICE!A:A=$B$6,ROW(A:A),""),ROW()-10)))} -> 42916 | L16: {=IF(ROW()-10>COUNTIF(MATRICE!A:A,$B$6),"",INDEX(MATRICE!M:M,SMALL(IF(MATRICE!A:A=$B$6,ROW(A:A),""),ROW()-10)))} -> ITALY | M16: {=IF(ROW()-10>COUNTIF(MATRICE!A:A,$B$6),"",INDEX(MATRICE!P:P,SMALL(IF(MATRICE!A:A=$B$6,ROW(A:A),""),ROW()-10)))} -> SERVER
E17: {=IF(ROW()-10>COUNTIF(MATRICE!A:A,$B$6),"",INDEX(MATRICE!E:E,SMALL(IF(MATRICE!A:A=$B$6,ROW(A:A),""),ROW()-10)))} -> COMPAQ | F17: {=IF(ROW()-10>COUNTIF(MATRICE!A:A,$B$6),"",INDEX(MATRICE!F:F,SMALL(IF(MATRICE!A:A=$B$6,ROW(A:A),""),ROW()-10)))} -> Deskpro EN PIII/1GHz | G17: {=IF(ROW()-10>COUNTIF(MATRICE!A:A,$B$6),"",INDEX(MATRICE!N:N,SMALL(IF(MATRICE!A:A=$B$6,ROW(A:A),""),ROW()-10)))} -> 942988 | H17: {=IF(ROW()-10>COUNTIF(MATRICE!A:A,$B$6),"",INDEX(MATRICE!H:H,SMALL(IF(MATRICE!A:A=$B$6,ROW(A:A),""),ROW()-10)))} -> 9H-5J | I17: {=IF(ROW()-10>COUNTIF(MATRICE!A:A,$B$6),"",INDEX(MATRICE!I:I,SMALL(IF(MATRICE!A:A=$B$6,ROW(A:A),""),ROW()-10)))} -> PRATICA DI MARE | J17: {=IF(ROW()-10>COUNTIF(MATRICE!A:A,$B$6),"",INDEX(MATRICE!K:K,SMALL(IF(MATRICE!A:A=$B$6,ROW(A:A),""),ROW()-10)))} -> 42736 | K17: {=IF(ROW()-10>COUNTIF(MATRICE!A:A,$B$6),"",INDEX(MATRICE!L:L,SMALL(IF(MATRICE!A:A=$B$6,ROW(A:A),""),ROW()-10)))} -> 42916 | L17: {=IF(ROW()-10>COUNTIF(MATRICE!A:A,$B$6),"",INDEX(MATRICE!M:M,SMALL(IF(MATRICE!A:A=$B$6,ROW(A:A),""),ROW()-10)))} -> ITALY | M17: {=IF(ROW()-10>COUNTIF(MATRICE!A:A,$B$6),"",INDEX(MATRICE!P:P,SMALL(IF(MATRICE!A:A=$B$6,ROW(A:A),""),ROW()-10)))} -> SERVER
E18: {=IF(ROW()-10>COUNTIF(MATRICE!A:A,$B$6),"",INDEX(MATRICE!E:E,SMALL(IF(MATRICE!A:A=$B$6,ROW(A:A),""),ROW()-10)))} -> COMPAQ | F18: {=IF(ROW()-10>COUNTIF(MATRICE!A:A,$B$6),"",INDEX(MATRICE!F:F,SMALL(IF(MATRICE!A:A=$B$6,ROW(A:A),""),ROW()-10)))} -> Deskpro EN PIII/1GHz | G18: {=IF(ROW()-10>COUNTIF(MATRICE!A:A,$B$6),"",INDEX(MATRICE!N:N,SMALL(IF(MATRICE!A:A=$B$6,ROW(A:A),""),ROW()-10)))} -> 942989 | H18: {=IF(ROW()-10>COUNTIF(MATRICE!A:A,$B$6),"",INDEX(MATRICE!H:H,SMALL(IF(MATRICE!A:A=$B$6,ROW(A:A),""),ROW()-10)))} -> 9H-5J | I18: {=IF(ROW()-10>COUNTIF(MATRICE!A:A,$B$6),"",INDEX(MATRICE!I:I,SMALL(IF(MATRICE!A:A=$B$6,ROW(A:A),""),ROW()-10)))} -> PRATICA DI MARE | J18: {=IF(ROW()-10>COUNTIF(MATRICE!A:A,$B$6),"",INDEX(MATRICE!K:K,SMALL(IF(MATRICE!A:A=$B$6,ROW(A:A),""),ROW()-10)))} -> 42736 | K18: {=IF(ROW()-10>COUNTIF(MATRICE!A:A,$B$6),"",INDEX(MATRICE!L:L,SMALL(IF(MATRICE!A:A=$B$6,ROW(A:A),""),ROW()-10)))} -> 42916 | L18: {=IF(ROW()-10>COUNTIF(MATRICE!A:A,$B$6),"",INDEX(MATRICE!M:M,SMALL(IF(MATRICE!A:A=$B$6,ROW(A:A),""),ROW()-10)))} -> ITALY | M18: {=IF(ROW()-10>COUNTIF(MATRICE!A:A,$B$6),"",INDEX(MATRICE!P:P,SMALL(IF(MATRICE!A:A=$B$6,ROW(A:A),""),ROW()-10)))} -> SERVER
E19: {=IF(ROW()-10>COUNTIF(MATRICE!A:A,$B$6),"",INDEX(MATRICE!E:E,SMALL(IF(MATRICE!A:A=$B$6,ROW(A:A),""),ROW()-10)))} -> COMPAQ | F19: {=IF(ROW()-10>COUNTIF(MATRICE!A:A,$B$6),"",INDEX(MATRICE!F:F,SMALL(IF(MATRICE!A:A=$B$6,ROW(A:A),""),ROW()-10)))} -> Deskpro EN PIII/1GHz - 815E - 128 Mo - 20 Go - CDS 48X | G19: {=IF(ROW()-10>COUNTIF(MATRICE!A:A,$B$6),"",INDEX(MATRICE!N:N,SMALL(IF(MATRICE!A:A=$B$6,ROW(A:A),""),ROW()-10)))} -> 942990 | H19: {=IF(ROW()-10>COUNTIF(MATRICE!A:A,$B$6),"",INDEX(MATRICE!H:H,SMALL(IF(MATRICE!A:A=$B$6,ROW(A:A),""),ROW()-10)))} -> 9H-5J | I19: {=IF(ROW()-10>COUNTIF(MATRICE!A:A,$B$6),"",INDEX(MATRICE!I:I,SMALL(IF(MATRICE!A:A=$B$6,ROW(A:A),""),ROW()-10)))} -> PRATICA DI MARE | J19: {=IF(ROW()-10>COUNTIF(MATRICE!A:A,$B$6),"",INDEX(MATRICE!K:K,SMALL(IF(MATRICE!A:A=$B$6,ROW(A:A),""),ROW()-10)))} -> 42736 | K19: {=IF(ROW()-10>COUNTIF(MATRICE!A:A,$B$6),"",INDEX(MATRICE!L:L,SMALL(IF(MATRICE!A:A=$B$6,ROW(A:A),""),ROW()-10)))} -> 42916 | L19: {=IF(ROW()-10>COUNTIF(MATRICE!A:A,$B$6),"",INDEX(MATRICE!M:M,SMALL(IF(MATRICE!A:A=$B$6,ROW(A:A),""),ROW()-10)))} -> ITALY | M19: {=IF(ROW()-10>COUNTIF(MATRICE!A:A,$B$6),"",INDEX(MATRICE!P:P,SMALL(IF(MATRICE!A:A=$B$6,ROW(A:A),""),ROW()-10)))} -> SERVER
E20: {=IF(ROW()-10>COUNTIF(MATRICE!A:A,$B$6),"",INDEX(MATRICE!E:E,SMALL(IF(MATRICE!A:A=$B$6,ROW(A:A),""),ROW()-10)))} -> COMPAQ | F20: {=IF(ROW()-10>COUNTIF(MATRICE!A:A,$B$6),"",INDEX(MATRICE!F:F,SMALL(IF(MATRICE!A:A=$B$6,ROW(A:A),""),ROW()-10)))} -> Deskpro EN PIII/1GHz | G20: {=IF(ROW()-10>COUNTIF(MATRICE!A:A,$B$6),"",INDEX(MATRICE!N:N,SMALL(IF(MATRICE!A:A=$B$6,ROW(A:A),""),ROW()-10)))} -> 942991 | H20: {=IF(ROW()-10>COUNTIF(MATRICE!A:A,$B$6),"",INDEX(MATRICE!H:H,SMALL(IF(MATRICE!A:A=$B$6,ROW(A:A),""),ROW()-10)))} -> 9H-5J | I20: {=IF(ROW()-10>COUNTIF(MATRICE!A:A,$B$6),"",INDEX(MATRICE!I:I,SMALL(IF(MATRICE!A:A=$B$6,ROW(A:A),""),ROW()-10)))} -> PRATICA DI MARE | J20: {=IF(ROW()-10>COUNTIF(MATRICE!A:A,$B$6),"",INDEX(MATRICE!K:K,SMALL(IF(MATRICE!A:A=$B$6,ROW(A:A),""),ROW()-10)))} -> 42736 | K20: {=IF(ROW()-10>COUNTIF(MATRICE!A:A,$B$6),"",INDEX(MATRICE!L:L,SMALL(IF(MATRICE!A:A=$B$6,ROW(A:A),""),ROW()-10)))} -> 42916 | L20: {=IF(ROW()-10>COUNTIF(MATRICE!A:A,$B$6),"",INDEX(MATRICE!M:M,SMALL(IF(MATRICE!A:A=$B$6,ROW(A:A),""),ROW()-10)))} -> ITALY | M20: {=IF(ROW()-10>COUNTIF(MATRICE!A:A,$B$6),"",INDEX(MATRICE!P:P,SMALL(IF(MATRICE!A:A=$B$6,ROW(A:A),""),ROW()-10)))} -> SERVER
E21: {=IF(ROW()-10>COUNTIF(MATRICE!A:A,$B$6),"",INDEX(MATRICE!E:E,SMALL(IF(MATRICE!A:A=$B$6,ROW(A:A),""),ROW()-10)))} -> DIGITAL | F21: {=IF(ROW()-10>COUNTIF(MATRICE!A:A,$B$6),"",INDEX(MATRICE!F:F,SMALL(IF(MATRICE!A:A=$B$6,ROW(A:A),""),ROW()-10)))} -> AlphaServer Proc. SMP 667 Mhz,Tru64 UNIX,license SMP Tru64 Unix | G21: {=IF(ROW()-10>COUNTIF(MATRICE!A:A,$B$6),"",INDEX(MATRICE!N:N,SMALL(IF(MATRICE!A:A=$B$6,ROW(A:A),""),ROW()-10)))} -> 942860 | H21: {=IF(ROW()-10>COUNTIF(MATRICE!A:A,$B$6),"",INDEX(MATRICE!H:H,SMALL(IF(MATRICE!A:A=$B$6,ROW(A:A),""),ROW()-10)))} -> 9H-5J | I21: {=IF(ROW()-10>COUNTIF(MATRICE!A:A,$B$6),"",INDEX(MATRICE!I:I,SMALL(IF(MATRICE!A:A=$B$6,ROW(A:A),""),ROW()-10)))} -> PRATICA DI MARE | J21: {=IF(ROW()-10>COUNTIF(MATRICE!A:A,$B$6),"",INDEX(MATRICE!K:K,SMALL(IF(MATRICE!A:A=$B$6,ROW(A:A),""),ROW()-10)))} -> 42736 | K21: {=IF(ROW()-10>COUNTIF(MATRICE!A:A,$B$6),"",INDEX(MATRICE!L:L,SMALL(IF(MATRICE!A:A=$B$6,ROW(A:A),""),ROW()-10)))} -> 42916 | L21: {=IF(ROW()-10>COUNTIF(MATRICE!A:A,$B$6),"",INDEX(MATRICE!M:M,SMALL(IF(MATRICE!A:A=$B$6,ROW(A:A),""),ROW()-10)))} -> ITALY | M21: {=IF(ROW()-10>COUNTIF(MATRICE!A:A,$B$6),"",INDEX(MATRICE!P:P,SMALL(IF(MATRICE!A:A=$B$6,ROW(A:A),""),ROW()-10)))} -> STORAGE
E22: {=IF(ROW()-10>COUNTIF(MATRICE!A:A,$B$6),"",INDEX(MATRICE!E:E,SMALL(IF(MATRICE!A:A=$B$6,ROW(A:A),""),ROW()-10)))} -> DIGITAL | F22: {=IF(ROW()-10>COUNTIF(MATRICE!A:A,$B$6),"",INDEX(MATRICE!F:F,SMALL(IF(MATRICE!A:A=$B$6,ROW(A:A),""),ROW()-10)))} -> AlphaServer DS10/XP900 6/466, 512 Mo, Tru64 UNIX | G22: {=IF(ROW()-10>COUNTIF(MATRICE!A:A,$B$6),"",INDEX(MATRICE!N:N,SMALL(IF(MATRICE!A:A=$B$6,ROW(A:A),""),ROW()-10)))} -> 942992 | H22: {=IF(ROW()-10>COUNTIF(MATRICE!A:A,$B$6),"",INDEX(MATRICE!H:H,SMALL(IF(MATRICE!A:A=$B$6,ROW(A:A),""),ROW()-10)))} -> 9H-5J | I22: {=IF(ROW()-10>COUNTIF(MATRICE!A:A,$B$6),"",INDEX(MATRICE!I:I,SMALL(IF(MATRICE!A:A=$B$6,ROW(A:A),""),ROW()-10)))} -> PRATICA DI MARE | J22: {=IF(ROW()-10>COUNTIF(MATRICE!A:A,$B$6),"",INDEX(MATRICE!K:K,SMALL(IF(MATRICE!A:A=$B$6,ROW(A:A),""),ROW()-10)))} -> 42736 | K22: {=IF(ROW()-10>COUNTIF(MATRICE!A:A,$B$6),"",INDEX(MATRICE!L:L,SMALL(IF(MATRICE!A:A=$B$6,ROW(A:A),""),ROW()-10)))} -> 42916 | L22: {=IF(ROW()-10>COUNTIF(MATRICE!A:A,$B$6),"",INDEX(MATRICE!M:M,SMALL(IF(MATRICE!A:A=$B$6,ROW(A:A),""),ROW()-10)))} -> ITALY | M22: {=IF(ROW()-10>COUNTIF(MATRICE!A:A,$B$6),"",INDEX(MATRICE!P:P,SMALL(IF(MATRICE!A:A=$B$6,ROW(A:A),""),ROW()-10)))} -> SERVER
E23: {=IF(ROW()-10>COUNTIF(MATRICE!A:A,$B$6),"",INDEX(MATRICE!E:E,SMALL(IF(MATRICE!A:A=$B$6,ROW(A:A),""),ROW()-10)))} -> DIGITAL | F23: {=IF(ROW()-10>COUNTIF(MATRICE!A:A,$B$6),"",INDEX(MATRICE!F:F,SMALL(IF(MATRICE!A:A=$B$6,ROW(A:A),""),ROW()-10)))} -> AlphaServer DS20E 67/667 Tru64 UNIX 512Mo/8Mo | G23: {=IF(ROW()-10>COUNTIF(MATRICE!A:A,$B$6),"",INDEX(MATRICE!N:N,SMALL(IF(MATRICE!A:A=$B$6,ROW(A:A),""),ROW()-10)))} -> 942993 | H23: {=IF(ROW()-10>COUNTIF(MATRICE!A:A,$B$6),"",INDEX(MATRICE!H:H,SMALL(IF(MATRICE!A:A=$B$6,ROW(A:A),""),ROW()-10)))} -> 9H-5J | I23: {=IF(ROW()-10>COUNTIF(MATRICE!A:A,$B$6),"",INDEX(MATRICE!I:I,SMALL(IF(MATRICE!A:A=$B$6,ROW(A:A),""),ROW()-10)))} -> PRATICA DI MARE | J23: {=IF(ROW()-10>COUNTIF(MATRICE!A:A,$B$6),"",INDEX(MATRICE!K:K,SMALL(IF(MATRICE!A:A=$B$6,ROW(A:A),""),ROW()-10)))} -> 42736 | K23: {=IF(ROW()-10>COUNTIF(MATRICE!A:A,$B$6),"",INDEX(MATRICE!L:L,SMALL(IF(MATRICE!A:A=$B$6,ROW(A:A),""),ROW()-10)))} -> 42916 | L23: {=IF(ROW()-10>COUNTIF(MATRICE!A:A,$B$6),"",INDEX(MATRICE!M:M,SMALL(IF(MATRICE!A:A=$B$6,ROW(A:A),""),ROW()-10)))} -> ITALY | M23: {=IF(ROW()-10>COUNTIF(MATRICE!A:A,$B$6),"",INDEX(MATRICE!P:P,SMALL(IF(MATRICE!A:A=$B$6,ROW(A:A),""),ROW()-10)))} -> SERVER
... E40: {=IF(ROW()-10>COUNTIF(MATRICE!A:A,$B$6),"",INDEX(MATRICE!E:E,SMALL(IF(MATRICE!A:A=$B$6,ROW(A:A),""),ROW()-10)))} -> HP | F40: {=IF(ROW()-10>COUNTIF(MATRICE!A:A,$B$6),"",INDEX(MATRICE!F:F,SMALL(IF(MATRICE!A:A=$B$6,ROW(A:A),""),ROW()-10)))} -> HP BLc7000 CTO 3 IN LCD ROHS | G40: {=IF(ROW()-10>COUNTIF(MATRICE!A:A,$B$6),"",INDEX(MATRICE!N:N,SMALL(IF(MATRICE!A:A=$B$6,ROW(A:A),""),ROW()-10)))} -> 942868 | H40: {=IF(ROW()-10>COUNTIF(MATRICE!A:A,$B$6),"",INDEX(MATRICE!H:H,SMALL(IF(MATRICE!A:A=$B$6,ROW(A:A),""),ROW()-10)))} -> 9H-5J | I40: {=IF(ROW()-10>COUNTIF(MATRICE!A:A,$B$6),"",INDEX(MATRICE!I:I,SMALL(IF(MATRICE!A:A=$B$6,ROW(A:A),""),ROW()-10)))} -> PRATICA DI MARE | J40: {=IF(ROW()-10>COUNTIF(MATRICE!A:A,$B$6),"",INDEX(MATRICE!K:K,SMALL(IF(MATRICE!A:A=$B$6,ROW(A:A),""),ROW()-10)))} -> 42736 | K40: {=IF(ROW()-10>COUNTIF(MATRICE!A:A,$B$6),"",INDEX(MATRICE!L:L,SMALL(IF(MATRICE!A:A=$B$6,ROW(A:A),""),ROW()-10)))} -> 42916 | L40: {=IF(ROW()-10>COUNTIF(MATRICE!A:A,$B$6),"",INDEX(MATRICE!M:M,SMALL(IF(MATRICE!A:A=$B$6,ROW(A:A),""),ROW()-10)))} -> ITALY | M40: {=IF(ROW()-10>COUNTIF(MATRICE!A:A,$B$6),"",INDEX(MATRICE!P:P,SMALL(IF(MATRICE!A:A=$B$6,ROW(A:A),""),ROW()-10)))} -> SERVER
E41: {=IF(ROW()-10>COUNTIF(MATRICE!A:A,$B$6),"",INDEX(MATRICE!E:E,SMALL(IF(MATRICE!A:A=$B$6,ROW(A:A),""),ROW()-10)))} | F41: {=IF(ROW()-10>COUNTIF(MATRICE!A:A,$B$6),"",INDEX(MATRICE!F:F,SMALL(IF(MATRICE!A:A=$B$6,ROW(A:A),""),ROW()-10)))}
E42: {=IF(ROW()-10>COUNTIF(MATRICE!A:A,$B$6),"",INDEX(MATRICE!E:E,SMALL(IF(MATRICE!A:A=$B$6,ROW(A:A),""),ROW()-10)))} | F42: {=IF(ROW()-10>COUNTIF(MATRICE!A:A,$B$6),"",INDEX(MATRICE!F:F,SMALL(IF(MATRICE!A:A=$B$6,ROW(A:A),""),ROW()-10)))}
E43: {=IF(ROW()-10>COUNTIF(MATRICE!A:A,$B$6),"",INDEX(MATRICE!E:E,SMALL(IF(MATRICE!A:A=$B$6,ROW(A:A),""),ROW()-10)))} | F43: {=IF(ROW()-10>COUNTIF(MATRICE!A:A,$B$6),"",INDEX(MATRICE!F:F,SMALL(IF(MATRICE!A:A=$B$6,ROW(A:A),""),ROW()-10)))}
E44: {=IF(ROW()-10>COUNTIF(MATRICE!A:A,$B$6),"",INDEX(MATRICE!E:E,SMALL(IF(MATRICE!A:A=$B$6,ROW(A:A),""),ROW()-10)))} | F44: {=IF(ROW()-10>COUNTIF(MATRICE!A:A,$B$6),"",INDEX(MATRICE!F:F,SMALL(IF(MATRICE!A:A=$B$6,ROW(A:A),""),ROW()-10)))}
E45: {=IF(ROW()-10>COUNTIF(MATRICE!A:A,$B$6),"",INDEX(MATRICE!E:E,SMALL(IF(MATRICE!A:A=$B$6,ROW(A:A),""),ROW()-10)))} | F45: {=IF(ROW()-10>COUNTIF(MATRICE!A:A,$B$6),"",INDEX(MATRICE!F:F,SMALL(IF(MATRICE!A:A=$B$6,ROW(A:A),""),ROW()-10)))}
E46: {=IF(ROW()-10>COUNTIF(MATRICE!A:A,$B$6),"",INDEX(MATRICE!E:E,SMALL(IF(MATRICE!A:A=$B$6,ROW(A:A),""),ROW()-10)))} | F46: {=IF(ROW()-10>COUNTIF(MATRICE!A:A,$B$6),"",INDEX(MATRICE!F:F,SMALL(IF(MATRICE!A:A=$B$6,ROW(A:A),""),ROW()-10)))}
E47: {=IF(ROW()-10>COUNTIF(MATRICE!A:A,$B$6),"",INDEX(MATRICE!E:E,SMALL(IF(MATRICE!A:A=$B$6,ROW(A:A),""),ROW()-10)))} | F47: {=IF(ROW()-10>COUNTIF(MATRICE!A:A,$B$6),"",INDEX(MATRICE!F:F,SMALL(IF(MATRICE!A:A=$B$6,ROW(A:A),""),ROW()-10)))}
E48: {=IF(ROW()-10>COUNTIF(MATRICE!A:A,$B$6),"",INDEX(MATRICE!E:E,SMALL(IF(MATRICE!A:A=$B$6,ROW(A:A),""),ROW()-10)))} | F48: {=IF(ROW()-10>COUNTIF(MATRICE!A:A,$B$6),"",INDEX(MATRICE!F:F,SMALL(IF(MATRICE!A:A=$B$6,ROW(A:A),""),ROW()-10)))}
E49: {=IF(ROW()-10>COUNTIF(MATRICE!A:A,$B$6),"",INDEX(MATRICE!E:E,SMALL(IF(MATRICE!A:A=$B$6,ROW(A:A),""),ROW()-10)))} | F49: {=IF(ROW()-10>COUNTIF(MATRICE!A:A,$B$6),"",INDEX(MATRICE!F:F,SMALL(IF(MATRICE!A:A=$B$6,ROW(A:A),""),ROW()-10)))}
E50: {=IF(ROW()-10>COUNTIF(MATRICE!A:A,$B$6),"",INDEX(MATRICE!E:E,SMALL(IF(MATRICE!A:A=$B$6,ROW(A:A),""),ROW()-10)))} | F50: {=IF(ROW()-10>COUNTIF(MATRICE!A:A,$B$6),"",INDEX(MATRICE!F:F,SMALL(IF(MATRICE!A:A=$B$6,ROW(A:A),""),ROW()-10)))}
E51: {=IF(ROW()-10>COUNTIF(MATRICE!A:A,$B$6),"",INDEX(MATRICE!E:E,SMALL(IF(MATRICE!A:A=$B$6,ROW(A:A),""),ROW()-10)))} | F51: {=IF(ROW()-10>COUNTIF(MATRICE!A:A,$B$6),"",INDEX(MATRICE!F:F,SMALL(IF(MATRICE!A:A=$B$6,ROW(A:A),""),ROW()-10)))}
E52: {=IF(ROW()-10>COUNTIF(MATRICE!A:A,$B$6),"",INDEX(MATRICE!E:E,SMALL(IF(MATRICE!A:A=$B$6,ROW(A:A),""),ROW()-10)))} | F52: {=IF(ROW()-10>COUNTIF(MATRICE!A:A,$B$6),"",INDEX(MATRICE!F:F,SMALL(IF(MATRICE!A:A=$B$6,ROW(A:A),""),ROW()-10)))}
... E221: {=IF(ROW()-10>COUNTIF(MATRICE!A:A,$B$6),"",INDEX(MATRICE!E:E,SMALL(IF(MATRICE!A:A=$B$6,ROW(A:A),""),ROW()-10)))} | F221: {=IF(ROW()-10>COUNTIF(MATRICE!A:A,$B$6),"",INDEX(MATRICE!F:F,SMALL(IF(MATRICE!A:A=$B$6,ROW(A:A),""),ROW()-10)))}
E222: {=IF(ROW()-10>COUNTIF(MATRICE!A:A,$B$6),"",INDEX(MATRICE!E:E,SMALL(IF(MATRICE!A:A=$B$6,ROW(A:A),""),ROW()-10)))}
E223: {=IF(ROW()-10>COUNTIF(MATRICE!A:A,$B$6),"",INDEX(MATRICE!E:E,SMALL(IF(MATRICE!A:A=$B$6,ROW(A:A),""),ROW()-10)))}
E224: {=IF(ROW()-10>COUNTIF(MATRICE!A:A,$B$6),"",INDEX(MATRICE!E:E,SMALL(IF(MATRICE!A:A=$B$6,ROW(A:A),""),ROW()-10)))}
E225: {=IF(ROW()-10>COUNTIF(MATRICE!A:A,$B$6),"",INDEX(MATRICE!E:E,SMALL(IF(MATRICE!A:A=$B$6,ROW(A:A),""),ROW()-10)))}
E226: {=IF(ROW()-10>COUNTIF(MATRICE!A:A,$B$6),"",INDEX(MATRICE!E:E,SMALL(IF(MATRICE!A:A=$B$6,ROW(A:A),""),ROW()-10)))}
E227: {=IF(ROW()-10>COUNTIF(MATRICE!A:A,$B$6),"",INDEX(MATRICE!E:E,SMALL(IF(MATRICE!A:A=$B$6,ROW(A:A),""),ROW()-10)))}
E228: {=IF(ROW()-10>COUNTIF(MATRICE!A:A,$B$6),"",INDEX(MATRICE!E:E,SMALL(IF(MATRICE!A:A=$B$6,ROW(A:A),""),ROW()-10)))}
E229: {=IF(ROW()-10>COUNTIF(MATRICE!A:A,$B$6),"",INDEX(MATRICE!E:E,SMALL(IF(MATRICE!A:A=$B$6,ROW(A:A),""),ROW()-10)))}
E230: {=IF(ROW()-10>COUNTIF(MATRICE!A:A,$B$6),"",INDEX(MATRICE!E:E,SMALL(IF(MATRICE!A:A=$B$6,ROW(A:A),""),ROW()-10)))}
E231: {=IF(ROW()-10>COUNTIF(MATRICE!A:A,$B$6),"",INDEX(MATRICE!E:E,SMALL(IF(MATRICE!A:A=$B$6,ROW(A:A),""),ROW()-10)))}
E232: {=IF(ROW()-10>COUNTIF(MATRICE!A:A,$B$6),"",INDEX(MATRICE!E:E,SMALL(IF(MATRICE!A:A=$B$6,ROW(A:A),""),ROW()-10)))}
...
