Workbook

Sheet MATRICE
A1: CM100310-0063-07 | C1: ACTIF | D1: 1 | E1: CISCO | F1: WS-3750X-48T | G1: NA | H1: GTI H+4 24/7 | I1: Oxya - Emerainville | J1: OK | K1: 42430 | L1: 42794 | M1: FRANCE | N1: 747244 | O1: 11630
A2: CM100310-0063-07 | C2: ACTIF | D2: 1 | E2: HP | F2: HP DL380 G7 | G2: CZ2039FBGV | H2: GTI H+4 24/7 | I2: Siège - Haussman | J2: OK | K2: 42430 | L2: 42794 | M2: FRANCE | N2: 747218 | O2: 11630
A3: CM100310-0063-07 | C3: ACTIF | D3: 1 | E3: HP | F3: HP DL380G5 5160 2G EU Svr | G3: CZC7441HCB | H3: GTI H+4 24/7 | I3: Oxya - Emerainville | J3: OK | K3: 42430 | L3: 42794 | M3: FRANCE | N3: 747214 | O3: 11630
A4: CM100310-0063-07 | C4: ACTIF | D4: 1 | E4: HP | F4: HP DL380G5 5160 2G EU Svr | G4: CZC74521B6 | H4: GTI H+4 24/7 | I4: Oxya - Emerainville | J4: OK | K4: 42430 | L4: 42794 | M4: FRANCE | N4: 747215 | O4: 11630
A5: CM100310-0063-07 | C5: ACTIF | D5: 1 | E5: HP | F5: HP DL380G5 5160 2G EU Svr | G5: CZC74522Y3 | H5: GTI H+4 24/7 | I5: Oxya - Emerainville | J5: OK | K5: 42430 | L5: 42794 | M5: FRANCE | N5: 747212 | O5: 11630
A6: CM100310-0063-07 | C6: ACTIF | D6: 1 | E6: HP | F6: HP DL380G5 5160 2G EU Svr | G6: CZC74523GG | H6: GTI H+4 24/7 | I6: Oxya - Emerainville | J6: OK | K6: 42430 | L6: 42794 | M6: FRANCE | N6: 747211 | O6: 11630
A7: CM100310-0063-07 | C7: ACTIF | D7: 1 | E7: HP | F7: HP DL380G5 5160 2G EU Svr | G7: CZC74523H2 | H7: GTI H+4 24/7 | I7: Siège - Haussmann | J7: OK | K7: 42430 | L7: 42794 | M7: FRANCE | N7: 747213 | O7: 11630
A8: CM100310-0063-07 | C8: ACTIF | D8: 1 | E8: HP | F8: HP Proliant DL 360 G5 | G8: CZC841A57H | H8: GTI H+4 24/7 | I8: ? | J8: OK | K8: 42430 | L8: 42794 | M8: FRANCE | N8: 747220 | O8: 11630
A9: CM100310-0063-07 | C9: ACTIF | D9: 1 | E9: HP | F9: HP DL370 G6 | G9: CZJ11801QK | H9: GTI H+4 24/7 | I9: Oxya - Emerainville | J9: OK | K9: 42430 | L9: 42794 | M9: FRANCE | N9: 747245 | O9: 11630
A10: CM100310-0063-07 | C10: ACTIF | D10: 1 | E10: HP | F10: HP DL370 G6 | G10: CZJ11809BP | H10: GTI H+4 24/7 | I10: Oxya - Emerainville | J10: OK | K10: 42430 | L10: 42794 | M10: FRANCE | N10: 747246 | O10: 11630
A11: CM100310-0063-07 | C11: ACTIF | D11: 1 | E11: HP | F11: HP DL370 G6 | G11: CZJ11809CB | H11: GTI H+4 24/7 | I11: Oxya - Emerainville | J11: OK | K11: 42430 | L11: 42794 | M11: FRANCE | N11: 747219 | O11: 11630
A12: CM100310-0063-07 | C12: ACTIF | D12: 1 | E12: HP | F12: ProLiant ML350 G4 | G12: DEH63401JT | H12: GTI H+4 24/7 | I12: Siège - Haussman | J12: OK | K12: 42430 | L12: 42794 | M12: FRANCE | N12: 747217 | O12: 11630
... A15: CM100310-0063-07 | C15: ACTIF | D15: 1 | E15: HP | F15: DL380R04 X3.4/800-2M EURO | G15: GB8648X5N7 | H15: GTI H+4 24/7 | I15: Oxya - Emerainville | J15: OK | K15: 42430 | L15: 42794 | M15: FRANCE | N15: 747210 | O15: 11630
A16: CM100310-0063-08 | C16: ACTIF | D16: 1 | E16: CISCO | F16: WS-C3750X-24P-SC3KX-NM-1G-RGC3KXPWR-715WAC | G16: FDO1449R10V | H16: GTI J+1 9*5/7 | I16: tbc | J16: OK | K16: 42430 | L16: 42794 | M16: FRANCE | N16: 758530 | O16: 11805 | P16: NETWORK
A17: CM100310-0063-08 | C17: ACTIF | D17: 1 | E17: CISCO | F17: WS-C3750X-24P-SC3KX-NM-1G-RGC3KXPWR-715WAC | G17: FDO1449Z0TU | H17: GTI J+1 9*5/7 | I17: tbc | J17: OK | K17: 42430 | L17: 42794 | M17: FRANCE | N17: 758531 | O17: 11805 | P17: NETWORK
A18: CM100310-0063-08 | C18: ACTIF | D18: 1 | E18: CISCO | F18: WS-C3750X-24P-SC3KX-NM-1G-RGC3KXPWR-715WAC | G18: FDO1449Z0TX | H18: GTI J+1 9*5/7 | I18: tbc | J18: OK | K18: 42430 | L18: 42794 | M18: FRANCE | N18: 758532 | O18: 11805 | P18: NETWORK
A19: CM100319-0075-13 | C19: EXPIRE | D19: 1 | E19: HP | F19: ProLiant DL360p G8 | G19: CZ3403YEV2 | H19: PLATINUM GTR 4H | I19: telecity / victor Hugo | J19: OK | K19: 42552 | L19: 42643 | M19: FRANCE | N19: 872121 | O19: 13235
A20: CM100319-0075-13 | C20: EXPIRE | D20: 1 | E20: HP | F20: ProLiant DL360p G8 | G20: CZ3403YEV4 | H20: PLATINUM GTR 4H | I20: telecity / victor Hugo | J20: OK | K20: 42552 | L20: 42643 | M20: FRANCE | N20: 872118 | O20: 13235
A21: CM100319-0075-13 | C21: EXPIRE | D21: 1 | E21: HP | F21: ProLiant DL360p G8 | G21: CZ3403YEV6 | H21: PLATINUM GTR 4H | I21: telecity / victor Hugo | J21: OK | K21: 42552 | L21: 42643 | M21: FRANCE | N21: 872119 | O21: 13235
A22: CM100319-0075-13 | C22: EXPIRE | D22: 1 | E22: HP | F22: ProLiant DL360p G8 | G22: CZ3403YEV8 | H22: PLATINUM GTR 4H | I22: telecity / victor Hugo | J22: OK | K22: 42552 | L22: 42643 | M22: FRANCE | N22: 872120 | O22: 13235
A23: CM100319-0075-13 | C23: EXPIRE | D23: 1 | E23: HP | F23: ProLiant DL360p G8 | G23: CZ3403YEWW | H23: PLATINUM GTR 4H | I23: telecity / victor Hugo | J23: OK | K23: 42552 | L23: 42643 | M23: FRANCE | N23: 872117 | O23: 13235
A24: CM100319-0075-13 | C24: EXPIRE | D24: 1 | E24: HP | F24: ProLiant DL360p G8 | G24: CZJ405037J | H24: PLATINUM GTR 4H | I24: telecity / condorcet | J24: OK | K24: 42552 | L24: 42643 | M24: FRANCE | N24: 872122 | O24: 13235
A25: CM100319-0075-13 | C25: EXPIRE | D25: 1 | E25: HP | F25: ProLiant DL360p G8 | G25: CZJ405037Q | H25: PLATINUM GTR 4H | I25: telecity / victor Hugo | J25: OK | K25: 42552 | L25: 42643 | M25: FRANCE | N25: 872124 | O25: 13235
A26: CM100319-0075-13 | C26: EXPIRE | D26: 1 | E26: HP | F26: ProLiant DL360p G8 | G26: CZJ405037R | H26: PLATINUM GTR 4H | I26: telecity / victor Hugo | J26: OK | K26: 42552 | L26: 42643 | M26: FRANCE | N26: 872125 | O26: 13235
A27: CM100319-0075-13 | C27: EXPIRE | D27: 1 | E27: HP | F27: ProLiant DL360p G8 | G27: CZJ4050422 | H27: PLATINUM GTR 4H | I27: telecity / condorcet | J27: OK | K27: 42552 | L27: 42643 | M27: FRANCE | N27: 872123 | O27: 13235
A28: CM100319-0075-13 | C28: EXPIRE | D28: 1 | E28: CISCO | F28: CISCO ASA 5510 | G28: JMX1231L2D4 | H28: PLATINUM | I28: ORLY | J28: OK | K28: 42552 | L28: 42643 | M28: FRANCE | N28: 871641 | O28: 13235
A29: CM100319-0075-13 | C29: EXPIRE | D29: 1 | E29: CISCO | F29: CISCO ASA 5510 | G29: JMX1235L23X | H29: PLATINUM | I29: ORLY | J29: OK | K29: 42552 | L29: 42643 | M29: FRANCE | N29: 871640 | O29: 13235
A30: CM100319-0075-13 | C30: EXPIRE | D30: 1 | E30: DELL | F30: LCD 17” & Keyboard & Touchpad | H30: PLATINUM | J30: OK | K30: 42552 | L30: 42643 | M30: FRANCE | N30: 872032 | O30: 13235
A31: CM100319-0075-13 | C31: EXPIRE | D31: 1 | E31: DELL | F31: PowerEdge 1950 | G31: 1S2H73J | H31: PLATINUM | I31: PARIS | J31: OK | K31: 42552 | L31: 42643 | M31: FRANCE | N31: 871594 | O31: 13235
A32: CM100319-0075-13 | C32: EXPIRE | D32: 1 | E32: DELL | F32: PowerEdge 1950 | G32: 3S2H73J | H32: PLATINUM | I32: PARIS | J32: OK | K32: 42552 | L32: 42643 | M32: FRANCE | N32: 871592 | O32: 13235
A33: CM100319-0075-13 | C33: EXPIRE | D33: 1 | E33: DELL | F33: PowerEdge 1950 | G33: 5JLDN3J | H33: GOLD | I33: MALAKOFF | J33: OK | K33: 42552 | L33: 42643 | M33: FRANCE | N33: 871597 | O33: 13235
A34: CM100319-0075-13 | C34: EXPIRE | D34: 1 | E34: DELL | F34: PowerEdge 1950 | G34: 6JLDN3J | H34: GOLD | I34: MALAKOFF | J34: OK | K34: 42552 | L34: 42643 | M34: FRANCE | N34: 871595 | O34: 13235
A35: CM100319-0075-13 | C35: EXPIRE | D35: 1 | E35: DELL | F35: OptiPlex 760 | G35: 75MZL4J | H35: GOLD | I35: Bièvres | J35: OK | K35: 42552 | L35: 42643 | M35: FRANCE | N35: 872254 | O35: 13235
A36: CM100319-0075-13 | C36: EXPIRE | D36: 1 | E36: DELL | F36: PowerEdge 1950 | G36: 7JLDN3J | H36: GOLD | I36: MALAKOFF | J36: OK | K36: 42552 | L36: 42643 | M36: FRANCE | N36: 871596 | O36: 13235
A37: CM100319-0075-13 | C37: EXPIRE | D37: 1 | E37: DELL | F37: Dell Optiplex 790 Desktop: | G37: 82FK95J | H37: PLATINUM | J37: OK | K37: 42552 | L37: 42643 | M37: FRANCE | N37: 872034 | O37: 13235
A38: CM100319-0075-13 | C38: EXPIRE | D38: 1 | E38: DELL | F38: OptiPlex 760 | G38: 85MZL4J | H38: GOLD | I38: Technopole SM1 | J38: OK | K38: 42552 | L38: 42643 | M38: FRANCE | N38: 872253 | O38: 13235
A39: CM100319-0075-13 | C39: EXPIRE | D39: 1 | E39: DELL | F39: Dell PowerEdge R710 Server | G39: 95GK95J | H39: PLATINUM | J39: OK | K39: 42552 | L39: 42643 | M39: FRANCE | N39: 872031 | O39: 13235
A40: CM100319-0075-13 | C40: EXPIRE | D40: 1 | E40: DELL | F40: PowerEdge R710 | G40: 95GK95J | H40: GOLD | I40: France, concession Eurotunnel, site de Coquelles (Calais) | J40: OK | K40: 42552 | L40: 42643 | M40: FRANCE | N40: 872244 | O40: 13235
A41: CM100319-0075-13 | C41: EXPIRE | D41: 1 | E41: DELL | F41: OptiPlex 760 | G41: BS0937UE0KF | H41: SILVER | I41: VALENTON | J41: OK | K41: 42552 | L41: 42643 | M41: FRANCE | N41: 871892 | O41: 13235
A42: CM100319-0075-13 | C42: EXPIRE | D42: 1 | E42: DELL | F42: OptiPlex 760 | G42: BS0937UE0KN | H42: SILVER | I42: TRAPPES | J42: OK | K42: 42552 | L42: 42643 | M42: FRANCE | N42: 871836 | O42: 13235
A43: CM100319-0075-13 | C43: EXPIRE | D43: 1 | E43: DELL | F43: OptiPlex 760 | G43: BS0937UE0KU | H43: SILVER | I43: BEZONS | J43: OK | K43: 42552 | L43: 42643 | M43: FRANCE | N43: 871855 | O43: 13235
A44: CM100319-0075-13 | C44: EXPIRE | D44: 1 | E44: DELL | F44: OptiPlex 760 | G44: BS0937UE0KV | H44: SILVER | I44: CHAMPLAN | J44: OK | K44: 42552 | L44: 42643 | M44: FRANCE | N44: 871889 | O44: 13235
A45: CM100319-0075-13 | C45: EXPIRE | D45: 1 | E45: DELL | F45: OptiPlex 760 | G45: BS0937UE0L1 | H45: SILVER | I45: NANTES | J45: OK | K45: 42552 | L45: 42643 | M45: FRANCE | N45: 871898 | O45: 13235
A46: CM100319-0075-13 | C46: EXPIRE | D46: 1 | E46: DELL | F46: OptiPlex 760 | G46: BS0937UE14Y | H46: SILVER | I46: AUBAGNE | J46: OK | K46: 42552 | L46: 42643 | M46: FRANCE | N46: 871900 | O46: 13235
A47: CM100319-0075-13 | C47: EXPIRE | D47: 1 | E47: DELL | F47: OptiPlex 760 | G47: BS0945UE10N | H47: SILVER | I47: MITRY MORY | J47: OK | K47: 42552 | L47: 42643 | M47: FRANCE | N47: 871895 | O47: 13235
A48: CM100319-0075-13 | C48: EXPIRE | D48: 1 | E48: DELL | F48: OptiPlex 760 | G48: BS1007UE2HW | H48: SILVER | I48: LA DEFENSE | J48: OK | K48: 42552 | L48: 42643 | M48: FRANCE | N48: 872070 | O48: 13235
A49: CM100319-0075-13 | C49: EXPIRE | D49: 1 | E49: DELL | F49: OptiPlex 760 | G49: BS1007UE2J0 | H49: SILVER | I49: LYON BRON | J49: OK | K49: 42552 | L49: 42643 | M49: FRANCE | N49: 872073 | O49: 13235
A50: CM100319-0075-13 | C50: EXPIRE | D50: 1 | E50: DELL | F50: OptiPlex 760 | G50: BS1007UE2J1 | H50: SILVER | I50: LYON CORBAS | J50: OK | K50: 42552 | L50: 42643 | M50: FRANCE | N50: 872078 | O50: 13235
A51: CM100319-0075-13 | C51: EXPIRE | D51: 1 | E51: DELL | F51: OptiPlex 760 | G51: BS1007UE2J2 | H51: SILVER | I51: COURBEVOIE | J51: OK | K51: 42552 | L51: 42643 | M51: FRANCE | N51: 872069 | O51: 13235
... A70: CM100319-0075-13 | C70: EXPIRE | D70: 1 | E70: DELL | F70: OptiPlex 760 | G70: BS1014UE1D1 | H70: SILVER | I70: TRAPPES | J70: OK | K70: 42552 | L70: 42643 | M70: FRANCE | N70: 872061 | O70: 13235
A71: CM100319-0075-13 | C71: EXPIRE | D71: 1 | E71: DELL | F71: Dell Optiplex 790 Desktop: | G71: BXDBD5J | H71: PLATINUM | J71: OK | K71: 42552 | L71: 42643 | M71: FRANCE | N71: 872033 | O71: 13235
A72: CM100319-0075-13 | C72: EXPIRE | D72: 1 | E72: DELL | F72: OptiPlex 760 | G72: C5MZL4J | H72: NEXTDAY | I72: Technopole SM1 | J72: OK | K72: 42552 | L72: 42643 | M72: FRANCE | N72: 872255 | O72: 13235
A73: CM100319-0075-13 | C73: EXPIRE | D73: 1 | E73: DELL | F73: PowerEdge R710 | G73: GST4302 | H73: GOLD | I73: UK, concession Eurotunnel, site de Folkestone | J73: OK | K73: 42552 | L73: 42643 | M73: FRANCE | N73: 872246 | O73: 13235
A74: CM100319-0075-13 | C74: EXPIRE | D74: 1 | E74: DELL | F74: PowerEdge R710 | G74: H698G32 | H74: GOLD | I74: France, concession Eurotunnel, site de Coquelles (Calais) | J74: OK | K74: 42552 | L74: 42643 | M74: FRANCE | N74: 872245 | O74: 13235
A75: CM100319-0075-13 | C75: EXPIRE | D75: 1 | E75: DELL | F75: PowerEdge 1950 | G75: JR2H73J | H75: PLATINUM | I75: PARIS | J75: OK | K75: 42552 | L75: 42643 | M75: FRANCE | N75: 871593 | O75: 13235
A76: CM100319-0075-13 | C76: EXPIRE | D76: 1 | E76: EMC | F76: VMS MP baie EMC CLARIION NS20 | G76: CKM00120301012 | H76: PLATINUMGTR4H | I76: 93300 Aubervilliers | J76: OK | K76: 42614 | L76: 42735 | M76: FRANCE | N76: 908566 | O76: 13235
A77: CM100319-0075-13 | C77: EXPIRE | D77: 1 | E77: EMC | F77: NAS VNXe3200 | G77: FL100144800329 | H77: NEXTDAY | I77: UK, concession Eurotunnel, site de Folkestone | J77: OK | K77: 42552 | L77: 42643 | M77: FRANCE | N77: 872240 | O77: 13235
A78: CM100319-0075-13 | C78: EXPIRE | D78: 1 | E78: EMC | F78: NAS VNXe3200 | G78: FL100150900299 | H78: NEXTDAY | I78: France, concession Eurotunnel, site de Coquelles (Calais) | J78: OK | K78: 42552 | L78: 42643 | M78: FRANCE | N78: 872231 | O78: 13235
A79: CM100319-0075-13 | C79: EXPIRE | D79: 1 | E79: FUJITSU | F79: Primergy TX150 S8r | G79: YLGS003454 | H79: NEXTDAY | I79: France, concession Eurotunnel, site de Coquelles (Calais) | J79: OK | K79: 42552 | L79: 42643 | M79: FRANCE | N79: 872229 | O79: 13235
A80: CM100319-0075-13 | C80: EXPIRE | D80: 1 | E80: FUJITSU | F80: Primergy TX150 S8r | G80: YLGS003455 | H80: NEXTDAY | I80: UK, concession Eurotunnel, site de Folkestone | J80: OK | K80: 42552 | L80: 42643 | M80: FRANCE | N80: 872236 | O80: 13235
A81: CM100319-0075-13 | C81: EXPIRE | D81: 1 | E81: FUJITSU | F81: Primergy TX150 S8r | G81: YLGS003456 | H81: NEXTDAY | I81: UK, concession Eurotunnel, site de Folkestone | J81: OK | K81: 42552 | L81: 42643 | M81: FRANCE | N81: 872239 | O81: 13235
A82: CM100319-0075-13 | C82: EXPIRE | D82: 1 | E82: FUJITSU | F82: Primergy TX150 S8r | G82: YLGS003457 | H82: NEXTDAY | I82: UK, concession Eurotunnel, site de Folkestone | J82: OK | K82: 42552 | L82: 42643 | M82: FRANCE | N82: 872238 | O82: 13235
A83: CM100319-0075-13 | C83: EXPIRE | D83: 1 | E83: FUJITSU | F83: Primergy TX150 S8r | G83: YLGS003458 | H83: NEXTDAY | I83: France, concession Eurotunnel, site de Coquelles (Calais) | J83: OK | K83: 42552 | L83: 42643 | M83: FRANCE | N83: 872232 | O83: 13235
... A90: CM100319-0075-13 | C90: EXPIRE | D90: 1 | E90: FUJITSU | F90: Primergy TX150 S8r | G90: YLGS021119W | H90: NEXTDAY | I90: France, concession Eurotunnel, site de Coquelles (Calais) | J90: OK | K90: 42552 | L90: 42643 | M90: FRANCE | N90: 872235 | O90: 13235
A91: CM100319-0075-13 | C91: EXPIRE | D91: 1 | E91: HP | F91: StorageWorks DAT 72 Tape Drive | H91: PLATINUM | I91: BIEVRES | J91: OK | K91: 42552 | L91: 42643 | M91: FRANCE | N91: 871499 | O91: 13235
A92: CM100319-0075-13 | C92: EXPIRE | D92: 1 | E92: HP | F92: StorageWorks DAT 40 Tape Drive | H92: PLATINUM | I92: MONTIGNY LE BRETONNEUX | J92: OK | K92: 42552 | L92: 42643 | M92: FRANCE | N92: 871500 | O92: 13235
A93: CM100319-0075-13 | C93: EXPIRE | D93: 1 | E93: HP | F93: Storage Cabinet | H93: PLATINUM | I93: IDF | J93: OK | K93: 42552 | L93: 42643 | M93: FRANCE | N93: 871506 | O93: 13235
A94: CM100319-0075-13 | C94: EXPIRE | D94: 1 | E94: HP | F94: DAT DDS-3 Factory Racked | H94: PLATINUM | I94: IDF | J94: OK | K94: 42552 | L94: 42643 | M94: FRANCE | N94: 871507 | O94: 13235
A95: CM100319-0075-13 | C95: EXPIRE | D95: 1 | E95: HP | F95: SureStore E Disk System SC10 Factory Racked | H95: PLATINUM | I95: IDF | J95: OK | K95: 42552 | L95: 42643 | M95: FRANCE | N95: 871508 | O95: 13235
A96: CM100319-0075-13 | C96: EXPIRE | D96: 1 | E96: HP | F96: DAT DDS4 | H96: PLATINUM | I96: BIEVRES | J96: OK | K96: 42552 | L96: 42643 | M96: FRANCE | N96: 871526 | O96: 13235
A97: CM100319-0075-13 | C97: EXPIRE | D97: 1 | E97: HP | F97: DAT DDS4 | H97: PLATINUM | I97: BIEVRES | J97: OK | K97: 42552 | L97: 42643 | M97: FRANCE | N97: 871528 | O97: 13235
A98: CM100319-0075-13 | C98: EXPIRE | D98: 1 | E98: HP | F98: Vectra VLi8 | H98: PLATINUM | I98: BIEVRES | J98: OK | K98: 42552 | L98: 42643 | M98: FRANCE | N98: 871529 | O98: 13235
A99: CM100319-0075-13 | C99: EXPIRE | D99: 1 | E99: HP | F99: DAT DDS4 | H99: PLATINUM | I99: IDF | J99: OK | K99: 42552 | L99: 42643 | M99: FRANCE | N99: 871531 | O99: 13235
A100: CM100319-0075-13 | C100: EXPIRE | D100: 1 | E100: HP | F100: Compaq dc7600 | H100: PLATINUM | I100: IDF | J100: OK | K100: 42552 | L100: 42643 | M100: FRANCE | N100: 871532 | O100: 13235
A101: CM100319-0075-13 | C101: EXPIRE | D101: 1 | E101: HP | F101: DAT DDS4 | H101: PLATINUM | I101: SACLAY | J101: OK | K101: 42552 | L101: 42643 | M101: FRANCE | N101: 871534 | O101: 13235
A102: CM100319-0075-13 | C102: EXPIRE | D102: 1 | E102: HP | F102: Vectra VLi8 | H102: PLATINUM | I102: SACLAY | J102: OK | K102: 42552 | L102: 42643 | M102: FRANCE | N102: 871535 | O102: 13235
... A133: CM100319-0075-13 | C133: EXPIRE | D133: 1 | E133: HP | F133: HP DL380G8 Server | H133: GOLD | I133: Nanterre | J133: OK | K133: 42552 | L133: 42643 | M133: FRANCE | N133: 872226 | O133: 13235
A134: CM100319-0075-13 | C134: EXPIRE | D134: 1 | E134: HP | F134: DL-380 G8 | G134: CZ23360CN0 | H134: GOLD | I134: France, concession Eurotunnel, site de Coquelles (Calais) | J134: OK | K134: 42552 | L134: 42643 | M134: FRANCE | N134: 872243 | O134: 13235
A135: CM100319-0075-13 | C135: EXPIRE | D135: 1 | E135: HP | F135: Proliant DL380 Gen8 | G135: CZ3239X7JM | H135: GOLD | I135: LYON BRON | J135: OK | K135: 42552 | L135: 42643 | M135: FRANCE | N135: 872129 | O135: 13235
A136: CM100319-0075-13 | C136: EXPIRE | D136: 1 | E136: HP | F136: DL320e | G136: CZ33119W82 | H136: NEXTDAY | I136: France, concession Eurotunnel, site de Coquelles (Calais) | J136: OK | K136: 42552 | L136: 42643 | M136: FRANCE | N136: 872247 | O136: 13235
A137: CM100319-0075-13 | C137: EXPIRE | D137: 1 | E137: HP | F137: Integrity rx2660 | G137: _DEH463707M | H137: PLATINUM | I137: IDF | J137: OK | K137: 42552 | L137: 42643 | M137: FRANCE | N137: 871530 | O137: 13235
A138: CM100319-0075-13 | C138: EXPIRE | D138: 1 | E138: HP | F138: HP 9000 rp3410 | G138: _DEH463707Y | H138: PLATINUM | I138: SACLAY | J138: OK | K138: 42552 | L138: 42643 | M138: FRANCE | N138: 871533 | O138: 13235
A139: CM100319-0075-13 | C139: EXPIRE | D139: 1 | E139: HP | F139: Integrity rx2660 | G139: _DEH48246AT | H139: PLATINUM | I139: BIEVRES | J139: OK | K139: 42552 | L139: 42643 | M139: FRANCE | N139: 871525 | O139: 13235
A140: CM100319-0075-13 | C140: EXPIRE | D140: 1 | E140: HP | F140: Integrity rx2660 | G140: _DEH48246BA | H140: PLATINUM | I140: BIEVRES | J140: OK | K140: 42552 | L140: 42643 | M140: FRANCE | N140: 871527 | O140: 13235
A141: CM100319-0075-13 | C141: EXPIRE | D141: 1 | E141: HP | F141: HP 9000 rp3440 | G141: ? | H141: PLATINUM | I141: MONTIGNY LE BRETONNEUX | J141: OK | K141: 42552 | L141: 42643 | M141: FRANCE | N141: 871520 | O141: 13235
A142: CM100319-0075-13 | C142: EXPIRE | D142: 2 | E142: HP | F142: ProCurve Switch 2510 | G142: CN021FW2RQCN021FW3 GOLD Andrésy 417 2867 OK 01/07/16 30/09/16 FRANCE 871921 13235 | M142: FRANCE
A143: CM100319-0075-13 | C143: EXPIRE | D143: 2 | E143: HP | F143: ProCurve Switch 2510 | G143: CN021FW31H CN021F NEXTDAY Technopole SM1 416 2866 OK 01/07/16 30/09/16 FRANCE 871920 13235 | M143: FRANCE
A144: CM100319-0075-13 | C144: EXPIRE | D144: 4 | E144: HP | F144: ProLiant DL380 G6 | G144: CZ20268B85CZ20268B NEXTDAY Technopole SM1 486 2936 OK 01/07/16 30/09/16 FRANCE 871990 13235 | M144: FRANCE
A145: CM100319-0075-13 | C145: EXPIRE | D145: 4 | E145: HP | F145: ProLiant DL380 G6 | G145: CZ202891JR CZ20289 GOLD Andrésy 482 2932 OK 01/07/16 30/09/16 FRANCE 871986 13235 | M145: FRANCE
A146: CM100319-0075-13 | C146: EXPIRE | D146: 4 | E146: HP | F146: ProLiant DL380 G6 | G146: CZ202891JTCZ210604 GOLD Nanterre 484 2934 OK 01/07/16 30/09/16 FRANCE 871988 13235 | M146: FRANCE
A147: CM100319-0075-13 | C147: EXPIRE | D147: 2 | E147: HP | F147: ProLiant DL380 G6 | G147: CZ2041G80BCZ2041G8 GOLD Bièvres 488 2938 OK 01/07/16 30/09/16 FRANCE 871992 13235 | M147: FRANCE
A148: CM100319-0075-13 | C148: EXPIRE | D148: 2 | E148: HP | F148: ProLiant DL380 G6 | G148: CZ2041G80FCZ2041G8 GOLD Technopole salle OL 489 2939 OK 01/07/16 30/09/16 FRANCE 871993 13235 | M148: FRANCE
A149: CM100319-0075-13 | C149: EXPIRE | D149: 2 | E149: HP | F149: ProLiant DL380 G6 | G149: CZ223602P5 CZ22520 GOLD Nanterre 485 2935 OK 01/07/16 30/09/16 FRANCE 871989 13235 | M149: FRANCE
A150: CM100319-0075-13 | C150: EXPIRE | D150: 2 | E150: HP | F150: ProLiant DL380 G6 | G150: CZ2237003B CZ22360 GOLD Andrésy 483 2933 OK 01/07/16 30/09/16 FRANCE 871987 13235 | M150: FRANCE
A151: CM100319-0075-13 | C151: EXPIRE | D151: 2 | E151: HP | F151: ProLiant DL380 G6 | G151: GB8001ELLVGB8001EL NEXTDAY Technopole SM1 490 2940 OK 01/07/16 30/09/16 FRANCE 871994 13235 | M151: FRANCE
A152: CM100319-0075-13 | C152: EXPIRE | D152: 2 | E152: HP | F152: ProLiant DL380 G6 | G152: GB8003FKAHGB8952DJ NEXTDAY Technopole SM1 491 2941 OK 01/07/16 30/09/16 FRANCE 871995 13235 | M152: FRANCE
A153: CM100319-0075-13 | C153: EXPIRE | D153: 1 | E153: HP | F153: HP XW4600 Workstation | G153: 7577561 | H153: GOLD | I153: NANTERRE | J153: OK | K153: 42552 | L153: 42643 | M153: FRANCE | N153: 871598 | O153: 13235
A154: CM100319-0075-13 | C154: EXPIRE | D154: 1 | E154: HP | F154: Proliant DL380 Gen8 | G154: 1P3BW39710GV | H154: GOLD | I154: Aubervilliers | J154: OK | K154: 42552 | L154: 42643 | M154: FRANCE | N154: 872093 | O154: 13235
A155: CM100319-0075-13 | C155: EXPIRE | D155: 1 | E155: HP | F155: TFT7600 monitor | G155: 2C422454T5 | H155: GOLD | I155: LYON BRON | J155: OK | K155: 42552 | L155: 42643 | M155: FRANCE | N155: 872133 | O155: 13235
A156: CM100319-0075-13 | C156: EXPIRE | D156: 1 | E156: HP | F156: TFT7600 monitor | G156: 2C422454TR | H156: GOLD | I156: LYON BRON | J156: OK | K156: 42552 | L156: 42643 | M156: FRANCE | N156: 872141 | O156: 13235
...

Sheet RECHERCHE
A6: TAPE NUMERO DE CM | B6: CM100621-0153-12
D10: Qte | E10: Reference | F10: Description | G10: No Serie | H10: SLA | I10: Site | J10: Date_Debut | K10: Date_Fin | L10: Pays | M10: Categorie
D11: =VLOOKUP($B$6,MATRICE!$A$1:$P$1146,4,FALSE) -> 1 | E11: {=IF(ROW()-10>COUNTIF(MATRICE!A:A,$B$6),"",INDEX(MATRICE!E:E,SMALL(IF(MATRICE!A:A=$B$6,ROW(A:A),""),ROW()-10)))} -> COMPAQ | F11: {=IF(ROW()-10>COUNTIF(MATRICE!A:A,$B$6),"",INDEX(MATRICE!F:F,SMALL(IF(MATRICE!A:A=$B$6,ROW(A:A),""),ROW()-10)))} -> EVO D500 Desktop - P4/1.7 Ghz - 815E | G11: {=IF(ROW()-10>COUNTIF(MATRICE!A:A,$B$6),"",INDEX(MATRICE!N:N,SMALL(IF(MATRICE!A:A=$B$6,ROW(A:A),""),ROW()-10)))} -> 942978 | H11: {=IF(ROW()-10>COUNTIF(MATRICE!A:A,$B$6),"",INDEX(MATRICE!H:H,SMALL(IF(MATRICE!A:A=$B$6,ROW(A:A),""),ROW()-10)))} -> 9H-5J | I11: {=IF(ROW()-10>COUNTIF(MATRICE!A:A,$B$6),"",INDEX(MATRICE!I:I,SMALL(IF(MATRICE!A:A=$B$6,ROW(A:A),""),ROW()-10)))} -> PRATICA DI MARE | J11: {=IF(ROW()-10>COUNTIF(MATRICE!A:A,$B$6),"",INDEX(MATRICE!K:K,SMALL(IF(MATRICE!A:A=$B$6,ROW(A:A),""),ROW()-10)))} -> 42736 | K11: {=IF(ROW()-10>COUNTIF(MATRICE!A:A,$B$6),"",INDEX(MATRICE!L:L,SMALL(IF(MATRICE!A:A=$B$6,ROW(A:A),""),ROW()-10)))} -> 42916 | L11: {=IF(ROW()-10>COUNTIF(MATRICE!A:A,$B$6),"",INDEX(MATRICE!M:M,SMALL(IF(MATRICE!A:A=$B$6,ROW(A:A),""),ROW()-10)))} -> ITALY | M11: {=IF(ROW()-10>COUNTIF(MATRICE!A:A,$B$6),"",INDEX(MATRICE!P:P,SMALL(IF(MATRICE!A:A=$B$6,ROW(A:A),""),ROW()-10)))} -> SERVER
E12: {=IF(ROW()-10>COUNTIF(MATRICE!A:A,$B$6),"",INDEX(MATRICE!E:E,SMALL(IF(MATRICE!A:A=$B$6,ROW(A:A),""),ROW()-10)))} -> COMPAQ | F12: {=IF(ROW()-10>COUNTIF(MATRICE!A:A,$B$6),"",INDEX(MATRICE!F:F,SMALL(IF(MATRICE!A:A=$B$6,ROW(A:A),""),ROW()-10)))} -> EVO D500 Desktop - P4/1.7 Ghz - 815E | G12: {=IF(ROW()-10>COUNTIF(MATRICE!A:A,$B$6),"",INDEX(MATRICE!N:N,SMALL(IF(MATRICE!A:A=$B$6,ROW(A:A),""),ROW()-10)))} -> 942979 | H12: {=IF(ROW()-10>COUNTIF(MATRICE!A:A,$B$6),"",INDEX(MATRICE!H:H,SMALL(IF(MATRICE!A:A=$B$6,ROW(A:A),""),ROW()-10)))} -> 9H-5J | I12: {=IF(ROW()-10>COUNTIF(MATRICE!A:A,$B$6),"",INDEX(MATRICE!I:I,SMALL(IF(MATRICE!A:A=$B$6,ROW(A:A),""),ROW()-10)))} -> PRATICA DI MARE | J12: {=IF(ROW()-10>COUNTIF(MATRICE!A:A,$B$6),"",INDEX(MATRICE!K:K,SMALL(IF(MATRICE!A:A=$B$6,ROW(A:A),""),ROW()-10)))} -> 42736 | K12: {=IF(ROW()-10>COUNTIF(MATRICE!A:A,$B$6),"",INDEX(MATRICE!L:L,SMALL(IF(MATRICE!A:A=$B$6,ROW(A:A),""),ROW()-10)))} -> 42916 | L12: {=IF(ROW()-10>COUNTIF(MATRICE!A:A,$B$6),"",INDEX(MATRICE!M:M,SMALL(IF(MATRICE!A:A=$B$6,ROW(A:A),""),ROW()-10)))} -> ITALY | M12: {=IF(ROW()-10>COUNTIF(MATRICE!A:A,$B$6),"",INDEX(MATRICE!P:P,SMALL(IF(MATRICE!A:A=$B$6,ROW(A:A),""),ROW()-10)))} -> SERVER
E13: {=IF(ROW()-10>COUNTIF(MATRICE!A:A,$B$6),"",INDEX(MATRICE!E:E,SMALL(IF(MATRICE!A:A=$B$6,ROW(A:A),""),ROW()-10)))} -> COMPAQ | F13: {=IF(ROW()-10>COUNTIF(MATRICE!A:A,$B$6),"",INDEX(MATRICE!F:F,SMALL(IF(MATRICE!A:A=$B$6,ROW(A:A),""),ROW()-10)))} -> HP D510 CMT P4 2.0GHz-845G-256 Mo-40 Go-CDS-Ethernet | G13: {=IF(ROW()-10>COUNTIF(MATRICE!A:A,$B$6),"",INDEX(MATRICE!N:N,SMALL(IF(MATRICE!A:A=$B$6,ROW(A:A),""),ROW()-10)))} -> 942980 | H13: {=IF(ROW()-10>COUNTIF(MATRICE!A:A,$B$6),"",INDEX(MATRICE!H:H,SMALL(IF(MATRICE!A:A=$B$6,ROW(A:A),""),ROW()-10)))} -> 9H-5J | I13: {=IF(ROW()-10>COUNTIF(MATRICE!A:A,$B$6),"",INDEX(MATRICE!I:I,SMALL(IF(MATRICE!A:A=$B$6,ROW(A:A),""),ROW()-10)))} -> PRATICA DI MARE | J13: {=IF(ROW()-10>COUNTIF(MATRICE!A:A,$B$6),"",INDEX(MATRICE!K:K,SMALL(IF(MATRICE!A:A=$B$6,ROW(A:A),""),ROW()-10)))} -> 42736 | K13: {=IF(ROW()-10>COUNTIF(MATRICE!A:A,$B$6),"",INDEX(MATRICE!L:L,SMALL(IF(MATRICE!A:A=$B$6,ROW(A:A),""),ROW()-10)))} -> 42916 | L13: {=IF(ROW()-10>COUNTIF(MATRICE!A:A,$B$6),"",INDEX(MATRICE!M:M,SMALL(IF(MATRICE!A:A=$B$6,ROW(A:A),""),ROW()-10)))} -> ITALY | M13: {=IF(ROW()-10>COUNTIF(MATRICE!A:A,$B$6),"",INDEX(MATRICE!P:P,SMALL(IF(MATRICE!A:A=$B$6,ROW(A:A),""),ROW()-10)))} -> SERVER
E14: {=IF(ROW()-10>COUNTIF(MATRICE!A:A,$B$6),"",INDEX(MATRICE!E:E,SMALL(IF(MATRICE!A:A=$B$6,ROW(A:A),""),ROW()-10)))} -> COMPAQ | F14: {=IF(ROW()-10>COUNTIF(MATRICE!A:A,$B$6),"",INDEX(MATRICE!F:F,SMALL(IF(MATRICE!A:A=$B$6,ROW(A:A),""),ROW()-10)))} -> HP D510 CMT P4 2.0GHz-845G-256 Mo-40 Go-CDS-Ethernet | G14: {=IF(ROW()-10>COUNTIF(MATRICE!A:A,$B$6),"",INDEX(MATRICE!N:N,SMALL(IF(MATRICE!A:A=$B$6,ROW(A:A),""),ROW()-10)))} -> 942981 | H14: {=IF(ROW()-10>COUNTIF(MATRICE!A:A,$B$6),"",INDEX(MATRICE!H:H,SMALL(IF(MATRICE!A:A=$B$6,ROW(A:A),""),ROW()-10)))} -> 9H-5J | I14: {=IF(ROW()-10>COUNTIF(MATRICE!A:A,$B$6),"",INDEX(MATRICE!I:I,SMALL(IF(MATRICE!A:A=$B$6,ROW(A:A),""),ROW()-10)))} -> PRATICA DI MARE | J14: {=IF(ROW()-10>COUNTIF(MATRICE!A:A,$B$6),"",INDEX(MATRICE!K:K,SMALL(IF(MATRICE!A:A=$B$6,ROW(A:A),""),ROW()-10)))} -> 42736 | K14: {=IF(ROW()-10>COUNTIF(MATRICE!A:A,$B$6),"",INDEX(MATRICE!L:L,SMALL(IF(MATRICE!A:A=$B$6,ROW(A:A),""),ROW()-10)))} -> 42916 | L14: {=IF(ROW()-10>COUNTIF(MATRICE!A:A,$B$6),"",INDEX(MATRICE!M:M,SMALL(IF(MATRICE!A:A=$B$6,ROW(A:A),""),ROW()-10)))} -> ITALY | M14: {=IF(ROW()-10>COUNTIF(MATRICE!A:A,$B$6),"",INDEX(MATRICE!P:P,SMALL(IF(MATRICE!A:A=$B$6,ROW(A:A),""),ROW()-10)))} -> SERVER
E15: {=IF(ROW()-10>COUNTIF(MATRICE!A:A,$B$6),"",INDEX(MATRICE!E:E,SMALL(IF(MATRICE!A:A=$B$6,ROW(A:A),""),ROW()-10)))} -> COMPAQ | F15: {=IF(ROW()-10>COUNTIF(MATRICE!A:A,$B$6),"",INDEX(MATRICE!F:F,SMALL(IF(MATRICE!A:A=$B$6,ROW(A:A),""),ROW()-10)))} -> HP D510 CMT P4 2.0GHz-845G-256 Mo-40 Go-CDS-Ethernet | G15: {=IF(ROW()-10>COUNTIF(MATRICE!A:A,$B$6),"",INDEX(MATRICE!N:N,SMALL(IF(MATRICE!A:A=$B$6,ROW(A:A),""),ROW()-10)))} -> 942982 | H15: {=IF(ROW()-10>COUNTIF(MATRICE!A:A,$B$6),"",INDEX(MATRICE!H:H,SMALL(IF(MATRICE!A:A=$B$6,ROW(A:A),""),ROW()-10)))} -> 9H-5J | I15: {=IF(ROW()-10>COUNTIF(MATRICE!A:A,$B$6),"",INDEX(MATRICE!I:I,SMALL(IF(MATRICE!A:A=$B$6,ROW(A:A),""),ROW()-10)))} -> PRATICA DI MARE | J15: {=IF(ROW()-10>COUNTIF(MATRICE!A:A,$B$6),"",INDEX(MATRICE!K:K,SMALL(IF(MATRICE!A:A=$B$6,ROW(A:A),""),ROW()-10)))} -> 42736 | K15: {=IF(ROW()-10>COUNTIF(MATRICE!A:A,$B$6),"",INDEX(MATRICE!L:L,SMALL(IF(MATRICE!A:A=$B$6,ROW(A:A),""),ROW()-10)))} -> 42916 | L15: {=IF(ROW()-10>COUNTIF(MATRICE!A:A,$B$6),"",INDEX(MATRICE!M:M,SMALL(IF(MATRICE!A:A=$B$6,ROW(A:A),""),ROW()-10)))} -> ITALY | M15: {=IF(ROW()-10>COUNTIF(MATRICE!A:A,$B$6),"",INDEX(MATRICE!P:P,SMALL(IF(MATRICE!A:A=$B$6,ROW(A:A),""),ROW()-10)))} -> SERVER
E16: {=IF(ROW()-10>COUNTIF(MATRICE!A:A,$B$6),"",INDEX(MATRICE!E:E,SMALL(IF(MATRICE!A:A=$B$6,ROW(A:A),""),ROW()-10)))} -> COMPAQ | F16: {=IF(ROW()-10>COUNTIF(MATRICE!A:A,$B$6),"",INDEX(MATRICE!F:F,SMALL(IF(MATRICE!A:A=$B$6,ROW(A:A),""),ROW()-10)))} -> Deskpro EN PIII/1GHz | G16: {=IF(ROW()-10>COUNTIF(MATRICE!A:A,$B$6),"",INDEX(MATRICE!N:N,SMALL(IF(MATRICE!A:A=$B$6,ROW(A:A),""),ROW()-10)))} -> 942987 | H16: {=IF(ROW()-10>COUNTIF(MATRICE!A:A,$B$6),"",INDEX(MATRICE!H:H,SMALL(IF(MATRICE!A:A=$B$6,ROW(A:A),""),ROW()-10)))} -> 9H-5J | I16: {=IF(ROW()-10>COUNTIF(MATRICE!A:A,$B$6),"",INDEX(MATRICE!I:I,SMALL(IF(MATRICE!A:A=$B$6,ROW(A:A),""),ROW()-10)))} -> PRATICA DI MARE | J16: {=IF(ROW()-10>COUNTIF(MATRICE!A:A,$B$6),"",INDEX(MATRICE!K:K,SMALL(IF(MATRICE!A:A=$B$6,ROW(A:A),""),ROW()-10)))} -> 42736 | K16: {=IF(ROW()-10>COUNTIF(MATRICE!A:A,$B$6),"",INDEX(MATRICE!L:L,SMALL(IF(MATRICE!A:A=$B$6,ROW(A:A),""),ROW()-10)))} -> 42916 | L16: {=IF(ROW()-10>COUNTIF(MATRICE!A:A,$B$6),"",INDEX(MATRICE!M:M,SMALL(IF(MATRICE!A:A=$B$6,ROW(A:A),""),ROW()-10)))} -> ITALY | M16: {=IF(ROW()-10>COUNTIF(MATRICE!A:A,$B$6),"",INDEX(MATRICE!P:P,SMALL(IF(MATRICE!A:A=$B$6,ROW(A:A),""),ROW()-10)))} -> SERVER
E17: {=IF(ROW()-10>COUNTIF(MATRICE!A:A,$B$6),"",INDEX(MATRICE!E:E,SMALL(IF(MATRICE!A:A=$B$6,ROW(A:A),""),ROW()-10)))} -> COMPAQ | F17: {=IF(ROW()-10>COUNTIF(MATRICE!A:A,$B$6),"",INDEX(MATRICE!F:F,SMALL(IF(MATRICE!A:A=$B$6,ROW(A:A),""),ROW()-10)))} -> Deskpro EN PIII/1GHz | G17: {=IF(ROW()-10>COUNTIF(MATRICE!A:A,$B$6),"",INDEX(MATRICE!N:N,SMALL(IF(MATRICE!A:A=$B$6,ROW(A:A),""),ROW()-10)))} -> 942988 | H17: {=IF(ROW()-10>COUNTIF(MATRICE!A:A,$B$6),"",INDEX(MATRICE!H:H,SMALL(IF(MATRICE!A:A=$B$6,ROW(A:A),""),ROW()-10)))} -> 9H-5J | I17: {=IF(ROW()-10>COUNTIF(MATRICE!A:A,$B$6),"",INDEX(MATRICE!I:I,SMALL(IF(MATRICE!A:A=$B$6,ROW(A:A),""),ROW()-10)))} -> PRATICA DI MARE | J17: {=IF(ROW()-10>COUNTIF(MATRICE!A:A,$B$6),"",INDEX(MATRICE!K:K,SMALL(IF(MATRICE!A:A=$B$6,ROW(A:A),""),ROW()-10)))} -> 42736 | K17: {=IF(ROW()-10>COUNTIF(MATRICE!A:A,$B$6),"",INDEX(MATRICE!L:L,SMALL(IF(MATRICE!A:A=$B$6,ROW(A:A),""),ROW()-10)))} -> 42916 | L17: {=IF(ROW()-10>COUNTIF(MATRICE!A:A,$B$6),"",INDEX(MATRICE!M:M,SMALL(IF(MATRICE!A:A=$B$6,ROW(A:A),""),ROW()-10)))} -> ITALY | M17: {=IF(ROW()-10>COUNTIF(MATRICE!A:A,$B$6),"",INDEX(MATRICE!P:P,SMALL(IF(MATRICE!A:A=$B$6,ROW(A:A),""),ROW()-10)))} -> SERVER
E18: {=IF(ROW()-10>COUNTIF(MATRICE!A:A,$B$6),"",INDEX(MATRICE!E:E,SMALL(IF(MATRICE!A:A=$B$6,ROW(A:A),""),ROW()-10)))} -> COMPAQ | F18: {=IF(ROW()-10>COUNTIF(MATRICE!A:A,$B$6),"",INDEX(MATRICE!F:F,SMALL(IF(MATRICE!A:A=$B$6,ROW(A:A),""),ROW()-10)))} -> Deskpro EN PIII/1GHz | G18: {=IF(ROW()-10>COUNTIF(MATRICE!A:A,$B$6),"",INDEX(MATRICE!N:N,SMALL(IF(MATRICE!A:A=$B$6,ROW(A:A),""),ROW()-10)))} -> 942989 | H18: {=IF(ROW()-10>COUNTIF(MATRICE!A:A,$B$6),"",INDEX(MATRICE!H:H,SMALL(IF(MATRICE!A:A=$B$6,ROW(A:A),""),ROW()-10)))} -> 9H-5J | I18: {=IF(ROW()-10>COUNTIF(MATRICE!A:A,$B$6),"",INDEX(MATRICE!I:I,SMALL(IF(MATRICE!A:A=$B$6,ROW(A:A),""),ROW()-10)))} -> PRATICA DI MARE | J18: {=IF(ROW()-10>COUNTIF(MATRICE!A:A,$B$6),"",INDEX(MATRICE!K:K,SMALL(IF(MATRICE!A:A=$B$6,ROW(A:A),""),ROW()-10)))} -> 42736 | K18: {=IF(ROW()-10>COUNTIF(MATRICE!A:A,$B$6),"",INDEX(MATRICE!L:L,SMALL(IF(MATRICE!A:A=$B$6,ROW(A:A),""),ROW()-10)))} -> 42916 | L18: {=IF(ROW()-10>COUNTIF(MATRICE!A:A,$B$6),"",INDEX(MATRICE!M:M,SMALL(IF(MATRICE!A:A=$B$6,ROW(A:A),""),ROW()-10)))} -> ITALY | M18: {=IF(ROW()-10>COUNTIF(MATRICE!A:A,$B$6),"",INDEX(MATRICE!P:P,SMALL(IF(MATRICE!A:A=$B$6,ROW(A:A),""),ROW()-10)))} -> SERVER
E19: {=IF(ROW()-10>COUNTIF(MATRICE!A:A,$B$6),"",INDEX(MATRICE!E:E,SMALL(IF(MATRICE!A:A=$B$6,ROW(A:A),""),ROW()-10)))} -> COMPAQ | F19: {=IF(ROW()-10>COUNTIF(MATRICE!A:A,$B$6),"",INDEX(MATRICE!F:F,SMALL(IF(MATRICE!A:A=$B$6,ROW(A:A),""),ROW()-10)))} -> Deskpro EN PIII/1GHz - 815E - 128 Mo - 20 Go - CDS 48X | G19: {=IF(ROW()-10>COUNTIF(MATRICE!A:A,$B$6),"",INDEX(MATRICE!N:N,SMALL(IF(MATRICE!A:A=$B$6,ROW(A:A),""),ROW()-10)))} -> 942990 | H19: {=IF(ROW()-10>COUNTIF(MATRICE!A:A,$B$6),"",INDEX(MATRICE!H:H,SMALL(IF(MATRICE!A:A=$B$6,ROW(A:A),""),ROW()-10)))} -> 9H-5J | I19: {=IF(ROW()-10>COUNTIF(MATRICE!A:A,$B$6),"",INDEX(MATRICE!I:I,SMALL(IF(MATRICE!A:A=$B$6,ROW(A:A),""),ROW()-10)))} -> PRATICA DI MARE | J19: {=IF(ROW()-10>COUNTIF(MATRICE!A:A,$B$6),"",INDEX(MATRICE!K:K,SMALL(IF(MATRICE!A:A=$B$6,ROW(A:A),""),ROW()-10)))} -> 42736 | K19: {=IF(ROW()-10>COUNTIF(MATRICE!A:A,$B$6),"",INDEX(MATRICE!L:L,SMALL(IF(MATRICE!A:A=$B$6,ROW(A:A),""),ROW()-10)))} -> 42916 | L19: {=IF(ROW()-10>COUNTIF(MATRICE!A:A,$B$6),"",INDEX(MATRICE!M:M,SMALL(IF(MATRICE!A:A=$B$6,ROW(A:A),""),ROW()-10)))} -> ITALY | M19: {=IF(ROW()-10>COUNTIF(MATRICE!A:A,$B$6),"",INDEX(MATRICE!P:P,SMALL(IF(MATRICE!A:A=$B$6,ROW(A:A),""),ROW()-10)))} -> SERVER
E20: {=IF(ROW()-10>COUNTIF(MATRICE!A:A,$B$6),"",INDEX(MATRICE!E:E,SMALL(IF(MATRICE!A:A=$B$6,ROW(A:A),""),ROW()-10)))} -> COMPAQ | F20: {=IF(ROW()-10>COUNTIF(MATRICE!A:A,$B$6),"",INDEX(MATRICE!F:F,SMALL(IF(MATRICE!A:A=$B$6,ROW(A:A),""),ROW()-10)))} -> Deskpro EN PIII/1GHz | G20: {=IF(ROW()-10>COUNTIF(MATRICE!A:A,$B$6),"",INDEX(MATRICE!N:N,SMALL(IF(MATRICE!A:A=$B$6,ROW(A:A),""),ROW()-10)))} -> 942991 | H20: {=IF(ROW()-10>COUNTIF(MATRICE!A:A,$B$6),"",INDEX(MATRICE!H:H,SMALL(IF(MATRICE!A:A=$B$6,ROW(A:A),""),ROW()-10)))} -> 9H-5J | I20: {=IF(ROW()-10>COUNTIF(MATRICE!A:A,$B$6),"",INDEX(MATRICE!I:I,SMALL(IF(MATRICE!A:A=$B$6,ROW(A:A),""),ROW()-10)))} -> PRATICA DI MARE | J20: {=IF(ROW()-10>COUNTIF(MATRICE!A:A,$B$6),"",INDEX(MATRICE!K:K,SMALL(IF(MATRICE!A:A=$B$6,ROW(A:A),""),ROW()-10)))} -> 42736 | K20: {=IF(ROW()-10>COUNTIF(MATRICE!A:A,$B$6),"",INDEX(MATRICE!L:L,SMALL(IF(MATRICE!A:A=$B$6,ROW(A:A),""),ROW()-10)))} -> 42916 | L20: {=IF(ROW()-10>COUNTIF(MATRICE!A:A,$B$6),"",INDEX(MATRICE!M:M,SMALL(IF(MATRICE!A:A=$B$6,ROW(A:A),""),ROW()-10)))} -> ITALY | M20: {=IF(ROW()-10>COUNTIF(MATRICE!A:A,$B$6),"",INDEX(MATRICE!P:P,SMALL(IF(MATRICE!A:A=$B$6,ROW(A:A),""),ROW()-10)))} -> SERVER
E21: {=IF(ROW()-10>COUNTIF(MATRICE!A:A,$B$6),"",INDEX(MATRICE!E:E,SMALL(IF(MATRICE!A:A=$B$6,ROW(A:A),""),ROW()-10)))} -> DIGITAL | F21: {=IF(ROW()-10>COUNTIF(MATRICE!A:A,$B$6),"",INDEX(MATRICE!F:F,SMALL(IF(MATRICE!A:A=$B$6,ROW(A:A),""),ROW()-10)))} -> AlphaServer Proc. SMP 667 Mhz,Tru64 UNIX,license SMP Tru64 Unix | G21: {=IF(ROW()-10>COUNTIF(MATRICE!A:A,$B$6),"",INDEX(MATRICE!N:N,SMALL(IF(MATRICE!A:A=$B$6,ROW(A:A),""),ROW()-10)))} -> 942860 | H21: {=IF(ROW()-10>COUNTIF(MATRICE!A:A,$B$6),"",INDEX(MATRICE!H:H,SMALL(IF(MATRICE!A:A=$B$6,ROW(A:A),""),ROW()-10)))} -> 9H-5J | I21: {=IF(ROW()-10>COUNTIF(MATRICE!A:A,$B$6),"",INDEX(MATRICE!I:I,SMALL(IF(MATRICE!A:A=$B$6,ROW(A:A),""),ROW()-10)))} -> PRATICA DI MARE | J21: {=IF(ROW()-10>COUNTIF(MATRICE!A:A,$B$6),"",INDEX(MATRICE!K:K,SMALL(IF(MATRICE!A:A=$B$6,ROW(A:A),""),ROW()-10)))} -> 42736 | K21: {=IF(ROW()-10>COUNTIF(MATRICE!A:A,$B$6),"",INDEX(MATRICE!L:L,SMALL(IF(MATRICE!A:A=$B$6,ROW(A:A),""),ROW()-10)))} -> 42916 | L21: {=IF(ROW()-10>COUNTIF(MATRICE!A:A,$B$6),"",INDEX(MATRICE!M:M,SMALL(IF(MATRICE!A:A=$B$6,ROW(A:A),""),ROW()-10)))} -> ITALY | M21: {=IF(ROW()-10>COUNTIF(MATRICE!A:A,$B$6),"",INDEX(MATRICE!P:P,SMALL(IF(MATRICE!A:A=$B$6,ROW(A:A),""),ROW()-10)))} -> STORAGE
E22: {=IF(ROW()-10>COUNTIF(MATRICE!A:A,$B$6),"",INDEX(MATRICE!E:E,SMALL(IF(MATRICE!A:A=$B$6,ROW(A:A),""),ROW()-10)))} -> DIGITAL | F22: {=IF(ROW()-10>COUNTIF(MATRICE!A:A,$B$6),"",INDEX(MATRICE!F:F,SMALL(IF(MATRICE!A:A=$B$6,ROW(A:A),""),ROW()-10)))} -> AlphaServer DS10/XP900 6/466, 512 Mo, Tru64 UNIX | G22: {=IF(ROW()-10>COUNTIF(MATRICE!A:A,$B$6),"",INDEX(MATRICE!N:N,SMALL(IF(MATRICE!A:A=$B$6,ROW(A:A),""),ROW()-10)))} -> 942992 | H22: {=IF(ROW()-10>COUNTIF(MATRICE!A:A,$B$6),"",INDEX(MATRICE!H:H,SMALL(IF(MATRICE!A:A=$B$6,ROW(A:A),""),ROW()-10)))} -> 9H-5J | I22: {=IF(ROW()-10>COUNTIF(MATRICE!A:A,$B$6),"",INDEX(MATRICE!I:I,SMALL(IF(MATRICE!A:A=$B$6,ROW(A:A),""),ROW()-10)))} -> PRATICA DI MARE | J22: {=IF(ROW()-10>COUNTIF(MATRICE!A:A,$B$6),"",INDEX(MATRICE!K:K,SMALL(IF(MATRICE!A:A=$B$6,ROW(A:A),""),ROW()-10)))} -> 42736 | K22: {=IF(ROW()-10>COUNTIF(MATRICE!A:A,$B$6),"",INDEX(MATRICE!L:L,SMALL(IF(MATRICE!A:A=$B$6,ROW(A:A),""),ROW()-10)))} -> 42916 | L22: {=IF(ROW()-10>COUNTIF(MATRICE!A:A,$B$6),"",INDEX(MATRICE!M:M,SMALL(IF(MATRICE!A:A=$B$6,ROW(A:A),""),ROW()-10)))} -> ITALY | M22: {=IF(ROW()-10>COUNTIF(MATRICE!A:A,$B$6),"",INDEX(MATRICE!P:P,SMALL(IF(MATRICE!A:A=$B$6,ROW(A:A),""),ROW()-10)))} -> SERVER
E23: {=IF(ROW()-10>COUNTIF(MATRICE!A:A,$B$6),"",INDEX(MATRICE!E:E,SMALL(IF(MATRICE!A:A=$B$6,ROW(A:A),""),ROW()-10)))} -> DIGITAL | F23: {=IF(ROW()-10>COUNTIF(MATRICE!A:A,$B$6),"",INDEX(MATRICE!F:F,SMALL(IF(MATRICE!A:A=$B$6,ROW(A:A),""),ROW()-10)))} -> AlphaServer DS20E 67/667 Tru64 UNIX 512Mo/8Mo | G23: {=IF(ROW()-10>COUNTIF(MATRICE!A:A,$B$6),"",INDEX(MATRICE!N:N,SMALL(IF(MATRICE!A:A=$B$6,ROW(A:A),""),ROW()-10)))} -> 942993 | H23: {=IF(ROW()-10>COUNTIF(MATRICE!A:A,$B$6),"",INDEX(MATRICE!H:H,SMALL(IF(MATRICE!A:A=$B$6,ROW(A:A),""),ROW()-10)))} -> 9H-5J | I23: {=IF(ROW()-10>COUNTIF(MATRICE!A:A,$B$6),"",INDEX(MATRICE!I:I,SMALL(IF(MATRICE!A:A=$B$6,ROW(A:A),""),ROW()-10)))} -> PRATICA DI MARE | J23: {=IF(ROW()-10>COUNTIF(MATRICE!A:A,$B$6),"",INDEX(MATRICE!K:K,SMALL(IF(MATRICE!A:A=$B$6,ROW(A:A),""),ROW()-10)))} -> 42736 | K23: {=IF(ROW()-10>COUNTIF(MATRICE!A:A,$B$6),"",INDEX(MATRICE!L:L,SMALL(IF(MATRICE!A:A=$B$6,ROW(A:A),""),ROW()-10)))} -> 42916 | L23: {=IF(ROW()-10>COUNTIF(MATRICE!A:A,$B$6),"",INDEX(MATRICE!M:M,SMALL(IF(MATRICE!A:A=$B$6,ROW(A:A),""),ROW()-10)))} -> ITALY | M23: {=IF(ROW()-10>COUNTIF(MATRICE!A:A,$B$6),"",INDEX(MATRICE!P:P,SMALL(IF(MATRICE!A:A=$B$6,ROW(A:A),""),ROW()-10)))} -> SERVER
... E40: {=IF(ROW()-10>COUNTIF(MATRICE!A:A,$B$6),"",INDEX(MATRICE!E:E,SMALL(IF(MATRICE!A:A=$B$6,ROW(A:A),""),ROW()-10)))} -> HP | F40: {=IF(ROW()-10>COUNTIF(MATRICE!A:A,$B$6),"",INDEX(MATRICE!F:F,SMALL(IF(MATRICE!A:A=$B$6,ROW(A:A),""),ROW()-10)))} -> HP BLc7000 CTO 3 IN LCD ROHS | G40: {=IF(ROW()-10>COUNTIF(MATRICE!A:A,$B$6),"",INDEX(MATRICE!N:N,SMALL(IF(MATRICE!A:A=$B$6,ROW(A:A),""),ROW()-10)))} -> 942868 | H40: {=IF(ROW()-10>COUNTIF(MATRICE!A:A,$B$6),"",INDEX(MATRICE!H:H,SMALL(IF(MATRICE!A:A=$B$6,ROW(A:A),""),ROW()-10)))} -> 9H-5J | I40: {=IF(ROW()-10>COUNTIF(MATRICE!A:A,$B$6),"",INDEX(MATRICE!I:I,SMALL(IF(MATRICE!A:A=$B$6,ROW(A:A),""),ROW()-10)))} -> PRATICA DI MARE | J40: {=IF(ROW()-10>COUNTIF(MATRICE!A:A,$B$6),"",INDEX(MATRICE!K:K,SMALL(IF(MATRICE!A:A=$B$6,ROW(A:A),""),ROW()-10)))} -> 42736 | K40: {=IF(ROW()-10>COUNTIF(MATRICE!A:A,$B$6),"",INDEX(MATRICE!L:L,SMALL(IF(MATRICE!A:A=$B$6,ROW(A:A),""),ROW()-10)))} -> 42916 | L40: {=IF(ROW()-10>COUNTIF(MATRICE!A:A,$B$6),"",INDEX(MATRICE!M:M,SMALL(IF(MATRICE!A:A=$B$6,ROW(A:A),""),ROW()-10)))} -> ITALY | M40: {=IF(ROW()-10>COUNTIF(MATRICE!A:A,$B$6),"",INDEX(MATRICE!P:P,SMALL(IF(MATRICE!A:A=$B$6,ROW(A:A),""),ROW()-10)))} -> SERVER
E41: {=IF(ROW()-10>COUNTIF(MATRICE!A:A,$B$6),"",INDEX(MATRICE!E:E,SMALL(IF(MATRICE!A:A=$B$6,ROW(A:A),""),ROW()-10)))} | F41: {=IF(ROW()-10>COUNTIF(MATRICE!A:A,$B$6),"",INDEX(MATRICE!F:F,SMALL(IF(MATRICE!A:A=$B$6,ROW(A:A),""),ROW()-10)))}
E42: {=IF(ROW()-10>COUNTIF(MATRICE!A:A,$B$6),"",INDEX(MATRICE!E:E,SMALL(IF(MATRICE!A:A=$B$6,ROW(A:A),""),ROW()-10)))} | F42: {=IF(ROW()-10>COUNTIF(MATRICE!A:A,$B$6),"",INDEX(MATRICE!F:F,SMALL(IF(MATRICE!A:A=$B$6,ROW(A:A),""),ROW()-10)))}
E43: {=IF(ROW()-10>COUNTIF(MATRICE!A:A,$B$6),"",INDEX(MATRICE!E:E,SMALL(IF(MATRICE!A:A=$B$6,ROW(A:A),""),ROW()-10)))} | F43: {=IF(ROW()-10>COUNTIF(MATRICE!A:A,$B$6),"",INDEX(MATRICE!F:F,SMALL(IF(MATRICE!A:A=$B$6,ROW(A:A),""),ROW()-10)))}
E44: {=IF(ROW()-10>COUNTIF(MATRICE!A:A,$B$6),"",INDEX(MATRICE!E:E,SMALL(IF(MATRICE!A:A=$B$6,ROW(A:A),""),ROW()-10)))} | F44: {=IF(ROW()-10>COUNTIF(MATRICE!A:A,$B$6),"",INDEX(MATRICE!F:F,SMALL(IF(MATRICE!A:A=$B$6,ROW(A:A),""),ROW()-10)))}
E45: {=IF(ROW()-10>COUNTIF(MATRICE!A:A,$B$6),"",INDEX(MATRICE!E:E,SMALL(IF(MATRICE!A:A=$B$6,ROW(A:A),""),ROW()-10)))} | F45: {=IF(ROW()-10>COUNTIF(MATRICE!A:A,$B$6),"",INDEX(MATRICE!F:F,SMALL(IF(MATRICE!A:A=$B$6,ROW(A:A),""),ROW()-10)))}
E46: {=IF(ROW()-10>COUNTIF(MATRICE!A:A,$B$6),"",INDEX(MATRICE!E:E,SMALL(IF(MATRICE!A:A=$B$6,ROW(A:A),""),ROW()-10)))} | F46: {=IF(ROW()-10>COUNTIF(MATRICE!A:A,$B$6),"",INDEX(MATRICE!F:F,SMALL(IF(MATRICE!A:A=$B$6,ROW(A:A),""),ROW()-10)))}
E47: {=IF(ROW()-10>COUNTIF(MATRICE!A:A,$B$6),"",INDEX(MATRICE!E:E,SMALL(IF(MATRICE!A:A=$B$6,ROW(A:A),""),ROW()-10)))} | F47: {=IF(ROW()-10>COUNTIF(MATRICE!A:A,$B$6),"",INDEX(MATRICE!F:F,SMALL(IF(MATRICE!A:A=$B$6,ROW(A:A),""),ROW()-10)))}
E48: {=IF(ROW()-10>COUNTIF(MATRICE!A:A,$B$6),"",INDEX(MATRICE!E:E,SMALL(IF(MATRICE!A:A=$B$6,ROW(A:A),""),ROW()-10)))} | F48: {=IF(ROW()-10>COUNTIF(MATRICE!A:A,$B$6),"",INDEX(MATRICE!F:F,SMALL(IF(MATRICE!A:A=$B$6,ROW(A:A),""),ROW()-10)))}
E49: {=IF(ROW()-10>COUNTIF(MATRICE!A:A,$B$6),"",INDEX(MATRICE!E:E,SMALL(IF(MATRICE!A:A=$B$6,ROW(A:A),""),ROW()-10)))} | F49: {=IF(ROW()-10>COUNTIF(MATRICE!A:A,$B$6),"",INDEX(MATRICE!F:F,SMALL(IF(MATRICE!A:A=$B$6,ROW(A:A),""),ROW()-10)))}
E50: {=IF(ROW()-10>COUNTIF(MATRICE!A:A,$B$6),"",INDEX(MATRICE!E:E,SMALL(IF(MATRICE!A:A=$B$6,ROW(A:A),""),ROW()-10)))} | F50: {=IF(ROW()-10>COUNTIF(MATRICE!A:A,$B$6),"",INDEX(MATRICE!F:F,SMALL(IF(MATRICE!A:A=$B$6,ROW(A:A),""),ROW()-10)))}
E51: {=IF(ROW()-10>COUNTIF(MATRICE!A:A,$B$6),"",INDEX(MATRICE!E:E,SMALL(IF(MATRICE!A:A=$B$6,ROW(A:A),""),ROW()-10)))} | F51: {=IF(ROW()-10>COUNTIF(MATRICE!A:A,$B$6),"",INDEX(MATRICE!F:F,SMALL(IF(MATRICE!A:A=$B$6,ROW(A:A),""),ROW()-10)))}
E52: {=IF(ROW()-10>COUNTIF(MATRICE!A:A,$B$6),"",INDEX(MATRICE!E:E,SMALL(IF(MATRICE!A:A=$B$6,ROW(A:A),""),ROW()-10)))} | F52: {=IF(ROW()-10>COUNTIF(MATRICE!A:A,$B$6),"",INDEX(MATRICE!F:F,SMALL(IF(MATRICE!A:A=$B$6,ROW(A:A),""),ROW()-10)))}
... E221: {=IF(ROW()-10>COUNTIF(MATRICE!A:A,$B$6),"",INDEX(MATRICE!E:E,SMALL(IF(MATRICE!A:A=$B$6,ROW(A:A),""),ROW()-10)))} | F221: {=IF(ROW()-10>COUNTIF(MATRICE!A:A,$B$6),"",INDEX(MATRICE!F:F,SMALL(IF(MATRICE!A:A=$B$6,ROW(A:A),""),ROW()-10)))}
E222: {=IF(ROW()-10>COUNTIF(MATRICE!A:A,$B$6),"",INDEX(MATRICE!E:E,SMALL(IF(MATRICE!A:A=$B$6,ROW(A:A),""),ROW()-10)))}
E223: {=IF(ROW()-10>COUNTIF(MATRICE!A:A,$B$6),"",INDEX(MATRICE!E:E,SMALL(IF(MATRICE!A:A=$B$6,ROW(A:A),""),ROW()-10)))}
E224: {=IF(ROW()-10>COUNTIF(MATRICE!A:A,$B$6),"",INDEX(MATRICE!E:E,SMALL(IF(MATRICE!A:A=$B$6,ROW(A:A),""),ROW()-10)))}
E225: {=IF(ROW()-10>COUNTIF(MATRICE!A:A,$B$6),"",INDEX(MATRICE!E:E,SMALL(IF(MATRICE!A:A=$B$6,ROW(A:A),""),ROW()-10)))}
E226: {=IF(ROW()-10>COUNTIF(MATRICE!A:A,$B$6),"",INDEX(MATRICE!E:E,SMALL(IF(MATRICE!A:A=$B$6,ROW(A:A),""),ROW()-10)))}
E227: {=IF(ROW()-10>COUNTIF(MATRICE!A:A,$B$6),"",INDEX(MATRICE!E:E,SMALL(IF(MATRICE!A:A=$B$6,ROW(A:A),""),ROW()-10)))}
E228: {=IF(ROW()-10>COUNTIF(MATRICE!A:A,$B$6),"",INDEX(MATRICE!E:E,SMALL(IF(MATRICE!A:A=$B$6,ROW(A:A),""),ROW()-10)))}
E229: {=IF(ROW()-10>COUNTIF(MATRICE!A:A,$B$6),"",INDEX(MATRICE!E:E,SMALL(IF(MATRICE!A:A=$B$6,ROW(A:A),""),ROW()-10)))}
E230: {=IF(ROW()-10>COUNTIF(MATRICE!A:A,$B$6),"",INDEX(MATRICE!E:E,SMALL(IF(MATRICE!A:A=$B$6,ROW(A:A),""),ROW()-10)))}
E231: {=IF(ROW()-10>COUNTIF(MATRICE!A:A,$B$6),"",INDEX(MATRICE!E:E,SMALL(IF(MATRICE!A:A=$B$6,ROW(A:A),""),ROW()-10)))}
E232: {=IF(ROW()-10>COUNTIF(MATRICE!A:A,$B$6),"",INDEX(MATRICE!E:E,SMALL(IF(MATRICE!A:A=$B$6,ROW(A:A),""),ROW()-10)))}
E233: {=IF(ROW()-10>COUNTIF(MATRICE!A:A,$B$6),"",INDEX(MATRICE!E:E,SMALL(IF(MATRICE!A:A=$B$6,ROW(A:A),""),ROW()-10)))}
... E838: {=IF(ROW()-10>COUNTIF(MATRICE!A:A,$B$6),"",INDEX(MATRICE!E:E,SMALL(IF(MATRICE!A:A=$B$6,ROW(A:A),""),ROW()-10)))}
