Workbook

Sheet Feuil1
A1: 4T23T4T | B1: 41545668 | C1: T43T43 | D1: 4623643262 | F1: =IFERROR(INDEX(A1:D1,MATCH(4,Feuil2!A1:D1,0)),"") -> 41545668 | H1: {=IF(ROW()>COUNTIF($F:$F,">0"),"",INDEX(F:F,SMALL(IF(ISNUMBER($F:$F),ROW(A:A),""),ROW())))} -> 41545668
A2: 234662364 | B2: 6436434235 | C2: 895789 | D2: 41547627 | F2: =IFERROR(INDEX(A2:D2,MATCH(4,Feuil2!A2:D2,0)),"") -> 41547627 | H2: {=IF(ROW()>COUNTIF($F:$F,">0"),"",INDEX(F:F,SMALL(IF(ISNUMBER($F:$F),ROW(A:A),""),ROW())))} -> 41547627
A3: 545235544T | B3: 7685807 | C3: 1346363464 | D3: 643264262 | F3: =IFERROR(INDEX(A3:D3,MATCH(4,Feuil2!A3:D3,0)),"") | H3: {=IF(ROW()>COUNTIF($F:$F,">0"),"",INDEX(F:F,SMALL(IF(ISNUMBER($F:$F),ROW(A:A),""),ROW())))} -> 41550385
A4: 41533648 | B4: 62362346 | C4: 41550385 | F4: =IFERROR(INDEX(A4:D4,MATCH(4,Feuil2!A4:D4,0)),"") -> 41550385 | H4: {=IF(ROW()>COUNTIF($F:$F,">0"),"",INDEX(F:F,SMALL(IF(ISNUMBER($F:$F),ROW(A:A),""),ROW())))}
A5: 5435423454 | B5: 634626243 | C5: 642 | D5: 62436326424 | F5: =IFERROR(INDEX(A5:D5,MATCH(4,Feuil2!A5:D5,0)),"") | H5: {=IF(ROW()>COUNTIF($F:$F,">0"),"",INDEX(F:F,SMALL(IF($F:$F>0,ROW(A:A),""),ROW())))}
A6: 2457842 | B6: 42532453 | C6: 2 | D6: 41550385 | F6: =IFERROR(INDEX(A6:D6,MATCH(4,Feuil2!A6:D6,0)),"") | H6: {=IF(ROW()>COUNTIF($F:$F,">0"),"",INDEX(F:F,SMALL(IF($F:$F>0,ROW(A:A),""),ROW())))}
A7: 41547627 | B7: 25342 | C7: 41547627 | F7: =IFERROR(INDEX(A7:D7,MATCH(4,Feuil2!A7:D7,0)),"") | H7: {=IF(ROW()>COUNTIF($F:$F,">0"),"",INDEX(F:F,SMALL(IF($F:$F>0,ROW(A:A),""),ROW())))}
A8: 41545667 | B8: 2535 | C8: 54135 | D8: 7356 | F8: =IFERROR(INDEX(A8:D8,MATCH(4,Feuil2!A8:D8,0)),"") | H8: {=IF(ROW()>COUNTIF($F:$F,">0"),"",INDEX(F:F,SMALL(IF($F:$F>0,ROW(A:A),""),ROW())))}
A9: 41545668 | B9: 542 | C9: 41545668 | F9: =IFERROR(INDEX(A9:D9,MATCH(4,Feuil2!A9:D9,0)),"") | H9: {=IF(ROW()>COUNTIF($F:$F,">0"),"",INDEX(F:F,SMALL(IF($F:$F>0,ROW(A:A),""),ROW())))}
A10: 41553594 | B10: 235 | C10: 2 | F10: =IFERROR(INDEX(A10:D10,MATCH(4,Feuil2!A10:D10,0)),"") | H10: {=IF(ROW()>COUNTIF($F:$F,">0"),"",INDEX(F:F,SMALL(IF($F:$F>0,ROW(A:A),""),ROW())))}
A11: 41550385 | B11: 41550385 | F11: =IFERROR(INDEX(A11:D11,MATCH(4,Feuil2!A11:D11,0)),"") | H11: {=IF(ROW()>COUNTIF($F:$F,">0"),"",INDEX(F:F,SMALL(IF($F:$F>0,ROW(A:A),""),ROW())))}
B12: 41547627 | F12: =IFERROR(INDEX(A12:D12,MATCH(4,Feuil2!A12:D12,0)),"") | H12: {=IF(ROW()>COUNTIF($F:$F,">0"),"",INDEX(F:F,SMALL(IF($F:$F>0,ROW(A:A),""),ROW())))}
D13: 41545668 | F13: =IFERROR(INDEX(A13:D13,MATCH(4,Feuil2!A13:D13,0)),"") | H13: {=IF(ROW()>COUNTIF($F:$F,">0"),"",INDEX(F:F,SMALL(IF($F:$F>0,ROW(A:A),""),ROW())))}

Sheet Feuil2
A1: =COUNTIF(Feuil1!$A1:$D13,Feuil1!A1) -> 1 | B1: =COUNTIF(Feuil1!$A1:$D13,Feuil1!B1) -> 4 | C1: =COUNTIF(Feuil1!$A1:$D13,Feuil1!C1) -> 1 | D1: =COUNTIF(Feuil1!$A1:$D13,Feuil1!D1) -> 1
A2: =COUNTIF(Feuil1!$A2:$D14,Feuil1!A2) -> 1 | B2: =COUNTIF(Feuil1!$A2:$D14,Feuil1!B2) -> 1 | C2: =COUNTIF(Feuil1!$A2:$D14,Feuil1!C2) -> 1 | D2: =COUNTIF(Feuil1!$A2:$D14,Feuil1!D2) -> 4
A3: =COUNTIF(Feuil1!$A3:$D15,Feuil1!A3) -> 1 | B3: =COUNTIF(Feuil1!$A3:$D15,Feuil1!B3) -> 1 | C3: =COUNTIF(Feuil1!$A3:$D15,Feuil1!C3) -> 1 | D3: =COUNTIF(Feuil1!$A3:$D15,Feuil1!D3) -> 1
A4: =COUNTIF(Feuil1!$A4:$D16,Feuil1!A4) -> 1 | B4: =COUNTIF(Feuil1!$A4:$D16,Feuil1!B4) -> 1 | C4: =COUNTIF(Feuil1!$A4:$D16,Feuil1!C4) -> 4 | D4: =COUNTIF(Feuil1!$A4:$D16,Feuil1!D4) -> 0
A5: =COUNTIF(Feuil1!$A5:$D17,Feuil1!A5) -> 1 | B5: =COUNTIF(Feuil1!$A5:$D17,Feuil1!B5) -> 1 | C5: =COUNTIF(Feuil1!$A5:$D17,Feuil1!C5) -> 1 | D5: =COUNTIF(Feuil1!$A5:$D17,Feuil1!D5) -> 1
A6: =COUNTIF(Feuil1!$A6:$D18,Feuil1!A6) -> 1 | B6: =COUNTIF(Feuil1!$A6:$D18,Feuil1!B6) -> 1 | C6: =COUNTIF(Feuil1!$A6:$D18,Feuil1!C6) -> 2 | D6: =COUNTIF(Feuil1!$A6:$D18,Feuil1!D6) -> 3
A7: =COUNTIF(Feuil1!$A7:$D19,Feuil1!A7) -> 3 | B7: =COUNTIF(Feuil1!$A7:$D19,Feuil1!B7) -> 1 | C7: =COUNTIF(Feuil1!$A7:$D19,Feuil1!C7) -> 3 | D7: =COUNTIF(Feuil1!$A7:$D19,Feuil1!D7) -> 0
A8: =COUNTIF(Feuil1!$A8:$D20,Feuil1!A8) -> 1 | B8: =COUNTIF(Feuil1!$A8:$D20,Feuil1!B8) -> 1 | C8: =COUNTIF(Feuil1!$A8:$D20,Feuil1!C8) -> 1 | D8: =COUNTIF(Feuil1!$A8:$D20,Feuil1!D8) -> 1
A9: =COUNTIF(Feuil1!$A9:$D21,Feuil1!A9) -> 3 | B9: =COUNTIF(Feuil1!$A9:$D21,Feuil1!B9) -> 1 | C9: =COUNTIF(Feuil1!$A9:$D21,Feuil1!C9) -> 3 | D9: =COUNTIF(Feuil1!$A9:$D21,Feuil1!D9) -> 0
A10: =COUNTIF(Feuil1!$A10:$D22,Feuil1!A10) -> 1 | B10: =COUNTIF(Feuil1!$A10:$D22,Feuil1!B10) -> 1 | C10: =COUNTIF(Feuil1!$A10:$D22,Feuil1!C10) -> 1 | D10: =COUNTIF(Feuil1!$A10:$D22,Feuil1!D10) -> 0
A11: =COUNTIF(Feuil1!$A11:$D23,Feuil1!A11) -> 2 | B11: =COUNTIF(Feuil1!$A11:$D23,Feuil1!B11) -> 2 | C11: =COUNTIF(Feuil1!$A11:$D23,Feuil1!C11) -> 0 | D11: =COUNTIF(Feuil1!$A11:$D23,Feuil1!D11) -> 0
A12: =COUNTIF(Feuil1!$A12:$D24,Feuil1!A12) -> 0 | B12: =COUNTIF(Feuil1!$A12:$D24,Feuil1!B12) -> 1 | C12: =COUNTIF(Feuil1!$A12:$D24,Feuil1!C12) -> 0 | D12: =COUNTIF(Feuil1!$A12:$D24,Feuil1!D12) -> 0
A13: =COUNTIF(Feuil1!$A13:$D25,Feuil1!A13) -> 0 | B13: =COUNTIF(Feuil1!$A13:$D25,Feuil1!B13) -> 0 | C13: =COUNTIF(Feuil1!$A13:$D25,Feuil1!C13) -> 0 | D13: =COUNTIF(Feuil1!$A13:$D25,Feuil1!D13) -> 1

Sheet Feuil3
