Workbook

Sheet Contenant
A1: Code | B1: Labo | C1: Qté prèlevée | D1: Nbre de prélèvement | E1: Contenant standard | F1: Actuel : 1 Contenant | G1: Actuel : 2eme contennant
A2: 1320 | B2: Maquillage | C2: =SUMPRODUCT(('2018'!$A$2:$A$675=A2)*('2018'!$B$2:$B$675=B2)*('2018'!$D$2:$D$675)) -> 0 | D2: =SUMPRODUCT(('2018'!$A$2:$A$675=Contenant!A2)*('2018'!$B$2:$B$675=Contenant!B2)*('2018'!$C$2:$C$675)) -> 0 | E2: 100 | F2: 30 | H2: =SUMPRODUCT('2018'!A2:A675=5) -> 0
A3: 1338 | B3: Maquillage | C3: =SUMPRODUCT(('2018'!$A$2:$A$675=A3)*('2018'!$B$2:$B$675=B3)*('2018'!$D$2:$D$675)) -> 0 | D3: =SUMPRODUCT(('2018'!$A$2:$A$675=Contenant!A3)*('2018'!$B$2:$B$675=Contenant!B3)*('2018'!$C$2:$C$675)) -> 0 | E3: 100 | F3: 30
A4: 1376 | B4: Maquillage | C4: =SUMPRODUCT(('2018'!$A$2:$A$675=A4)*('2018'!$B$2:$B$675=B4)*('2018'!$D$2:$D$675)) -> 0 | D4: =SUMPRODUCT(('2018'!$A$2:$A$675=Contenant!A4)*('2018'!$B$2:$B$675=Contenant!B4)*('2018'!$C$2:$C$675)) -> 0 | E4: 100 | F4: 30
A5: 1381 | B5: Maquillage | C5: =SUMPRODUCT(('2018'!$A$2:$A$675=A5)*('2018'!$B$2:$B$675=B5)*('2018'!$D$2:$D$675)) -> 0 | D5: =SUMPRODUCT(('2018'!$A$2:$A$675=Contenant!A5)*('2018'!$B$2:$B$675=Contenant!B5)*('2018'!$C$2:$C$675)) -> 0 | E5: 100 | F5: 30
A6: 1443 | B6: Soin | C6: =SUMPRODUCT(('2018'!$A$2:$A$675=Contenant!A6)*('2018'!$B$2:$B$675=Contenant!B6)*('2018'!$D$2:$D$675)) -> 0.046 | D6: =SUMPRODUCT(('2018'!$A$2:$A$675=Contenant!A6)*('2018'!$B$2:$B$675=Contenant!B6)*('2018'!$C$2:$C$675)) -> 1 | E6: 100 | F6: 30 | G6: 370
A7: 1675 | B7: Soin | C7: =SUMPRODUCT(('2018'!$A$2:$A$675=Contenant!A7)*('2018'!$B$2:$B$675=Contenant!B7)*('2018'!$D$2:$D$675)) -> 0.02 | D7: =SUMPRODUCT(('2018'!$A$2:$A$675=Contenant!A7)*('2018'!$B$2:$B$675=Contenant!B7)*('2018'!$C$2:$C$675)) -> 1 | E7: 100 | F7: 30
A8: 1676 | B8: Maquillage | C8: =SUMPRODUCT(('2018'!$A$2:$A$675=A8)*('2018'!$B$2:$B$675=B8)*('2018'!$D$2:$D$675)) -> 0 | D8: =SUMPRODUCT(('2018'!$A$2:$A$675=Contenant!A8)*('2018'!$B$2:$B$675=Contenant!B8)*('2018'!$C$2:$C$675)) -> 0 | E8: 100 | F8: 30
A9: 1771 | B9: Maquillage | C9: =SUMPRODUCT(('2018'!$A$2:$A$675=A9)*('2018'!$B$2:$B$675=B9)*('2018'!$D$2:$D$675)) -> 0 | D9: =SUMPRODUCT(('2018'!$A$2:$A$675=Contenant!A9)*('2018'!$B$2:$B$675=Contenant!B9)*('2018'!$C$2:$C$675)) -> 0 | E9: 100 | F9: 30
A10: 1816 | B10: Maquillage | C10: =SUMPRODUCT(('2018'!$A$2:$A$675=A10)*('2018'!$B$2:$B$675=B10)*('2018'!$D$2:$D$675)) -> 0.016 | D10: =SUMPRODUCT(('2018'!$A$2:$A$675=Contenant!A10)*('2018'!$B$2:$B$675=Contenant!B10)*('2018'!$C$2:$C$675)) -> 1 | E10: 100 | F10: 30
A11: 1828 | B11: Maquillage | C11: =SUMPRODUCT(('2018'!$A$2:$A$675=A11)*('2018'!$B$2:$B$675=B11)*('2018'!$D$2:$D$675)) -> 0 | D11: =SUMPRODUCT(('2018'!$A$2:$A$675=Contenant!A11)*('2018'!$B$2:$B$675=Contenant!B11)*('2018'!$C$2:$C$675)) -> 0 | E11: 100 | F11: 30
A12: 2685 | B12: Maquillage | C12: =SUMPRODUCT(('2018'!$A$2:$A$675=A12)*('2018'!$B$2:$B$675=B12)*('2018'!$D$2:$D$675)) -> 0.015 | D12: =SUMPRODUCT(('2018'!$A$2:$A$675=Contenant!A12)*('2018'!$B$2:$B$675=Contenant!B12)*('2018'!$C$2:$C$675)) -> 1 | E12: 100 | F12: 30
A13: 2695 | B13: Maquillage | C13: =SUMPRODUCT(('2018'!$A$2:$A$675=A13)*('2018'!$B$2:$B$675=B13)*('2018'!$D$2:$D$675)) -> 0 | D13: =SUMPRODUCT(('2018'!$A$2:$A$675=Contenant!A13)*('2018'!$B$2:$B$675=Contenant!B13)*('2018'!$C$2:$C$675)) -> 0 | E13: 100 | F13: 30
A14: 3358 | B14: Maquillage | C14: =SUMPRODUCT(('2018'!$A$2:$A$675=A14)*('2018'!$B$2:$B$675=B14)*('2018'!$D$2:$D$675)) -> 0 | D14: =SUMPRODUCT(('2018'!$A$2:$A$675=Contenant!A14)*('2018'!$B$2:$B$675=Contenant!B14)*('2018'!$C$2:$C$675)) -> 0 | E14: 100 | F14: 30
A15: 4496 | B15: Maquillage | C15: =SUMPRODUCT(('2018'!$A$2:$A$675=A15)*('2018'!$B$2:$B$675=B15)*('2018'!$D$2:$D$675)) -> 0 | D15: =SUMPRODUCT(('2018'!$A$2:$A$675=Contenant!A15)*('2018'!$B$2:$B$675=Contenant!B15)*('2018'!$C$2:$C$675)) -> 0 | E15: 100 | F15: 30 | G15: 30
A16: 4531 | B16: Maquillage | C16: =SUMPRODUCT(('2018'!$A$2:$A$675=A16)*('2018'!$B$2:$B$675=B16)*('2018'!$D$2:$D$675)) -> 0 | D16: =SUMPRODUCT(('2018'!$A$2:$A$675=Contenant!A16)*('2018'!$B$2:$B$675=Contenant!B16)*('2018'!$C$2:$C$675)) -> 0 | E16: 100 | F16: 30
A17: 5078 | B17: Maquillage | C17: =SUMPRODUCT(('2018'!$A$2:$A$675=A17)*('2018'!$B$2:$B$675=B17)*('2018'!$D$2:$D$675)) -> 0 | D17: =SUMPRODUCT(('2018'!$A$2:$A$675=Contenant!A17)*('2018'!$B$2:$B$675=Contenant!B17)*('2018'!$C$2:$C$675)) -> 0 | E17: 100 | F17: 30
A18: 5088 | B18: Maquillage | C18: =SUMPRODUCT(('2018'!$A$2:$A$675=A18)*('2018'!$B$2:$B$675=B18)*('2018'!$D$2:$D$675)) -> 0 | D18: =SUMPRODUCT(('2018'!$A$2:$A$675=Contenant!A18)*('2018'!$B$2:$B$675=Contenant!B18)*('2018'!$C$2:$C$675)) -> 0 | E18: 100 | F18: 30
A19: 5433 | B19: Soin | C19: =SUMPRODUCT(('2018'!$A$2:$A$675=Contenant!A19)*('2018'!$B$2:$B$675=Contenant!B19)*('2018'!$D$2:$D$675)) -> 0.034 | D19: =SUMPRODUCT(('2018'!$A$2:$A$675=Contenant!A19)*('2018'!$B$2:$B$675=Contenant!B19)*('2018'!$C$2:$C$675)) -> 1 | E19: 100 | F19: 30
A20: 5438 | B20: Soin | C20: =SUMPRODUCT(('2018'!$A$2:$A$675=Contenant!A20)*('2018'!$B$2:$B$675=Contenant!B20)*('2018'!$D$2:$D$675)) -> 0.019 | D20: =SUMPRODUCT(('2018'!$A$2:$A$675=Contenant!A20)*('2018'!$B$2:$B$675=Contenant!B20)*('2018'!$C$2:$C$675)) -> 1 | E20: 100 | F20: 30
A21: 5439 | B21: Soin | C21: =SUMPRODUCT(('2018'!$A$2:$A$675=Contenant!A21)*('2018'!$B$2:$B$675=Contenant!B21)*('2018'!$D$2:$D$675)) -> 0.914 | D21: =SUMPRODUCT(('2018'!$A$2:$A$675=Contenant!A21)*('2018'!$B$2:$B$675=Contenant!B21)*('2018'!$C$2:$C$675)) -> 1 | E21: 100 | F21: 30
A22: 5534 | B22: Maquillage | C22: =SUMPRODUCT(('2018'!$A$2:$A$675=A22)*('2018'!$B$2:$B$675=B22)*('2018'!$D$2:$D$675)) -> 0 | D22: =SUMPRODUCT(('2018'!$A$2:$A$675=Contenant!A22)*('2018'!$B$2:$B$675=Contenant!B22)*('2018'!$C$2:$C$675)) -> 0 | E22: 100 | F22: 30
A23: 5534 | B23: Soin | C23: =SUMPRODUCT(('2018'!$A$2:$A$675=Contenant!A23)*('2018'!$B$2:$B$675=Contenant!B23)*('2018'!$D$2:$D$675)) -> 0.366 | D23: =SUMPRODUCT(('2018'!$A$2:$A$675=Contenant!A23)*('2018'!$B$2:$B$675=Contenant!B23)*('2018'!$C$2:$C$675)) -> 2 | E23: 100 | F23: 30
A24: 5788 | B24: Maquillage | C24: =SUMPRODUCT(('2018'!$A$2:$A$675=A24)*('2018'!$B$2:$B$675=B24)*('2018'!$D$2:$D$675)) -> 0 | D24: =SUMPRODUCT(('2018'!$A$2:$A$675=Contenant!A24)*('2018'!$B$2:$B$675=Contenant!B24)*('2018'!$C$2:$C$675)) -> 0 | E24: 100 | F24: 30
A25: 6236 | B25: Soin | C25: =SUMPRODUCT(('2018'!$A$2:$A$675=Contenant!A25)*('2018'!$B$2:$B$675=Contenant!B25)*('2018'!$D$2:$D$675)) -> 0.037 | D25: =SUMPRODUCT(('2018'!$A$2:$A$675=Contenant!A25)*('2018'!$B$2:$B$675=Contenant!B25)*('2018'!$C$2:$C$675)) -> 1 | E25: 100 | F25: 30 | G25: 30
A26: 6758 | B26: Maquillage | C26: =SUMPRODUCT(('2018'!$A$2:$A$675=A26)*('2018'!$B$2:$B$675=B26)*('2018'!$D$2:$D$675)) -> 0 | D26: =SUMPRODUCT(('2018'!$A$2:$A$675=Contenant!A26)*('2018'!$B$2:$B$675=Contenant!B26)*('2018'!$C$2:$C$675)) -> 0 | E26: 100 | F26: 30
A27: 7827 | B27: Maquillage | C27: =SUMPRODUCT(('2018'!$A$2:$A$675=A27)*('2018'!$B$2:$B$675=B27)*('2018'!$D$2:$D$675)) -> 0 | D27: =SUMPRODUCT(('2018'!$A$2:$A$675=Contenant!A27)*('2018'!$B$2:$B$675=Contenant!B27)*('2018'!$C$2:$C$675)) -> 0 | E27: 100 | F27: 30
A28: 7907 | B28: Maquillage | C28: =SUMPRODUCT(('2018'!$A$2:$A$675=A28)*('2018'!$B$2:$B$675=B28)*('2018'!$D$2:$D$675)) -> 0 | D28: =SUMPRODUCT(('2018'!$A$2:$A$675=Contenant!A28)*('2018'!$B$2:$B$675=Contenant!B28)*('2018'!$C$2:$C$675)) -> 0 | E28: 100 | F28: 30
A29: 8070 | B29: Maquillage | C29: =SUMPRODUCT(('2018'!$A$2:$A$675=A29)*('2018'!$B$2:$B$675=B29)*('2018'!$D$2:$D$675)) -> 0 | D29: =SUMPRODUCT(('2018'!$A$2:$A$675=Contenant!A29)*('2018'!$B$2:$B$675=Contenant!B29)*('2018'!$C$2:$C$675)) -> 0 | E29: 100 | F29: 30
A30: 8102 | B30: Maquillage | C30: =SUMPRODUCT(('2018'!$A$2:$A$675=A30)*('2018'!$B$2:$B$675=B30)*('2018'!$D$2:$D$675)) -> 0 | D30: =SUMPRODUCT(('2018'!$A$2:$A$675=Contenant!A30)*('2018'!$B$2:$B$675=Contenant!B30)*('2018'!$C$2:$C$675)) -> 0 | E30: 100 | F30: 30
A31: 8587 | B31: Maquillage | C31: =SUMPRODUCT(('2018'!$A$2:$A$675=A31)*('2018'!$B$2:$B$675=B31)*('2018'!$D$2:$D$675)) -> 0 | D31: =SUMPRODUCT(('2018'!$A$2:$A$675=Contenant!A31)*('2018'!$B$2:$B$675=Contenant!B31)*('2018'!$C$2:$C$675)) -> 0 | E31: 100 | F31: 30
A32: 9086 | B32: Maquillage | C32: =SUMPRODUCT(('2018'!$A$2:$A$675=A32)*('2018'!$B$2:$B$675=B32)*('2018'!$D$2:$D$675)) -> 0 | D32: =SUMPRODUCT(('2018'!$A$2:$A$675=Contenant!A32)*('2018'!$B$2:$B$675=Contenant!B32)*('2018'!$C$2:$C$675)) -> 0 | E32: 100 | F32: 30
A33: 9700 | B33: Maquillage | C33: =SUMPRODUCT(('2018'!$A$2:$A$675=A33)*('2018'!$B$2:$B$675=B33)*('2018'!$D$2:$D$675)) -> 0 | D33: =SUMPRODUCT(('2018'!$A$2:$A$675=Contenant!A33)*('2018'!$B$2:$B$675=Contenant!B33)*('2018'!$C$2:$C$675)) -> 0 | E33: 100 | F33: 30
A34: A133 | B34: Soin | C34: =SUMPRODUCT(('2018'!$A$2:$A$675=Contenant!A34)*('2018'!$B$2:$B$675=Contenant!B34)*('2018'!$D$2:$D$675)) -> 0 | D34: =SUMPRODUCT(('2018'!$A$2:$A$675=Contenant!A34)*('2018'!$B$2:$B$675=Contenant!B34)*('2018'!$C$2:$C$675)) -> 0 | E34: 100 | F34: 30
A35: A133 | B35: Maquillage | C35: =SUMPRODUCT(('2018'!$A$2:$A$675=A35)*('2018'!$B$2:$B$675=B35)*('2018'!$D$2:$D$675)) -> 0 | D35: =SUMPRODUCT(('2018'!$A$2:$A$675=Contenant!A35)*('2018'!$B$2:$B$675=Contenant!B35)*('2018'!$C$2:$C$675)) -> 0 | E35: 100 | F35: 30
A36: A322 | B36: Soin | C36: =SUMPRODUCT(('2018'!$A$2:$A$675=Contenant!A36)*('2018'!$B$2:$B$675=Contenant!B36)*('2018'!$D$2:$D$675)) -> 0 | D36: =SUMPRODUCT(('2018'!$A$2:$A$675=Contenant!A36)*('2018'!$B$2:$B$675=Contenant!B36)*('2018'!$C$2:$C$675)) -> 0 | E36: 100 | F36: 30
A37: A838 | B37: Maquillage | C37: =SUMPRODUCT(('2018'!$A$2:$A$675=A37)*('2018'!$B$2:$B$675=B37)*('2018'!$D$2:$D$675)) -> 0 | D37: =SUMPRODUCT(('2018'!$A$2:$A$675=Contenant!A37)*('2018'!$B$2:$B$675=Contenant!B37)*('2018'!$C$2:$C$675)) -> 0 | E37: 100 | F37: 30
A38: B061 | B38: Soin | C38: =SUMPRODUCT(('2018'!$A$2:$A$675=Contenant!A38)*('2018'!$B$2:$B$675=Contenant!B38)*('2018'!$D$2:$D$675)) -> 0 | D38: =SUMPRODUCT(('2018'!$A$2:$A$675=Contenant!A38)*('2018'!$B$2:$B$675=Contenant!B38)*('2018'!$C$2:$C$675)) -> 0 | E38: 100 | F38: 30
A39: B159 | B39: Maquillage | C39: =SUMPRODUCT(('2018'!$A$2:$A$675=A39)*('2018'!$B$2:$B$675=B39)*('2018'!$D$2:$D$675)) -> 0 | D39: =SUMPRODUCT(('2018'!$A$2:$A$675=Contenant!A39)*('2018'!$B$2:$B$675=Contenant!B39)*('2018'!$C$2:$C$675)) -> 0 | E39: 100 | F39: 30
A40: B177 | B40: Soin | C40: =SUMPRODUCT(('2018'!$A$2:$A$675=Contenant!A40)*('2018'!$B$2:$B$675=Contenant!B40)*('2018'!$D$2:$D$675)) -> 0 | D40: =SUMPRODUCT(('2018'!$A$2:$A$675=Contenant!A40)*('2018'!$B$2:$B$675=Contenant!B40)*('2018'!$C$2:$C$675)) -> 0 | E40: 100 | F40: 30
A41: B185 | B41: Soin | C41: =SUMPRODUCT(('2018'!$A$2:$A$675=Contenant!A41)*('2018'!$B$2:$B$675=Contenant!B41)*('2018'!$D$2:$D$675)) -> 0 | D41: =SUMPRODUCT(('2018'!$A$2:$A$675=Contenant!A41)*('2018'!$B$2:$B$675=Contenant!B41)*('2018'!$C$2:$C$675)) -> 0 | E41: 100 | F41: 30 | G41: 470
A42: B783 | B42: Maquillage | C42: =SUMPRODUCT(('2018'!$A$2:$A$675=A42)*('2018'!$B$2:$B$675=B42)*('2018'!$D$2:$D$675)) -> 0 | D42: =SUMPRODUCT(('2018'!$A$2:$A$675=Contenant!A42)*('2018'!$B$2:$B$675=Contenant!B42)*('2018'!$C$2:$C$675)) -> 0 | E42: 100 | F42: 30
A43: B830 | B43: Soin | C43: =SUMPRODUCT(('2018'!$A$2:$A$675=Contenant!A43)*('2018'!$B$2:$B$675=Contenant!B43)*('2018'!$D$2:$D$675)) -> 0 | D43: =SUMPRODUCT(('2018'!$A$2:$A$675=Contenant!A43)*('2018'!$B$2:$B$675=Contenant!B43)*('2018'!$C$2:$C$675)) -> 0 | E43: 100 | F43: 30
A44: B878 | B44: Maquillage | C44: =SUMPRODUCT(('2018'!$A$2:$A$675=A44)*('2018'!$B$2:$B$675=B44)*('2018'!$D$2:$D$675)) -> 0 | D44: =SUMPRODUCT(('2018'!$A$2:$A$675=Contenant!A44)*('2018'!$B$2:$B$675=Contenant!B44)*('2018'!$C$2:$C$675)) -> 0 | E44: 100 | F44: 30
A45: B888 | B45: Soin | C45: =SUMPRODUCT(('2018'!$A$2:$A$675=Contenant!A45)*('2018'!$B$2:$B$675=Contenant!B45)*('2018'!$D$2:$D$675)) -> 0 | D45: =SUMPRODUCT(('2018'!$A$2:$A$675=Contenant!A45)*('2018'!$B$2:$B$675=Contenant!B45)*('2018'!$C$2:$C$675)) -> 0 | E45: 100 | F45: 30
A46: B888 | B46: Maquillage | C46: =SUMPRODUCT(('2018'!$A$2:$A$675=A46)*('2018'!$B$2:$B$675=B46)*('2018'!$D$2:$D$675)) -> 0 | D46: =SUMPRODUCT(('2018'!$A$2:$A$675=Contenant!A46)*('2018'!$B$2:$B$675=Contenant!B46)*('2018'!$C$2:$C$675)) -> 0 | E46: 100 | F46: 30
A47: B919 | B47: Soin | C47: =SUMPRODUCT(('2018'!$A$2:$A$675=Contenant!A47)*('2018'!$B$2:$B$675=Contenant!B47)*('2018'!$D$2:$D$675)) -> 0 | D47: =SUMPRODUCT(('2018'!$A$2:$A$675=Contenant!A47)*('2018'!$B$2:$B$675=Contenant!B47)*('2018'!$C$2:$C$675)) -> 0 | E47: 100 | F47: 30
A48: C099 | B48: Maquillage | C48: =SUMPRODUCT(('2018'!$A$2:$A$675=A48)*('2018'!$B$2:$B$675=B48)*('2018'!$D$2:$D$675)) -> 0 | D48: =SUMPRODUCT(('2018'!$A$2:$A$675=Contenant!A48)*('2018'!$B$2:$B$675=Contenant!B48)*('2018'!$C$2:$C$675)) -> 0 | E48: 100 | F48: 30
A49: C173 | B49: Soin | C49: =SUMPRODUCT(('2018'!$A$2:$A$675=Contenant!A49)*('2018'!$B$2:$B$675=Contenant!B49)*('2018'!$D$2:$D$675)) -> 0 | D49: =SUMPRODUCT(('2018'!$A$2:$A$675=Contenant!A49)*('2018'!$B$2:$B$675=Contenant!B49)*('2018'!$C$2:$C$675)) -> 0 | E49: 100 | F49: 30
A50: C215 | B50: Maquillage | C50: =SUMPRODUCT(('2018'!$A$2:$A$675=A50)*('2018'!$B$2:$B$675=B50)*('2018'!$D$2:$D$675)) -> 0 | D50: =SUMPRODUCT(('2018'!$A$2:$A$675=Contenant!A50)*('2018'!$B$2:$B$675=Contenant!B50)*('2018'!$C$2:$C$675)) -> 0 | E50: 100 | F50: 30
A51: C670 | B51: Maquillage | C51: =SUMPRODUCT(('2018'!$A$2:$A$675=A51)*('2018'!$B$2:$B$675=B51)*('2018'!$D$2:$D$675)) -> 0 | D51: =SUMPRODUCT(('2018'!$A$2:$A$675=Contenant!A51)*('2018'!$B$2:$B$675=Contenant!B51)*('2018'!$C$2:$C$675)) -> 0 | E51: 100 | F51: 30
A52: C817 | B52: Soin | C52: =SUMPRODUCT(('2018'!$A$2:$A$675=Contenant!A52)*('2018'!$B$2:$B$675=Contenant!B52)*('2018'!$D$2:$D$675)) -> 0 | D52: =SUMPRODUCT(('2018'!$A$2:$A$675=Contenant!A52)*('2018'!$B$2:$B$675=Contenant!B52)*('2018'!$C$2:$C$675)) -> 0 | E52: 100 | F52: 30 | G52: frn
A53: C990 | B53: Soin | C53: =SUMPRODUCT(('2018'!$A$2:$A$675=Contenant!A53)*('2018'!$B$2:$B$675=Contenant!B53)*('2018'!$D$2:$D$675)) -> 0 | D53: =SUMPRODUCT(('2018'!$A$2:$A$675=Contenant!A53)*('2018'!$B$2:$B$675=Contenant!B53)*('2018'!$C$2:$C$675)) -> 0 | E53: 100 | F53: 30
A54: D150 | B54: Soin | C54: =SUMPRODUCT(('2018'!$A$2:$A$675=Contenant!A54)*('2018'!$B$2:$B$675=Contenant!B54)*('2018'!$D$2:$D$675)) -> 0 | D54: =SUMPRODUCT(('2018'!$A$2:$A$675=Contenant!A54)*('2018'!$B$2:$B$675=Contenant!B54)*('2018'!$C$2:$C$675)) -> 0 | E54: 100 | F54: 30
A55: D256 | B55: Maquillage | C55: =SUMPRODUCT(('2018'!$A$2:$A$675=A55)*('2018'!$B$2:$B$675=B55)*('2018'!$D$2:$D$675)) -> 0.031 | D55: =SUMPRODUCT(('2018'!$A$2:$A$675=Contenant!A55)*('2018'!$B$2:$B$675=Contenant!B55)*('2018'!$C$2:$C$675)) -> 1 | E55: 100 | F55: 30
A56: D780 | B56: Soin | C56: =SUMPRODUCT(('2018'!$A$2:$A$675=Contenant!A56)*('2018'!$B$2:$B$675=Contenant!B56)*('2018'!$D$2:$D$675)) -> 0 | D56: =SUMPRODUCT(('2018'!$A$2:$A$675=Contenant!A56)*('2018'!$B$2:$B$675=Contenant!B56)*('2018'!$C$2:$C$675)) -> 0 | E56: 100 | F56: 30
A57: E007 | B57: Soin | C57: =SUMPRODUCT(('2018'!$A$2:$A$675=Contenant!A57)*('2018'!$B$2:$B$675=Contenant!B57)*('2018'!$D$2:$D$675)) -> 0 | D57: =SUMPRODUCT(('2018'!$A$2:$A$675=Contenant!A57)*('2018'!$B$2:$B$675=Contenant!B57)*('2018'!$C$2:$C$675)) -> 0 | E57: 100 | F57: 30
A58: E598 | B58: Maquillage | C58: =SUMPRODUCT(('2018'!$A$2:$A$675=A58)*('2018'!$B$2:$B$675=B58)*('2018'!$D$2:$D$675)) -> 0 | D58: =SUMPRODUCT(('2018'!$A$2:$A$675=Contenant!A58)*('2018'!$B$2:$B$675=Contenant!B58)*('2018'!$C$2:$C$675)) -> 0 | E58: 100 | F58: 30
A59: E642 | B59: Maquillage | C59: =SUMPRODUCT(('2018'!$A$2:$A$675=A59)*('2018'!$B$2:$B$675=B59)*('2018'!$D$2:$D$675)) -> 0.034 | D59: =SUMPRODUCT(('2018'!$A$2:$A$675=Contenant!A59)*('2018'!$B$2:$B$675=Contenant!B59)*('2018'!$C$2:$C$675)) -> 1 | E59: 100 | F59: 30
A60: E690 | B60: Maquillage | C60: =SUMPRODUCT(('2018'!$A$2:$A$675=A60)*('2018'!$B$2:$B$675=B60)*('2018'!$D$2:$D$675)) -> 0 | D60: =SUMPRODUCT(('2018'!$A$2:$A$675=Contenant!A60)*('2018'!$B$2:$B$675=Contenant!B60)*('2018'!$C$2:$C$675)) -> 0 | E60: 100 | F60: 30
A61: E738 | B61: Maquillage | C61: =SUMPRODUCT(('2018'!$A$2:$A$675=A61)*('2018'!$B$2:$B$675=B61)*('2018'!$D$2:$D$675)) -> 0.111 | D61: =SUMPRODUCT(('2018'!$A$2:$A$675=Contenant!A61)*('2018'!$B$2:$B$675=Contenant!B61)*('2018'!$C$2:$C$675)) -> 3 | E61: 100 | F61: 30 | G61: 100
A62: E942 | B62: Soin | C62: =SUMPRODUCT(('2018'!$A$2:$A$675=Contenant!A62)*('2018'!$B$2:$B$675=Contenant!B62)*('2018'!$D$2:$D$675)) -> 0 | D62: =SUMPRODUCT(('2018'!$A$2:$A$675=Contenant!A62)*('2018'!$B$2:$B$675=Contenant!B62)*('2018'!$C$2:$C$675)) -> 0 | E62: 100 | F62: 30
A63: E948 | B63: Soin | C63: =SUMPRODUCT(('2018'!$A$2:$A$675=Contenant!A63)*('2018'!$B$2:$B$675=Contenant!B63)*('2018'!$D$2:$D$675)) -> 0 | D63: =SUMPRODUCT(('2018'!$A$2:$A$675=Contenant!A63)*('2018'!$B$2:$B$675=Contenant!B63)*('2018'!$C$2:$C$675)) -> 0 | E63: 100 | F63: 30
A64: E953 | B64: Soin | C64: =SUMPRODUCT(('2018'!$A$2:$A$675=Contenant!A64)*('2018'!$B$2:$B$675=Contenant!B64)*('2018'!$D$2:$D$675)) -> 0 | D64: =SUMPRODUCT(('2018'!$A$2:$A$675=Contenant!A64)*('2018'!$B$2:$B$675=Contenant!B64)*('2018'!$C$2:$C$675)) -> 0 | E64: 100 | F64: 30
A65: E964 | B65: Maquillage | C65: =SUMPRODUCT(('2018'!$A$2:$A$675=A65)*('2018'!$B$2:$B$675=B65)*('2018'!$D$2:$D$675)) -> 0 | D65: =SUMPRODUCT(('2018'!$A$2:$A$675=Contenant!A65)*('2018'!$B$2:$B$675=Contenant!B65)*('2018'!$C$2:$C$675)) -> 0 | E65: 100 | F65: 30
A66: E965 | B66: Soin | C66: =SUMPRODUCT(('2018'!$A$2:$A$675=Contenant!A66)*('2018'!$B$2:$B$675=Contenant!B66)*('2018'!$D$2:$D$675)) -> 0 | D66: =SUMPRODUCT(('2018'!$A$2:$A$675=Contenant!A66)*('2018'!$B$2:$B$675=Contenant!B66)*('2018'!$C$2:$C$675)) -> 0 | E66: 100 | F66: 30
A67: E985 | B67: Soin | C67: =SUMPRODUCT(('2018'!$A$2:$A$675=Contenant!A67)*('2018'!$B$2:$B$675=Contenant!B67)*('2018'!$D$2:$D$675)) -> 0 | D67: =SUMPRODUCT(('2018'!$A$2:$A$675=Contenant!A67)*('2018'!$B$2:$B$675=Contenant!B67)*('2018'!$C$2:$C$675)) -> 0 | E67: 100 | F67: 30
A68: E987 | B68: Maquillage | C68: =SUMPRODUCT(('2018'!$A$2:$A$675=A68)*('2018'!$B$2:$B$675=B68)*('2018'!$D$2:$D$675)) -> 0 | D68: =SUMPRODUCT(('2018'!$A$2:$A$675=Contenant!A68)*('2018'!$B$2:$B$675=Contenant!B68)*('2018'!$C$2:$C$675)) -> 0 | E68: 100 | F68: 30
A69: F213 | B69: Soin | C69: =SUMPRODUCT(('2018'!$A$2:$A$675=Contenant!A69)*('2018'!$B$2:$B$675=Contenant!B69)*('2018'!$D$2:$D$675)) -> 0 | D69: =SUMPRODUCT(('2018'!$A$2:$A$675=Contenant!A69)*('2018'!$B$2:$B$675=Contenant!B69)*('2018'!$C$2:$C$675)) -> 0 | E69: 100 | F69: 30
A70: F256 | B70: Maquillage | C70: =SUMPRODUCT(('2018'!$A$2:$A$675=A70)*('2018'!$B$2:$B$675=B70)*('2018'!$D$2:$D$675)) -> 0 | D70: =SUMPRODUCT(('2018'!$A$2:$A$675=Contenant!A70)*('2018'!$B$2:$B$675=Contenant!B70)*('2018'!$C$2:$C$675)) -> 0 | E70: 100 | F70: 30
A71: F312 | B71: Maquillage | C71: =SUMPRODUCT(('2018'!$A$2:$A$675=A71)*('2018'!$B$2:$B$675=B71)*('2018'!$D$2:$D$675)) -> 0.03 | D71: =SUMPRODUCT(('2018'!$A$2:$A$675=Contenant!A71)*('2018'!$B$2:$B$675=Contenant!B71)*('2018'!$C$2:$C$675)) -> 1 | E71: 100 | F71: 30
A72: F689 | B72: Soin | C72: =SUMPRODUCT(('2018'!$A$2:$A$675=Contenant!A72)*('2018'!$B$2:$B$675=Contenant!B72)*('2018'!$D$2:$D$675)) -> 0 | D72: =SUMPRODUCT(('2018'!$A$2:$A$675=Contenant!A72)*('2018'!$B$2:$B$675=Contenant!B72)*('2018'!$C$2:$C$675)) -> 0 | E72: 100 | F72: 30
A73: F690 | B73: Soin | C73: =SUMPRODUCT(('2018'!$A$2:$A$675=Contenant!A73)*('2018'!$B$2:$B$675=Contenant!B73)*('2018'!$D$2:$D$675)) -> 0 | D73: =SUMPRODUCT(('2018'!$A$2:$A$675=Contenant!A73)*('2018'!$B$2:$B$675=Contenant!B73)*('2018'!$C$2:$C$675)) -> 0 | E73: 100 | F73: 30
A74: F691 | B74: Soin | C74: =SUMPRODUCT(('2018'!$A$2:$A$675=Contenant!A74)*('2018'!$B$2:$B$675=Contenant!B74)*('2018'!$D$2:$D$675)) -> 0 | D74: =SUMPRODUCT(('2018'!$A$2:$A$675=Contenant!A74)*('2018'!$B$2:$B$675=Contenant!B74)*('2018'!$C$2:$C$675)) -> 0 | E74: 100 | F74: 30
A75: F793 | B75: Maquillage | C75: =SUMPRODUCT(('2018'!$A$2:$A$675=A75)*('2018'!$B$2:$B$675=B75)*('2018'!$D$2:$D$675)) -> 0 | D75: =SUMPRODUCT(('2018'!$A$2:$A$675=Contenant!A75)*('2018'!$B$2:$B$675=Contenant!B75)*('2018'!$C$2:$C$675)) -> 0 | E75: 100 | F75: 30
A76: F841 | B76: Maquillage | C76: =SUMPRODUCT(('2018'!$A$2:$A$675=A76)*('2018'!$B$2:$B$675=B76)*('2018'!$D$2:$D$675)) -> 0 | D76: =SUMPRODUCT(('2018'!$A$2:$A$675=Contenant!A76)*('2018'!$B$2:$B$675=Contenant!B76)*('2018'!$C$2:$C$675)) -> 0 | E76: 100 | F76: 30
A77: F842 | B77: Soin | C77: =SUMPRODUCT(('2018'!$A$2:$A$675=Contenant!A77)*('2018'!$B$2:$B$675=Contenant!B77)*('2018'!$D$2:$D$675)) -> 0 | D77: =SUMPRODUCT(('2018'!$A$2:$A$675=Contenant!A77)*('2018'!$B$2:$B$675=Contenant!B77)*('2018'!$C$2:$C$675)) -> 0 | E77: 100 | F77: 30
A78: F842 | B78: Maquillage | C78: =SUMPRODUCT(('2018'!$A$2:$A$675=A78)*('2018'!$B$2:$B$675=B78)*('2018'!$D$2:$D$675)) -> 0 | D78: =SUMPRODUCT(('2018'!$A$2:$A$675=Contenant!A78)*('2018'!$B$2:$B$675=Contenant!B78)*('2018'!$C$2:$C$675)) -> 0 | E78: 100 | F78: 30
A79: F843 | B79: Maquillage | C79: =SUMPRODUCT(('2018'!$A$2:$A$675=A79)*('2018'!$B$2:$B$675=B79)*('2018'!$D$2:$D$675)) -> 0 | D79: =SUMPRODUCT(('2018'!$A$2:$A$675=Contenant!A79)*('2018'!$B$2:$B$675=Contenant!B79)*('2018'!$C$2:$C$675)) -> 0 | E79: 100 | F79: 30
A80: F843 | B80: Soin | C80: =SUMPRODUCT(('2018'!$A$2:$A$675=Contenant!A80)*('2018'!$B$2:$B$675=Contenant!B80)*('2018'!$D$2:$D$675)) -> 0 | D80: =SUMPRODUCT(('2018'!$A$2:$A$675=Contenant!A80)*('2018'!$B$2:$B$675=Contenant!B80)*('2018'!$C$2:$C$675)) -> 0 | E80: 100 | F80: 30
A81: F951 | B81: Soin | C81: =SUMPRODUCT(('2018'!$A$2:$A$675=Contenant!A81)*('2018'!$B$2:$B$675=Contenant!B81)*('2018'!$D$2:$D$675)) -> 0 | D81: =SUMPRODUCT(('2018'!$A$2:$A$675=Contenant!A81)*('2018'!$B$2:$B$675=Contenant!B81)*('2018'!$C$2:$C$675)) -> 0 | E81: 100 | F81: 30
A82: G027 | B82: Soin | C82: =SUMPRODUCT(('2018'!$A$2:$A$675=Contenant!A82)*('2018'!$B$2:$B$675=Contenant!B82)*('2018'!$D$2:$D$675)) -> 0 | D82: =SUMPRODUCT(('2018'!$A$2:$A$675=Contenant!A82)*('2018'!$B$2:$B$675=Contenant!B82)*('2018'!$C$2:$C$675)) -> 0 | E82: 100 | F82: 30
A83: G075 | B83: Maquillage | C83: =SUMPRODUCT(('2018'!$A$2:$A$675=A83)*('2018'!$B$2:$B$675=B83)*('2018'!$D$2:$D$675)) -> 0.034 | D83: =SUMPRODUCT(('2018'!$A$2:$A$675=Contenant!A83)*('2018'!$B$2:$B$675=Contenant!B83)*('2018'!$C$2:$C$675)) -> 1 | E83: 100 | F83: 30
A84: G079 | B84: Soin | C84: =SUMPRODUCT(('2018'!$A$2:$A$675=Contenant!A84)*('2018'!$B$2:$B$675=Contenant!B84)*('2018'!$D$2:$D$675)) -> 0 | D84: =SUMPRODUCT(('2018'!$A$2:$A$675=Contenant!A84)*('2018'!$B$2:$B$675=Contenant!B84)*('2018'!$C$2:$C$675)) -> 0 | E84: 100 | F84: 30
A85: G187 | B85: Soin | C85: =SUMPRODUCT(('2018'!$A$2:$A$675=Contenant!A85)*('2018'!$B$2:$B$675=Contenant!B85)*('2018'!$D$2:$D$675)) -> 0 | D85: =SUMPRODUCT(('2018'!$A$2:$A$675=Contenant!A85)*('2018'!$B$2:$B$675=Contenant!B85)*('2018'!$C$2:$C$675)) -> 0 | E85: 100 | F85: 30
A86: G194 | B86: Maquillage | C86: =SUMPRODUCT(('2018'!$A$2:$A$675=A86)*('2018'!$B$2:$B$675=B86)*('2018'!$D$2:$D$675)) -> 0.027 | D86: =SUMPRODUCT(('2018'!$A$2:$A$675=Contenant!A86)*('2018'!$B$2:$B$675=Contenant!B86)*('2018'!$C$2:$C$675)) -> 1 | E86: 100 | F86: 30
A87: G195 | B87: Maquillage | C87: =SUMPRODUCT(('2018'!$A$2:$A$675=A87)*('2018'!$B$2:$B$675=B87)*('2018'!$D$2:$D$675)) -> 0 | D87: =SUMPRODUCT(('2018'!$A$2:$A$675=Contenant!A87)*('2018'!$B$2:$B$675=Contenant!B87)*('2018'!$C$2:$C$675)) -> 0 | E87: 100 | F87: 30
A88: G202 | B88: Maquillage | C88: =SUMPRODUCT(('2018'!$A$2:$A$675=A88)*('2018'!$B$2:$B$675=B88)*('2018'!$D$2:$D$675)) -> 0 | D88: =SUMPRODUCT(('2018'!$A$2:$A$675=Contenant!A88)*('2018'!$B$2:$B$675=Contenant!B88)*('2018'!$C$2:$C$675)) -> 0 | E88: 100 | F88: 30
A89: G342 | B89: Maquillage | C89: =SUMPRODUCT(('2018'!$A$2:$A$675=A89)*('2018'!$B$2:$B$675=B89)*('2018'!$D$2:$D$675)) -> 0 | D89: =SUMPRODUCT(('2018'!$A$2:$A$675=Contenant!A89)*('2018'!$B$2:$B$675=Contenant!B89)*('2018'!$C$2:$C$675)) -> 0 | E89: 100 | F89: 30
A90: G423 | B90: Soin | C90: =SUMPRODUCT(('2018'!$A$2:$A$675=Contenant!A90)*('2018'!$B$2:$B$675=Contenant!B90)*('2018'!$D$2:$D$675)) -> 0 | D90: =SUMPRODUCT(('2018'!$A$2:$A$675=Contenant!A90)*('2018'!$B$2:$B$675=Contenant!B90)*('2018'!$C$2:$C$675)) -> 0 | E90: 100 | F90: 30
A91: G492 | B91: Maquillage | C91: =SUMPRODUCT(('2018'!$A$2:$A$675=A91)*('2018'!$B$2:$B$675=B91)*('2018'!$D$2:$D$675)) -> 0 | D91: =SUMPRODUCT(('2018'!$A$2:$A$675=Contenant!A91)*('2018'!$B$2:$B$675=Contenant!B91)*('2018'!$C$2:$C$675)) -> 0 | E91: 100 | F91: 30
A92: G669 | B92: Maquillage | C92: =SUMPRODUCT(('2018'!$A$2:$A$675=A92)*('2018'!$B$2:$B$675=B92)*('2018'!$D$2:$D$675)) -> 0 | D92: =SUMPRODUCT(('2018'!$A$2:$A$675=Contenant!A92)*('2018'!$B$2:$B$675=Contenant!B92)*('2018'!$C$2:$C$675)) -> 0 | E92: 100 | F92: 30
A93: G865 | B93: Soin | C93: =SUMPRODUCT(('2018'!$A$2:$A$675=Contenant!A93)*('2018'!$B$2:$B$675=Contenant!B93)*('2018'!$D$2:$D$675)) -> 0 | D93: =SUMPRODUCT(('2018'!$A$2:$A$675=Contenant!A93)*('2018'!$B$2:$B$675=Contenant!B93)*('2018'!$C$2:$C$675)) -> 0 | E93: 100 | F93: 30
A94: H119 | B94: Soin | C94: =SUMPRODUCT(('2018'!$A$2:$A$675=Contenant!A94)*('2018'!$B$2:$B$675=Contenant!B94)*('2018'!$D$2:$D$675)) -> 0 | D94: =SUMPRODUCT(('2018'!$A$2:$A$675=Contenant!A94)*('2018'!$B$2:$B$675=Contenant!B94)*('2018'!$C$2:$C$675)) -> 0 | E94: 100 | F94: 30
A95: H319 | B95: Maquillage | C95: =SUMPRODUCT(('2018'!$A$2:$A$675=A95)*('2018'!$B$2:$B$675=B95)*('2018'!$D$2:$D$675)) -> 0 | D95: =SUMPRODUCT(('2018'!$A$2:$A$675=Contenant!A95)*('2018'!$B$2:$B$675=Contenant!B95)*('2018'!$C$2:$C$675)) -> 0 | E95: 100 | F95: 30
A96: H319 | B96: Soin | C96: =SUMPRODUCT(('2018'!$A$2:$A$675=Contenant!A96)*('2018'!$B$2:$B$675=Contenant!B96)*('2018'!$D$2:$D$675)) -> 0 | D96: =SUMPRODUCT(('2018'!$A$2:$A$675=Contenant!A96)*('2018'!$B$2:$B$675=Contenant!B96)*('2018'!$C$2:$C$675)) -> 0 | E96: 100 | F96: 30
A97: H459 | B97: Soin | C97: =SUMPRODUCT(('2018'!$A$2:$A$675=Contenant!A97)*('2018'!$B$2:$B$675=Contenant!B97)*('2018'!$D$2:$D$675)) -> 0 | D97: =SUMPRODUCT(('2018'!$A$2:$A$675=Contenant!A97)*('2018'!$B$2:$B$675=Contenant!B97)*('2018'!$C$2:$C$675)) -> 0 | E97: 100 | F97: 30
A98: H543 | B98: Maquillage | C98: =SUMPRODUCT(('2018'!$A$2:$A$675=A98)*('2018'!$B$2:$B$675=B98)*('2018'!$D$2:$D$675)) -> 0 | D98: =SUMPRODUCT(('2018'!$A$2:$A$675=Contenant!A98)*('2018'!$B$2:$B$675=Contenant!B98)*('2018'!$C$2:$C$675)) -> 0 | E98: 100 | F98: 30
A99: H543 | B99: Soin | C99: =SUMPRODUCT(('2018'!$A$2:$A$675=Contenant!A99)*('2018'!$B$2:$B$675=Contenant!B99)*('2018'!$D$2:$D$675)) -> 0 | D99: =SUMPRODUCT(('2018'!$A$2:$A$675=Contenant!A99)*('2018'!$B$2:$B$675=Contenant!B99)*('2018'!$C$2:$C$675)) -> 0 | E99: 100 | F99: 30 | G99: 100
A100: H592 | B100: Maquillage | C100: =SUMPRODUCT(('2018'!$A$2:$A$675=A100)*('2018'!$B$2:$B$675=B100)*('2018'!$D$2:$D$675)) -> 0 | D100: =SUMPRODUCT(('2018'!$A$2:$A$675=Contenant!A100)*('2018'!$B$2:$B$675=Contenant!B100)*('2018'!$C$2:$C$675)) -> 0 | E100: 100 | F100: 30
...

Sheet 2018
A1: Code | B1: Labotaroire | C1: Nbre de prélèvement | D1: Qté prèlevée
A2: 1543 | B2: Soin | C2: 13 | D2: 8.68
A3: 1117 | B3: Soin | C3: 3 | D3: 1.447
A4: 1119 | B4: Soin | C4: 2 | D4: 0.163
A5: 1121 | B5: Maquillage | C5: 2 | D5: 2.233
A6: 1143 | B6: Maquillage | C6: 1 | D6: 0.041
A7: 1143 | B7: Soin | C7: 1 | D7: 0.151
A8: 1155 | B8: Soin | C8: 1 | D8: 0.162
A9: 1196 | B9: Maquillage | C9: 2 | D9: 0.571
A10: 1197 | B10: Maquillage | C10: 3 | D10: 1.055
A11: 1206 | B11: Maquillage | C11: 1 | D11: 0.56
A12: 1212 | B12: Maquillage | C12: 1 | D12: 0.201
A13: 1221 | B13: Maquillage | C13: 1 | D13: 0.214
... A212: 9757 | B212: Soin | C212: 1 | D212: 0.015
A213: A031 | B213: Maquillage | C213: 1 | D213: 0.102
A214: A062 | B214: Soin | C214: 2 | D214: 0.751
A215: A066 | B215: Soin | C215: 3 | D215: 1.078
A216: A108 | B216: Soin | C216: 1 | D216: 0.156
A217: A143 | B217: Soin | C217: 1 | D217: 0.347
A218: A191 | B218: Maquillage | C218: 4 | D218: 1.831
A219: A191 | B219: Soin | C219: 1 | D219: 0.292
A220: A330 | B220: Maquillage | C220: 1 | D220: 0.097
A221: A414 | B221: Maquillage | C221: 2 | D221: 0.6214
A222: A414 | B222: Soin | C222: 2 | D222: 0.576
A223: A438 | B223: Soin | C223: 1 | D223: 0.1
A224: A485 | B224: Soin | C224: 2 | D224: 0.404
... A675: O243 | B675: Maquillage | C675: 5 | D675: 1.855
C677: =SUM(C1:C675) -> 1182
