Workbook

Sheet Contenant
A1: Code | B1: Labo | C1: Qté prèlevée | D1: Nbre de prélèvement | E1: Contenant standard | F1: Actuel : 1 Contenant | G1: Actuel : 2eme contennant
A2: 1320 | B2: Maquillage | C2: =SUMPRODUCT(('2018'!$A$2:$A$675=A2)*('2018'!$B$2:$B$675=B2)*('2018'!$D$2:$D$675)) -> 0 | D2: =SUMPRODUCT(('2018'!$A$2:$A$675=Contenant!A2)*('2018'!$B$2:$B$675=Contenant!B2)*('2018'!$C$2:$C$675)) -> 0 | E2: 100 | F2: 30 | H2: =SUMPRODUCT('2018'!A2:A675=5) -> 0
A3: 1338 | B3: Maquillage | C3: =SUMPRODUCT(('2018'!$A$2:$A$675=A3)*('2018'!$B$2:$B$675=B3)*('2018'!$D$2:$D$675)) -> 0 | D3: =SUMPRODUCT(('2018'!$A$2:$A$675=Contenant!A3)*('2018'!$B$2:$B$675=Contenant!B3)*('2018'!$C$2:$C$675)) -> 0 | E3: 100 | F3: 30
A4: 1376 | B4: Maquillage | C4: =SUMPRODUCT(('2018'!$A$2:$A$675=A4)*('2018'!$B$2:$B$675=B4)*('2018'!$D$2:$D$675)) -> 0 | D4: =SUMPRODUCT(('2018'!$A$2:$A$675=Contenant!A4)*('2018'!$B$2:$B$675=Contenant!B4)*('2018'!$C$2:$C$675)) -> 0 | E4: 100 | F4: 30
A5: 1381 | B5: Maquillage | C5: =SUMPRODUCT(('2018'!$A$2:$A$675=A5)*('2018'!$B$2:$B$675=B5)*('2018'!$D$2:$D$675)) -> 0 | D5: =SUMPRODUCT(('2018'!$A$2:$A$675=Contenant!A5)*('2018'!$B$2:$B$675=Contenant!B5)*('2018'!$C$2:$C$675)) -> 0 | E5: 100 | F5: 30
A6: 1443 | B6: Soin | C6: =SUMPRODUCT(('2018'!$A$2:$A$675=Contenant!A6)*('2018'!$B$2:$B$675=Contenant!B6)*('2018'!$D$2:$D$675)) -> 0.046 | D6: =SUMPRODUCT(('2018'!$A$2:$A$675=Contenant!A6)*('2018'!$B$2:$B$675=Contenant!B6)*('2018'!$C$2:$C$675)) -> 1 | E6: 100 | F6: 30 | G6: 370
A7: 1675 | B7: Soin | C7: =SUMPRODUCT(('2018'!$A$2:$A$675=Contenant!A7)*('2018'!$B$2:$B$675=Contenant!B7)*('2018'!$D$2:$D$675)) -> 0.02 | D7: =SUMPRODUCT(('2018'!$A$2:$A$675=Contenant!A7)*('2018'!$B$2:$B$675=Contenant!B7)*('2018'!$C$2:$C$675)) -> 1 | E7: 100 | F7: 30
A8: 1676 | B8: Maquillage | C8: =SUMPRODUCT(('2018'!$A$2:$A$675=A8)*('2018'!$B$2:$B$675=B8)*('2018'!$D$2:$D$675)) -> 0 | D8: =SUMPRODUCT(('2018'!$A$2:$A$675=Contenant!A8)*('2018'!$B$2:$B$675=Contenant!B8)*('2018'!$C$2:$C$675)) -> 0 | E8: 100 | F8: 30
A9: 1771 | B9: Maquillage | C9: =SUMPRODUCT(('2018'!$A$2:$A$675=A9)*('2018'!$B$2:$B$675=B9)*('2018'!$D$2:$D$675)) -> 0 | D9: =SUMPRODUCT(('2018'!$A$2:$A$675=Contenant!A9)*('2018'!$B$2:$B$675=Contenant!B9)*('2018'!$C$2:$C$675)) -> 0 | E9: 100 | F9: 30
A10: 1816 | B10: Maquillage | C10: =SUMPRODUCT(('2018'!$A$2:$A$675=A10)*('2018'!$B$2:$B$675=B10)*('2018'!$D$2:$D$675)) -> 0.016 | D10: =SUMPRODUCT(('2018'!$A$2:$A$675=Contenant!A10)*('2018'!$B$2:$B$675=Contenant!B10)*('2018'!$C$2:$C$675)) -> 1 | E10: 100 | F10: 30
A11: 1828 | B11: Maquillage | C11: =SUMPRODUCT(('2018'!$A$2:$A$675=A11)*('2018'!$B$2:$B$675=B11)*('2018'!$D$2:$D$675)) -> 0 | D11: =SUMPRODUCT(('2018'!$A$2:$A$675=Contenant!A11)*('2018'!$B$2:$B$675=Contenant!B11)*('2018'!$C$2:$C$675)) -> 0 | E11: 100 | F11: 30
A12: 2685 | B12: Maquillage | C12: =SUMPRODUCT(('2018'!$A$2:$A$675=A12)*('2018'!$B$2:$B$675=B12)*('2018'!$D$2:$D$675)) -> 0.015 | D12: =SUMPRODUCT(('2018'!$A$2:$A$675=Contenant!A12)*('2018'!$B$2:$B$675=Contenant!B12)*('2018'!$C$2:$C$675)) -> 1 | E12: 100 | F12: 30
A13: 2695 | B13: Maquillage | C13: =SUMPRODUCT(('2018'!$A$2:$A$675=A13)*('2018'!$B$2:$B$675=B13)*('2018'!$D$2:$D$675)) -> 0 | D13: =SUMPRODUCT(('2018'!$A$2:$A$675=Contenant!A13)*('2018'!$B$2:$B$675=Contenant!B13)*('2018'!$C$2:$C$675)) -> 0 | E13: 100 | F13: 30
A14: 3358 | B14: Maquillage | C14: =SUMPRODUCT(('2018'!$A$2:$A$675=A14)*('2018'!$B$2:$B$675=B14)*('2018'!$D$2:$D$675)) -> 0 | D14: =SUMPRODUCT(('2018'!$A$2:$A$675=Contenant!A14)*('2018'!$B$2:$B$675=Contenant!B14)*('2018'!$C$2:$C$675)) -> 0 | E14: 100 | F14: 30
A15: 4496 | B15: Maquillage | C15: =SUMPRODUCT(('2018'!$A$2:$A$675=A15)*('2018'!$B$2:$B$675=B15)*('2018'!$D$2:$D$675)) -> 0 | D15: =SUMPRODUCT(('2018'!$A$2:$A$675=Contenant!A15)*('2018'!$B$2:$B$675=Contenant!B15)*('2018'!$C$2:$C$675)) -> 0 | E15: 100 | F15: 30 | G15: 30
A16: 4531 | B16: Maquillage | C16: =SUMPRODUCT(('2018'!$A$2:$A$675=A16)*('2018'!$B$2:$B$675=B16)*('2018'!$D$2:$D$675)) -> 0 | D16: =SUMPRODUCT(('2018'!$A$2:$A$675=Contenant!A16)*('2018'!$B$2:$B$675=Contenant!B16)*('2018'!$C$2:$C$675)) -> 0 | E16: 100 | F16: 30
A17: 5078 | B17: Maquillage | C17: =SUMPRODUCT(('2018'!$A$2:$A$675=A17)*('2018'!$B$2:$B$675=B17)*('2018'!$D$2:$D$675)) -> 0 | D17: =SUMPRODUCT(('2018'!$A$2:$A$675=Contenant!A17)*('2018'!$B$2:$B$675=Contenant!B17)*('2018'!$C$2:$C$675)) -> 0 | E17: 100 | F17: 30
A18: 5088 | B18: Maquillage | C18: =SUMPRODUCT(('2018'!$A$2:$A$675=A18)*('2018'!$B$2:$B$675=B18)*('2018'!$D$2:$D$675)) -> 0 | D18: =SUMPRODUCT(('2018'!$A$2:$A$675=Contenant!A18)*('2018'!$B$2:$B$675=Contenant!B18)*('2018'!$C$2:$C$675)) -> 0 | E18: 100 | F18: 30
A19: 5433 | B19: Soin | C19: =SUMPRODUCT(('2018'!$A$2:$A$675=Contenant!A19)*('2018'!$B$2:$B$675=Contenant!B19)*('2018'!$D$2:$D$675)) -> 0.034 | D19: =SUMPRODUCT(('2018'!$A$2:$A$675=Contenant!A19)*('2018'!$B$2:$B$675=Contenant!B19)*('2018'!$C$2:$C$675)) -> 1 | E19: 100 | F19: 30
A20: 5438 | B20: Soin | C20: =SUMPRODUCT(('2018'!$A$2:$A$675=Contenant!A20)*('2018'!$B$2:$B$675=Contenant!B20)*('2018'!$D$2:$D$675)) -> 0.019 | D20: =SUMPRODUCT(('2018'!$A$2:$A$675=Contenant!A20)*('2018'!$B$2:$B$675=Contenant!B20)*('2018'!$C$2:$C$675)) -> 1 | E20: 100 | F20: 30
A21: 5439 | B21: Soin | C21: =SUMPRODUCT(('2018'!$A$2:$A$675=Contenant!A21)*('2018'!$B$2:$B$675=Contenant!B21)*('2018'!$D$2:$D$675)) -> 0.914 | D21: =SUMPRODUCT(('2018'!$A$2:$A$675=Contenant!A21)*('2018'!$B$2:$B$675=Contenant!B21)*('2018'!$C$2:$C$675)) -> 1 | E21: 100 | F21: 30
A22: 5534 | B22: Maquillage | C22: =SUMPRODUCT(('2018'!$A$2:$A$675=A22)*('2018'!$B$2:$B$675=B22)*('2018'!$D$2:$D$675)) -> 0 | D22: =SUMPRODUCT(('2018'!$A$2:$A$675=Contenant!A22)*('2018'!$B$2:$B$675=Contenant!B22)*('2018'!$C$2:$C$675)) -> 0 | E22: 100 | F22: 30
A23: 5534 | B23: Soin | C23: =SUMPRODUCT(('2018'!$A$2:$A$675=Contenant!A23)*('2018'!$B$2:$B$675=Contenant!B23)*('2018'!$D$2:$D$675)) -> 0.366 | D23: =SUMPRODUCT(('2018'!$A$2:$A$675=Contenant!A23)*('2018'!$B$2:$B$675=Contenant!B23)*('2018'!$C$2:$C$675)) -> 2 | E23: 100 | F23: 30
A24: 5788 | B24: Maquillage | C24: =SUMPRODUCT(('2018'!$A$2:$A$675=A24)*('2018'!$B$2:$B$675=B24)*('2018'!$D$2:$D$675)) -> 0 | D24: =SUMPRODUCT(('2018'!$A$2:$A$675=Contenant!A24)*('2018'!$B$2:$B$675=Contenant!B24)*('2018'!$C$2:$C$675)) -> 0 | E24: 100 | F24: 30
A25: 6236 | B25: Soin | C25: =SUMPRODUCT(('2018'!$A$2:$A$675=Contenant!A25)*('2018'!$B$2:$B$675=Contenant!B25)*('2018'!$D$2:$D$675)) -> 0.037 | D25: =SUMPRODUCT(('2018'!$A$2:$A$675=Contenant!A25)*('2018'!$B$2:$B$675=Contenant!B25)*('2018'!$C$2:$C$675)) -> 1 | E25: 100 | F25: 30 | G25: 30
A26: 6758 | B26: Maquillage | C26: =SUMPRODUCT(('2018'!$A$2:$A$675=A26)*('2018'!$B$2:$B$675=B26)*('2018'!$D$2:$D$675)) -> 0 | D26: =SUMPRODUCT(('2018'!$A$2:$A$675=Contenant!A26)*('2018'!$B$2:$B$675=Contenant!B26)*('2018'!$C$2:$C$675)) -> 0 | E26: 100 | F26: 30
A27: 7827 | B27: Maquillage | C27: =SUMPRODUCT(('2018'!$A$2:$A$675=A27)*('2018'!$B$2:$B$675=B27)*('2018'!$D$2:$D$675)) -> 0 | D27: =SUMPRODUCT(('2018'!$A$2:$A$675=Contenant!A27)*('2018'!$B$2:$B$675=Contenant!B27)*('2018'!$C$2:$C$675)) -> 0 | E27: 100 | F27: 30
A28: 7907 | B28: Maquillage | C28: =SUMPRODUCT(('2018'!$A$2:$A$675=A28)*('2018'!$B$2:$B$675=B28)*('2018'!$D$2:$D$675)) -> 0 | D28: =SUMPRODUCT(('2018'!$A$2:$A$675=Contenant!A28)*('2018'!$B$2:$B$675=Contenant!B28)*('2018'!$C$2:$C$675)) -> 0 | E28: 100 | F28: 30
A29: 8070 | B29: Maquillage | C29: =SUMPRODUCT(('2018'!$A$2:$A$675=A29)*('2018'!$B$2:$B$675=B29)*('2018'!$D$2:$D$675)) -> 0 | D29: =SUMPRODUCT(('2018'!$A$2:$A$675=Contenant!A29)*('2018'!$B$2:$B$675=Contenant!B29)*('2018'!$C$2:$C$675)) -> 0 | E29: 100 | F29: 30
A30: 8102 | B30: Maquillage | C30: =SUMPRODUCT(('2018'!$A$2:$A$675=A30)*('2018'!$B$2:$B$675=B30)*('2018'!$D$2:$D$675)) -> 0 | D30: =SUMPRODUCT(('2018'!$A$2:$A$675=Contenant!A30)*('2018'!$B$2:$B$675=Contenant!B30)*('2018'!$C$2:$C$675)) -> 0 | E30: 100 | F30: 30
A31: 8587 | B31: Maquillage | C31: =SUMPRODUCT(('2018'!$A$2:$A$675=A31)*('2018'!$B$2:$B$675=B31)*('2018'!$D$2:$D$675)) -> 0 | D31: =SUMPRODUCT(('2018'!$A$2:$A$675=Contenant!A31)*('2018'!$B$2:$B$675=Contenant!B31)*('2018'!$C$2:$C$675)) -> 0 | E31: 100 | F31: 30
A32: 9086 | B32: Maquillage | C32: =SUMPRODUCT(('2018'!$A$2:$A$675=A32)*('2018'!$B$2:$B$675=B32)*('2018'!$D$2:$D$675)) -> 0 | D32: =SUMPRODUCT(('2018'!$A$2:$A$675=Contenant!A32)*('2018'!$B$2:$B$675=Contenant!B32)*('2018'!$C$2:$C$675)) -> 0 | E32: 100 | F32: 30
A33: 9700 | B33: Maquillage | C33: =SUMPRODUCT(('2018'!$A$2:$A$675=A33)*('2018'!$B$2:$B$675=B33)*('2018'!$D$2:$D$675)) -> 0 | D33: =SUMPRODUCT(('2018'!$A$2:$A$675=Contenant!A33)*('2018'!$B$2:$B$675=Contenant!B33)*('2018'!$C$2:$C$675)) -> 0 | E33: 100 | F33: 30
A34: A133 | B34: Soin | C34: =SUMPRODUCT(('2018'!$A$2:$A$675=Contenant!A34)*('2018'!$B$2:$B$675=Contenant!B34)*('2018'!$D$2:$D$675)) -> 0 | D34: =SUMPRODUCT(('2018'!$A$2:$A$675=Contenant!A34)*('2018'!$B$2:$B$675=Contenant!B34)*('2018'!$C$2:$C$675)) -> 0 | E34: 100 | F34: 30
A35: A133 | B35: Maquillage | C35: =SUMPRODUCT(('2018'!$A$2:$A$675=A35)*('2018'!$B$2:$B$675=B35)*('2018'!$D$2:$D$675)) -> 0 | D35: =SUMPRODUCT(('2018'!$A$2:$A$675=Contenant!A35)*('2018'!$B$2:$B$675=Contenant!B35)*('2018'!$C$2:$C$675)) -> 0 | E35: 100 | F35: 30
A36: A322 | B36: Soin | C36: =SUMPRODUCT(('2018'!$A$2:$A$675=Contenant!A36)*('2018'!$B$2:$B$675=Contenant!B36)*('2018'!$D$2:$D$675)) -> 0 | D36: =SUMPRODUCT(('2018'!$A$2:$A$675=Contenant!A36)*('2018'!$B$2:$B$675=Contenant!B36)*('2018'!$C$2:$C$675)) -> 0 | E36: 100 | F36: 30
A37: A838 | B37: Maquillage | C37: =SUMPRODUCT(('2018'!$A$2:$A$675=A37)*('2018'!$B$2:$B$675=B37)*('2018'!$D$2:$D$675)) -> 0 | D37: =SUMPRODUCT(('2018'!$A$2:$A$675=Contenant!A37)*('2018'!$B$2:$B$675=Contenant!B37)*('2018'!$C$2:$C$675)) -> 0 | E37: 100 | F37: 30
A38: B061 | B38: Soin | C38: =SUMPRODUCT(('2018'!$A$2:$A$675=Contenant!A38)*('2018'!$B$2:$B$675=Contenant!B38)*('2018'!$D$2:$D$675)) -> 0 | D38: =SUMPRODUCT(('2018'!$A$2:$A$675=Contenant!A38)*('2018'!$B$2:$B$675=Contenant!B38)*('2018'!$C$2:$C$675)) -> 0 | E38: 100 | F38: 30
A39: B159 | B39: Maquillage | C39: =SUMPRODUCT(('2018'!$A$2:$A$675=A39)*('2018'!$B$2:$B$675=B39)*('2018'!$D$2:$D$675)) -> 0 | D39: =SUMPRODUCT(('2018'!$A$2:$A$675=Contenant!A39)*('2018'!$B$2:$B$675=Contenant!B39)*('2018'!$C$2:$C$675)) -> 0 | E39: 100 | F39: 30
A40: B177 | B40: Soin | C40: =SUMPRODUCT(('2018'!$A$2:$A$675=Contenant!A40)*('2018'!$B$2:$B$675=Contenant!B40)*('2018'!$D$2:$D$675)) -> 0 | D40: =SUMPRODUCT(('2018'!$A$2:$A$675=Contenant!A40)*('2018'!$B$2:$B$675=Contenant!B40)*('2018'!$C$2:$C$675)) -> 0 | E40: 100 | F40: 30
...

Sheet 2018
A1: Code | B1: Labotaroire | C1: Nbre de prélèvement | D1: Qté prèlevée
A2: 1543 | B2: Soin | C2: 13 | D2: 8.68
A3: 1117 | B3: Soin | C3: 3 | D3: 1.447
A4: 1119 | B4: Soin | C4: 2 | D4: 0.163
A5: 1121 | B5: Maquillage | C5: 2 | D5: 2.233
A6: 1143 | B6: Maquillage | C6: 1 | D6: 0.041
A7: 1143 | B7: Soin | C7: 1 | D7: 0.151
A8: 1155 | B8: Soin | C8: 1 | D8: 0.162
A9: 1196 | B9: Maquillage | C9: 2 | D9: 0.571
A10: 1197 | B10: Maquillage | C10: 3 | D10: 1.055
A11: 1206 | B11: Maquillage | C11: 1 | D11: 0.56
A12: 1212 | B12: Maquillage | C12: 1 | D12: 0.201
A13: 1221 | B13: Maquillage | C13: 1 | D13: 0.214
... A212: 9757 | B212: Soin | C212: 1 | D212: 0.015
A213: A031 | B213: Maquillage | C213: 1 | D213: 0.102
A214: A062 | B214: Soin | C214: 2 | D214: 0.751
A215: A066 | B215: Soin | C215: 3 | D215: 1.078
A216: A108 | B216: Soin | C216: 1 | D216: 0.156
A217: A143 | B217: Soin | C217: 1 | D217: 0.347
A218: A191 | B218: Maquillage | C218: 4 | D218: 1.831
A219: A191 | B219: Soin | C219: 1 | D219: 0.292
A220: A330 | B220: Maquillage | C220: 1 | D220: 0.097
A221: A414 | B221: Maquillage | C221: 2 | D221: 0.6214
A222: A414 | B222: Soin | C222: 2 | D222: 0.576
A223: A438 | B223: Soin | C223: 1 | D223: 0.1
A224: A485 | B224: Soin | C224: 2 | D224: 0.404
... A675: O243 | B675: Maquillage | C675: 5 | D675: 1.855
C677: =SUM(C1:C675) -> 1182
